{"text_format":"1","workbook":"xlsx","n_sheets":21,"sheets":["Ismertető","kod","szakasz1","szakasz2","szakasz3","szakasz4","szakasz5","szakasz6","szakasz7","szakasz8","szakasz9","szakasz10","Összesen","Sorrend_szektoronként","Fajonkénti","Statisztika","CsapatStat","Stat_06","Diagram_kg","Diagram_db","Össz_részletes"],"not_rendered":{"charts":5,"images":7,"macros":1,"external_links":0,"defined_names":17,"comments":0,"pivot_tables":0},"unopened":[],"bounds":{"document_bytes":16777216,"sheet_cells":100000,"rows_first":2000,"rows_last":500,"rows_between":2000,"halvings":0,"cell_chars":16384,"cell_head_chars":4096},"cells_cut":0,"cells_raw":0,"read":"whole","date_system":"1900"}

{"sheet":"Ismertető","index":0,"n_rows":27,"n_cols":2,"rows_kept":27,"cut":false,"hidden":false,"merged":[]}
[]
["A munkalapok elnevezése ne legyen megváltoztatva!"]
["Oszlopokat vagy sorokat ne szúrjunk be és ne töröljünk ki!"]
[]
["A \"kod\" munkalapon kell kitölteni:"]
[null,"a csapatok nevét"]
[null,"szektorok-rajthelyek megnevezését"]
[null,"verseny nevét, idejét stb."]
[null,"szakaszok idejét vagy nevét"]
[]
["A \"szakasz1\", \"szakasz2\" stb. munkalapokon kell bevinni az adatokat"]
[null,"a csapatok előtti \"+\" jelre kattintva, a \"H\" oszloptól kezdve, vízszintesen haladva"]
[null,"vesszővel kell írni a súlyokat (pl. 6,28)"]
[null,"a \"-\" jelre kattintva bezáródik és csak az öszesen látszik "]
[null,"a \"2\" gombra kattintva az összes kinyílik, az \"1\" gombra kattintva az összes bezáródik"]
[null,"számolja az összes 10 kg feletti és az 5 kg feletti KOI pontyokat (csapatonként)"]
[]
["Az \"Összesen\" munkalap mindig azt az állást mutatja, amennyi adat be van rögzítve a szakaszok munkalapokon."]
[null,"bármilyen sorrendbe be lehet rendezni (súly, darab, átlag)"]
[null,"a teljes mezőnyt állítja sorrendbe"]
[]
[]
["\"Össz_részletes\" munkalap"]
[null,"ezzel nem kell foglalkozni, csak a számolások miatt van"]
[]
["Két diagram van, súly és darabszám kimutatás."]
[null,"mindig olyan sorrendben rakja rá a csapatokat, ahogyan az \"összesen\" munkalapon rendeztetve van."]

{"sheet":"kod","index":1,"n_rows":34,"n_cols":5,"rows_kept":34,"cut":false,"hidden":false,"merged":[]}
["Rajthely","Elhelyezés","Csapatnév"]
["A01","Gát, mélyvíz","SBS - Halcatraz - TiZo Team",null,"XXI. PROFESSZIONÁLIS BOJLIS EURÓPA KUPA (EPBC)"]
["A02","Gát, mélyvíz","Altstadt Carp Team",null,"XXXVI. MACONKA NEMZETKÖZI BOJLIS KUPA"]
["A03","Gát, mélyvíz","Ferma De Crap Diosig",null,"Maconka, 2025.06.15. - 2025.06.20."]
["A04","Gát, mélyvíz","Bull Tackle"]
["A05","Gát, mélyvíz","AHFSZ Fishing Team"]
["A06","Nyári kikötő, belső","Black Carp Team",null,"1. szakasz:  2025.06.15. 17:00 - 2025.06.16. 06:00"]
["A07","Nyári kikötő, közép","USA & Mivado Carp Team",null,"2. szakasz:  2025.06.16. 06:00 - 2025.06.16. 18:00"]
["A08","Nyári kikötő, külső","Ózdi Sporthorgász Egyesület",null,"3. szakasz:  2025.06.16. 18:00 - 2025.06.17. 06:00"]
["A09","I. sziget, bal külső","Kártékony Carp Team",null,"4. szakasz:  2025.06.17. 06:00 - 2025.06.17. 18:00"]
["A10","I. sziget, bal","Team 5 Austria",null,"5. szakasz:  2025.06.17. 18:00 - 2025.06.18. 06:00"]
["A11","I. sziget, bal közép","Invader's Team Poland",null,"6. szakasz:  2025.06.18. 06:00 - 2025.06.18. 18:00"]
["B01","Gát, közepes víz","Tata Nitu Carp Team",null,"7. szakasz:  2025.06.18. 18:00 - 2025.06.19. 06:00"]
["B02","Gát, közepes víz","Slovakia Carp Team",null,"8. szakasz:  2025.06.19. 06:00 - 2025.06.19. 18:00"]
["B03","Gát, közepes víz","WLC Hungary ",null,"9. szakasz:  2025.06.19. 18:00 - 2025.06.20. 06:00"]
["B04","Gát, közepes víz","Barfin Line NSD Bulgaria",null,"10. szakasz:  2025.06.20. 06:00 - 2025.06.20. 15:00"]
["B05","Gát, közepes víz","Lutra Carp Hunters"]
["B06","Gát, közepes víz","Xtra Carp Team"]
["B07","I. sziget, jobb közép","Elite Carp Team Brasov"]
["B08","I. sziget, jobb ","CT777 Varna Bulgaria"]
["B09","I. sziget, jobb külső","Bait Maker Team"]
["B10","Felező-spicc, bal","SBS - SziKo Team"]
["B11","Felező-spicc, közép","Síp Carp Team"]
["C01","Gát, sekély víz","Carp Fever Bulgaria"]
["C02","Gát, sekély víz","Carpfriends Ennstal-Austria"]
["C03","Gát, sekély víz","Carp Team Brasov"]
["C04","Gát, sekély víz","As La Carp Team"]
["C05","Gát, sekély víz","Bojlis Főnök - Bait Bait Carp Team"]
["C06","Felező-spicc, jobb","Secret Of The Carp"]
["C07","II. sziget, bal","Quick Baits"]
["C08","II. sziget, bal közép","Carp Team Blankbrothers"]
["C09","II. sziget, közép","Bait Bait Hungary"]
["C10","II. sziget, jobb közép","Acroft Illusive Bait Me"]
["C11","II. sziget, jobb","Vaslui Carp Team"]

{"sheet":"szakasz1","index":2,"n_rows":238,"n_cols":30,"rows_kept":238,"cut":false,"hidden":false,"merged":[[0,0,0,12],[1,0,1,12],[2,0,2,12],[3,0,3,12],[4,0,4,12]]}
[{"$f":"IF(kod!E2>0,kod!E2,\"\")","v":"XXI. PROFESSZIONÁLIS BOJLIS EURÓPA KUPA (EPBC)"}]
[{"$f":"IF(kod!E3>0,kod!E3,\"\")","v":"XXXVI. MACONKA NEMZETKÖZI BOJLIS KUPA"}]
[{"$f":"IF(kod!E4>0,kod!E4,\"\")","v":"Maconka, 2025.06.15. - 2025.06.20."}]
[{"$f":"IF(kod!E5>0,kod!E5,\"\")","v":""}]
[{"$f":"kod!E7","v":"1. szakasz:  2025.06.15. 17:00 - 2025.06.16. 06:00"}]
["Rajthely","Elhelyezés","Csapatnév","Kg","Db","Átlag","BC","BkC","Faj","10-20 kg","20+ kg","koi 5-10 kg","koi 10+ kg"]
["A1",{"$f":"kod!B2","v":"Gát, mélyvíz"},{"$f":"kod!C2","v":"SBS - Halcatraz - TiZo Team"},{"$f":"SUM(D8:D13)","v":29.35},{"$f":"SUM(E8:E13)","v":2},{"$f":"IF(E7=0,0,D7/E7)","v":14.675000000000001},{"$f":"MAX(G8:G13)","v":17.850000000000001},{"$f":"H11","v":0},"ÖSSZESEN",{"$f":"COUNTIFS($J8:$BB13,\">9,99\",$J8:$BB13,\"<20\")","v":2},{"$f":"COUNTIFS($J8:$BB13,\">19,99\")","v":0},{"$f":"COUNTIFS($J11:$BA11,\">4,99\",$J11:$BA11,\"<9,99\")","v":0},{"$f":"COUNTIFS($J11:$BB11,\">9,99\")","v":0}]
["A1",{"$f":"kod!B2","v":"Gát, mélyvíz"},{"$f":"kod!C2","v":"SBS - Halcatraz - TiZo Team"},{"$f":"SUM(J8:AZ8)","v":0},{"$f":"COUNT(J8:AZ8)","v":0},{"$f":"IF(E8=0,0,D8/E8)","v":0},{"$f":"MAX(J8:BC8)","v":0},null,"tükörponty"]
["A1",{"$f":"kod!B2","v":"Gát, mélyvíz"},{"$f":"kod!C2","v":"SBS - Halcatraz - TiZo Team"},0,0,0,{"$f":"MAX(J9:BC9)","v":0},null,"tőponty"]
["A1",{"$f":"kod!B2","v":"Gát, mélyvíz"},{"$f":"kod!C2","v":"SBS - Halcatraz - TiZo Team"},29.35,2,14.675000000000001,{"$f":"MAX(J10:BC10)","v":17.850000000000001},null,"nyurgaponty",17.850000000000001,11.5]
["A1",{"$f":"kod!B2","v":"Gát, mélyvíz"},{"$f":"kod!C2","v":"SBS - Halcatraz - TiZo Team"},0,0,0,null,{"$f":"MAX(J11:AZ11)","v":0},"koi ponty"]
["A1",{"$f":"kod!B2","v":"Gát, mélyvíz"},{"$f":"kod!C2","v":"SBS - Halcatraz - TiZo Team"},0,0,0,{"$f":"MAX(J12:BC12)","v":0},null,"amur"]
["A1",{"$f":"kod!B2","v":"Gát, mélyvíz"},{"$f":"kod!C2","v":"SBS - Halcatraz - TiZo Team"},0,0,0,{"$f":"MAX(J13:BC13)","v":0},null,"fekete amur"]
["A2",{"$f":"kod!B3","v":"Gát, mélyvíz"},{"$f":"kod!C3","v":"Altstadt Carp Team"},{"$f":"SUM(D15:D20)","v":0},{"$f":"SUM(E15:E20)","v":0},0,{"$f":"MAX(G15:G20)","v":0},{"$f":"H18","v":0},"ÖSSZESEN",{"$f":"COUNTIFS($J15:$BB20,\">9,99\",$J15:$BB20,\"<20\")","v":0},{"$f":"COUNTIFS($J15:$BB20,\">19,99\")","v":0},{"$f":"COUNTIFS($J18:$BA18,\">4,99\",$J18:$BA18,\"<9,99\")","v":0},{"$f":"COUNTIFS($J18:$BB18,\">9,99\")","v":0}]
["A2",{"$f":"kod!B3","v":"Gát, mélyvíz"},{"$f":"kod!C3","v":"Altstadt Carp Team"},{"$f":"SUM(J15:AZ15)","v":0},{"$f":"COUNT(J15:AZ15)","v":0},0,{"$f":"MAX(J15:BC15)","v":0},null,"tükörponty"]
["A2",{"$f":"kod!B3","v":"Gát, mélyvíz"},{"$f":"kod!C3","v":"Altstadt Carp Team"},0,0,0,{"$f":"MAX(J16:BC16)","v":0},null,"tőponty"]
["A2",{"$f":"kod!B3","v":"Gát, mélyvíz"},{"$f":"kod!C3","v":"Altstadt Carp Team"},0,0,0,{"$f":"MAX(J17:BC17)","v":0},null,"nyurgaponty"]
["A2",{"$f":"kod!B3","v":"Gát, mélyvíz"},{"$f":"kod!C3","v":"Altstadt Carp Team"},0,0,0,null,{"$f":"MAX(J18:AZ18)","v":0},"koi ponty"]
["A2",{"$f":"kod!B3","v":"Gát, mélyvíz"},{"$f":"kod!C3","v":"Altstadt Carp Team"},0,0,0,{"$f":"MAX(J19:BC19)","v":0},null,"amur"]
["A2",{"$f":"kod!B3","v":"Gát, mélyvíz"},{"$f":"kod!C3","v":"Altstadt Carp Team"},0,0,0,{"$f":"MAX(J20:BC20)","v":0},null,"fekete amur"]
["A3",{"$f":"kod!B4","v":"Gát, mélyvíz"},{"$f":"kod!C4","v":"Ferma De Crap Diosig"},{"$f":"SUM(D22:D27)","v":5.35},{"$f":"SUM(E22:E27)","v":1},5.35,{"$f":"MAX(G22:G27)","v":5.35},{"$f":"H25","v":0},"ÖSSZESEN",{"$f":"COUNTIFS($J22:$BB27,\">9,99\",$J22:$BB27,\"<20\")","v":0},{"$f":"COUNTIFS($J22:$BB27,\">19,99\")","v":0},{"$f":"COUNTIFS($J25:$BA25,\">4,99\",$J25:$BA25,\"<9,99\")","v":0},{"$f":"COUNTIFS($J25:$BB25,\">9,99\")","v":0}]
["A3",{"$f":"kod!B4","v":"Gát, mélyvíz"},{"$f":"kod!C4","v":"Ferma De Crap Diosig"},{"$f":"SUM(J22:AZ22)","v":0},{"$f":"COUNT(J22:AZ22)","v":0},0,{"$f":"MAX(J22:BC22)","v":0},null,"tükörponty"]
["A3",{"$f":"kod!B4","v":"Gát, mélyvíz"},{"$f":"kod!C4","v":"Ferma De Crap Diosig"},5.35,1,5.35,{"$f":"MAX(J23:BC23)","v":5.35},null,"tőponty",5.35]
["A3",{"$f":"kod!B4","v":"Gát, mélyvíz"},{"$f":"kod!C4","v":"Ferma De Crap Diosig"},0,0,0,{"$f":"MAX(J24:BC24)","v":0},null,"nyurgaponty"]
["A3",{"$f":"kod!B4","v":"Gát, mélyvíz"},{"$f":"kod!C4","v":"Ferma De Crap Diosig"},0,0,0,null,{"$f":"MAX(J25:AZ25)","v":0},"koi ponty"]
["A3",{"$f":"kod!B4","v":"Gát, mélyvíz"},{"$f":"kod!C4","v":"Ferma De Crap Diosig"},0,0,0,{"$f":"MAX(J26:BC26)","v":0},null,"amur"]
["A3",{"$f":"kod!B4","v":"Gát, mélyvíz"},{"$f":"kod!C4","v":"Ferma De Crap Diosig"},0,0,0,{"$f":"MAX(J27:BC27)","v":0},null,"fekete amur"]
["A4",{"$f":"kod!B5","v":"Gát, mélyvíz"},{"$f":"kod!C5","v":"Bull Tackle"},{"$f":"SUM(D29:D34)","v":0},{"$f":"SUM(E29:E34)","v":0},0,{"$f":"MAX(G29:G34)","v":0},{"$f":"H32","v":0},"ÖSSZESEN",{"$f":"COUNTIFS($J29:$BB34,\">9,99\",$J29:$BB34,\"<20\")","v":0},{"$f":"COUNTIFS($J29:$BB34,\">19,99\")","v":0},{"$f":"COUNTIFS($J32:$BA32,\">4,99\",$J32:$BA32,\"<9,99\")","v":0},{"$f":"COUNTIFS($J32:$BB32,\">9,99\")","v":0}]
["A4",{"$f":"kod!B5","v":"Gát, mélyvíz"},{"$f":"kod!C5","v":"Bull Tackle"},{"$f":"SUM(J29:AZ29)","v":0},{"$f":"COUNT(J29:AZ29)","v":0},0,{"$f":"MAX(J29:BC29)","v":0},null,"tükörponty"]
["A4",{"$f":"kod!B5","v":"Gát, mélyvíz"},{"$f":"kod!C5","v":"Bull Tackle"},0,0,0,{"$f":"MAX(J30:BC30)","v":0},null,"tőponty"]
["A4",{"$f":"kod!B5","v":"Gát, mélyvíz"},{"$f":"kod!C5","v":"Bull Tackle"},0,0,0,{"$f":"MAX(J31:BC31)","v":0},null,"nyurgaponty"]
["A4",{"$f":"kod!B5","v":"Gát, mélyvíz"},{"$f":"kod!C5","v":"Bull Tackle"},0,0,0,null,{"$f":"MAX(J32:AZ32)","v":0},"koi ponty"]
["A4",{"$f":"kod!B5","v":"Gát, mélyvíz"},{"$f":"kod!C5","v":"Bull Tackle"},0,0,0,{"$f":"MAX(J33:BC33)","v":0},null,"amur"]
["A4",{"$f":"kod!B5","v":"Gát, mélyvíz"},{"$f":"kod!C5","v":"Bull Tackle"},0,0,0,{"$f":"MAX(J34:BC34)","v":0},null,"fekete amur"]
["A5",{"$f":"kod!B6","v":"Gát, mélyvíz"},{"$f":"kod!C6","v":"AHFSZ Fishing Team"},{"$f":"SUM(D36:D41)","v":23.774999999999999},{"$f":"SUM(E36:E41)","v":2},11.887499999999999,{"$f":"MAX(G36:G41)","v":12.775},{"$f":"H39","v":0},"ÖSSZESEN",{"$f":"COUNTIFS($J36:$BB41,\">9,99\",$J36:$BB41,\"<20\")","v":2},{"$f":"COUNTIFS($J36:$BB41,\">19,99\")","v":0},{"$f":"COUNTIFS($J39:$BA39,\">4,99\",$J39:$BA39,\"<9,99\")","v":0},{"$f":"COUNTIFS($J39:$BB39,\">9,99\")","v":0}]
["A5",{"$f":"kod!B6","v":"Gát, mélyvíz"},{"$f":"kod!C6","v":"AHFSZ Fishing Team"},{"$f":"SUM(J36:AZ36)","v":0},{"$f":"COUNT(J36:AZ36)","v":0},0,{"$f":"MAX(J36:BC36)","v":0},null,"tükörponty"]
["A5",{"$f":"kod!B6","v":"Gát, mélyvíz"},{"$f":"kod!C6","v":"AHFSZ Fishing Team"},0,0,0,{"$f":"MAX(J37:BC37)","v":0},null,"tőponty"]
["A5",{"$f":"kod!B6","v":"Gát, mélyvíz"},{"$f":"kod!C6","v":"AHFSZ Fishing Team"},23.774999999999999,2,11.887499999999999,{"$f":"MAX(J38:BC38)","v":12.775},null,"nyurgaponty",12.775,11]
["A5",{"$f":"kod!B6","v":"Gát, mélyvíz"},{"$f":"kod!C6","v":"AHFSZ Fishing Team"},0,0,0,null,{"$f":"MAX(J39:AZ39)","v":0},"koi ponty"]
["A5",{"$f":"kod!B6","v":"Gát, mélyvíz"},{"$f":"kod!C6","v":"AHFSZ Fishing Team"},0,0,0,{"$f":"MAX(J40:BC40)","v":0},null,"amur"]
["A5",{"$f":"kod!B6","v":"Gát, mélyvíz"},{"$f":"kod!C6","v":"AHFSZ Fishing Team"},0,0,0,{"$f":"MAX(J41:BC41)","v":0},null,"fekete amur"]
["A6",{"$f":"kod!B7","v":"Nyári kikötő, belső"},{"$f":"kod!C7","v":"Black Carp Team"},{"$f":"SUM(D43:D48)","v":24.925000000000001},{"$f":"SUM(E43:E48)","v":2},12.4625,{"$f":"MAX(G43:G48)","v":14.05},{"$f":"H46","v":0},"ÖSSZESEN",{"$f":"COUNTIFS($J43:$BB48,\">9,99\",$J43:$BB48,\"<20\")","v":2},{"$f":"COUNTIFS($J43:$BB48,\">19,99\")","v":0},{"$f":"COUNTIFS($J46:$BA46,\">4,99\",$J46:$BA46,\"<9,99\")","v":0},{"$f":"COUNTIFS($J46:$BB46,\">9,99\")","v":0}]
["A6",{"$f":"kod!B7","v":"Nyári kikötő, belső"},{"$f":"kod!C7","v":"Black Carp Team"},{"$f":"SUM(J43:AZ43)","v":14.05},{"$f":"COUNT(J43:AZ43)","v":1},14.05,{"$f":"MAX(J43:BC43)","v":14.05},null,"tükörponty",14.05]
["A6",{"$f":"kod!B7","v":"Nyári kikötő, belső"},{"$f":"kod!C7","v":"Black Carp Team"},0,0,0,{"$f":"MAX(J44:BC44)","v":0},null,"tőponty"]
["A6",{"$f":"kod!B7","v":"Nyári kikötő, belső"},{"$f":"kod!C7","v":"Black Carp Team"},10.875,1,10.875,{"$f":"MAX(J45:BC45)","v":10.875},null,"nyurgaponty",10.875]
["A6",{"$f":"kod!B7","v":"Nyári kikötő, belső"},{"$f":"kod!C7","v":"Black Carp Team"},0,0,0,null,{"$f":"MAX(J46:AZ46)","v":0},"koi ponty"]
["A6",{"$f":"kod!B7","v":"Nyári kikötő, belső"},{"$f":"kod!C7","v":"Black Carp Team"},0,0,0,{"$f":"MAX(J47:BC47)","v":0},null,"amur"]
["A6",{"$f":"kod!B7","v":"Nyári kikötő, belső"},{"$f":"kod!C7","v":"Black Carp Team"},0,0,0,{"$f":"MAX(J48:BC48)","v":0},null,"fekete amur"]
["A7",{"$f":"kod!B8","v":"Nyári kikötő, közép"},{"$f":"kod!C8","v":"USA & Mivado Carp Team"},{"$f":"SUM(D50:D55)","v":16.2},{"$f":"SUM(E50:E55)","v":1},{"$f":"IF(E49=0,0,D49/E49)","v":16.2},{"$f":"MAX(G50:G55)","v":16.2},{"$f":"H53","v":0},"ÖSSZESEN",{"$f":"COUNTIFS($J50:$BB55,\">9,99\",$J50:$BB55,\"<20\")","v":1},{"$f":"COUNTIFS($J50:$BB55,\">19,99\")","v":0},{"$f":"COUNTIFS($J53:$BA53,\">4,99\",$J53:$BA53,\"<9,99\")","v":0},{"$f":"COUNTIFS($J53:$BB53,\">9,99\")","v":0}]
["A7",{"$f":"kod!B8","v":"Nyári kikötő, közép"},{"$f":"kod!C8","v":"USA & Mivado Carp Team"},{"$f":"SUM(J50:AZ50)","v":16.2},{"$f":"COUNT(J50:AZ50)","v":1},16.2,{"$f":"MAX(J50:BC50)","v":16.2},null,"tükörponty",16.2]
["A7",{"$f":"kod!B8","v":"Nyári kikötő, közép"},{"$f":"kod!C8","v":"USA & Mivado Carp Team"},0,0,0,{"$f":"MAX(J51:BC51)","v":0},null,"tőponty"]
["A7",{"$f":"kod!B8","v":"Nyári kikötő, közép"},{"$f":"kod!C8","v":"USA & Mivado Carp Team"},0,0,0,{"$f":"MAX(J52:BC52)","v":0},null,"nyurgaponty"]
["A7",{"$f":"kod!B8","v":"Nyári kikötő, közép"},{"$f":"kod!C8","v":"USA & Mivado Carp Team"},0,0,0,null,{"$f":"MAX(J53:AZ53)","v":0},"koi ponty"]
["A7",{"$f":"kod!B8","v":"Nyári kikötő, közép"},{"$f":"kod!C8","v":"USA & Mivado Carp Team"},0,0,0,{"$f":"MAX(J54:BC54)","v":0},null,"amur"]
["A7",{"$f":"kod!B8","v":"Nyári kikötő, közép"},{"$f":"kod!C8","v":"USA & Mivado Carp Team"},0,0,0,{"$f":"MAX(J55:BC55)","v":0},null,"fekete amur"]
["A8",{"$f":"kod!B9","v":"Nyári kikötő, külső"},{"$f":"kod!C9","v":"Ózdi Sporthorgász Egyesület"},{"$f":"SUM(D57:D62)","v":35.274999999999999},{"$f":"SUM(E57:E62)","v":4},8.8187499999999996,{"$f":"MAX(G57:G62)","v":11.275},{"$f":"H60","v":0},"ÖSSZESEN",{"$f":"COUNTIFS($J57:$BB62,\">9,99\",$J57:$BB62,\"<20\")","v":2},{"$f":"COUNTIFS($J57:$BB62,\">19,99\")","v":0},{"$f":"COUNTIFS($J60:$BA60,\">4,99\",$J60:$BA60,\"<9,99\")","v":0},{"$f":"COUNTIFS($J60:$BB60,\">9,99\")","v":0}]
["A8",{"$f":"kod!B9","v":"Nyári kikötő, külső"},{"$f":"kod!C9","v":"Ózdi Sporthorgász Egyesület"},{"$f":"SUM(J57:AZ57)","v":11.275},{"$f":"COUNT(J57:AZ57)","v":1},11.275,{"$f":"MAX(J57:BC57)","v":11.275},null,"tükörponty",11.275]
["A8",{"$f":"kod!B9","v":"Nyári kikötő, külső"},{"$f":"kod!C9","v":"Ózdi Sporthorgász Egyesület"},8.5,1,8.5,{"$f":"MAX(J58:BC58)","v":8.5},null,"tőponty",8.5]
["A8",{"$f":"kod!B9","v":"Nyári kikötő, külső"},{"$f":"kod!C9","v":"Ózdi Sporthorgász Egyesület"},10.3,1,10.3,{"$f":"MAX(J59:BC59)","v":10.3},null,"nyurgaponty",10.3]
["A8",{"$f":"kod!B9","v":"Nyári kikötő, külső"},{"$f":"kod!C9","v":"Ózdi Sporthorgász Egyesület"},0,0,0,null,{"$f":"MAX(J60:AZ60)","v":0},"koi ponty"]
["A8",{"$f":"kod!B9","v":"Nyári kikötő, külső"},{"$f":"kod!C9","v":"Ózdi Sporthorgász Egyesület"},5.2,1,5.2,{"$f":"MAX(J61:BC61)","v":5.2},null,"amur",5.2]
["A8",{"$f":"kod!B9","v":"Nyári kikötő, külső"},{"$f":"kod!C9","v":"Ózdi Sporthorgász Egyesület"},0,0,0,{"$f":"MAX(J62:BC62)","v":0},null,"fekete amur"]
["A9",{"$f":"kod!B10","v":"I. sziget, bal külső"},{"$f":"kod!C10","v":"Kártékony Carp Team"},{"$f":"SUM(D64:D69)","v":72.099999999999994},{"$f":"SUM(E64:E69)","v":7},10.299999999999999,{"$f":"MAX(G64:G69)","v":16.324999999999999},{"$f":"H67","v":0},"ÖSSZESEN",{"$f":"COUNTIFS($J64:$BB69,\">9,99\",$J64:$BB69,\"<20\")","v":4},{"$f":"COUNTIFS($J64:$BB69,\">19,99\")","v":0},{"$f":"COUNTIFS($J67:$BA67,\">4,99\",$J67:$BA67,\"<9,99\")","v":0},{"$f":"COUNTIFS($J67:$BB67,\">9,99\")","v":0}]
["A9",{"$f":"kod!B10","v":"I. sziget, bal külső"},{"$f":"kod!C10","v":"Kártékony Carp Team"},{"$f":"SUM(J64:AZ64)","v":0},{"$f":"COUNT(J64:AZ64)","v":0},0,{"$f":"MAX(J64:BC64)","v":0},null,"tükörponty"]
["A9",{"$f":"kod!B10","v":"I. sziget, bal külső"},{"$f":"kod!C10","v":"Kártékony Carp Team"},30.749999999999996,4,7.6874999999999991,{"$f":"MAX(J65:BC65)","v":14.925000000000001},null,"tőponty",14.925000000000001,4.7249999999999996,7.7750000000000004,3.3250000000000002]
["A9",{"$f":"kod!B10","v":"I. sziget, bal külső"},{"$f":"kod!C10","v":"Kártékony Carp Team"},41.35,3,13.783333333333333,{"$f":"MAX(J66:BC66)","v":16.324999999999999},null,"nyurgaponty",11.625,16.324999999999999,13.4]
["A9",{"$f":"kod!B10","v":"I. sziget, bal külső"},{"$f":"kod!C10","v":"Kártékony Carp Team"},0,0,0,null,{"$f":"MAX(J67:AZ67)","v":0},"koi ponty"]
["A9",{"$f":"kod!B10","v":"I. sziget, bal külső"},{"$f":"kod!C10","v":"Kártékony Carp Team"},0,0,0,{"$f":"MAX(J68:BC68)","v":0},null,"amur"]
["A9",{"$f":"kod!B10","v":"I. sziget, bal külső"},{"$f":"kod!C10","v":"Kártékony Carp Team"},0,0,0,{"$f":"MAX(J69:BC69)","v":0},null,"fekete amur"]
["A10",{"$f":"kod!B11","v":"I. sziget, bal"},{"$f":"kod!C11","v":"Team 5 Austria"},{"$f":"SUM(D71:D76)","v":0},{"$f":"SUM(E71:E76)","v":0},0,{"$f":"MAX(G71:G76)","v":0},{"$f":"H74","v":0},"ÖSSZESEN",{"$f":"COUNTIFS($J71:$BB76,\">9,99\",$J71:$BB76,\"<20\")","v":0},{"$f":"COUNTIFS($J71:$BB76,\">19,99\")","v":0},{"$f":"COUNTIFS($J74:$BA74,\">4,99\",$J74:$BA74,\"<9,99\")","v":0},{"$f":"COUNTIFS($J74:$BB74,\">9,99\")","v":0}]
["A10",{"$f":"kod!B11","v":"I. sziget, bal"},{"$f":"kod!C11","v":"Team 5 Austria"},{"$f":"SUM(J71:AZ71)","v":0},{"$f":"COUNT(J71:AZ71)","v":0},0,{"$f":"MAX(J71:BC71)","v":0},null,"tükörponty"]
["A10",{"$f":"kod!B11","v":"I. sziget, bal"},{"$f":"kod!C11","v":"Team 5 Austria"},0,0,0,{"$f":"MAX(J72:BC72)","v":0},null,"tőponty"]
["A10",{"$f":"kod!B11","v":"I. sziget, bal"},{"$f":"kod!C11","v":"Team 5 Austria"},0,0,0,{"$f":"MAX(J73:BC73)","v":0},null,"nyurgaponty"]
["A10",{"$f":"kod!B11","v":"I. sziget, bal"},{"$f":"kod!C11","v":"Team 5 Austria"},0,0,0,null,{"$f":"MAX(J74:AZ74)","v":0},"koi ponty"]
["A10",{"$f":"kod!B11","v":"I. sziget, bal"},{"$f":"kod!C11","v":"Team 5 Austria"},0,0,0,{"$f":"MAX(J75:BC75)","v":0},null,"amur"]
["A10",{"$f":"kod!B11","v":"I. sziget, bal"},{"$f":"kod!C11","v":"Team 5 Austria"},0,0,0,{"$f":"MAX(J76:BC76)","v":0},null,"fekete amur"]
["A11",{"$f":"kod!B12","v":"I. sziget, bal közép"},{"$f":"kod!C12","v":"Invader's Team Poland"},{"$f":"SUM(D78:D83)","v":0},{"$f":"SUM(E78:E83)","v":0},0,{"$f":"MAX(G78:G83)","v":0},{"$f":"H81","v":0},"ÖSSZESEN",{"$f":"COUNTIFS($J78:$BB83,\">9,99\",$J78:$BB83,\"<20\")","v":0},{"$f":"COUNTIFS($J78:$BB83,\">19,99\")","v":0},{"$f":"COUNTIFS($J81:$BA81,\">4,99\",$J81:$BA81,\"<9,99\")","v":0},{"$f":"COUNTIFS($J81:$BB81,\">9,99\")","v":0}]
["A11",{"$f":"kod!B12","v":"I. sziget, bal közép"},{"$f":"kod!C12","v":"Invader's Team Poland"},{"$f":"SUM(J78:AZ78)","v":0},{"$f":"COUNT(J78:AZ78)","v":0},0,{"$f":"MAX(J78:BC78)","v":0},null,"tükörponty"]
["A11",{"$f":"kod!B12","v":"I. sziget, bal közép"},{"$f":"kod!C12","v":"Invader's Team Poland"},0,0,0,{"$f":"MAX(J79:BC79)","v":0},null,"tőponty"]
["A11",{"$f":"kod!B12","v":"I. sziget, bal közép"},{"$f":"kod!C12","v":"Invader's Team Poland"},0,0,0,{"$f":"MAX(J80:BC80)","v":0},null,"nyurgaponty"]
["A11",{"$f":"kod!B12","v":"I. sziget, bal közép"},{"$f":"kod!C12","v":"Invader's Team Poland"},0,0,0,null,{"$f":"MAX(J81:AZ81)","v":0},"koi ponty"]
["A11",{"$f":"kod!B12","v":"I. sziget, bal közép"},{"$f":"kod!C12","v":"Invader's Team Poland"},0,0,0,{"$f":"MAX(J82:BC82)","v":0},null,"amur"]
["A11",{"$f":"kod!B12","v":"I. sziget, bal közép"},{"$f":"kod!C12","v":"Invader's Team Poland"},0,0,0,{"$f":"MAX(J83:BC83)","v":0},null,"fekete amur"]
["B1",{"$f":"kod!B13","v":"Gát, közepes víz"},{"$f":"kod!C13","v":"Tata Nitu Carp Team"},{"$f":"SUM(D85:D90)","v":66.625},{"$f":"SUM(E85:E90)","v":10},{"$f":"IF(E84=0,0,D84/E84)","v":6.6624999999999996},{"$f":"MAX(G85:G90)","v":12.574999999999999},{"$f":"H88","v":0},"ÖSSZESEN",{"$f":"COUNTIFS($J85:$BB90,\">9,99\",$J85:$BB90,\"<20\")","v":1},{"$f":"COUNTIFS($J85:$BB90,\">19,99\")","v":0},{"$f":"COUNTIFS($J88:$BA88,\">4,99\",$J88:$BA88,\"<9,99\")","v":0},{"$f":"COUNTIFS($J88:$BB88,\">9,99\")","v":0}]
["B1",{"$f":"kod!B13","v":"Gát, közepes víz"},{"$f":"kod!C13","v":"Tata Nitu Carp Team"},{"$f":"SUM(J85:AZ85)","v":5.15},{"$f":"COUNT(J85:AZ85)","v":1},{"$f":"IF(E85=0,0,D85/E85)","v":5.15},{"$f":"MAX(J85:BC85)","v":5.15},null,"tükörponty",5.15]
["B1",{"$f":"kod!B13","v":"Gát, közepes víz"},{"$f":"kod!C13","v":"Tata Nitu Carp Team"},43.825000000000003,7,6.2607142857142861,{"$f":"MAX(J86:BC86)","v":9.6999999999999993},null,"tőponty",1.125,8.3249999999999993,9.6999999999999993,7.2249999999999996,6.625,6.7,4.125]
["B1",{"$f":"kod!B13","v":"Gát, közepes víz"},{"$f":"kod!C13","v":"Tata Nitu Carp Team"},12.574999999999999,1,12.574999999999999,{"$f":"MAX(J87:BC87)","v":12.574999999999999},null,"nyurgaponty",12.574999999999999]
["B1",{"$f":"kod!B13","v":"Gát, közepes víz"},{"$f":"kod!C13","v":"Tata Nitu Carp Team"},0,0,0,null,{"$f":"MAX(J88:AZ88)","v":0},"koi ponty"]
["B1",{"$f":"kod!B13","v":"Gát, közepes víz"},{"$f":"kod!C13","v":"Tata Nitu Carp Team"},0,0,0,{"$f":"MAX(J89:BC89)","v":0},null,"amur"]
["B1",{"$f":"kod!B13","v":"Gát, közepes víz"},{"$f":"kod!C13","v":"Tata Nitu Carp Team"},5.0750000000000002,1,5.0750000000000002,{"$f":"MAX(J90:BC90)","v":5.0750000000000002},null,"fekete amur",5.0750000000000002]
["B2",{"$f":"kod!B14","v":"Gát, közepes víz"},{"$f":"kod!C14","v":"Slovakia Carp Team"},{"$f":"SUM(D92:D97)","v":0},{"$f":"SUM(E92:E97)","v":0},0,{"$f":"MAX(G92:G97)","v":0},{"$f":"H95","v":0},"ÖSSZESEN",{"$f":"COUNTIFS($J92:$BB97,\">9,99\",$J92:$BB97,\"<20\")","v":0},{"$f":"COUNTIFS($J92:$BB97,\">19,99\")","v":0},{"$f":"COUNTIFS($J95:$BA95,\">4,99\",$J95:$BA95,\"<9,99\")","v":0},{"$f":"COUNTIFS($J95:$BB95,\">9,99\")","v":0}]
["B2",{"$f":"kod!B14","v":"Gát, közepes víz"},{"$f":"kod!C14","v":"Slovakia Carp Team"},{"$f":"SUM(J92:AZ92)","v":0},{"$f":"COUNT(J92:AZ92)","v":0},0,{"$f":"MAX(J92:BC92)","v":0},null,"tükörponty"]
["B2",{"$f":"kod!B14","v":"Gát, közepes víz"},{"$f":"kod!C14","v":"Slovakia Carp Team"},0,0,0,{"$f":"MAX(J93:BC93)","v":0},null,"tőponty"]
["B2",{"$f":"kod!B14","v":"Gát, közepes víz"},{"$f":"kod!C14","v":"Slovakia Carp Team"},0,0,0,{"$f":"MAX(J94:BC94)","v":0},null,"nyurgaponty"]
["B2",{"$f":"kod!B14","v":"Gát, közepes víz"},{"$f":"kod!C14","v":"Slovakia Carp Team"},0,0,0,null,{"$f":"MAX(J95:AZ95)","v":0},"koi ponty"]
["B2",{"$f":"kod!B14","v":"Gát, közepes víz"},{"$f":"kod!C14","v":"Slovakia Carp Team"},0,0,0,{"$f":"MAX(J96:BC96)","v":0},null,"amur"]
["B2",{"$f":"kod!B14","v":"Gát, közepes víz"},{"$f":"kod!C14","v":"Slovakia Carp Team"},0,0,0,{"$f":"MAX(J97:BC97)","v":0},null,"fekete amur"]
["B3",{"$f":"kod!B15","v":"Gát, közepes víz"},{"$f":"kod!C15","v":"WLC Hungary "},{"$f":"SUM(D99:D104)","v":20.324999999999999},{"$f":"SUM(E99:E104)","v":2},10.1625,{"$f":"MAX(G99:G104)","v":13.6},{"$f":"H102","v":0},"ÖSSZESEN",{"$f":"COUNTIFS($J99:$BB104,\">9,99\",$J99:$BB104,\"<20\")","v":1},{"$f":"COUNTIFS($J99:$BB104,\">19,99\")","v":0},{"$f":"COUNTIFS($J102:$BA102,\">4,99\",$J102:$BA102,\"<9,99\")","v":0},{"$f":"COUNTIFS($J102:$BB102,\">9,99\")","v":0}]
["B3",{"$f":"kod!B15","v":"Gát, közepes víz"},{"$f":"kod!C15","v":"WLC Hungary "},{"$f":"SUM(J99:AZ99)","v":0},{"$f":"COUNT(J99:AZ99)","v":0},0,{"$f":"MAX(J99:BC99)","v":0},null,"tükörponty"]
["B3",{"$f":"kod!B15","v":"Gát, közepes víz"},{"$f":"kod!C15","v":"WLC Hungary "},6.7249999999999996,1,6.7249999999999996,{"$f":"MAX(J100:BC100)","v":6.7249999999999996},null,"tőponty",6.7249999999999996]
["B3",{"$f":"kod!B15","v":"Gát, közepes víz"},{"$f":"kod!C15","v":"WLC Hungary "},13.6,1,13.6,{"$f":"MAX(J101:BC101)","v":13.6},null,"nyurgaponty",13.6]
["B3",{"$f":"kod!B15","v":"Gát, közepes víz"},{"$f":"kod!C15","v":"WLC Hungary "},0,0,0,null,{"$f":"MAX(J102:AZ102)","v":0},"koi ponty"]
["B3",{"$f":"kod!B15","v":"Gát, közepes víz"},{"$f":"kod!C15","v":"WLC Hungary "},0,0,0,{"$f":"MAX(J103:BC103)","v":0},null,"amur"]
["B3",{"$f":"kod!B15","v":"Gát, közepes víz"},{"$f":"kod!C15","v":"WLC Hungary "},0,0,0,{"$f":"MAX(J104:BC104)","v":0},null,"fekete amur"]
["B4",{"$f":"kod!B16","v":"Gát, közepes víz"},{"$f":"kod!C16","v":"Barfin Line NSD Bulgaria"},{"$f":"SUM(D106:D111)","v":11.1},{"$f":"SUM(E106:E111)","v":1},11.1,{"$f":"MAX(G106:G111)","v":11.1},{"$f":"H109","v":0},"ÖSSZESEN",{"$f":"COUNTIFS($J106:$BB111,\">9,99\",$J106:$BB111,\"<20\")","v":1},{"$f":"COUNTIFS($J106:$BB111,\">19,99\")","v":0},{"$f":"COUNTIFS($J109:$BA109,\">4,99\",$J109:$BA109,\"<9,99\")","v":0},{"$f":"COUNTIFS($J109:$BB109,\">9,99\")","v":0}]
["B4",{"$f":"kod!B16","v":"Gát, közepes víz"},{"$f":"kod!C16","v":"Barfin Line NSD Bulgaria"},{"$f":"SUM(J106:AZ106)","v":11.1},{"$f":"COUNT(J106:AZ106)","v":1},11.1,{"$f":"MAX(J106:BC106)","v":11.1},null,"tükörponty",11.1]
["B4",{"$f":"kod!B16","v":"Gát, közepes víz"},{"$f":"kod!C16","v":"Barfin Line NSD Bulgaria"},0,0,0,{"$f":"MAX(J107:BC107)","v":0},null,"tőponty"]
["B4",{"$f":"kod!B16","v":"Gát, közepes víz"},{"$f":"kod!C16","v":"Barfin Line NSD Bulgaria"},0,0,0,{"$f":"MAX(J108:BC108)","v":0},null,"nyurgaponty"]
["B4",{"$f":"kod!B16","v":"Gát, közepes víz"},{"$f":"kod!C16","v":"Barfin Line NSD Bulgaria"},0,0,0,null,{"$f":"MAX(J109:AZ109)","v":0},"koi ponty"]
["B4",{"$f":"kod!B16","v":"Gát, közepes víz"},{"$f":"kod!C16","v":"Barfin Line NSD Bulgaria"},0,0,0,{"$f":"MAX(J110:BC110)","v":0},null,"amur"]
["B4",{"$f":"kod!B16","v":"Gát, közepes víz"},{"$f":"kod!C16","v":"Barfin Line NSD Bulgaria"},0,0,0,{"$f":"MAX(J111:BC111)","v":0},null,"fekete amur"]
["B5",{"$f":"kod!B17","v":"Gát, közepes víz"},{"$f":"kod!C17","v":"Lutra Carp Hunters"},{"$f":"SUM(D113:D118)","v":21.3},{"$f":"SUM(E113:E118)","v":2},10.65,{"$f":"MAX(G113:G118)","v":13.725},{"$f":"H116","v":0},"ÖSSZESEN",{"$f":"COUNTIFS($J113:$BB118,\">9,99\",$J113:$BB118,\"<20\")","v":1},{"$f":"COUNTIFS($J113:$BB118,\">19,99\")","v":0},{"$f":"COUNTIFS($J116:$BA116,\">4,99\",$J116:$BA116,\"<9,99\")","v":0},{"$f":"COUNTIFS($J116:$BB116,\">9,99\")","v":0}]
["B5",{"$f":"kod!B17","v":"Gát, közepes víz"},{"$f":"kod!C17","v":"Lutra Carp Hunters"},{"$f":"SUM(J113:AZ113)","v":13.725},{"$f":"COUNT(J113:AZ113)","v":1},13.725,{"$f":"MAX(J113:BC113)","v":13.725},null,"tükörponty",13.725]
["B5",{"$f":"kod!B17","v":"Gát, közepes víz"},{"$f":"kod!C17","v":"Lutra Carp Hunters"},0,0,0,{"$f":"MAX(J114:BC114)","v":0},null,"tőponty"]
["B5",{"$f":"kod!B17","v":"Gát, közepes víz"},{"$f":"kod!C17","v":"Lutra Carp Hunters"},7.5750000000000002,1,7.5750000000000002,{"$f":"MAX(J115:BC115)","v":7.5750000000000002},null,"nyurgaponty",7.5750000000000002]
["B5",{"$f":"kod!B17","v":"Gát, közepes víz"},{"$f":"kod!C17","v":"Lutra Carp Hunters"},0,0,0,null,{"$f":"MAX(J116:AZ116)","v":0},"koi ponty"]
["B5",{"$f":"kod!B17","v":"Gát, közepes víz"},{"$f":"kod!C17","v":"Lutra Carp Hunters"},0,0,0,{"$f":"MAX(J117:BC117)","v":0},null,"amur"]
["B5",{"$f":"kod!B17","v":"Gát, közepes víz"},{"$f":"kod!C17","v":"Lutra Carp Hunters"},0,0,0,{"$f":"MAX(J118:BC118)","v":0},null,"fekete amur"]
["B6",{"$f":"kod!B18","v":"Gát, közepes víz"},{"$f":"kod!C18","v":"Xtra Carp Team"},{"$f":"SUM(D120:D125)","v":10.5},{"$f":"SUM(E120:E125)","v":1},10.5,{"$f":"MAX(G120:G125)","v":10.5},{"$f":"H123","v":0},"ÖSSZESEN",{"$f":"COUNTIFS($J120:$BB125,\">9,99\",$J120:$BB125,\"<20\")","v":1},{"$f":"COUNTIFS($J120:$BB125,\">19,99\")","v":0},{"$f":"COUNTIFS($J123:$BA123,\">4,99\",$J123:$BA123,\"<9,99\")","v":0},{"$f":"COUNTIFS($J123:$BB123,\">9,99\")","v":0}]
["B6",{"$f":"kod!B18","v":"Gát, közepes víz"},{"$f":"kod!C18","v":"Xtra Carp Team"},{"$f":"SUM(J120:AZ120)","v":0},{"$f":"COUNT(J120:AZ120)","v":0},0,{"$f":"MAX(J120:BC120)","v":0},null,"tükörponty"]
["B6",{"$f":"kod!B18","v":"Gát, közepes víz"},{"$f":"kod!C18","v":"Xtra Carp Team"},0,0,0,{"$f":"MAX(J121:BC121)","v":0},null,"tőponty"]
["B6",{"$f":"kod!B18","v":"Gát, közepes víz"},{"$f":"kod!C18","v":"Xtra Carp Team"},10.5,1,10.5,{"$f":"MAX(J122:BC122)","v":10.5},null,"nyurgaponty",10.5]
["B6",{"$f":"kod!B18","v":"Gát, közepes víz"},{"$f":"kod!C18","v":"Xtra Carp Team"},0,0,0,null,{"$f":"MAX(J123:AZ123)","v":0},"koi ponty"]
["B6",{"$f":"kod!B18","v":"Gát, közepes víz"},{"$f":"kod!C18","v":"Xtra Carp Team"},0,0,0,{"$f":"MAX(J124:BC124)","v":0},null,"amur"]
["B6",{"$f":"kod!B18","v":"Gát, közepes víz"},{"$f":"kod!C18","v":"Xtra Carp Team"},0,0,0,{"$f":"MAX(J125:BC125)","v":0},null,"fekete amur"]
["B7",{"$f":"kod!B19","v":"I. sziget, jobb közép"},{"$f":"kod!C19","v":"Elite Carp Team Brasov"},{"$f":"SUM(D127:D132)","v":77.024999999999991},{"$f":"SUM(E127:E132)","v":8},9.6281249999999989,{"$f":"MAX(G127:G132)","v":15.725},{"$f":"H130","v":0},"ÖSSZESEN",{"$f":"COUNTIFS($J127:$BB132,\">9,99\",$J127:$BB132,\"<20\")","v":3},{"$f":"COUNTIFS($J127:$BB132,\">19,99\")","v":0},{"$f":"COUNTIFS($J130:$BA130,\">4,99\",$J130:$BA130,\"<9,99\")","v":0},{"$f":"COUNTIFS($J130:$BB130,\">9,99\")","v":0}]
["B7",{"$f":"kod!B19","v":"I. sziget, jobb közép"},{"$f":"kod!C19","v":"Elite Carp Team Brasov"},{"$f":"SUM(J127:AZ127)","v":19.074999999999999},{"$f":"COUNT(J127:AZ127)","v":2},9.5374999999999996,{"$f":"MAX(J127:BC127)","v":10.95},null,"tükörponty",10.95,8.125]
["B7",{"$f":"kod!B19","v":"I. sziget, jobb közép"},{"$f":"kod!C19","v":"Elite Carp Team Brasov"},42.225000000000001,5,8.4450000000000003,{"$f":"MAX(J128:BC128)","v":10.975},null,"tőponty",10.975,7,9.75,7.4,7.1]
["B7",{"$f":"kod!B19","v":"I. sziget, jobb közép"},{"$f":"kod!C19","v":"Elite Carp Team Brasov"},15.725,1,15.725,{"$f":"MAX(J129:BC129)","v":15.725},null,"nyurgaponty",15.725]
["B7",{"$f":"kod!B19","v":"I. sziget, jobb közép"},{"$f":"kod!C19","v":"Elite Carp Team Brasov"},0,0,0,null,{"$f":"MAX(J130:AZ130)","v":0},"koi ponty"]
["B7",{"$f":"kod!B19","v":"I. sziget, jobb közép"},{"$f":"kod!C19","v":"Elite Carp Team Brasov"},0,0,0,{"$f":"MAX(J131:BC131)","v":0},null,"amur"]
["B7",{"$f":"kod!B19","v":"I. sziget, jobb közép"},{"$f":"kod!C19","v":"Elite Carp Team Brasov"},0,0,0,{"$f":"MAX(J132:BC132)","v":0},null,"fekete amur"]
["B8",{"$f":"kod!B20","v":"I. sziget, jobb "},{"$f":"kod!C20","v":"CT777 Varna Bulgaria"},{"$f":"SUM(D134:D139)","v":38.15},{"$f":"SUM(E134:E139)","v":4},9.5374999999999996,{"$f":"MAX(G134:G139)","v":11.975},{"$f":"H137","v":0},"ÖSSZESEN",{"$f":"COUNTIFS($J134:$BB139,\">9,99\",$J134:$BB139,\"<20\")","v":2},{"$f":"COUNTIFS($J134:$BB139,\">19,99\")","v":0},{"$f":"COUNTIFS($J137:$BA137,\">4,99\",$J137:$BA137,\"<9,99\")","v":0},{"$f":"COUNTIFS($J137:$BB137,\">9,99\")","v":0}]
["B8",{"$f":"kod!B20","v":"I. sziget, jobb "},{"$f":"kod!C20","v":"CT777 Varna Bulgaria"},{"$f":"SUM(J134:AZ134)","v":7.95},{"$f":"COUNT(J134:AZ134)","v":1},7.95,{"$f":"MAX(J134:BC134)","v":7.95},null,"tükörponty",7.95]
["B8",{"$f":"kod!B20","v":"I. sziget, jobb "},{"$f":"kod!C20","v":"CT777 Varna Bulgaria"},30.2,3,10.066666666666666,{"$f":"MAX(J135:BC135)","v":11.975},null,"tőponty",7.7750000000000004,11.975,10.45]
["B8",{"$f":"kod!B20","v":"I. sziget, jobb "},{"$f":"kod!C20","v":"CT777 Varna Bulgaria"},0,0,0,{"$f":"MAX(J136:BC136)","v":0},null,"nyurgaponty"]
["B8",{"$f":"kod!B20","v":"I. sziget, jobb "},{"$f":"kod!C20","v":"CT777 Varna Bulgaria"},0,0,0,null,{"$f":"MAX(J137:AZ137)","v":0},"koi ponty"]
["B8",{"$f":"kod!B20","v":"I. sziget, jobb "},{"$f":"kod!C20","v":"CT777 Varna Bulgaria"},0,0,0,{"$f":"MAX(J138:BC138)","v":0},null,"amur"]
["B8",{"$f":"kod!B20","v":"I. sziget, jobb "},{"$f":"kod!C20","v":"CT777 Varna Bulgaria"},0,0,0,{"$f":"MAX(J139:BC139)","v":0},null,"fekete amur"]
["B9",{"$f":"kod!B21","v":"I. sziget, jobb külső"},{"$f":"kod!C21","v":"Bait Maker Team"},{"$f":"SUM(D141:D146)","v":54.35},{"$f":"SUM(E141:E146)","v":10},5.4350000000000005,{"$f":"MAX(G141:G146)","v":7.0750000000000002},{"$f":"H144","v":0},"ÖSSZESEN",{"$f":"COUNTIFS($J141:$BB146,\">9,99\",$J141:$BB146,\"<20\")","v":0},{"$f":"COUNTIFS($J141:$BB146,\">19,99\")","v":0},{"$f":"COUNTIFS($J144:$BA144,\">4,99\",$J144:$BA144,\"<9,99\")","v":0},{"$f":"COUNTIFS($J144:$BB144,\">9,99\")","v":0}]
["B9",{"$f":"kod!B21","v":"I. sziget, jobb külső"},{"$f":"kod!C21","v":"Bait Maker Team"},{"$f":"SUM(J141:AZ141)","v":6.6},{"$f":"COUNT(J141:AZ141)","v":1},{"$f":"IF(E141=0,0,D141/E141)","v":6.6},{"$f":"MAX(J141:BC141)","v":6.6},null,"tükörponty",6.6]
["B9",{"$f":"kod!B21","v":"I. sziget, jobb külső"},{"$f":"kod!C21","v":"Bait Maker Team"},44.975000000000001,8,5.6218750000000002,{"$f":"MAX(J142:BC142)","v":7.0750000000000002},null,"tőponty",6.9249999999999998,5.85,5.0250000000000004,6.35,2.35,7.0750000000000002,5.15,6.25]
["B9",{"$f":"kod!B21","v":"I. sziget, jobb külső"},{"$f":"kod!C21","v":"Bait Maker Team"},0,0,0,{"$f":"MAX(J143:BC143)","v":0},null,"nyurgaponty"]
["B9",{"$f":"kod!B21","v":"I. sziget, jobb külső"},{"$f":"kod!C21","v":"Bait Maker Team"},0,0,0,null,{"$f":"MAX(J144:AZ144)","v":0},"koi ponty"]
["B9",{"$f":"kod!B21","v":"I. sziget, jobb külső"},{"$f":"kod!C21","v":"Bait Maker Team"},0,0,0,{"$f":"MAX(J145:BC145)","v":0},null,"amur"]
["B9",{"$f":"kod!B21","v":"I. sziget, jobb külső"},{"$f":"kod!C21","v":"Bait Maker Team"},2.7749999999999999,1,2.7749999999999999,{"$f":"MAX(J146:BC146)","v":2.7749999999999999},null,"fekete amur",2.7749999999999999]
["B10",{"$f":"kod!B22","v":"Felező-spicc, bal"},{"$f":"kod!C22","v":"SBS - SziKo Team"},{"$f":"SUM(D148:D153)","v":24.925000000000001},{"$f":"SUM(E148:E153)","v":3},8.3083333333333336,{"$f":"MAX(G148:G153)","v":11.425000000000001},{"$f":"H151","v":0},"ÖSSZESEN",{"$f":"COUNTIFS($J148:$BB153,\">9,99\",$J148:$BB153,\"<20\")","v":1},{"$f":"COUNTIFS($J148:$BB153,\">19,99\")","v":0},{"$f":"COUNTIFS($J151:$BA151,\">4,99\",$J151:$BA151,\"<9,99\")","v":0},{"$f":"COUNTIFS($J151:$BB151,\">9,99\")","v":0}]
["B10",{"$f":"kod!B22","v":"Felező-spicc, bal"},{"$f":"kod!C22","v":"SBS - SziKo Team"},{"$f":"SUM(J148:AZ148)","v":0},{"$f":"COUNT(J148:AZ148)","v":0},{"$f":"IF(E148=0,0,D148/E148)","v":0},{"$f":"MAX(J148:BC148)","v":0},null,"tükörponty"]
["B10",{"$f":"kod!B22","v":"Felező-spicc, bal"},{"$f":"kod!C22","v":"SBS - SziKo Team"},24.925000000000001,3,8.3083333333333336,{"$f":"MAX(J149:BC149)","v":11.425000000000001},null,"tőponty",5.9749999999999996,7.5250000000000004,11.425000000000001]
["B10",{"$f":"kod!B22","v":"Felező-spicc, bal"},{"$f":"kod!C22","v":"SBS - SziKo Team"},0,0,0,{"$f":"MAX(J150:BC150)","v":0},null,"nyurgaponty"]
["B10",{"$f":"kod!B22","v":"Felező-spicc, bal"},{"$f":"kod!C22","v":"SBS - SziKo Team"},0,0,0,null,{"$f":"MAX(J151:AZ151)","v":0},"koi ponty"]
["B10",{"$f":"kod!B22","v":"Felező-spicc, bal"},{"$f":"kod!C22","v":"SBS - SziKo Team"},0,0,0,{"$f":"MAX(J152:BC152)","v":0},null,"amur"]
["B10",{"$f":"kod!B22","v":"Felező-spicc, bal"},{"$f":"kod!C22","v":"SBS - SziKo Team"},0,0,0,{"$f":"MAX(J153:BC153)","v":0},null,"fekete amur"]
["B11",{"$f":"kod!B23","v":"Felező-spicc, közép"},{"$f":"kod!C23","v":"Síp Carp Team"},{"$f":"SUM(D155:D160)","v":0},{"$f":"SUM(E155:E160)","v":0},{"$f":"IF(E154=0,0,D154/E154)","v":0},{"$f":"MAX(G155:G160)","v":0},{"$f":"H158","v":0},"ÖSSZESEN",{"$f":"COUNTIFS($J155:$BB160,\">9,99\",$J155:$BB160,\"<20\")","v":0},{"$f":"COUNTIFS($J155:$BB160,\">19,99\")","v":0},{"$f":"COUNTIFS($J158:$BA158,\">4,99\",$J158:$BA158,\"<9,99\")","v":0},{"$f":"COUNTIFS($J158:$BB158,\">9,99\")","v":0}]
["B11",{"$f":"kod!B23","v":"Felező-spicc, közép"},{"$f":"kod!C23","v":"Síp Carp Team"},{"$f":"SUM(J155:AZ155)","v":0},{"$f":"COUNT(J155:AZ155)","v":0},0,{"$f":"MAX(J155:BC155)","v":0},null,"tükörponty"]
["B11",{"$f":"kod!B23","v":"Felező-spicc, közép"},{"$f":"kod!C23","v":"Síp Carp Team"},0,0,0,{"$f":"MAX(J156:BC156)","v":0},null,"tőponty"]
["B11",{"$f":"kod!B23","v":"Felező-spicc, közép"},{"$f":"kod!C23","v":"Síp Carp Team"},0,0,0,{"$f":"MAX(J157:BC157)","v":0},null,"nyurgaponty"]
["B11",{"$f":"kod!B23","v":"Felező-spicc, közép"},{"$f":"kod!C23","v":"Síp Carp Team"},0,0,0,null,{"$f":"MAX(J158:AZ158)","v":0},"koi ponty"]
["B11",{"$f":"kod!B23","v":"Felező-spicc, közép"},{"$f":"kod!C23","v":"Síp Carp Team"},0,0,0,{"$f":"MAX(J159:BC159)","v":0},null,"amur"]
["B11",{"$f":"kod!B23","v":"Felező-spicc, közép"},{"$f":"kod!C23","v":"Síp Carp Team"},0,0,0,{"$f":"MAX(J160:BC160)","v":0},null,"fekete amur"]
["C1",{"$f":"kod!B24","v":"Gát, sekély víz"},{"$f":"kod!C24","v":"Carp Fever Bulgaria"},{"$f":"SUM(D162:D167)","v":56.375},{"$f":"SUM(E162:E167)","v":9},{"$f":"IF(E161=0,0,D161/E161)","v":6.2638888888888893},{"$f":"MAX(G162:G167)","v":10.9},{"$f":"H165","v":0},"ÖSSZESEN",{"$f":"COUNTIFS($J162:$BB167,\">9,99\",$J162:$BB167,\"<20\")","v":1},{"$f":"COUNTIFS($J162:$BB167,\">19,99\")","v":0},{"$f":"COUNTIFS($J165:$BA165,\">4,99\",$J165:$BA165,\"<9,99\")","v":0},{"$f":"COUNTIFS($J165:$BB165,\">9,99\")","v":0}]
["C1",{"$f":"kod!B24","v":"Gát, sekély víz"},{"$f":"kod!C24","v":"Carp Fever Bulgaria"},{"$f":"SUM(J162:AZ162)","v":16.600000000000001},{"$f":"COUNT(J162:AZ162)","v":2},{"$f":"IF(E162=0,0,D162/E162)","v":8.3000000000000007},{"$f":"MAX(J162:BC162)","v":8.9499999999999993},null,"tükörponty",8.9499999999999993,7.65]
["C1",{"$f":"kod!B24","v":"Gát, sekély víz"},{"$f":"kod!C24","v":"Carp Fever Bulgaria"},23.1,5,4.62,{"$f":"MAX(J163:BC163)","v":8},null,"tőponty",5.3,1.175,6.6,2.0249999999999999,8]
["C1",{"$f":"kod!B24","v":"Gát, sekély víz"},{"$f":"kod!C24","v":"Carp Fever Bulgaria"},16.675000000000001,2,8.3375000000000004,{"$f":"MAX(J164:BC164)","v":10.9},null,"nyurgaponty",10.9,5.7750000000000004]
["C1",{"$f":"kod!B24","v":"Gát, sekély víz"},{"$f":"kod!C24","v":"Carp Fever Bulgaria"},0,0,0,null,{"$f":"MAX(J165:AZ165)","v":0},"koi ponty"]
["C1",{"$f":"kod!B24","v":"Gát, sekély víz"},{"$f":"kod!C24","v":"Carp Fever Bulgaria"},0,0,0,{"$f":"MAX(J166:BC166)","v":0},null,"amur"]
["C1",{"$f":"kod!B24","v":"Gát, sekély víz"},{"$f":"kod!C24","v":"Carp Fever Bulgaria"},0,0,0,{"$f":"MAX(J167:BC167)","v":0},null,"fekete amur"]
["C2",{"$f":"kod!B25","v":"Gát, sekély víz"},{"$f":"kod!C25","v":"Carpfriends Ennstal-Austria"},{"$f":"SUM(D169:D174)","v":32.625},{"$f":"SUM(E169:E174)","v":5},6.5250000000000004,{"$f":"MAX(G169:G174)","v":8.7249999999999996},{"$f":"H172","v":0},"ÖSSZESEN",{"$f":"COUNTIFS($J169:$BB174,\">9,99\",$J169:$BB174,\"<20\")","v":0},{"$f":"COUNTIFS($J169:$BB174,\">19,99\")","v":0},{"$f":"COUNTIFS($J172:$BA172,\">4,99\",$J172:$BA172,\"<9,99\")","v":0},{"$f":"COUNTIFS($J172:$BB172,\">9,99\")","v":0}]
["C2",{"$f":"kod!B25","v":"Gát, sekély víz"},{"$f":"kod!C25","v":"Carpfriends Ennstal-Austria"},{"$f":"SUM(J169:AZ169)","v":5.125},{"$f":"COUNT(J169:AZ169)","v":1},5.125,{"$f":"MAX(J169:BC169)","v":5.125},null,"tükörponty",5.125]
["C2",{"$f":"kod!B25","v":"Gát, sekély víz"},{"$f":"kod!C25","v":"Carpfriends Ennstal-Austria"},27.5,4,6.875,{"$f":"MAX(J170:BC170)","v":8.7249999999999996},null,"tőponty",4.7,5.4249999999999998,8.65,8.7249999999999996]
["C2",{"$f":"kod!B25","v":"Gát, sekély víz"},{"$f":"kod!C25","v":"Carpfriends Ennstal-Austria"},0,0,0,{"$f":"MAX(J171:BC171)","v":0},null,"nyurgaponty"]
["C2",{"$f":"kod!B25","v":"Gát, sekély víz"},{"$f":"kod!C25","v":"Carpfriends Ennstal-Austria"},0,0,0,null,{"$f":"MAX(J172:AZ172)","v":0},"koi ponty"]
["C2",{"$f":"kod!B25","v":"Gát, sekély víz"},{"$f":"kod!C25","v":"Carpfriends Ennstal-Austria"},0,0,0,{"$f":"MAX(J173:BC173)","v":0},null,"amur"]
["C2",{"$f":"kod!B25","v":"Gát, sekély víz"},{"$f":"kod!C25","v":"Carpfriends Ennstal-Austria"},0,0,0,{"$f":"MAX(J174:BC174)","v":0},null,"fekete amur"]
["C3",{"$f":"kod!B26","v":"Gát, sekély víz"},{"$f":"kod!C26","v":"Carp Team Brasov"},{"$f":"SUM(D176:D181)","v":13.525},{"$f":"SUM(E176:E181)","v":2},6.7625000000000002,{"$f":"MAX(G176:G181)","v":7.65},{"$f":"H179","v":0},"ÖSSZESEN",{"$f":"COUNTIFS($J176:$BB181,\">9,99\",$J176:$BB181,\"<20\")","v":0},{"$f":"COUNTIFS($J176:$BB181,\">19,99\")","v":0},{"$f":"COUNTIFS($J179:$BA179,\">4,99\",$J179:$BA179,\"<9,99\")","v":0},{"$f":"COUNTIFS($J179:$BB179,\">9,99\")","v":0}]
["C3",{"$f":"kod!B26","v":"Gát, sekély víz"},{"$f":"kod!C26","v":"Carp Team Brasov"},{"$f":"SUM(J176:AZ176)","v":0},{"$f":"COUNT(J176:AZ176)","v":0},0,{"$f":"MAX(J176:BC176)","v":0},null,"tükörponty"]
["C3",{"$f":"kod!B26","v":"Gát, sekély víz"},{"$f":"kod!C26","v":"Carp Team Brasov"},13.525,2,6.7625000000000002,{"$f":"MAX(J177:BC177)","v":7.65},null,"tőponty",7.65,5.875]
["C3",{"$f":"kod!B26","v":"Gát, sekély víz"},{"$f":"kod!C26","v":"Carp Team Brasov"},0,0,0,{"$f":"MAX(J178:BC178)","v":0},null,"nyurgaponty"]
["C3",{"$f":"kod!B26","v":"Gát, sekély víz"},{"$f":"kod!C26","v":"Carp Team Brasov"},0,0,0,null,{"$f":"MAX(J179:AZ179)","v":0},"koi ponty"]
["C3",{"$f":"kod!B26","v":"Gát, sekély víz"},{"$f":"kod!C26","v":"Carp Team Brasov"},0,0,0,{"$f":"MAX(J180:BC180)","v":0},null,"amur"]
["C3",{"$f":"kod!B26","v":"Gát, sekély víz"},{"$f":"kod!C26","v":"Carp Team Brasov"},0,0,0,{"$f":"MAX(J181:BC181)","v":0},null,"fekete amur"]
["C4",{"$f":"kod!B27","v":"Gát, sekély víz"},{"$f":"kod!C27","v":"As La Carp Team"},{"$f":"SUM(D183:D188)","v":90},{"$f":"SUM(E183:E188)","v":14},6.4285714285714288,{"$f":"MAX(G183:G188)","v":9.9},{"$f":"H186","v":0},"ÖSSZESEN",{"$f":"COUNTIFS($J183:$BB188,\">9,99\",$J183:$BB188,\"<20\")","v":0},{"$f":"COUNTIFS($J183:$BB188,\">19,99\")","v":0},{"$f":"COUNTIFS($J186:$BA186,\">4,99\",$J186:$BA186,\"<9,99\")","v":0},{"$f":"COUNTIFS($J186:$BB186,\">9,99\")","v":0}]
["C4",{"$f":"kod!B27","v":"Gát, sekély víz"},{"$f":"kod!C27","v":"As La Carp Team"},{"$f":"SUM(J183:AZ183)","v":8.5749999999999993},{"$f":"COUNT(J183:AZ183)","v":1},8.5749999999999993,{"$f":"MAX(J183:BC183)","v":8.5749999999999993},null,"tükörponty",8.5749999999999993]
["C4",{"$f":"kod!B27","v":"Gát, sekély víz"},{"$f":"kod!C27","v":"As La Carp Team"},50.85,9,5.65,{"$f":"MAX(J184:BC184)","v":8.5},null,"tőponty",1.5,1.7250000000000001,8.5,6.7249999999999996,6.9249999999999998,6.2,7.9249999999999998,6.125,5.2249999999999996]
["C4",{"$f":"kod!B27","v":"Gát, sekély víz"},{"$f":"kod!C27","v":"As La Carp Team"},30.575000000000003,4,7.6437500000000007,{"$f":"MAX(J185:BC185)","v":9.9},null,"nyurgaponty",3.875,6.9249999999999998,9.875,9.9]
["C4",{"$f":"kod!B27","v":"Gát, sekély víz"},{"$f":"kod!C27","v":"As La Carp Team"},0,0,0,null,{"$f":"MAX(J186:AZ186)","v":0},"koi ponty"]
["C4",{"$f":"kod!B27","v":"Gát, sekély víz"},{"$f":"kod!C27","v":"As La Carp Team"},0,0,0,{"$f":"MAX(J187:BC187)","v":0},null,"amur"]
["C4",{"$f":"kod!B27","v":"Gát, sekély víz"},{"$f":"kod!C27","v":"As La Carp Team"},0,0,0,{"$f":"MAX(J188:BC188)","v":0},null,"fekete amur"]
["C5",{"$f":"kod!B28","v":"Gát, sekély víz"},{"$f":"kod!C28","v":"Bojlis Főnök - Bait Bait Carp Team"},{"$f":"SUM(D190:D195)","v":94.525000000000006},{"$f":"SUM(E190:E195)","v":14},6.7517857142857149,{"$f":"MAX(G190:G195)","v":10.6},{"$f":"H193","v":4.3250000000000002},"ÖSSZESEN",{"$f":"COUNTIFS($J190:$BB195,\">9,99\",$J190:$BB195,\"<20\")","v":1},{"$f":"COUNTIFS($J190:$BB195,\">19,99\")","v":0},{"$f":"COUNTIFS($J193:$BA193,\">4,99\",$J193:$BA193,\"<9,99\")","v":0},{"$f":"COUNTIFS($J193:$BB193,\">9,99\")","v":0}]
["C5",{"$f":"kod!B28","v":"Gát, sekély víz"},{"$f":"kod!C28","v":"Bojlis Főnök - Bait Bait Carp Team"},{"$f":"SUM(J190:AZ190)","v":8.0749999999999993},{"$f":"COUNT(J190:AZ190)","v":1},8.0749999999999993,{"$f":"MAX(J190:BC190)","v":8.0749999999999993},null,"tükörponty",8.0749999999999993]
["C5",{"$f":"kod!B28","v":"Gát, sekély víz"},{"$f":"kod!C28","v":"Bojlis Főnök - Bait Bait Carp Team"},40.500000000000007,7,5.7857142857142865,{"$f":"MAX(J191:BC191)","v":8.25},null,"tőponty",8.25,4.7,8.0250000000000004,6.8,3.6,2.0499999999999998,7.0750000000000002]
["C5",{"$f":"kod!B28","v":"Gát, sekély víz"},{"$f":"kod!C28","v":"Bojlis Főnök - Bait Bait Carp Team"},32.950000000000003,4,8.2375000000000007,{"$f":"MAX(J192:BC192)","v":10.6},null,"nyurgaponty",7.875,7.5250000000000004,10.6,6.95]
["C5",{"$f":"kod!B28","v":"Gát, sekély víz"},{"$f":"kod!C28","v":"Bojlis Főnök - Bait Bait Carp Team"},4.3250000000000002,1,4.3250000000000002,null,{"$f":"MAX(J193:AZ193)","v":4.3250000000000002},"koi ponty",4.3250000000000002]
["C5",{"$f":"kod!B28","v":"Gát, sekély víz"},{"$f":"kod!C28","v":"Bojlis Főnök - Bait Bait Carp Team"},8.6750000000000007,1,8.6750000000000007,{"$f":"MAX(J194:BC194)","v":8.6750000000000007},null,"amur",8.6750000000000007]
["C5",{"$f":"kod!B28","v":"Gát, sekély víz"},{"$f":"kod!C28","v":"Bojlis Főnök - Bait Bait Carp Team"},0,0,0,{"$f":"MAX(J195:BC195)","v":0},null,"fekete amur"]
["C6",{"$f":"kod!B29","v":"Felező-spicc, jobb"},{"$f":"kod!C29","v":"Secret Of The Carp"},{"$f":"SUM(D197:D202)","v":6.9},{"$f":"SUM(E197:E202)","v":1},6.9,{"$f":"MAX(G197:G202)","v":6.9},{"$f":"H200","v":0},"ÖSSZESEN",{"$f":"COUNTIFS($J197:$BB202,\">9,99\",$J197:$BB202,\"<20\")","v":0},{"$f":"COUNTIFS($J197:$BB202,\">19,99\")","v":0},{"$f":"COUNTIFS($J200:$BA200,\">4,99\",$J200:$BA200,\"<9,99\")","v":0},{"$f":"COUNTIFS($J200:$BB200,\">9,99\")","v":0}]
["C6",{"$f":"kod!B29","v":"Felező-spicc, jobb"},{"$f":"kod!C29","v":"Secret Of The Carp"},{"$f":"SUM(J197:AZ197)","v":0},{"$f":"COUNT(J197:AZ197)","v":0},0,{"$f":"MAX(J197:BC197)","v":0},null,"tükörponty"]
["C6",{"$f":"kod!B29","v":"Felező-spicc, jobb"},{"$f":"kod!C29","v":"Secret Of The Carp"},6.9,1,6.9,{"$f":"MAX(J198:BC198)","v":6.9},null,"tőponty",6.9]
["C6",{"$f":"kod!B29","v":"Felező-spicc, jobb"},{"$f":"kod!C29","v":"Secret Of The Carp"},0,0,0,{"$f":"MAX(J199:BC199)","v":0},null,"nyurgaponty"]
["C6",{"$f":"kod!B29","v":"Felező-spicc, jobb"},{"$f":"kod!C29","v":"Secret Of The Carp"},0,0,0,null,{"$f":"MAX(J200:AZ200)","v":0},"koi ponty"]
["C6",{"$f":"kod!B29","v":"Felező-spicc, jobb"},{"$f":"kod!C29","v":"Secret Of The Carp"},0,0,0,{"$f":"MAX(J201:BC201)","v":0},null,"amur"]
["C6",{"$f":"kod!B29","v":"Felező-spicc, jobb"},{"$f":"kod!C29","v":"Secret Of The Carp"},0,0,0,{"$f":"MAX(J202:BC202)","v":0},null,"fekete amur"]
["C7",{"$f":"kod!B30","v":"II. sziget, bal"},{"$f":"kod!C30","v":"Quick Baits"},{"$f":"SUM(D204:D209)","v":76.290000000000006},{"$f":"SUM(E204:E209)","v":8},9.5362500000000008,{"$f":"MAX(G204:G209)","v":13.925000000000001},{"$f":"H207","v":0},"ÖSSZESEN",{"$f":"COUNTIFS($J204:$BB209,\">9,99\",$J204:$BB209,\"<20\")","v":4},{"$f":"COUNTIFS($J204:$BB209,\">19,99\")","v":0},{"$f":"COUNTIFS($J207:$BA207,\">4,99\",$J207:$BA207,\"<9,99\")","v":0},{"$f":"COUNTIFS($J207:$BB207,\">9,99\")","v":0}]
["C7",{"$f":"kod!B30","v":"II. sziget, bal"},{"$f":"kod!C30","v":"Quick Baits"},{"$f":"SUM(J204:AZ204)","v":32.24},{"$f":"COUNT(J204:AZ204)","v":3},10.746666666666668,{"$f":"MAX(J204:BC204)","v":13.925000000000001},null,"tükörponty",13.925000000000001,8.3249999999999993,9.99]
["C7",{"$f":"kod!B30","v":"II. sziget, bal"},{"$f":"kod!C30","v":"Quick Baits"},28.774999999999999,3,9.5916666666666668,{"$f":"MAX(J205:BC205)","v":11.975},null,"tőponty",10.1,11.975,6.7]
["C7",{"$f":"kod!B30","v":"II. sziget, bal"},{"$f":"kod!C30","v":"Quick Baits"},11.95,1,11.95,{"$f":"MAX(J206:BC206)","v":11.95},null,"nyurgaponty",11.95]
["C7",{"$f":"kod!B30","v":"II. sziget, bal"},{"$f":"kod!C30","v":"Quick Baits"},0,0,0,null,{"$f":"MAX(J207:AZ207)","v":0},"koi ponty"]
["C7",{"$f":"kod!B30","v":"II. sziget, bal"},{"$f":"kod!C30","v":"Quick Baits"},0,0,0,{"$f":"MAX(J208:BC208)","v":0},null,"amur"]
["C7",{"$f":"kod!B30","v":"II. sziget, bal"},{"$f":"kod!C30","v":"Quick Baits"},3.3250000000000002,1,3.3250000000000002,{"$f":"MAX(J209:BC209)","v":3.3250000000000002},null,"fekete amur",3.3250000000000002]
["C8",{"$f":"kod!B31","v":"II. sziget, bal közép"},{"$f":"kod!C31","v":"Carp Team Blankbrothers"},{"$f":"SUM(D211:D216)","v":25.15},{"$f":"SUM(E211:E216)","v":3},8.3833333333333329,{"$f":"MAX(G211:G216)","v":13.375},{"$f":"H214","v":0},"ÖSSZESEN",{"$f":"COUNTIFS($J211:$BB216,\">9,99\",$J211:$BB216,\"<20\")","v":2},{"$f":"COUNTIFS($J211:$BB216,\">19,99\")","v":0},{"$f":"COUNTIFS($J214:$BA214,\">4,99\",$J214:$BA214,\"<9,99\")","v":0},{"$f":"COUNTIFS($J214:$BB214,\">9,99\")","v":0}]
["C8",{"$f":"kod!B31","v":"II. sziget, bal közép"},{"$f":"kod!C31","v":"Carp Team Blankbrothers"},{"$f":"SUM(J211:AZ211)","v":0},{"$f":"COUNT(J211:AZ211)","v":0},0,{"$f":"MAX(J211:BC211)","v":0},null,"tükörponty"]
["C8",{"$f":"kod!B31","v":"II. sziget, bal közép"},{"$f":"kod!C31","v":"Carp Team Blankbrothers"},25.15,3,8.3833333333333329,{"$f":"MAX(J212:BC212)","v":13.375},null,"tőponty",13.375,10,1.7749999999999999]
["C8",{"$f":"kod!B31","v":"II. sziget, bal közép"},{"$f":"kod!C31","v":"Carp Team Blankbrothers"},0,0,0,{"$f":"MAX(J213:BC213)","v":0},null,"nyurgaponty"]
["C8",{"$f":"kod!B31","v":"II. sziget, bal közép"},{"$f":"kod!C31","v":"Carp Team Blankbrothers"},0,0,0,null,{"$f":"MAX(J214:AZ214)","v":0},"koi ponty"]
["C8",{"$f":"kod!B31","v":"II. sziget, bal közép"},{"$f":"kod!C31","v":"Carp Team Blankbrothers"},0,0,0,{"$f":"MAX(J215:BC215)","v":0},null,"amur"]
["C8",{"$f":"kod!B31","v":"II. sziget, bal közép"},{"$f":"kod!C31","v":"Carp Team Blankbrothers"},0,0,0,{"$f":"MAX(J216:BC216)","v":0},null,"fekete amur"]
["C9",{"$f":"kod!B32","v":"II. sziget, közép"},{"$f":"kod!C32","v":"Bait Bait Hungary"},{"$f":"SUM(D218:D223)","v":121.875},{"$f":"SUM(E218:E223)","v":16},7.6171875,{"$f":"MAX(G218:G223)","v":10.95},{"$f":"H221","v":2.9},"ÖSSZESEN"]
["C9",{"$f":"kod!B32","v":"II. sziget, közép"},{"$f":"kod!C32","v":"Bait Bait Hungary"},{"$f":"SUM(J218:AZ218)","v":31.9},{"$f":"COUNT(J218:AZ218)","v":4},{"$f":"IF(E218=0,0,D218/E218)","v":7.9749999999999996},{"$f":"MAX(J218:BC218)","v":8.65},null,"tükörponty",7.7750000000000004,7.3,8.1750000000000007,8.65]
["C9",{"$f":"kod!B32","v":"II. sziget, közép"},{"$f":"kod!C32","v":"Bait Bait Hungary"},66.05,9,7.3388888888888886,{"$f":"MAX(J219:BC219)","v":10.95},null,"tőponty",6.85,8.125,7.125,6.8,8.6,5.5750000000000002,5.4,10.95,6.625]
["C9",{"$f":"kod!B32","v":"II. sziget, közép"},{"$f":"kod!C32","v":"Bait Bait Hungary"},21.024999999999999,2,10.512499999999999,{"$f":"MAX(J220:BC220)","v":10.925000000000001},null,"nyurgaponty",10.925000000000001,10.1]
["C9",{"$f":"kod!B32","v":"II. sziget, közép"},{"$f":"kod!C32","v":"Bait Bait Hungary"},2.9,1,2.9,null,{"$f":"MAX(J221:AZ221)","v":2.9},"koi ponty",2.9]
["C9",{"$f":"kod!B32","v":"II. sziget, közép"},{"$f":"kod!C32","v":"Bait Bait Hungary"},0,0,0,{"$f":"MAX(J222:BC222)","v":0},null,"amur"]
["C9",{"$f":"kod!B32","v":"II. sziget, közép"},{"$f":"kod!C32","v":"Bait Bait Hungary"},0,0,0,{"$f":"MAX(J223:BC223)","v":0},null,"fekete amur"]
["C10",{"$f":"kod!B33","v":"II. sziget, jobb közép"},{"$f":"kod!C33","v":"Acroft Illusive Bait Me"},{"$f":"SUM(D225:D230)","v":102.39999999999999},{"$f":"SUM(E225:E230)","v":12},8.5333333333333332,{"$f":"MAX(G225:G230)","v":11.9},{"$f":"H228","v":10.574999999999999},"ÖSSZESEN",{"$f":"COUNTIFS($J225:$BB230,\">9,99\",$J225:$BB230,\"<20\")","v":4},{"$f":"COUNTIFS($J225:$BB230,\">19,99\")","v":0},{"$f":"COUNTIFS($J228:$BA228,\">4,99\",$J228:$BA228,\"<9,99\")","v":2},{"$f":"COUNTIFS($J228:$BB228,\">9,99\")","v":1}]
["C10",{"$f":"kod!B33","v":"II. sziget, jobb közép"},{"$f":"kod!C33","v":"Acroft Illusive Bait Me"},{"$f":"SUM(J225:AZ225)","v":17.725000000000001},{"$f":"COUNT(J225:AZ225)","v":2},{"$f":"IF(E225=0,0,D225/E225)","v":8.8625000000000007},{"$f":"MAX(J225:BC225)","v":9},null,"tükörponty",9,8.7249999999999996]
["C10",{"$f":"kod!B33","v":"II. sziget, jobb közép"},{"$f":"kod!C33","v":"Acroft Illusive Bait Me"},51.224999999999994,6,8.5374999999999996,{"$f":"MAX(J226:BC226)","v":11.9},null,"tőponty",11.9,8.85,5.7,4.3499999999999996,11.05,9.375]
["C10",{"$f":"kod!B33","v":"II. sziget, jobb közép"},{"$f":"kod!C33","v":"Acroft Illusive Bait Me"},10.15,1,10.15,{"$f":"MAX(J227:BC227)","v":10.15},null,"nyurgaponty",10.15]
["C10",{"$f":"kod!B33","v":"II. sziget, jobb közép"},{"$f":"kod!C33","v":"Acroft Illusive Bait Me"},23.299999999999997,3,7.7666666666666657,null,{"$f":"MAX(J228:AZ228)","v":10.574999999999999},"koi ponty",7.1,5.625,10.574999999999999]
["C10",{"$f":"kod!B33","v":"II. sziget, jobb közép"},{"$f":"kod!C33","v":"Acroft Illusive Bait Me"},0,0,0,{"$f":"MAX(J229:BC229)","v":0},null,"amur"]
["C10",{"$f":"kod!B33","v":"II. sziget, jobb közép"},{"$f":"kod!C33","v":"Acroft Illusive Bait Me"},0,0,0,{"$f":"MAX(J230:BC230)","v":0},null,"fekete amur"]
["C11",{"$f":"kod!B34","v":"II. sziget, jobb"},{"$f":"kod!C34","v":"Vaslui Carp Team"},{"$f":"SUM(D232:D237)","v":280.65000000000009},{"$f":"SUM(E232:E237)","v":36},7.7958333333333361,{"$f":"MAX(G232:G237)","v":16.55},{"$f":"H235","v":7.75},"ÖSSZESEN",{"$f":"COUNTIFS($J232:$BB237,\">9,99\",$J232:$BB237,\"<20\")","v":7},{"$f":"COUNTIFS($J232:$BB237,\">19,99\")","v":0},{"$f":"COUNTIFS($J235:$BA235,\">4,99\",$J235:$BA235,\"<9,99\")","v":1},{"$f":"COUNTIFS($J235:$BB235,\">9,99\")","v":0}]
["C11",{"$f":"kod!B34","v":"II. sziget, jobb"},{"$f":"kod!C34","v":"Vaslui Carp Team"},{"$f":"SUM(J232:AZ232)","v":56.15},{"$f":"COUNT(J232:AZ232)","v":7},{"$f":"IF(E232=0,0,D232/E232)","v":8.0214285714285705},{"$f":"MAX(J232:BC232)","v":13.6},null,"tükörponty",7.3,7.85,9.1999999999999993,7.95,5.15,5.0999999999999996,13.6]
["C11",{"$f":"kod!B34","v":"II. sziget, jobb"},{"$f":"kod!C34","v":"Vaslui Carp Team"},166.90000000000003,21,7.9476190476190496,{"$f":"MAX(J233:BC233)","v":16.55},null,"tőponty",5.4249999999999998,11.15,7.875,8.5,5.5,7.9249999999999998,16.55,9.8000000000000007,6.5250000000000004,6.3,12.85,7.2,7.5250000000000004,7.2750000000000004,4.5250000000000004,7.35,6.8,4.5,8,9.1750000000000007,6.15]
["C11",{"$f":"kod!B34","v":"II. sziget, jobb"},{"$f":"kod!C34","v":"Vaslui Carp Team"},20.675000000000001,2,10.3375,{"$f":"MAX(J234:BC234)","v":10.5},null,"nyurgaponty",10.175000000000001,10.5]
["C11",{"$f":"kod!B34","v":"II. sziget, jobb"},{"$f":"kod!C34","v":"Vaslui Carp Team"},7.75,1,7.75,null,{"$f":"MAX(J235:AZ235)","v":7.75},"koi ponty",7.75]
["C11",{"$f":"kod!B34","v":"II. sziget, jobb"},{"$f":"kod!C34","v":"Vaslui Carp Team"},10.324999999999999,2,5.1624999999999996,{"$f":"MAX(J236:BC236)","v":6.55},null,"amur",6.55,3.7749999999999999]
["C11",{"$f":"kod!B34","v":"II. sziget, jobb"},{"$f":"kod!C34","v":"Vaslui Carp Team"},18.849999999999998,3,6.2833333333333323,{"$f":"MAX(J237:BC237)","v":11.2},null,"fekete amur",4.3499999999999996,11.2,3.3]
[null,null,"Összesen:",{"$f":"SUM(D7,D14,D21,D28,D35,D42,D49,D56,D63,D70,D77,D84,D91,D98,D105,D112,D119,D126,D133,D140,D147,D154,D161,D168,D175,D182,D189,D196,D203,D210,D217,D224,D231)","v":1431.5900000000001},{"$f":"SUM(E7,E14,E21,E28,E35,E42,E49,E56,E63,E70,E77,E84,E91,E98,E105,E112,E119,E126,E133,E140,E147,E154,E161,E168,E175,E182,E189,E196,E203,E210,E217,E224,E231)","v":180},{"$f":"IF(E238=0,0,D238/E238)","v":7.953277777777779},null,null,null,{"$f":"SUM(J7,J14,J21,J28,J35,J42,J49,J56,J63,J70,J77,J84,J91,J98,J105,J112,J119,J126,J133,J140,J147,J154,J161,J168,J175,J182,J189,J196,J203,J210,J217,J224,J231)","v":43},{"$f":"SUM(K7,K14,K21,K28,K35,K42,K49,K56,K63,K70,K77,K84,K91,K98,K105,K112,K119,K126,K133,K140,K147,K154,K161,K168,K175,K182,K189,K196,K203,K210,K217,K224,K231)","v":0},{"$f":"SUM(L7,L14,L21,L28,L35,L42,L49,L56,L63,L70,L77,L84,L91,L98,L105,L112,L119,L126,L133,L140,L147,L154,L161,L168,L175,L182,L189,L196,L203,L210,L217,L224,L231)","v":3},{"$f":"SUM(M7,M14,M21,M28,M35,M42,M49,M56,M63,M70,M77,M84,M91,M98,M105,M112,M119,M126,M133,M140,M147,M154,M161,M168,M175,M182,M189,M196,M203,M210,M217,M224,M231)","v":1}]

{"sheet":"szakasz2","index":3,"n_rows":238,"n_cols":23,"rows_kept":238,"cut":false,"hidden":false,"merged":[[0,0,0,12],[1,0,1,12],[2,0,2,12],[3,0,3,12],[4,0,4,12]]}
[{"$f":"IF(kod!E2>0,kod!E2,\"\")","v":"XXI. PROFESSZIONÁLIS BOJLIS EURÓPA KUPA (EPBC)"}]
[{"$f":"IF(kod!E3>0,kod!E3,\"\")","v":"XXXVI. MACONKA NEMZETKÖZI BOJLIS KUPA"}]
[{"$f":"IF(kod!E4>0,kod!E4,\"\")","v":"Maconka, 2025.06.15. - 2025.06.20."}]
[{"$f":"IF(kod!E5>0,kod!E5,\"\")","v":""}]
[{"$f":"kod!E8","v":"2. szakasz:  2025.06.16. 06:00 - 2025.06.16. 18:00"}]
["Rajthely","Elhelyezés","Csapatnév","Kg","Db","Átlag","BC","BkC","Faj","10-20 kg","20+ kg","koi 5-10 kg","koi 10+ kg"]
["A1",{"$f":"kod!B2","v":"Gát, mélyvíz"},{"$f":"kod!C2","v":"SBS - Halcatraz - TiZo Team"},{"$f":"SUM(D8:D13)","v":79.974999999999994},{"$f":"SUM(E8:E13)","v":8},{"$f":"IF(E7=0,0,D7/E7)","v":9.9968749999999993},{"$f":"MAX(G8:G13)","v":18.875},{"$f":"H11","v":12.225},"ÖSSZESEN",{"$f":"COUNTIFS($J8:$BB13,\">9,99\",$J8:$BB13,\"<20\")","v":4},{"$f":"COUNTIFS($J8:$BB13,\">19,99\")","v":0},{"$f":"COUNTIFS($J11:$BA11,\">4,99\",$J11:$BA11,\"<9,99\")","v":0},{"$f":"COUNTIFS($J11:$BB11,\">9,99\")","v":1}]
["A1",{"$f":"kod!B2","v":"Gát, mélyvíz"},{"$f":"kod!C2","v":"SBS - Halcatraz - TiZo Team"},{"$f":"SUM(J8:AZ8)","v":11.2},{"$f":"COUNT(J8:AZ8)","v":1},{"$f":"IF(E8=0,0,D8/E8)","v":11.2},{"$f":"MAX(J8:BC8)","v":11.2},null,"tükörponty",11.2]
["A1",{"$f":"kod!B2","v":"Gát, mélyvíz"},{"$f":"kod!C2","v":"SBS - Halcatraz - TiZo Team"},7.4,1,7.4,{"$f":"MAX(J9:BC9)","v":7.4},null,"tőponty",7.4]
["A1",{"$f":"kod!B2","v":"Gát, mélyvíz"},{"$f":"kod!C2","v":"SBS - Halcatraz - TiZo Team"},45.875,4,11.46875,18.875,null,"nyurgaponty",7.125,7.4749999999999996,12.4,18.875]
["A1",{"$f":"kod!B2","v":"Gát, mélyvíz"},{"$f":"kod!C2","v":"SBS - Halcatraz - TiZo Team"},12.225,1,12.225,null,{"$f":"MAX(J11:AZ11)","v":12.225},"koi ponty",12.225]
["A1",{"$f":"kod!B2","v":"Gát, mélyvíz"},{"$f":"kod!C2","v":"SBS - Halcatraz - TiZo Team"},0,0,0,0,null,"amur"]
["A1",{"$f":"kod!B2","v":"Gát, mélyvíz"},{"$f":"kod!C2","v":"SBS - Halcatraz - TiZo Team"},3.2749999999999999,1,3.2749999999999999,3.2749999999999999,null,"fekete amur",3.2749999999999999]
["A2",{"$f":"kod!B3","v":"Gát, mélyvíz"},{"$f":"kod!C3","v":"Altstadt Carp Team"},{"$f":"SUM(D15:D20)","v":93.374999999999986},{"$f":"SUM(E15:E20)","v":10},9.3374999999999986,{"$f":"MAX(G15:G20)","v":14.074999999999999},{"$f":"H18","v":12.85},"ÖSSZESEN",{"$f":"COUNTIFS($J15:$BB20,\">9,99\",$J15:$BB20,\"<20\")","v":3},{"$f":"COUNTIFS($J15:$BB20,\">19,99\")","v":0},{"$f":"COUNTIFS($J18:$BA18,\">4,99\",$J18:$BA18,\"<9,99\")","v":0},{"$f":"COUNTIFS($J18:$BB18,\">9,99\")","v":1}]
["A2",{"$f":"kod!B3","v":"Gát, mélyvíz"},{"$f":"kod!C3","v":"Altstadt Carp Team"},{"$f":"SUM(J15:AZ15)","v":20.524999999999999},{"$f":"COUNT(J15:AZ15)","v":2},10.262499999999999,{"$f":"MAX(J15:BC15)","v":11.574999999999999},null,"tükörponty",8.9499999999999993,11.574999999999999]
["A2",{"$f":"kod!B3","v":"Gát, mélyvíz"},{"$f":"kod!C3","v":"Altstadt Carp Team"},30.524999999999999,3,10.174999999999999,{"$f":"MAX(J16:BC16)","v":14.074999999999999},null,"tőponty",14.074999999999999,7,9.4499999999999993]
["A2",{"$f":"kod!B3","v":"Gát, mélyvíz"},{"$f":"kod!C3","v":"Altstadt Carp Team"},22.299999999999997,3,7.4333333333333327,{"$f":"MAX(J17:BC17)","v":9.625},null,"nyurgaponty",9.625,5.95,6.7249999999999996]
["A2",{"$f":"kod!B3","v":"Gát, mélyvíz"},{"$f":"kod!C3","v":"Altstadt Carp Team"},12.85,1,12.85,null,{"$f":"MAX(J18:AZ18)","v":12.85},"koi ponty",12.85]
["A2",{"$f":"kod!B3","v":"Gát, mélyvíz"},{"$f":"kod!C3","v":"Altstadt Carp Team"},7.1749999999999998,1,7.1749999999999998,{"$f":"MAX(J19:BC19)","v":7.1749999999999998},null,"amur",7.1749999999999998]
["A2",{"$f":"kod!B3","v":"Gát, mélyvíz"},{"$f":"kod!C3","v":"Altstadt Carp Team"},0,0,0,{"$f":"MAX(J20:BC20)","v":0},null,"fekete amur"]
["A3",{"$f":"kod!B4","v":"Gát, mélyvíz"},{"$f":"kod!C4","v":"Ferma De Crap Diosig"},{"$f":"SUM(D22:D27)","v":33.224999999999994},{"$f":"SUM(E22:E27)","v":3},11.074999999999998,{"$f":"MAX(G22:G27)","v":13.125},{"$f":"H25","v":13.324999999999999},"ÖSSZESEN",{"$f":"COUNTIFS($J22:$BB27,\">9,99\",$J22:$BB27,\"<20\")","v":2},{"$f":"COUNTIFS($J22:$BB27,\">19,99\")","v":0},{"$f":"COUNTIFS($J25:$BA25,\">4,99\",$J25:$BA25,\"<9,99\")","v":0},{"$f":"COUNTIFS($J25:$BB25,\">9,99\")","v":1}]
["A3",{"$f":"kod!B4","v":"Gát, mélyvíz"},{"$f":"kod!C4","v":"Ferma De Crap Diosig"},{"$f":"SUM(J22:AZ22)","v":0},{"$f":"COUNT(J22:AZ22)","v":0},0,{"$f":"MAX(J22:BC22)","v":0},null,"tükörponty"]
["A3",{"$f":"kod!B4","v":"Gát, mélyvíz"},{"$f":"kod!C4","v":"Ferma De Crap Diosig"},6.7750000000000004,1,6.7750000000000004,{"$f":"MAX(J23:BC23)","v":6.7750000000000004},null,"tőponty",6.7750000000000004]
["A3",{"$f":"kod!B4","v":"Gát, mélyvíz"},{"$f":"kod!C4","v":"Ferma De Crap Diosig"},13.125,1,13.125,{"$f":"MAX(J24:BC24)","v":13.125},null,"nyurgaponty",13.125]
["A3",{"$f":"kod!B4","v":"Gát, mélyvíz"},{"$f":"kod!C4","v":"Ferma De Crap Diosig"},13.324999999999999,1,13.324999999999999,null,{"$f":"MAX(J25:AZ25)","v":13.324999999999999},"koi ponty",13.324999999999999]
["A3",{"$f":"kod!B4","v":"Gát, mélyvíz"},{"$f":"kod!C4","v":"Ferma De Crap Diosig"},0,0,0,{"$f":"MAX(J26:BC26)","v":0},null,"amur"]
["A3",{"$f":"kod!B4","v":"Gát, mélyvíz"},{"$f":"kod!C4","v":"Ferma De Crap Diosig"},0,0,0,{"$f":"MAX(J27:BC27)","v":0},null,"fekete amur"]
["A4",{"$f":"kod!B5","v":"Gát, mélyvíz"},{"$f":"kod!C5","v":"Bull Tackle"},{"$f":"SUM(D29:D34)","v":0},{"$f":"SUM(E29:E34)","v":0},0,{"$f":"MAX(G29:G34)","v":0},{"$f":"H32","v":0},"ÖSSZESEN",{"$f":"COUNTIFS($J29:$BB34,\">9,99\",$J29:$BB34,\"<20\")","v":0},{"$f":"COUNTIFS($J29:$BB34,\">19,99\")","v":0},{"$f":"COUNTIFS($J32:$BA32,\">4,99\",$J32:$BA32,\"<9,99\")","v":0},{"$f":"COUNTIFS($J32:$BB32,\">9,99\")","v":0}]
["A4",{"$f":"kod!B5","v":"Gát, mélyvíz"},{"$f":"kod!C5","v":"Bull Tackle"},{"$f":"SUM(J29:AZ29)","v":0},{"$f":"COUNT(J29:AZ29)","v":0},0,{"$f":"MAX(J29:BC29)","v":0},null,"tükörponty"]
["A4",{"$f":"kod!B5","v":"Gát, mélyvíz"},{"$f":"kod!C5","v":"Bull Tackle"},0,0,0,{"$f":"MAX(J30:BC30)","v":0},null,"tőponty"]
["A4",{"$f":"kod!B5","v":"Gát, mélyvíz"},{"$f":"kod!C5","v":"Bull Tackle"},0,0,0,{"$f":"MAX(J31:BC31)","v":0},null,"nyurgaponty"]
["A4",{"$f":"kod!B5","v":"Gát, mélyvíz"},{"$f":"kod!C5","v":"Bull Tackle"},0,0,0,null,{"$f":"MAX(J32:AZ32)","v":0},"koi ponty"]
["A4",{"$f":"kod!B5","v":"Gát, mélyvíz"},{"$f":"kod!C5","v":"Bull Tackle"},0,0,0,{"$f":"MAX(J33:BC33)","v":0},null,"amur"]
["A4",{"$f":"kod!B5","v":"Gát, mélyvíz"},{"$f":"kod!C5","v":"Bull Tackle"},0,0,0,{"$f":"MAX(J34:BC34)","v":0},null,"fekete amur"]
["A5",{"$f":"kod!B6","v":"Gát, mélyvíz"},{"$f":"kod!C6","v":"AHFSZ Fishing Team"},{"$f":"SUM(D36:D41)","v":0},{"$f":"SUM(E36:E41)","v":0},0,{"$f":"MAX(G36:G41)","v":0},{"$f":"H39","v":0},"ÖSSZESEN",{"$f":"COUNTIFS($J36:$BB41,\">9,99\",$J36:$BB41,\"<20\")","v":0},{"$f":"COUNTIFS($J36:$BB41,\">19,99\")","v":0},{"$f":"COUNTIFS($J39:$BA39,\">4,99\",$J39:$BA39,\"<9,99\")","v":0},{"$f":"COUNTIFS($J39:$BB39,\">9,99\")","v":0}]
["A5",{"$f":"kod!B6","v":"Gát, mélyvíz"},{"$f":"kod!C6","v":"AHFSZ Fishing Team"},{"$f":"SUM(J36:AZ36)","v":0},{"$f":"COUNT(J36:AZ36)","v":0},0,{"$f":"MAX(J36:BC36)","v":0},null,"tükörponty"]
["A5",{"$f":"kod!B6","v":"Gát, mélyvíz"},{"$f":"kod!C6","v":"AHFSZ Fishing Team"},0,0,0,{"$f":"MAX(J37:BC37)","v":0},null,"tőponty"]
["A5",{"$f":"kod!B6","v":"Gát, mélyvíz"},{"$f":"kod!C6","v":"AHFSZ Fishing Team"},0,0,0,{"$f":"MAX(J38:BC38)","v":0},null,"nyurgaponty"]
["A5",{"$f":"kod!B6","v":"Gát, mélyvíz"},{"$f":"kod!C6","v":"AHFSZ Fishing Team"},0,0,0,null,{"$f":"MAX(J39:AZ39)","v":0},"koi ponty"]
["A5",{"$f":"kod!B6","v":"Gát, mélyvíz"},{"$f":"kod!C6","v":"AHFSZ Fishing Team"},0,0,0,{"$f":"MAX(J40:BC40)","v":0},null,"amur"]
["A5",{"$f":"kod!B6","v":"Gát, mélyvíz"},{"$f":"kod!C6","v":"AHFSZ Fishing Team"},0,0,0,{"$f":"MAX(J41:BC41)","v":0},null,"fekete amur"]
["A6",{"$f":"kod!B7","v":"Nyári kikötő, belső"},{"$f":"kod!C7","v":"Black Carp Team"},{"$f":"SUM(D43:D48)","v":16.975000000000001},{"$f":"SUM(E43:E48)","v":2},8.4875000000000007,{"$f":"MAX(G43:G48)","v":13.125},{"$f":"H46","v":0},"ÖSSZESEN",{"$f":"COUNTIFS($J43:$BB48,\">9,99\",$J43:$BB48,\"<20\")","v":1},{"$f":"COUNTIFS($J43:$BB48,\">19,99\")","v":0},{"$f":"COUNTIFS($J46:$BA46,\">4,99\",$J46:$BA46,\"<9,99\")","v":0},{"$f":"COUNTIFS($J46:$BB46,\">9,99\")","v":0}]
["A6",{"$f":"kod!B7","v":"Nyári kikötő, belső"},{"$f":"kod!C7","v":"Black Carp Team"},{"$f":"SUM(J43:AZ43)","v":0},{"$f":"COUNT(J43:AZ43)","v":0},0,{"$f":"MAX(J43:BC43)","v":0},null,"tükörponty"]
["A6",{"$f":"kod!B7","v":"Nyári kikötő, belső"},{"$f":"kod!C7","v":"Black Carp Team"},13.125,1,13.125,{"$f":"MAX(J44:BC44)","v":13.125},null,"tőponty",13.125]
["A6",{"$f":"kod!B7","v":"Nyári kikötő, belső"},{"$f":"kod!C7","v":"Black Carp Team"},0,0,0,{"$f":"MAX(J45:BC45)","v":0},null,"nyurgaponty"]
["A6",{"$f":"kod!B7","v":"Nyári kikötő, belső"},{"$f":"kod!C7","v":"Black Carp Team"},0,0,0,null,{"$f":"MAX(J46:AZ46)","v":0},"koi ponty"]
["A6",{"$f":"kod!B7","v":"Nyári kikötő, belső"},{"$f":"kod!C7","v":"Black Carp Team"},0,0,0,{"$f":"MAX(J47:BC47)","v":0},null,"amur"]
["A6",{"$f":"kod!B7","v":"Nyári kikötő, belső"},{"$f":"kod!C7","v":"Black Carp Team"},3.85,1,3.85,{"$f":"MAX(J48:BC48)","v":3.85},null,"fekete amur",3.85]
["A7",{"$f":"kod!B8","v":"Nyári kikötő, közép"},{"$f":"kod!C8","v":"USA & Mivado Carp Team"},{"$f":"SUM(D50:D55)","v":13.824999999999999},{"$f":"SUM(E50:E55)","v":4},3.4562499999999998,{"$f":"MAX(G50:G55)","v":4.25},{"$f":"H53","v":0},"ÖSSZESEN",{"$f":"COUNTIFS($J50:$BB55,\">9,99\",$J50:$BB55,\"<20\")","v":0},{"$f":"COUNTIFS($J50:$BB55,\">19,99\")","v":0},{"$f":"COUNTIFS($J53:$BA53,\">4,99\",$J53:$BA53,\"<9,99\")","v":0},{"$f":"COUNTIFS($J53:$BB53,\">9,99\")","v":0}]
["A7",{"$f":"kod!B8","v":"Nyári kikötő, közép"},{"$f":"kod!C8","v":"USA & Mivado Carp Team"},{"$f":"SUM(J50:AZ50)","v":0},{"$f":"COUNT(J50:AZ50)","v":0},0,{"$f":"MAX(J50:BC50)","v":0},null,"tükörponty"]
["A7",{"$f":"kod!B8","v":"Nyári kikötő, közép"},{"$f":"kod!C8","v":"USA & Mivado Carp Team"},0,0,0,{"$f":"MAX(J51:BC51)","v":0},null,"tőponty"]
["A7",{"$f":"kod!B8","v":"Nyári kikötő, közép"},{"$f":"kod!C8","v":"USA & Mivado Carp Team"},0,0,0,{"$f":"MAX(J52:BC52)","v":0},null,"nyurgaponty"]
["A7",{"$f":"kod!B8","v":"Nyári kikötő, közép"},{"$f":"kod!C8","v":"USA & Mivado Carp Team"},0,0,0,null,{"$f":"MAX(J53:AZ53)","v":0},"koi ponty"]
["A7",{"$f":"kod!B8","v":"Nyári kikötő, közép"},{"$f":"kod!C8","v":"USA & Mivado Carp Team"},0,0,0,{"$f":"MAX(J54:BC54)","v":0},null,"amur"]
["A7",{"$f":"kod!B8","v":"Nyári kikötő, közép"},{"$f":"kod!C8","v":"USA & Mivado Carp Team"},13.824999999999999,4,3.4562499999999998,{"$f":"MAX(J55:BC55)","v":4.25},null,"fekete amur",3.05,3.6,4.25,2.9249999999999998]
["A8",{"$f":"kod!B9","v":"Nyári kikötő, külső"},{"$f":"kod!C9","v":"Ózdi Sporthorgász Egyesület"},{"$f":"SUM(D57:D62)","v":39.6},{"$f":"SUM(E57:E62)","v":5},7.92,{"$f":"MAX(G57:G62)","v":10.875},{"$f":"H60","v":0},"ÖSSZESEN",{"$f":"COUNTIFS($J57:$BB62,\">9,99\",$J57:$BB62,\"<20\")","v":1},{"$f":"COUNTIFS($J57:$BB62,\">19,99\")","v":0},{"$f":"COUNTIFS($J60:$BA60,\">4,99\",$J60:$BA60,\"<9,99\")","v":0},{"$f":"COUNTIFS($J60:$BB60,\">9,99\")","v":0}]
["A8",{"$f":"kod!B9","v":"Nyári kikötő, külső"},{"$f":"kod!C9","v":"Ózdi Sporthorgász Egyesület"},{"$f":"SUM(J57:AZ57)","v":0},{"$f":"COUNT(J57:AZ57)","v":0},0,{"$f":"MAX(J57:BC57)","v":0},null,"tükörponty"]
["A8",{"$f":"kod!B9","v":"Nyári kikötő, külső"},{"$f":"kod!C9","v":"Ózdi Sporthorgász Egyesület"},20,3,6.666666666666667,{"$f":"MAX(J58:BC58)","v":7.125},null,"tőponty",5.75,7.125,7.125]
["A8",{"$f":"kod!B9","v":"Nyári kikötő, külső"},{"$f":"kod!C9","v":"Ózdi Sporthorgász Egyesület"},8.7249999999999996,1,8.7249999999999996,{"$f":"MAX(J59:BC59)","v":8.7249999999999996},null,"nyurgaponty",8.7249999999999996]
["A8",{"$f":"kod!B9","v":"Nyári kikötő, külső"},{"$f":"kod!C9","v":"Ózdi Sporthorgász Egyesület"},0,0,0,null,{"$f":"MAX(J60:AZ60)","v":0},"koi ponty"]
["A8",{"$f":"kod!B9","v":"Nyári kikötő, külső"},{"$f":"kod!C9","v":"Ózdi Sporthorgász Egyesület"},10.875,1,10.875,{"$f":"MAX(J61:BC61)","v":10.875},null,"amur",10.875]
["A8",{"$f":"kod!B9","v":"Nyári kikötő, külső"},{"$f":"kod!C9","v":"Ózdi Sporthorgász Egyesület"},0,0,0,{"$f":"MAX(J62:BC62)","v":0},null,"fekete amur"]
["A9",{"$f":"kod!B10","v":"I. sziget, bal külső"},{"$f":"kod!C10","v":"Kártékony Carp Team"},{"$f":"SUM(D64:D69)","v":51.900000000000006},{"$f":"SUM(E64:E69)","v":5},10.38,{"$f":"MAX(G64:G69)","v":15.05},{"$f":"H67","v":0},"ÖSSZESEN",{"$f":"COUNTIFS($J64:$BB69,\">9,99\",$J64:$BB69,\"<20\")","v":3},{"$f":"COUNTIFS($J64:$BB69,\">19,99\")","v":0},{"$f":"COUNTIFS($J67:$BA67,\">4,99\",$J67:$BA67,\"<9,99\")","v":0},{"$f":"COUNTIFS($J67:$BB67,\">9,99\")","v":0}]
["A9",{"$f":"kod!B10","v":"I. sziget, bal külső"},{"$f":"kod!C10","v":"Kártékony Carp Team"},{"$f":"SUM(J64:AZ64)","v":15.05},{"$f":"COUNT(J64:AZ64)","v":1},{"$f":"IF(E64=0,0,D64/E64)","v":15.05},{"$f":"MAX(J64:BC64)","v":15.05},null,"tükörponty",15.05]
["A9",{"$f":"kod!B10","v":"I. sziget, bal külső"},{"$f":"kod!C10","v":"Kártékony Carp Team"},5.25,1,5.25,{"$f":"MAX(J65:BC65)","v":5.25},null,"tőponty",5.25]
["A9",{"$f":"kod!B10","v":"I. sziget, bal külső"},{"$f":"kod!C10","v":"Kártékony Carp Team"},31.6,3,10.533333333333333,{"$f":"MAX(J66:BC66)","v":11.2},null,"nyurgaponty",11.125,11.2,9.2750000000000004]
["A9",{"$f":"kod!B10","v":"I. sziget, bal külső"},{"$f":"kod!C10","v":"Kártékony Carp Team"},0,0,0,null,{"$f":"MAX(J67:AZ67)","v":0},"koi ponty"]
["A9",{"$f":"kod!B10","v":"I. sziget, bal külső"},{"$f":"kod!C10","v":"Kártékony Carp Team"},0,0,0,{"$f":"MAX(J68:BC68)","v":0},null,"amur"]
["A9",{"$f":"kod!B10","v":"I. sziget, bal külső"},{"$f":"kod!C10","v":"Kártékony Carp Team"},0,0,0,{"$f":"MAX(J69:BC69)","v":0},null,"fekete amur"]
["A10",{"$f":"kod!B11","v":"I. sziget, bal"},{"$f":"kod!C11","v":"Team 5 Austria"},{"$f":"SUM(D71:D76)","v":0},{"$f":"SUM(E71:E76)","v":0},0,{"$f":"MAX(G71:G76)","v":0},{"$f":"H74","v":0},"ÖSSZESEN",{"$f":"COUNTIFS($J71:$BB76,\">9,99\",$J71:$BB76,\"<20\")","v":0},{"$f":"COUNTIFS($J71:$BB76,\">19,99\")","v":0},{"$f":"COUNTIFS($J74:$BA74,\">4,99\",$J74:$BA74,\"<9,99\")","v":0},{"$f":"COUNTIFS($J74:$BB74,\">9,99\")","v":0}]
["A10",{"$f":"kod!B11","v":"I. sziget, bal"},{"$f":"kod!C11","v":"Team 5 Austria"},{"$f":"SUM(J71:AZ71)","v":0},{"$f":"COUNT(J71:AZ71)","v":0},0,{"$f":"MAX(J71:BC71)","v":0},null,"tükörponty"]
["A10",{"$f":"kod!B11","v":"I. sziget, bal"},{"$f":"kod!C11","v":"Team 5 Austria"},0,0,0,{"$f":"MAX(J72:BC72)","v":0},null,"tőponty"]
["A10",{"$f":"kod!B11","v":"I. sziget, bal"},{"$f":"kod!C11","v":"Team 5 Austria"},0,0,0,{"$f":"MAX(J73:BC73)","v":0},null,"nyurgaponty"]
["A10",{"$f":"kod!B11","v":"I. sziget, bal"},{"$f":"kod!C11","v":"Team 5 Austria"},0,0,0,null,{"$f":"MAX(J74:AZ74)","v":0},"koi ponty"]
["A10",{"$f":"kod!B11","v":"I. sziget, bal"},{"$f":"kod!C11","v":"Team 5 Austria"},0,0,0,{"$f":"MAX(J75:BC75)","v":0},null,"amur"]
["A10",{"$f":"kod!B11","v":"I. sziget, bal"},{"$f":"kod!C11","v":"Team 5 Austria"},0,0,0,{"$f":"MAX(J76:BC76)","v":0},null,"fekete amur"]
["A11",{"$f":"kod!B12","v":"I. sziget, bal közép"},{"$f":"kod!C12","v":"Invader's Team Poland"},{"$f":"SUM(D78:D83)","v":9.2249999999999996},{"$f":"SUM(E78:E83)","v":2},4.6124999999999998,{"$f":"MAX(G78:G83)","v":5.75},{"$f":"H81","v":0},"ÖSSZESEN",{"$f":"COUNTIFS($J78:$BB83,\">9,99\",$J78:$BB83,\"<20\")","v":0},{"$f":"COUNTIFS($J78:$BB83,\">19,99\")","v":0},{"$f":"COUNTIFS($J81:$BA81,\">4,99\",$J81:$BA81,\"<9,99\")","v":0},{"$f":"COUNTIFS($J81:$BB81,\">9,99\")","v":0}]
["A11",{"$f":"kod!B12","v":"I. sziget, bal közép"},{"$f":"kod!C12","v":"Invader's Team Poland"},{"$f":"SUM(J78:AZ78)","v":0},{"$f":"COUNT(J78:AZ78)","v":0},0,{"$f":"MAX(J78:BC78)","v":0},null,"tükörponty"]
["A11",{"$f":"kod!B12","v":"I. sziget, bal közép"},{"$f":"kod!C12","v":"Invader's Team Poland"},5.75,1,5.75,{"$f":"MAX(J79:BC79)","v":5.75},null,"tőponty",5.75]
["A11",{"$f":"kod!B12","v":"I. sziget, bal közép"},{"$f":"kod!C12","v":"Invader's Team Poland"},0,0,0,{"$f":"MAX(J80:BC80)","v":0},null,"nyurgaponty"]
["A11",{"$f":"kod!B12","v":"I. sziget, bal közép"},{"$f":"kod!C12","v":"Invader's Team Poland"},0,0,0,null,{"$f":"MAX(J81:AZ81)","v":0},"koi ponty"]
["A11",{"$f":"kod!B12","v":"I. sziget, bal közép"},{"$f":"kod!C12","v":"Invader's Team Poland"},0,0,0,{"$f":"MAX(J82:BC82)","v":0},null,"amur"]
["A11",{"$f":"kod!B12","v":"I. sziget, bal közép"},{"$f":"kod!C12","v":"Invader's Team Poland"},3.4750000000000001,1,3.4750000000000001,{"$f":"MAX(J83:BC83)","v":3.4750000000000001},null,"fekete amur",3.4750000000000001]
["B1",{"$f":"kod!B13","v":"Gát, közepes víz"},{"$f":"kod!C13","v":"Tata Nitu Carp Team"},{"$f":"SUM(D85:D90)","v":71.625000000000014},{"$f":"SUM(E85:E90)","v":14},{"$f":"IF(E84=0,0,D84/E84)","v":5.1160714285714297},{"$f":"MAX(G85:G90)","v":7.8},{"$f":"H88","v":0},"ÖSSZESEN",{"$f":"COUNTIFS($J85:$BB90,\">9,99\",$J85:$BB90,\"<20\")","v":0},{"$f":"COUNTIFS($J85:$BB90,\">19,99\")","v":0},{"$f":"COUNTIFS($J88:$BA88,\">4,99\",$J88:$BA88,\"<9,99\")","v":0},{"$f":"COUNTIFS($J88:$BB88,\">9,99\")","v":0}]
["B1",{"$f":"kod!B13","v":"Gát, közepes víz"},{"$f":"kod!C13","v":"Tata Nitu Carp Team"},{"$f":"SUM(J85:AZ85)","v":0},{"$f":"COUNT(J85:AZ85)","v":0},{"$f":"IF(E85=0,0,D85/E85)","v":0},{"$f":"MAX(J85:BC85)","v":0},null,"tükörponty"]
["B1",{"$f":"kod!B13","v":"Gát, közepes víz"},{"$f":"kod!C13","v":"Tata Nitu Carp Team"},51.625,10,5.1624999999999996,{"$f":"MAX(J86:BC86)","v":7.8},null,"tőponty",3.375,2.2749999999999999,2.7749999999999999,7.5,7,7.8,4.05,6.8250000000000002,6.9249999999999998,3.1]
["B1",{"$f":"kod!B13","v":"Gát, közepes víz"},{"$f":"kod!C13","v":"Tata Nitu Carp Team"},9.9499999999999993,2,4.9749999999999996,{"$f":"MAX(J87:BC87)","v":6.95},null,"nyurgaponty",6.95,3]
["B1",{"$f":"kod!B13","v":"Gát, közepes víz"},{"$f":"kod!C13","v":"Tata Nitu Carp Team"},0,0,0,null,{"$f":"MAX(J88:AZ88)","v":0},"koi ponty"]
["B1",{"$f":"kod!B13","v":"Gát, közepes víz"},{"$f":"kod!C13","v":"Tata Nitu Carp Team"},6.65,1,6.65,{"$f":"MAX(J89:BC89)","v":6.65},null,"amur",6.65]
["B1",{"$f":"kod!B13","v":"Gát, közepes víz"},{"$f":"kod!C13","v":"Tata Nitu Carp Team"},3.4,1,3.4,{"$f":"MAX(J90:BC90)","v":3.4},null,"fekete amur",3.4]
["B2",{"$f":"kod!B14","v":"Gát, közepes víz"},{"$f":"kod!C14","v":"Slovakia Carp Team"},{"$f":"SUM(D92:D97)","v":1.925},{"$f":"SUM(E92:E97)","v":1},1.925,{"$f":"MAX(G92:G97)","v":1.925},{"$f":"H95","v":0},"ÖSSZESEN",{"$f":"COUNTIFS($J92:$BB97,\">9,99\",$J92:$BB97,\"<20\")","v":0},{"$f":"COUNTIFS($J92:$BB97,\">19,99\")","v":0},{"$f":"COUNTIFS($J95:$BA95,\">4,99\",$J95:$BA95,\"<9,99\")","v":0},{"$f":"COUNTIFS($J95:$BB95,\">9,99\")","v":0}]
["B2",{"$f":"kod!B14","v":"Gát, közepes víz"},{"$f":"kod!C14","v":"Slovakia Carp Team"},{"$f":"SUM(J92:AZ92)","v":0},{"$f":"COUNT(J92:AZ92)","v":0},0,{"$f":"MAX(J92:BC92)","v":0},null,"tükörponty"]
["B2",{"$f":"kod!B14","v":"Gát, közepes víz"},{"$f":"kod!C14","v":"Slovakia Carp Team"},1.925,1,1.925,{"$f":"MAX(J93:BC93)","v":1.925},null,"tőponty",1.925]
["B2",{"$f":"kod!B14","v":"Gát, közepes víz"},{"$f":"kod!C14","v":"Slovakia Carp Team"},0,0,0,{"$f":"MAX(J94:BC94)","v":0},null,"nyurgaponty"]
["B2",{"$f":"kod!B14","v":"Gát, közepes víz"},{"$f":"kod!C14","v":"Slovakia Carp Team"},0,0,0,null,{"$f":"MAX(J95:AZ95)","v":0},"koi ponty"]
["B2",{"$f":"kod!B14","v":"Gát, közepes víz"},{"$f":"kod!C14","v":"Slovakia Carp Team"},0,0,0,{"$f":"MAX(J96:BC96)","v":0},null,"amur"]
["B2",{"$f":"kod!B14","v":"Gát, közepes víz"},{"$f":"kod!C14","v":"Slovakia Carp Team"},0,0,0,{"$f":"MAX(J97:BC97)","v":0},null,"fekete amur"]
["B3",{"$f":"kod!B15","v":"Gát, közepes víz"},{"$f":"kod!C15","v":"WLC Hungary "},{"$f":"SUM(D99:D104)","v":182.25},{"$f":"SUM(E99:E104)","v":21},8.6785714285714288,{"$f":"MAX(G99:G104)","v":14.8},{"$f":"H102","v":13.95},"ÖSSZESEN",{"$f":"COUNTIFS($J99:$BB104,\">9,99\",$J99:$BB104,\"<20\")","v":7},{"$f":"COUNTIFS($J99:$BB104,\">19,99\")","v":0},{"$f":"COUNTIFS($J102:$BA102,\">4,99\",$J102:$BA102,\"<9,99\")","v":0},{"$f":"COUNTIFS($J102:$BB102,\">9,99\")","v":1}]
["B3",{"$f":"kod!B15","v":"Gát, közepes víz"},{"$f":"kod!C15","v":"WLC Hungary "},{"$f":"SUM(J99:AZ99)","v":45},{"$f":"COUNT(J99:AZ99)","v":4},11.25,{"$f":"MAX(J99:BC99)","v":14},null,"tükörponty",8.0250000000000004,10.199999999999999,14,12.775]
["B3",{"$f":"kod!B15","v":"Gát, közepes víz"},{"$f":"kod!C15","v":"WLC Hungary "},46.425000000000004,6,7.7375000000000007,{"$f":"MAX(J100:BC100)","v":9.7249999999999996},null,"tőponty",6.95,9.7249999999999996,6.8250000000000002,7.6,7.1,8.2249999999999996]
["B3",{"$f":"kod!B15","v":"Gát, közepes víz"},{"$f":"kod!C15","v":"WLC Hungary "},64.875,7,9.2678571428571423,{"$f":"MAX(J101:BC101)","v":14.8},null,"nyurgaponty",7.45,7.65,10.525,7.45,10.525,14.8,6.4749999999999996]
["B3",{"$f":"kod!B15","v":"Gát, közepes víz"},{"$f":"kod!C15","v":"WLC Hungary "},13.95,1,13.95,null,{"$f":"MAX(J102:AZ102)","v":13.95},"koi ponty",13.95]
["B3",{"$f":"kod!B15","v":"Gát, közepes víz"},{"$f":"kod!C15","v":"WLC Hungary "},0,0,0,{"$f":"MAX(J103:BC103)","v":0},null,"amur"]
["B3",{"$f":"kod!B15","v":"Gát, közepes víz"},{"$f":"kod!C15","v":"WLC Hungary "},12,3,4,{"$f":"MAX(J104:BC104)","v":4.5},null,"fekete amur",3.35,4.5,4.1500000000000004]
["B4",{"$f":"kod!B16","v":"Gát, közepes víz"},{"$f":"kod!C16","v":"Barfin Line NSD Bulgaria"},{"$f":"SUM(D106:D111)","v":123.02499999999999},{"$f":"SUM(E106:E111)","v":15},8.2016666666666662,{"$f":"MAX(G106:G111)","v":14.275},{"$f":"H109","v":10.25},"ÖSSZESEN",{"$f":"COUNTIFS($J106:$BB111,\">9,99\",$J106:$BB111,\"<20\")","v":5},{"$f":"COUNTIFS($J106:$BB111,\">19,99\")","v":0},{"$f":"COUNTIFS($J109:$BA109,\">4,99\",$J109:$BA109,\"<9,99\")","v":1},{"$f":"COUNTIFS($J109:$BB109,\">9,99\")","v":1}]
["B4",{"$f":"kod!B16","v":"Gát, közepes víz"},{"$f":"kod!C16","v":"Barfin Line NSD Bulgaria"},{"$f":"SUM(J106:AZ106)","v":10.175000000000001},{"$f":"COUNT(J106:AZ106)","v":1},10.175000000000001,{"$f":"MAX(J106:BC106)","v":10.175000000000001},null,"tükörponty",10.175000000000001]
["B4",{"$f":"kod!B16","v":"Gát, közepes víz"},{"$f":"kod!C16","v":"Barfin Line NSD Bulgaria"},30.95,4,7.7374999999999998,8.8249999999999993,null,"tőponty",7.25,6.5250000000000004,8.35,8.8249999999999993]
["B4",{"$f":"kod!B16","v":"Gát, közepes víz"},{"$f":"kod!C16","v":"Barfin Line NSD Bulgaria"},36.725000000000001,4,9.1812500000000004,10.175000000000001,null,"nyurgaponty",10.175000000000001,7,10.125,9.4250000000000007]
["B4",{"$f":"kod!B16","v":"Gát, közepes víz"},{"$f":"kod!C16","v":"Barfin Line NSD Bulgaria"},19.824999999999999,2,9.9124999999999996,10.25,{"$f":"MAX(J109:AZ109)","v":10.25},"koi ponty",9.5749999999999993,10.25]
["B4",{"$f":"kod!B16","v":"Gát, közepes víz"},{"$f":"kod!C16","v":"Barfin Line NSD Bulgaria"},0,0,0,0,null,"amur"]
["B4",{"$f":"kod!B16","v":"Gát, közepes víz"},{"$f":"kod!C16","v":"Barfin Line NSD Bulgaria"},25.349999999999998,4,6.3374999999999995,14.275,null,"fekete amur",14.275,5.0999999999999996,3.2,2.7749999999999999]
["B5",{"$f":"kod!B17","v":"Gát, közepes víz"},{"$f":"kod!C17","v":"Lutra Carp Hunters"},{"$f":"SUM(D113:D118)","v":30.025000000000002},{"$f":"SUM(E113:E118)","v":3},10.008333333333335,{"$f":"MAX(G113:G118)","v":11.55},{"$f":"H116","v":0},"ÖSSZESEN",{"$f":"COUNTIFS($J113:$BB118,\">9,99\",$J113:$BB118,\"<20\")","v":2},{"$f":"COUNTIFS($J113:$BB118,\">19,99\")","v":0},{"$f":"COUNTIFS($J116:$BA116,\">4,99\",$J116:$BA116,\"<9,99\")","v":0},{"$f":"COUNTIFS($J116:$BB116,\">9,99\")","v":0}]
["B5",{"$f":"kod!B17","v":"Gát, közepes víz"},{"$f":"kod!C17","v":"Lutra Carp Hunters"},{"$f":"SUM(J113:AZ113)","v":0},{"$f":"COUNT(J113:AZ113)","v":0},0,{"$f":"MAX(J113:BC113)","v":0},null,"tükörponty"]
["B5",{"$f":"kod!B17","v":"Gát, közepes víz"},{"$f":"kod!C17","v":"Lutra Carp Hunters"},0,0,0,{"$f":"MAX(J114:BC114)","v":0},null,"tőponty"]
["B5",{"$f":"kod!B17","v":"Gát, közepes víz"},{"$f":"kod!C17","v":"Lutra Carp Hunters"},30.025000000000002,3,10.008333333333335,{"$f":"MAX(J115:BC115)","v":11.55},null,"nyurgaponty",8,10.475,11.55]
["B5",{"$f":"kod!B17","v":"Gát, közepes víz"},{"$f":"kod!C17","v":"Lutra Carp Hunters"},0,0,0,null,{"$f":"MAX(J116:AZ116)","v":0},"koi ponty"]
["B5",{"$f":"kod!B17","v":"Gát, közepes víz"},{"$f":"kod!C17","v":"Lutra Carp Hunters"},0,0,0,{"$f":"MAX(J117:BC117)","v":0},null,"amur"]
["B5",{"$f":"kod!B17","v":"Gát, közepes víz"},{"$f":"kod!C17","v":"Lutra Carp Hunters"},0,0,0,{"$f":"MAX(J118:BC118)","v":0},null,"fekete amur"]
["B6",{"$f":"kod!B18","v":"Gát, közepes víz"},{"$f":"kod!C18","v":"Xtra Carp Team"},{"$f":"SUM(D120:D125)","v":96.6},{"$f":"SUM(E120:E125)","v":9},10.733333333333333,{"$f":"MAX(G120:G125)","v":14.9},{"$f":"H123","v":10.25},"ÖSSZESEN",{"$f":"COUNTIFS($J120:$BB125,\">9,99\",$J120:$BB125,\"<20\")","v":6},{"$f":"COUNTIFS($J120:$BB125,\">19,99\")","v":0},{"$f":"COUNTIFS($J123:$BA123,\">4,99\",$J123:$BA123,\"<9,99\")","v":0},{"$f":"COUNTIFS($J123:$BB123,\">9,99\")","v":1}]
["B6",{"$f":"kod!B18","v":"Gát, közepes víz"},{"$f":"kod!C18","v":"Xtra Carp Team"},{"$f":"SUM(J120:AZ120)","v":31.450000000000003},{"$f":"COUNT(J120:AZ120)","v":3},10.483333333333334,{"$f":"MAX(J120:BC120)","v":14.9},null,"tükörponty",4.875,11.675000000000001,14.9]
["B6",{"$f":"kod!B18","v":"Gát, közepes víz"},{"$f":"kod!C18","v":"Xtra Carp Team"},0,0,0,{"$f":"MAX(J121:BC121)","v":0},null,"tőponty"]
["B6",{"$f":"kod!B18","v":"Gát, közepes víz"},{"$f":"kod!C18","v":"Xtra Carp Team"},54.9,5,10.98,{"$f":"MAX(J122:BC122)","v":13.35},null,"nyurgaponty",13.35,11.25,13.25,9.4,7.65]
["B6",{"$f":"kod!B18","v":"Gát, közepes víz"},{"$f":"kod!C18","v":"Xtra Carp Team"},10.25,1,10.25,null,{"$f":"MAX(J123:AZ123)","v":10.25},"koi ponty",10.25]
["B6",{"$f":"kod!B18","v":"Gát, közepes víz"},{"$f":"kod!C18","v":"Xtra Carp Team"},0,0,0,{"$f":"MAX(J124:BC124)","v":0},null,"amur"]
["B6",{"$f":"kod!B18","v":"Gát, közepes víz"},{"$f":"kod!C18","v":"Xtra Carp Team"},0,0,0,{"$f":"MAX(J125:BC125)","v":0},null,"fekete amur"]
["B7",{"$f":"kod!B19","v":"I. sziget, jobb közép"},{"$f":"kod!C19","v":"Elite Carp Team Brasov"},{"$f":"SUM(D127:D132)","v":102.77500000000001},{"$f":"SUM(E127:E132)","v":11},9.3431818181818187,{"$f":"MAX(G127:G132)","v":14.55},{"$f":"H130","v":7.7750000000000004},"ÖSSZESEN",{"$f":"COUNTIFS($J127:$BB132,\">9,99\",$J127:$BB132,\"<20\")","v":5},{"$f":"COUNTIFS($J127:$BB132,\">19,99\")","v":0},{"$f":"COUNTIFS($J130:$BA130,\">4,99\",$J130:$BA130,\"<9,99\")","v":1},{"$f":"COUNTIFS($J130:$BB130,\">9,99\")","v":0}]
["B7",{"$f":"kod!B19","v":"I. sziget, jobb közép"},{"$f":"kod!C19","v":"Elite Carp Team Brasov"},{"$f":"SUM(J127:AZ127)","v":24.375},{"$f":"COUNT(J127:AZ127)","v":2},12.1875,{"$f":"MAX(J127:BC127)","v":13.975},null,"tükörponty",10.4,13.975]
["B7",{"$f":"kod!B19","v":"I. sziget, jobb közép"},{"$f":"kod!C19","v":"Elite Carp Team Brasov"},22.35,3,7.45,{"$f":"MAX(J128:BC128)","v":7.85},null,"tőponty",7.85,7.15,7.35]
["B7",{"$f":"kod!B19","v":"I. sziget, jobb közép"},{"$f":"kod!C19","v":"Elite Carp Team Brasov"},45.1,4,11.275,{"$f":"MAX(J129:BC129)","v":14.55},null,"nyurgaponty",14.55,6.3250000000000002,11.6,12.625]
["B7",{"$f":"kod!B19","v":"I. sziget, jobb közép"},{"$f":"kod!C19","v":"Elite Carp Team Brasov"},10.95,2,5.4749999999999996,null,{"$f":"MAX(J130:AZ130)","v":7.7750000000000004},"koi ponty",7.7750000000000004,3.1749999999999998]
["B7",{"$f":"kod!B19","v":"I. sziget, jobb közép"},{"$f":"kod!C19","v":"Elite Carp Team Brasov"},0,0,0,{"$f":"MAX(J131:BC131)","v":0},null,"amur"]
["B7",{"$f":"kod!B19","v":"I. sziget, jobb közép"},{"$f":"kod!C19","v":"Elite Carp Team Brasov"},0,0,0,{"$f":"MAX(J132:BC132)","v":0},null,"fekete amur"]
["B8",{"$f":"kod!B20","v":"I. sziget, jobb "},{"$f":"kod!C20","v":"CT777 Varna Bulgaria"},{"$f":"SUM(D134:D139)","v":149.42499999999998},{"$f":"SUM(E134:E139)","v":17},8.7897058823529406,{"$f":"MAX(G134:G139)","v":16.574999999999999},{"$f":"H137","v":0},"ÖSSZESEN",{"$f":"COUNTIFS($J134:$BB139,\">9,99\",$J134:$BB139,\"<20\")","v":4},{"$f":"COUNTIFS($J134:$BB139,\">19,99\")","v":0},{"$f":"COUNTIFS($J137:$BA137,\">4,99\",$J137:$BA137,\"<9,99\")","v":0},{"$f":"COUNTIFS($J137:$BB137,\">9,99\")","v":0}]
["B8",{"$f":"kod!B20","v":"I. sziget, jobb "},{"$f":"kod!C20","v":"CT777 Varna Bulgaria"},{"$f":"SUM(J134:AZ134)","v":15.6},{"$f":"COUNT(J134:AZ134)","v":2},7.8,{"$f":"MAX(J134:BC134)","v":8.375},null,"tükörponty",7.2249999999999996,8.375]
["B8",{"$f":"kod!B20","v":"I. sziget, jobb "},{"$f":"kod!C20","v":"CT777 Varna Bulgaria"},58.125,7,8.3035714285714288,11.55,null,"tőponty",9.65,7.875,4.1500000000000004,7.5250000000000004,8.6,8.7750000000000004,11.55]
["B8",{"$f":"kod!B20","v":"I. sziget, jobb "},{"$f":"kod!C20","v":"CT777 Varna Bulgaria"},71.125,7,10.160714285714286,16.574999999999999,null,"nyurgaponty",12.175000000000001,8.6750000000000007,8.375,13.3,7.625,4.4000000000000004,16.574999999999999]
["B8",{"$f":"kod!B20","v":"I. sziget, jobb "},{"$f":"kod!C20","v":"CT777 Varna Bulgaria"},0,0,0,0,{"$f":"MAX(J137:AZ137)","v":0},"koi ponty"]
["B8",{"$f":"kod!B20","v":"I. sziget, jobb "},{"$f":"kod!C20","v":"CT777 Varna Bulgaria"},0,0,0,0,null,"amur"]
["B8",{"$f":"kod!B20","v":"I. sziget, jobb "},{"$f":"kod!C20","v":"CT777 Varna Bulgaria"},4.5750000000000002,1,4.5750000000000002,4.5750000000000002,null,"fekete amur",4.5750000000000002]
["B9",{"$f":"kod!B21","v":"I. sziget, jobb külső"},{"$f":"kod!C21","v":"Bait Maker Team"},{"$f":"SUM(D141:D146)","v":134.4},{"$f":"SUM(E141:E146)","v":14},9.6,{"$f":"MAX(G141:G146)","v":15.45},{"$f":"H144","v":0},"ÖSSZESEN",{"$f":"COUNTIFS($J141:$BB146,\">9,99\",$J141:$BB146,\"<20\")","v":5},{"$f":"COUNTIFS($J141:$BB146,\">19,99\")","v":0},{"$f":"COUNTIFS($J144:$BA144,\">4,99\",$J144:$BA144,\"<9,99\")","v":0},{"$f":"COUNTIFS($J144:$BB144,\">9,99\")","v":0}]
["B9",{"$f":"kod!B21","v":"I. sziget, jobb külső"},{"$f":"kod!C21","v":"Bait Maker Team"},{"$f":"SUM(J141:AZ141)","v":37},{"$f":"COUNT(J141:AZ141)","v":3},{"$f":"IF(E141=0,0,D141/E141)","v":12.333333333333334},{"$f":"MAX(J141:BC141)","v":15.45},null,"tükörponty",15.45,8.7249999999999996,12.824999999999999]
["B9",{"$f":"kod!B21","v":"I. sziget, jobb külső"},{"$f":"kod!C21","v":"Bait Maker Team"},32.325000000000003,4,8.0812500000000007,8.85,null,"tőponty",7.125,8.4749999999999996,7.875,8.85]
["B9",{"$f":"kod!B21","v":"I. sziget, jobb külső"},{"$f":"kod!C21","v":"Bait Maker Team"},65.075000000000003,7,9.2964285714285726,15.175000000000001,null,"nyurgaponty",10.074999999999999,8.7750000000000004,7.4249999999999998,10.875,5.8250000000000002,6.9249999999999998,15.175000000000001]
["B9",{"$f":"kod!B21","v":"I. sziget, jobb külső"},{"$f":"kod!C21","v":"Bait Maker Team"},0,0,0,0,{"$f":"MAX(J144:AZ144)","v":0},"koi ponty"]
["B9",{"$f":"kod!B21","v":"I. sziget, jobb külső"},{"$f":"kod!C21","v":"Bait Maker Team"},0,0,0,0,null,"amur"]
["B9",{"$f":"kod!B21","v":"I. sziget, jobb külső"},{"$f":"kod!C21","v":"Bait Maker Team"},0,0,0,0,null,"fekete amur"]
["B10",{"$f":"kod!B22","v":"Felező-spicc, bal"},{"$f":"kod!C22","v":"SBS - SziKo Team"},{"$f":"SUM(D148:D153)","v":7.9},{"$f":"SUM(E148:E153)","v":1},7.9,{"$f":"MAX(G148:G153)","v":0},{"$f":"H151","v":7.9},"ÖSSZESEN",{"$f":"COUNTIFS($J148:$BB153,\">9,99\",$J148:$BB153,\"<20\")","v":0},{"$f":"COUNTIFS($J148:$BB153,\">19,99\")","v":0},{"$f":"COUNTIFS($J151:$BA151,\">4,99\",$J151:$BA151,\"<9,99\")","v":1},{"$f":"COUNTIFS($J151:$BB151,\">9,99\")","v":0}]
["B10",{"$f":"kod!B22","v":"Felező-spicc, bal"},{"$f":"kod!C22","v":"SBS - SziKo Team"},{"$f":"SUM(J148:AZ148)","v":0},{"$f":"COUNT(J148:AZ148)","v":0},0,{"$f":"MAX(J148:BC148)","v":0},null,"tükörponty"]
["B10",{"$f":"kod!B22","v":"Felező-spicc, bal"},{"$f":"kod!C22","v":"SBS - SziKo Team"},0,0,0,{"$f":"MAX(J149:BC149)","v":0},null,"tőponty"]
["B10",{"$f":"kod!B22","v":"Felező-spicc, bal"},{"$f":"kod!C22","v":"SBS - SziKo Team"},0,0,0,{"$f":"MAX(J150:BC150)","v":0},null,"nyurgaponty"]
["B10",{"$f":"kod!B22","v":"Felező-spicc, bal"},{"$f":"kod!C22","v":"SBS - SziKo Team"},7.9,1,7.9,null,{"$f":"MAX(J151:AZ151)","v":7.9},"koi ponty",7.9]
["B10",{"$f":"kod!B22","v":"Felező-spicc, bal"},{"$f":"kod!C22","v":"SBS - SziKo Team"},0,0,0,{"$f":"MAX(J152:BC152)","v":0},null,"amur"]
["B10",{"$f":"kod!B22","v":"Felező-spicc, bal"},{"$f":"kod!C22","v":"SBS - SziKo Team"},0,0,0,{"$f":"MAX(J153:BC153)","v":0},null,"fekete amur"]
["B11",{"$f":"kod!B23","v":"Felező-spicc, közép"},{"$f":"kod!C23","v":"Síp Carp Team"},{"$f":"SUM(D155:D160)","v":23.049999999999997},{"$f":"SUM(E155:E160)","v":3},7.6833333333333327,{"$f":"MAX(G155:G160)","v":9.1},{"$f":"H158","v":0},"ÖSSZESEN",{"$f":"COUNTIFS($J155:$BB160,\">9,99\",$J155:$BB160,\"<20\")","v":0},{"$f":"COUNTIFS($J155:$BB160,\">19,99\")","v":0},{"$f":"COUNTIFS($J158:$BA158,\">4,99\",$J158:$BA158,\"<9,99\")","v":0},{"$f":"COUNTIFS($J158:$BB158,\">9,99\")","v":0}]
["B11",{"$f":"kod!B23","v":"Felező-spicc, közép"},{"$f":"kod!C23","v":"Síp Carp Team"},{"$f":"SUM(J155:AZ155)","v":0},{"$f":"COUNT(J155:AZ155)","v":0},0,{"$f":"MAX(J155:BC155)","v":0},null,"tükörponty"]
["B11",{"$f":"kod!B23","v":"Felező-spicc, közép"},{"$f":"kod!C23","v":"Síp Carp Team"},15.45,2,7.7249999999999996,9.1,null,"tőponty",6.35,9.1]
["B11",{"$f":"kod!B23","v":"Felező-spicc, közép"},{"$f":"kod!C23","v":"Síp Carp Team"},7.6,1,7.6,7.6,null,"nyurgaponty",7.6]
["B11",{"$f":"kod!B23","v":"Felező-spicc, közép"},{"$f":"kod!C23","v":"Síp Carp Team"},0,0,0,null,{"$f":"MAX(J158:AZ158)","v":0},"koi ponty"]
["B11",{"$f":"kod!B23","v":"Felező-spicc, közép"},{"$f":"kod!C23","v":"Síp Carp Team"},0,0,0,{"$f":"MAX(J159:BC159)","v":0},null,"amur"]
["B11",{"$f":"kod!B23","v":"Felező-spicc, közép"},{"$f":"kod!C23","v":"Síp Carp Team"},0,0,0,0,null,"fekete amur"]
["C1",{"$f":"kod!B24","v":"Gát, sekély víz"},{"$f":"kod!C24","v":"Carp Fever Bulgaria"},{"$f":"SUM(D162:D167)","v":76.5},{"$f":"SUM(E162:E167)","v":17},{"$f":"IF(E161=0,0,D161/E161)","v":4.5},{"$f":"MAX(G162:G167)","v":10},{"$f":"H165","v":0},"ÖSSZESEN",{"$f":"COUNTIFS($J162:$BB167,\">9,99\",$J162:$BB167,\"<20\")","v":1},{"$f":"COUNTIFS($J162:$BB167,\">19,99\")","v":0},{"$f":"COUNTIFS($J165:$BA165,\">4,99\",$J165:$BA165,\"<9,99\")","v":0},{"$f":"COUNTIFS($J165:$BB165,\">9,99\")","v":0}]
["C1",{"$f":"kod!B24","v":"Gát, sekély víz"},{"$f":"kod!C24","v":"Carp Fever Bulgaria"},{"$f":"SUM(J162:AZ162)","v":9.8000000000000007},{"$f":"COUNT(J162:AZ162)","v":2},{"$f":"IF(E162=0,0,D162/E162)","v":4.9000000000000004},{"$f":"MAX(J162:BC162)","v":8},null,"tükörponty",1.8,8]
["C1",{"$f":"kod!B24","v":"Gát, sekély víz"},{"$f":"kod!C24","v":"Carp Fever Bulgaria"},23.75,9,2.6388888888888888,{"$f":"MAX(J163:BC163)","v":8.0749999999999993},null,"tőponty",2.15,1.7749999999999999,1.875,2.2999999999999998,1.825,1.7749999999999999,2.6,1.375,8.0749999999999993]
["C1",{"$f":"kod!B24","v":"Gát, sekély víz"},{"$f":"kod!C24","v":"Carp Fever Bulgaria"},32.949999999999996,5,6.589999999999999,{"$f":"MAX(J164:BC164)","v":8.6999999999999993},null,"nyurgaponty",8.6999999999999993,5.875,5.8250000000000002,4.7,7.85]
["C1",{"$f":"kod!B24","v":"Gát, sekély víz"},{"$f":"kod!C24","v":"Carp Fever Bulgaria"},0,0,0,null,{"$f":"MAX(J165:AZ165)","v":0},"koi ponty"]
["C1",{"$f":"kod!B24","v":"Gát, sekély víz"},{"$f":"kod!C24","v":"Carp Fever Bulgaria"},10,1,10,{"$f":"MAX(J166:BC166)","v":10},null,"amur",10]
["C1",{"$f":"kod!B24","v":"Gát, sekély víz"},{"$f":"kod!C24","v":"Carp Fever Bulgaria"},0,0,0,{"$f":"MAX(J167:BC167)","v":0},null,"fekete amur"]
["C2",{"$f":"kod!B25","v":"Gát, sekély víz"},{"$f":"kod!C25","v":"Carpfriends Ennstal-Austria"},{"$f":"SUM(D169:D174)","v":108.7},{"$f":"SUM(E169:E174)","v":13},8.361538461538462,{"$f":"MAX(G169:G174)","v":11.75},{"$f":"H172","v":7.1749999999999998},"ÖSSZESEN",{"$f":"COUNTIFS($J169:$BB174,\">9,99\",$J169:$BB174,\"<20\")","v":3},{"$f":"COUNTIFS($J169:$BB174,\">19,99\")","v":0},{"$f":"COUNTIFS($J172:$BA172,\">4,99\",$J172:$BA172,\"<9,99\")","v":2},{"$f":"COUNTIFS($J172:$BB172,\">9,99\")","v":0}]
["C2",{"$f":"kod!B25","v":"Gát, sekély víz"},{"$f":"kod!C25","v":"Carpfriends Ennstal-Austria"},{"$f":"SUM(J169:AZ169)","v":43.35},{"$f":"COUNT(J169:AZ169)","v":6},7.2250000000000005,{"$f":"MAX(J169:BC169)","v":9.7249999999999996},null,"tükörponty",7.6749999999999998,5.7,5.4,7.9249999999999998,6.9249999999999998,9.7249999999999996]
["C2",{"$f":"kod!B25","v":"Gát, sekély víz"},{"$f":"kod!C25","v":"Carpfriends Ennstal-Austria"},0,0,0,{"$f":"MAX(J170:BC170)","v":0},null,"tőponty"]
["C2",{"$f":"kod!B25","v":"Gát, sekély víz"},{"$f":"kod!C25","v":"Carpfriends Ennstal-Austria"},51.024999999999999,5,10.205,{"$f":"MAX(J171:BC171)","v":11.75},null,"nyurgaponty",7.35,10.574999999999999,11.75,9.6,11.75]
["C2",{"$f":"kod!B25","v":"Gát, sekély víz"},{"$f":"kod!C25","v":"Carpfriends Ennstal-Austria"},14.324999999999999,2,7.1624999999999996,null,{"$f":"MAX(J172:AZ172)","v":7.1749999999999998},"koi ponty",7.15,7.1749999999999998]
["C2",{"$f":"kod!B25","v":"Gát, sekély víz"},{"$f":"kod!C25","v":"Carpfriends Ennstal-Austria"},0,0,0,{"$f":"MAX(J173:BC173)","v":0},null,"amur"]
["C2",{"$f":"kod!B25","v":"Gát, sekély víz"},{"$f":"kod!C25","v":"Carpfriends Ennstal-Austria"},0,0,0,{"$f":"MAX(J174:BC174)","v":0},null,"fekete amur"]
["C3",{"$f":"kod!B26","v":"Gát, sekély víz"},{"$f":"kod!C26","v":"Carp Team Brasov"},{"$f":"SUM(D176:D181)","v":11.175000000000001},{"$f":"SUM(E176:E181)","v":3},3.7250000000000001,{"$f":"MAX(G176:G181)","v":8.0250000000000004},{"$f":"H179","v":0},"ÖSSZESEN",{"$f":"COUNTIFS($J176:$BB181,\">9,99\",$J176:$BB181,\"<20\")","v":0},{"$f":"COUNTIFS($J176:$BB181,\">19,99\")","v":0},{"$f":"COUNTIFS($J179:$BA179,\">4,99\",$J179:$BA179,\"<9,99\")","v":0},{"$f":"COUNTIFS($J179:$BB179,\">9,99\")","v":0}]
["C3",{"$f":"kod!B26","v":"Gát, sekély víz"},{"$f":"kod!C26","v":"Carp Team Brasov"},{"$f":"SUM(J176:AZ176)","v":1.425},{"$f":"COUNT(J176:AZ176)","v":1},1.425,{"$f":"MAX(J176:BC176)","v":1.425},null,"tükörponty",1.425]
["C3",{"$f":"kod!B26","v":"Gát, sekély víz"},{"$f":"kod!C26","v":"Carp Team Brasov"},9.75,2,4.875,{"$f":"MAX(J177:BC177)","v":8.0250000000000004},null,"tőponty",8.0250000000000004,1.7250000000000001]
["C3",{"$f":"kod!B26","v":"Gát, sekély víz"},{"$f":"kod!C26","v":"Carp Team Brasov"},0,0,0,{"$f":"MAX(J178:BC178)","v":0},null,"nyurgaponty"]
["C3",{"$f":"kod!B26","v":"Gát, sekély víz"},{"$f":"kod!C26","v":"Carp Team Brasov"},0,0,0,null,{"$f":"MAX(J179:AZ179)","v":0},"koi ponty"]
["C3",{"$f":"kod!B26","v":"Gát, sekély víz"},{"$f":"kod!C26","v":"Carp Team Brasov"},0,0,0,{"$f":"MAX(J180:BC180)","v":0},null,"amur"]
["C3",{"$f":"kod!B26","v":"Gát, sekély víz"},{"$f":"kod!C26","v":"Carp Team Brasov"},0,0,0,{"$f":"MAX(J181:BC181)","v":0},null,"fekete amur"]
["C4",{"$f":"kod!B27","v":"Gát, sekély víz"},{"$f":"kod!C27","v":"As La Carp Team"},{"$f":"SUM(D183:D188)","v":49.175000000000004},{"$f":"SUM(E183:E188)","v":7},7.0250000000000004,{"$f":"MAX(G183:G188)","v":14.625},{"$f":"H186","v":0},"ÖSSZESEN",{"$f":"COUNTIFS($J183:$BB188,\">9,99\",$J183:$BB188,\"<20\")","v":1},{"$f":"COUNTIFS($J183:$BB188,\">19,99\")","v":0},{"$f":"COUNTIFS($J186:$BA186,\">4,99\",$J186:$BA186,\"<9,99\")","v":0},{"$f":"COUNTIFS($J186:$BB186,\">9,99\")","v":0}]
["C4",{"$f":"kod!B27","v":"Gát, sekély víz"},{"$f":"kod!C27","v":"As La Carp Team"},{"$f":"SUM(J183:AZ183)","v":14.625},{"$f":"COUNT(J183:AZ183)","v":1},14.625,{"$f":"MAX(J183:BC183)","v":14.625},null,"tükörponty",14.625]
["C4",{"$f":"kod!B27","v":"Gát, sekély víz"},{"$f":"kod!C27","v":"As La Carp Team"},28.475000000000001,5,5.6950000000000003,8.35,null,"tőponty",6.7,1.9750000000000001,4.6749999999999998,6.7750000000000004,8.35]
["C4",{"$f":"kod!B27","v":"Gát, sekély víz"},{"$f":"kod!C27","v":"As La Carp Team"},6.0750000000000002,1,6.0750000000000002,6.0750000000000002,null,"nyurgaponty",6.0750000000000002]
["C4",{"$f":"kod!B27","v":"Gát, sekély víz"},{"$f":"kod!C27","v":"As La Carp Team"},0,0,0,0,{"$f":"MAX(J186:AZ186)","v":0},"koi ponty"]
["C4",{"$f":"kod!B27","v":"Gát, sekély víz"},{"$f":"kod!C27","v":"As La Carp Team"},0,0,0,0,null,"amur"]
["C4",{"$f":"kod!B27","v":"Gát, sekély víz"},{"$f":"kod!C27","v":"As La Carp Team"},0,0,0,0,null,"fekete amur"]
["C5",{"$f":"kod!B28","v":"Gát, sekély víz"},{"$f":"kod!C28","v":"Bojlis Főnök - Bait Bait Carp Team"},{"$f":"SUM(D190:D195)","v":8.0749999999999993},{"$f":"SUM(E190:E195)","v":1},8.0749999999999993,{"$f":"MAX(G190:G195)","v":8.0749999999999993},{"$f":"H193","v":0},"ÖSSZESEN",{"$f":"COUNTIFS($J190:$BB195,\">9,99\",$J190:$BB195,\"<20\")","v":0},{"$f":"COUNTIFS($J190:$BB195,\">19,99\")","v":0},{"$f":"COUNTIFS($J193:$BA193,\">4,99\",$J193:$BA193,\"<9,99\")","v":0},{"$f":"COUNTIFS($J193:$BB193,\">9,99\")","v":0}]
["C5",{"$f":"kod!B28","v":"Gát, sekély víz"},{"$f":"kod!C28","v":"Bojlis Főnök - Bait Bait Carp Team"},{"$f":"SUM(J190:AZ190)","v":0},{"$f":"COUNT(J190:AZ190)","v":0},0,{"$f":"MAX(J190:BC190)","v":0},null,"tükörponty"]
["C5",{"$f":"kod!B28","v":"Gát, sekély víz"},{"$f":"kod!C28","v":"Bojlis Főnök - Bait Bait Carp Team"},8.0749999999999993,1,8.0749999999999993,{"$f":"MAX(J191:BC191)","v":8.0749999999999993},null,"tőponty",8.0749999999999993]
["C5",{"$f":"kod!B28","v":"Gát, sekély víz"},{"$f":"kod!C28","v":"Bojlis Főnök - Bait Bait Carp Team"},0,0,0,{"$f":"MAX(J192:BC192)","v":0},null,"nyurgaponty"]
["C5",{"$f":"kod!B28","v":"Gát, sekély víz"},{"$f":"kod!C28","v":"Bojlis Főnök - Bait Bait Carp Team"},0,0,0,null,{"$f":"MAX(J193:AZ193)","v":0},"koi ponty"]
["C5",{"$f":"kod!B28","v":"Gát, sekély víz"},{"$f":"kod!C28","v":"Bojlis Főnök - Bait Bait Carp Team"},0,0,0,{"$f":"MAX(J194:BC194)","v":0},null,"amur"]
["C5",{"$f":"kod!B28","v":"Gát, sekély víz"},{"$f":"kod!C28","v":"Bojlis Főnök - Bait Bait Carp Team"},0,0,0,{"$f":"MAX(J195:BC195)","v":0},null,"fekete amur"]
["C6",{"$f":"kod!B29","v":"Felező-spicc, jobb"},{"$f":"kod!C29","v":"Secret Of The Carp"},{"$f":"SUM(D197:D202)","v":52.724999999999994},{"$f":"SUM(E197:E202)","v":7},7.5321428571428566,{"$f":"MAX(G197:G202)","v":10.875},{"$f":"H200","v":0},"ÖSSZESEN",{"$f":"COUNTIFS($J197:$BB202,\">9,99\",$J197:$BB202,\"<20\")","v":2},{"$f":"COUNTIFS($J197:$BB202,\">19,99\")","v":0},{"$f":"COUNTIFS($J200:$BA200,\">4,99\",$J200:$BA200,\"<9,99\")","v":0},{"$f":"COUNTIFS($J200:$BB200,\">9,99\")","v":0}]
["C6",{"$f":"kod!B29","v":"Felező-spicc, jobb"},{"$f":"kod!C29","v":"Secret Of The Carp"},{"$f":"SUM(J197:AZ197)","v":10.75},{"$f":"COUNT(J197:AZ197)","v":1},10.75,{"$f":"MAX(J197:BC197)","v":10.75},null,"tükörponty",10.75]
["C6",{"$f":"kod!B29","v":"Felező-spicc, jobb"},{"$f":"kod!C29","v":"Secret Of The Carp"},11.824999999999999,2,5.9124999999999996,8.25,null,"tőponty",3.5750000000000002,8.25]
["C6",{"$f":"kod!B29","v":"Felező-spicc, jobb"},{"$f":"kod!C29","v":"Secret Of The Carp"},30.15,4,7.5374999999999996,10.875,null,"nyurgaponty",10.875,8.5749999999999993,5.4749999999999996,5.2249999999999996]
["C6",{"$f":"kod!B29","v":"Felező-spicc, jobb"},{"$f":"kod!C29","v":"Secret Of The Carp"},0,0,0,0,{"$f":"MAX(J200:AZ200)","v":0},"koi ponty"]
["C6",{"$f":"kod!B29","v":"Felező-spicc, jobb"},{"$f":"kod!C29","v":"Secret Of The Carp"},0,0,0,0,null,"amur"]
["C6",{"$f":"kod!B29","v":"Felező-spicc, jobb"},{"$f":"kod!C29","v":"Secret Of The Carp"},0,0,0,0,null,"fekete amur"]
["C7",{"$f":"kod!B30","v":"II. sziget, bal"},{"$f":"kod!C30","v":"Quick Baits"},{"$f":"SUM(D204:D209)","v":173.60000000000002},{"$f":"SUM(E204:E209)","v":19},9.1368421052631597,{"$f":"MAX(G204:G209)","v":16.024999999999999},{"$f":"H207","v":0},"ÖSSZESEN",{"$f":"COUNTIFS($J204:$BB209,\">9,99\",$J204:$BB209,\"<20\")","v":8},{"$f":"COUNTIFS($J204:$BB209,\">19,99\")","v":0},{"$f":"COUNTIFS($J207:$BA207,\">4,99\",$J207:$BA207,\"<9,99\")","v":0},{"$f":"COUNTIFS($J207:$BB207,\">9,99\")","v":0}]
["C7",{"$f":"kod!B30","v":"II. sziget, bal"},{"$f":"kod!C30","v":"Quick Baits"},{"$f":"SUM(J204:AZ204)","v":11.925000000000001},{"$f":"COUNT(J204:AZ204)","v":1},11.925000000000001,{"$f":"MAX(J204:BC204)","v":11.925000000000001},null,"tükörponty",11.925000000000001]
["C7",{"$f":"kod!B30","v":"II. sziget, bal"},{"$f":"kod!C30","v":"Quick Baits"},37.099999999999994,6,6.1833333333333327,7.125,null,"tőponty",7,4.9000000000000004,5.8,7.125,6.4749999999999996,5.8]
["C7",{"$f":"kod!B30","v":"II. sziget, bal"},{"$f":"kod!C30","v":"Quick Baits"},119.65,11,10.877272727272727,16.024999999999999,null,"nyurgaponty",7.65,10.45,8.9,10.7,9.125,7.4749999999999996,12.725,16.024999999999999,12.275,10.475,13.85]
["C7",{"$f":"kod!B30","v":"II. sziget, bal"},{"$f":"kod!C30","v":"Quick Baits"},0,0,0,0,{"$f":"MAX(J207:AZ207)","v":0},"koi ponty"]
["C7",{"$f":"kod!B30","v":"II. sziget, bal"},{"$f":"kod!C30","v":"Quick Baits"},4.9249999999999998,1,4.9249999999999998,4.9249999999999998,null,"amur",4.9249999999999998]
["C7",{"$f":"kod!B30","v":"II. sziget, bal"},{"$f":"kod!C30","v":"Quick Baits"},0,0,0,0,null,"fekete amur"]
["C8",{"$f":"kod!B31","v":"II. sziget, bal közép"},{"$f":"kod!C31","v":"Carp Team Blankbrothers"},{"$f":"SUM(D211:D216)","v":61.374999999999993},{"$f":"SUM(E211:E216)","v":7},8.7678571428571423,{"$f":"MAX(G211:G216)","v":11.225},{"$f":"H214","v":0},"ÖSSZESEN"]
["C8",{"$f":"kod!B31","v":"II. sziget, bal közép"},{"$f":"kod!C31","v":"Carp Team Blankbrothers"},{"$f":"SUM(J211:AZ211)","v":0},{"$f":"COUNT(J211:AZ211)","v":0},0,{"$f":"MAX(J211:BC211)","v":0},null,"tükörponty"]
["C8",{"$f":"kod!B31","v":"II. sziget, bal közép"},{"$f":"kod!C31","v":"Carp Team Blankbrothers"},35.574999999999996,4,8.8937499999999989,{"$f":"MAX(J212:BC212)","v":9.1},null,"tőponty",9.1,8.8249999999999993,9.0500000000000007,8.6]
["C8",{"$f":"kod!B31","v":"II. sziget, bal közép"},{"$f":"kod!C31","v":"Carp Team Blankbrothers"},25.799999999999997,3,8.6,{"$f":"MAX(J213:BC213)","v":11.225},null,"nyurgaponty",7.55,7.0250000000000004,11.225]
["C8",{"$f":"kod!B31","v":"II. sziget, bal közép"},{"$f":"kod!C31","v":"Carp Team Blankbrothers"},0,0,0,null,{"$f":"MAX(J214:AZ214)","v":0},"koi ponty"]
["C8",{"$f":"kod!B31","v":"II. sziget, bal közép"},{"$f":"kod!C31","v":"Carp Team Blankbrothers"},0,0,0,{"$f":"MAX(J215:BC215)","v":0},null,"amur"]
["C8",{"$f":"kod!B31","v":"II. sziget, bal közép"},{"$f":"kod!C31","v":"Carp Team Blankbrothers"},0,0,0,{"$f":"MAX(J216:BC216)","v":0},null,"fekete amur"]
["C9",{"$f":"kod!B32","v":"II. sziget, közép"},{"$f":"kod!C32","v":"Bait Bait Hungary"},{"$f":"SUM(D218:D223)","v":167.02500000000001},{"$f":"SUM(E218:E223)","v":20},8.3512500000000003,{"$f":"MAX(G218:G223)","v":23.175000000000001},{"$f":"H221","v":10.074999999999999},"ÖSSZESEN",{"$f":"COUNTIFS($J218:$BB223,\">9,99\",$J218:$BB223,\"<20\")","v":3},{"$f":"COUNTIFS($J218:$BB223,\">19,99\")","v":1},{"$f":"COUNTIFS($J221:$BA221,\">4,99\",$J221:$BA221,\"<9,99\")","v":0},{"$f":"COUNTIFS($J221:$BB221,\">9,99\")","v":1}]
["C9",{"$f":"kod!B32","v":"II. sziget, közép"},{"$f":"kod!C32","v":"Bait Bait Hungary"},{"$f":"SUM(J218:AZ218)","v":50.375000000000007},{"$f":"COUNT(J218:AZ218)","v":5},{"$f":"IF(E218=0,0,D218/E218)","v":10.075000000000001},{"$f":"MAX(J218:BC218)","v":23.175000000000001},null,"tükörponty",23.175000000000001,4.375,7.5250000000000004,7.8250000000000002,7.4749999999999996]
["C9",{"$f":"kod!B32","v":"II. sziget, közép"},{"$f":"kod!C32","v":"Bait Bait Hungary"},{"$f":"SUM(J219:BZ219)","v":59.399999999999991},{"$f":"COUNT(J219:BZ219)","v":8},7.4249999999999989,{"$f":"MAX(J219:BC219)","v":11.5},null,"tőponty",6.625,11.5,7.875,4.95,6.2249999999999996,8.4,7.0250000000000004,6.8]
["C9",{"$f":"kod!B32","v":"II. sziget, közép"},{"$f":"kod!C32","v":"Bait Bait Hungary"},42.95,5,8.59,{"$f":"MAX(J220:BC220)","v":11.025},null,"nyurgaponty",7.7750000000000004,7.2750000000000004,11.025,7,9.875]
["C9",{"$f":"kod!B32","v":"II. sziget, közép"},{"$f":"kod!C32","v":"Bait Bait Hungary"},10.074999999999999,1,10.074999999999999,null,{"$f":"MAX(J221:AZ221)","v":10.074999999999999},"koi ponty",10.074999999999999]
["C9",{"$f":"kod!B32","v":"II. sziget, közép"},{"$f":"kod!C32","v":"Bait Bait Hungary"},0,0,0,{"$f":"MAX(J222:BC222)","v":0},null,"amur"]
["C9",{"$f":"kod!B32","v":"II. sziget, közép"},{"$f":"kod!C32","v":"Bait Bait Hungary"},4.2249999999999996,1,4.2249999999999996,{"$f":"MAX(J223:BC223)","v":4.2249999999999996},null,"fekete amur",4.2249999999999996]
["C10",{"$f":"kod!B33","v":"II. sziget, jobb közép"},{"$f":"kod!C33","v":"Acroft Illusive Bait Me"},{"$f":"SUM(D225:D230)","v":66.075000000000003},{"$f":"SUM(E225:E230)","v":8},8.2593750000000004,{"$f":"MAX(G225:G230)","v":10.725},{"$f":"H228","v":0},"ÖSSZESEN",{"$f":"COUNTIFS($J225:$BB230,\">9,99\",$J225:$BB230,\"<20\")","v":2},{"$f":"COUNTIFS($J225:$BB230,\">19,99\")","v":0},{"$f":"COUNTIFS($J228:$BA228,\">4,99\",$J228:$BA228,\"<9,99\")","v":0},{"$f":"COUNTIFS($J228:$BB228,\">9,99\")","v":0}]
["C10",{"$f":"kod!B33","v":"II. sziget, jobb közép"},{"$f":"kod!C33","v":"Acroft Illusive Bait Me"},{"$f":"SUM(J225:AZ225)","v":31.725000000000001},{"$f":"COUNT(J225:AZ225)","v":4},7.9312500000000004,{"$f":"MAX(J225:BC225)","v":10.725},null,"tükörponty",5.875,6.875,10.725,8.25]
["C10",{"$f":"kod!B33","v":"II. sziget, jobb közép"},{"$f":"kod!C33","v":"Acroft Illusive Bait Me"},4.5750000000000002,1,4.5750000000000002,4.5750000000000002,null,"tőponty",4.5750000000000002]
["C10",{"$f":"kod!B33","v":"II. sziget, jobb közép"},{"$f":"kod!C33","v":"Acroft Illusive Bait Me"},29.774999999999999,3,9.9249999999999989,10.725,null,"nyurgaponty",9.1999999999999993,9.85,10.725]
["C10",{"$f":"kod!B33","v":"II. sziget, jobb közép"},{"$f":"kod!C33","v":"Acroft Illusive Bait Me"},0,0,0,0,{"$f":"MAX(J228:AZ228)","v":0},"koi ponty"]
["C10",{"$f":"kod!B33","v":"II. sziget, jobb közép"},{"$f":"kod!C33","v":"Acroft Illusive Bait Me"},0,0,0,0,null,"amur"]
["C10",{"$f":"kod!B33","v":"II. sziget, jobb közép"},{"$f":"kod!C33","v":"Acroft Illusive Bait Me"},0,0,0,0,null,"fekete amur"]
["C11",{"$f":"kod!B34","v":"II. sziget, jobb"},{"$f":"kod!C34","v":"Vaslui Carp Team"},{"$f":"SUM(D232:D237)","v":188.42500000000001},{"$f":"SUM(E232:E237)","v":34},5.5419117647058824,{"$f":"MAX(G232:G237)","v":12.025},{"$f":"H235","v":4.45},"ÖSSZESEN",{"$f":"COUNTIFS($J232:$BB237,\">9,99\",$J232:$BB237,\"<20\")","v":3},{"$f":"COUNTIFS($J232:$BB237,\">19,99\")","v":0},{"$f":"COUNTIFS($J235:$BA235,\">4,99\",$J235:$BA235,\"<9,99\")","v":0},{"$f":"COUNTIFS($J235:$BB235,\">9,99\")","v":0}]
["C11",{"$f":"kod!B34","v":"II. sziget, jobb"},{"$f":"kod!C34","v":"Vaslui Carp Team"},{"$f":"SUM(J232:AZ232)","v":22.2},{"$f":"COUNT(J232:AZ232)","v":3},7.3999999999999995,{"$f":"MAX(J232:BC232)","v":8.0500000000000007},null,"tükörponty",6.9749999999999996,7.1749999999999998,8.0500000000000007]
["C11",{"$f":"kod!B34","v":"II. sziget, jobb"},{"$f":"kod!C34","v":"Vaslui Carp Team"},64.325000000000003,14,4.5946428571428575,7.45,null,"tőponty",1.7749999999999999,5.4249999999999998,5.2249999999999996,4.2,1.2,1.45,2.4,7.375,2.875,5.375,7.45,6.3250000000000002,6.1,7.15]
["C11",{"$f":"kod!B34","v":"II. sziget, jobb"},{"$f":"kod!C34","v":"Vaslui Carp Team"},73.325000000000003,10,7.3325000000000005,12.025,null,"nyurgaponty",4.2249999999999996,5.625,12.025,4.375,7.3,6.25,6.8,4.25,11.7,10.775]
["C11",{"$f":"kod!B34","v":"II. sziget, jobb"},{"$f":"kod!C34","v":"Vaslui Carp Team"},4.45,1,4.45,4.45,{"$f":"MAX(J235:AZ235)","v":4.45},"koi ponty",4.45]
["C11",{"$f":"kod!B34","v":"II. sziget, jobb"},{"$f":"kod!C34","v":"Vaslui Carp Team"},14.25,3,4.75,5.375,null,"amur",5.2750000000000004,3.6,5.375]
["C11",{"$f":"kod!B34","v":"II. sziget, jobb"},{"$f":"kod!C34","v":"Vaslui Carp Team"},9.875,3,3.2916666666666665,4.0750000000000002,null,"fekete amur",2.85,2.95,4.0750000000000002]
[null,null,"Összesen:",{"$f":"SUM(D7,D14,D21,D28,D35,D42,D49,D56,D63,D70,D77,D84,D91,D98,D105,D112,D119,D126,D133,D140,D147,D154,D161,D168,D175,D182,D189,D196,D203,D210,D217,D224,D231)","v":2223.9500000000003},{"$f":"SUM(E7,E14,E21,E28,E35,E42,E49,E56,E63,E70,E77,E84,E91,E98,E105,E112,E119,E126,E133,E140,E147,E154,E161,E168,E175,E182,E189,E196,E203,E210,E217,E224,E231)","v":284},{"$f":"IF(E238=0,0,D238/E238)","v":7.8308098591549307},null,null,null,{"$f":"SUM(J7,J14,J21,J28,J35,J42,J49,J56,J63,J70,J77,J84,J91,J98,J105,J112,J119,J126,J133,J140,J147,J154,J161,J168,J175,J182,J189,J196,J203,J210,J217,J224,J231)","v":71},{"$f":"SUM(K7,K14,K21,K28,K35,K42,K49,K56,K63,K70,K77,K84,K91,K98,K105,K112,K119,K126,K133,K140,K147,K154,K161,K168,K175,K182,K189,K196,K203,K210,K217,K224,K231)","v":1},{"$f":"SUM(L7,L14,L21,L28,L35,L42,L49,L56,L63,L70,L77,L84,L91,L98,L105,L112,L119,L126,L133,L140,L147,L154,L161,L168,L175,L182,L189,L196,L203,L210,L217,L224,L231)","v":5},{"$f":"SUM(M7,M14,M21,M28,M35,M42,M49,M56,M63,M70,M77,M84,M91,M98,M105,M112,M119,M126,M133,M140,M147,M154,M161,M168,M175,M182,M189,M196,M203,M210,M217,M224,M231)","v":7}]

{"sheet":"szakasz3","index":4,"n_rows":238,"n_cols":24,"rows_kept":238,"cut":false,"hidden":false,"merged":[[0,0,0,12],[1,0,1,12],[2,0,2,12],[3,0,3,12],[4,0,4,12]]}
[{"$f":"IF(kod!E2>0,kod!E2,\"\")","v":"XXI. PROFESSZIONÁLIS BOJLIS EURÓPA KUPA (EPBC)"}]
[{"$f":"IF(kod!E3>0,kod!E3,\"\")","v":"XXXVI. MACONKA NEMZETKÖZI BOJLIS KUPA"}]
[{"$f":"IF(kod!E4>0,kod!E4,\"\")","v":"Maconka, 2025.06.15. - 2025.06.20."}]
[{"$f":"IF(kod!E5>0,kod!E5,\"\")","v":""}]
[{"$f":"kod!E9","v":"3. szakasz:  2025.06.16. 18:00 - 2025.06.17. 06:00"}]
["Rajthely","Elhelyezés","Csapatnév","Kg","Db","Átlag","BC","BkC","Faj","10-20 kg","20+ kg","koi 5-10 kg","koi 10+ kg"]
["A1",{"$f":"kod!B2","v":"Gát, mélyvíz"},{"$f":"kod!C2","v":"SBS - Halcatraz - TiZo Team"},{"$f":"SUM(D8:D13)","v":40.524999999999999},{"$f":"SUM(E8:E13)","v":3},{"$f":"IF(E7=0,0,D7/E7)","v":13.508333333333333},{"$f":"MAX(G8:G13)","v":17},{"$f":"H11","v":0},"ÖSSZESEN",{"$f":"COUNTIFS($J8:$BB13,\">9,99\",$J8:$BB13,\"<20\")","v":2},{"$f":"COUNTIFS($J8:$BB13,\">19,99\")","v":0},{"$f":"COUNTIFS($J11:$BA11,\">4,99\",$J11:$BA11,\"<9,99\")","v":0},{"$f":"COUNTIFS($J11:$BB11,\">9,99\")","v":0}]
["A1",{"$f":"kod!B2","v":"Gát, mélyvíz"},{"$f":"kod!C2","v":"SBS - Halcatraz - TiZo Team"},{"$f":"SUM(J8:AZ8)","v":17},{"$f":"COUNT(J8:AZ8)","v":1},{"$f":"IF(E8=0,0,D8/E8)","v":17},{"$f":"MAX(J8:BA8)","v":17},null,"tükörponty",17]
["A1",{"$f":"kod!B2","v":"Gát, mélyvíz"},{"$f":"kod!C2","v":"SBS - Halcatraz - TiZo Team"},0,0,0,{"$f":"MAX(J9:BA9)","v":0},null,"tőponty"]
["A1",{"$f":"kod!B2","v":"Gát, mélyvíz"},{"$f":"kod!C2","v":"SBS - Halcatraz - TiZo Team"},23.524999999999999,2,11.762499999999999,14.05,null,"nyurgaponty",14.05,9.4749999999999996]
["A1",{"$f":"kod!B2","v":"Gát, mélyvíz"},{"$f":"kod!C2","v":"SBS - Halcatraz - TiZo Team"},0,0,0,null,{"$f":"MAX(J11:AZ11)","v":0},"koi ponty"]
["A1",{"$f":"kod!B2","v":"Gát, mélyvíz"},{"$f":"kod!C2","v":"SBS - Halcatraz - TiZo Team"},0,0,0,0,null,"amur"]
["A1",{"$f":"kod!B2","v":"Gát, mélyvíz"},{"$f":"kod!C2","v":"SBS - Halcatraz - TiZo Team"},0,0,0,0,null,"fekete amur"]
["A2",{"$f":"kod!B3","v":"Gát, mélyvíz"},{"$f":"kod!C3","v":"Altstadt Carp Team"},{"$f":"SUM(D15:D20)","v":11.6},{"$f":"SUM(E15:E20)","v":1},11.6,{"$f":"MAX(G15:G20)","v":11.6},{"$f":"H18","v":0},"ÖSSZESEN",{"$f":"COUNTIFS($J15:$BB20,\">9,99\",$J15:$BB20,\"<20\")","v":1},{"$f":"COUNTIFS($J15:$BB20,\">19,99\")","v":0},{"$f":"COUNTIFS($J18:$BA18,\">4,99\",$J18:$BA18,\"<9,99\")","v":0},{"$f":"COUNTIFS($J18:$BB18,\">9,99\")","v":0}]
["A2",{"$f":"kod!B3","v":"Gát, mélyvíz"},{"$f":"kod!C3","v":"Altstadt Carp Team"},{"$f":"SUM(J15:AZ15)","v":0},{"$f":"COUNT(J15:AZ15)","v":0},0,{"$f":"MAX(J15:BA15)","v":0},null,"tükörponty"]
["A2",{"$f":"kod!B3","v":"Gát, mélyvíz"},{"$f":"kod!C3","v":"Altstadt Carp Team"},0,0,0,{"$f":"MAX(J16:BA16)","v":0},null,"tőponty"]
["A2",{"$f":"kod!B3","v":"Gát, mélyvíz"},{"$f":"kod!C3","v":"Altstadt Carp Team"},11.6,1,11.6,{"$f":"MAX(J17:BA17)","v":11.6},null,"nyurgaponty",11.6]
["A2",{"$f":"kod!B3","v":"Gát, mélyvíz"},{"$f":"kod!C3","v":"Altstadt Carp Team"},0,0,0,null,{"$f":"MAX(J18:AZ18)","v":0},"koi ponty"]
["A2",{"$f":"kod!B3","v":"Gát, mélyvíz"},{"$f":"kod!C3","v":"Altstadt Carp Team"},0,0,0,{"$f":"MAX(J19:BA19)","v":0},null,"amur"]
["A2",{"$f":"kod!B3","v":"Gát, mélyvíz"},{"$f":"kod!C3","v":"Altstadt Carp Team"},0,0,0,{"$f":"MAX(J20:BA20)","v":0},null,"fekete amur"]
["A3",{"$f":"kod!B4","v":"Gát, mélyvíz"},{"$f":"kod!C4","v":"Ferma De Crap Diosig"},{"$f":"SUM(D22:D27)","v":23.82},{"$f":"SUM(E22:E27)","v":3},7.94,{"$f":"MAX(G22:G27)","v":8.1750000000000007},{"$f":"H25","v":0},"ÖSSZESEN",{"$f":"COUNTIFS($J22:$BB27,\">9,99\",$J22:$BB27,\"<20\")","v":0},{"$f":"COUNTIFS($J22:$BB27,\">19,99\")","v":0},{"$f":"COUNTIFS($J25:$BA25,\">4,99\",$J25:$BA25,\"<9,99\")","v":0},{"$f":"COUNTIFS($J25:$BB25,\">9,99\")","v":0}]
["A3",{"$f":"kod!B4","v":"Gát, mélyvíz"},{"$f":"kod!C4","v":"Ferma De Crap Diosig"},{"$f":"SUM(J22:AZ22)","v":7.7249999999999996},{"$f":"COUNT(J22:AZ22)","v":1},7.7249999999999996,{"$f":"MAX(J22:BA22)","v":7.7249999999999996},null,"tükörponty",7.7249999999999996]
["A3",{"$f":"kod!B4","v":"Gát, mélyvíz"},{"$f":"kod!C4","v":"Ferma De Crap Diosig"},8.1750000000000007,1,8.1750000000000007,{"$f":"MAX(J23:BA23)","v":8.1750000000000007},null,"tőponty",8.1750000000000007]
["A3",{"$f":"kod!B4","v":"Gát, mélyvíz"},{"$f":"kod!C4","v":"Ferma De Crap Diosig"},0,0,0,{"$f":"MAX(J24:BA24)","v":0},null,"nyurgaponty"]
["A3",{"$f":"kod!B4","v":"Gát, mélyvíz"},{"$f":"kod!C4","v":"Ferma De Crap Diosig"},0,0,0,null,{"$f":"MAX(J25:AZ25)","v":0},"koi ponty"]
["A3",{"$f":"kod!B4","v":"Gát, mélyvíz"},{"$f":"kod!C4","v":"Ferma De Crap Diosig"},7.92,1,7.92,{"$f":"MAX(J26:BA26)","v":7.92},null,"amur",7.92]
["A3",{"$f":"kod!B4","v":"Gát, mélyvíz"},{"$f":"kod!C4","v":"Ferma De Crap Diosig"},0,0,0,{"$f":"MAX(J27:BA27)","v":0},null,"fekete amur"]
["A4",{"$f":"kod!B5","v":"Gát, mélyvíz"},{"$f":"kod!C5","v":"Bull Tackle"},{"$f":"SUM(D29:D34)","v":27.95},{"$f":"SUM(E29:E34)","v":2},13.975,{"$f":"MAX(G29:G34)","v":14.975},{"$f":"H32","v":0},"ÖSSZESEN",{"$f":"COUNTIFS($J29:$BB34,\">9,99\",$J29:$BB34,\"<20\")","v":2},{"$f":"COUNTIFS($J29:$BB34,\">19,99\")","v":0},{"$f":"COUNTIFS($J32:$BA32,\">4,99\",$J32:$BA32,\"<9,99\")","v":0},{"$f":"COUNTIFS($J32:$BB32,\">9,99\")","v":0}]
["A4",{"$f":"kod!B5","v":"Gát, mélyvíz"},{"$f":"kod!C5","v":"Bull Tackle"},{"$f":"SUM(J29:AZ29)","v":0},{"$f":"COUNT(J29:AZ29)","v":0},0,{"$f":"MAX(J29:BA29)","v":0},null,"tükörponty"]
["A4",{"$f":"kod!B5","v":"Gát, mélyvíz"},{"$f":"kod!C5","v":"Bull Tackle"},0,0,0,{"$f":"MAX(J30:BA30)","v":0},null,"tőponty"]
["A4",{"$f":"kod!B5","v":"Gát, mélyvíz"},{"$f":"kod!C5","v":"Bull Tackle"},27.95,2,13.975,{"$f":"MAX(J31:BA31)","v":14.975},null,"nyurgaponty",12.975,14.975]
["A4",{"$f":"kod!B5","v":"Gát, mélyvíz"},{"$f":"kod!C5","v":"Bull Tackle"},0,0,0,null,{"$f":"MAX(J32:AZ32)","v":0},"koi ponty"]
["A4",{"$f":"kod!B5","v":"Gát, mélyvíz"},{"$f":"kod!C5","v":"Bull Tackle"},0,0,0,{"$f":"MAX(J33:BA33)","v":0},null,"amur"]
["A4",{"$f":"kod!B5","v":"Gát, mélyvíz"},{"$f":"kod!C5","v":"Bull Tackle"},0,0,0,{"$f":"MAX(J34:BA34)","v":0},null,"fekete amur"]
["A5",{"$f":"kod!B6","v":"Gát, mélyvíz"},{"$f":"kod!C6","v":"AHFSZ Fishing Team"},{"$f":"SUM(D36:D41)","v":0},{"$f":"SUM(E36:E41)","v":0},0,{"$f":"MAX(G36:G41)","v":0},{"$f":"H39","v":0},"ÖSSZESEN",{"$f":"COUNTIFS($J36:$BB41,\">9,99\",$J36:$BB41,\"<20\")","v":0},{"$f":"COUNTIFS($J36:$BB41,\">19,99\")","v":0},{"$f":"COUNTIFS($J39:$BA39,\">4,99\",$J39:$BA39,\"<9,99\")","v":0},{"$f":"COUNTIFS($J39:$BB39,\">9,99\")","v":0}]
["A5",{"$f":"kod!B6","v":"Gát, mélyvíz"},{"$f":"kod!C6","v":"AHFSZ Fishing Team"},{"$f":"SUM(J36:AZ36)","v":0},{"$f":"COUNT(J36:AZ36)","v":0},0,{"$f":"MAX(J36:BA36)","v":0},null,"tükörponty"]
["A5",{"$f":"kod!B6","v":"Gát, mélyvíz"},{"$f":"kod!C6","v":"AHFSZ Fishing Team"},0,0,0,{"$f":"MAX(J37:BA37)","v":0},null,"tőponty"]
["A5",{"$f":"kod!B6","v":"Gát, mélyvíz"},{"$f":"kod!C6","v":"AHFSZ Fishing Team"},0,0,0,{"$f":"MAX(J38:BA38)","v":0},null,"nyurgaponty"]
["A5",{"$f":"kod!B6","v":"Gát, mélyvíz"},{"$f":"kod!C6","v":"AHFSZ Fishing Team"},0,0,0,null,{"$f":"MAX(J39:AZ39)","v":0},"koi ponty"]
["A5",{"$f":"kod!B6","v":"Gát, mélyvíz"},{"$f":"kod!C6","v":"AHFSZ Fishing Team"},0,0,0,{"$f":"MAX(J40:BA40)","v":0},null,"amur"]
["A5",{"$f":"kod!B6","v":"Gát, mélyvíz"},{"$f":"kod!C6","v":"AHFSZ Fishing Team"},0,0,0,{"$f":"MAX(J41:BA41)","v":0},null,"fekete amur"]
["A6",{"$f":"kod!B7","v":"Nyári kikötő, belső"},{"$f":"kod!C7","v":"Black Carp Team"},{"$f":"SUM(D43:D48)","v":32.125},{"$f":"SUM(E43:E48)","v":6},5.354166666666667,{"$f":"MAX(G43:G48)","v":8.8249999999999993},{"$f":"H46","v":0},"ÖSSZESEN",{"$f":"COUNTIFS($J43:$BB48,\">9,99\",$J43:$BB48,\"<20\")","v":0},{"$f":"COUNTIFS($J43:$BB48,\">19,99\")","v":0},{"$f":"COUNTIFS($J46:$BA46,\">4,99\",$J46:$BA46,\"<9,99\")","v":0},{"$f":"COUNTIFS($J46:$BB46,\">9,99\")","v":0}]
["A6",{"$f":"kod!B7","v":"Nyári kikötő, belső"},{"$f":"kod!C7","v":"Black Carp Team"},{"$f":"SUM(J43:AZ43)","v":0},{"$f":"COUNT(J43:AZ43)","v":0},0,{"$f":"MAX(J43:BA43)","v":0},null,"tükörponty"]
["A6",{"$f":"kod!B7","v":"Nyári kikötő, belső"},{"$f":"kod!C7","v":"Black Carp Team"},7.6749999999999998,1,7.6749999999999998,{"$f":"MAX(J44:BA44)","v":7.6749999999999998},null,"tőponty",7.6749999999999998]
["A6",{"$f":"kod!B7","v":"Nyári kikötő, belső"},{"$f":"kod!C7","v":"Black Carp Team"},8.8249999999999993,1,8.8249999999999993,{"$f":"MAX(J45:BA45)","v":8.8249999999999993},null,"nyurgaponty",8.8249999999999993]
["A6",{"$f":"kod!B7","v":"Nyári kikötő, belső"},{"$f":"kod!C7","v":"Black Carp Team"},0,0,0,null,{"$f":"MAX(J46:AZ46)","v":0},"koi ponty"]
["A6",{"$f":"kod!B7","v":"Nyári kikötő, belső"},{"$f":"kod!C7","v":"Black Carp Team"},0,0,0,{"$f":"MAX(J47:BA47)","v":0},null,"amur"]
["A6",{"$f":"kod!B7","v":"Nyári kikötő, belső"},{"$f":"kod!C7","v":"Black Carp Team"},15.625,4,3.90625,{"$f":"MAX(J48:BA48)","v":4.9000000000000004},null,"fekete amur",3.35,4.9000000000000004,3.25,4.125]
["A7",{"$f":"kod!B8","v":"Nyári kikötő, közép"},{"$f":"kod!C8","v":"USA & Mivado Carp Team"},{"$f":"SUM(D50:D55)","v":14.875},{"$f":"SUM(E50:E55)","v":2},7.4375,{"$f":"MAX(G50:G55)","v":10.199999999999999},{"$f":"H53","v":0},"ÖSSZESEN",{"$f":"COUNTIFS($J50:$BB55,\">9,99\",$J50:$BB55,\"<20\")","v":1},{"$f":"COUNTIFS($J50:$BB55,\">19,99\")","v":0},{"$f":"COUNTIFS($J53:$BA53,\">4,99\",$J53:$BA53,\"<9,99\")","v":0},{"$f":"COUNTIFS($J53:$BB53,\">9,99\")","v":0}]
["A7",{"$f":"kod!B8","v":"Nyári kikötő, közép"},{"$f":"kod!C8","v":"USA & Mivado Carp Team"},{"$f":"SUM(J50:AZ50)","v":10.199999999999999},{"$f":"COUNT(J50:AZ50)","v":1},10.199999999999999,{"$f":"MAX(J50:BA50)","v":10.199999999999999},null,"tükörponty",10.199999999999999]
["A7",{"$f":"kod!B8","v":"Nyári kikötő, közép"},{"$f":"kod!C8","v":"USA & Mivado Carp Team"},4.6749999999999998,1,4.6749999999999998,{"$f":"MAX(J51:BA51)","v":4.6749999999999998},null,"tőponty",4.6749999999999998]
["A7",{"$f":"kod!B8","v":"Nyári kikötő, közép"},{"$f":"kod!C8","v":"USA & Mivado Carp Team"},0,0,0,{"$f":"MAX(J52:BA52)","v":0},null,"nyurgaponty"]
["A7",{"$f":"kod!B8","v":"Nyári kikötő, közép"},{"$f":"kod!C8","v":"USA & Mivado Carp Team"},0,0,0,null,{"$f":"MAX(J53:AZ53)","v":0},"koi ponty"]
["A7",{"$f":"kod!B8","v":"Nyári kikötő, közép"},{"$f":"kod!C8","v":"USA & Mivado Carp Team"},0,0,0,{"$f":"MAX(J54:BA54)","v":0},null,"amur"]
["A7",{"$f":"kod!B8","v":"Nyári kikötő, közép"},{"$f":"kod!C8","v":"USA & Mivado Carp Team"},0,0,0,{"$f":"MAX(J55:BA55)","v":0},null,"fekete amur"]
["A8",{"$f":"kod!B9","v":"Nyári kikötő, külső"},{"$f":"kod!C9","v":"Ózdi Sporthorgász Egyesület"},{"$f":"SUM(D57:D62)","v":72.424999999999997},{"$f":"SUM(E57:E62)","v":8},9.0531249999999996,{"$f":"MAX(G57:G62)","v":11.425000000000001},{"$f":"H60","v":0},"ÖSSZESEN",{"$f":"COUNTIFS($J57:$BB62,\">9,99\",$J57:$BB62,\"<20\")","v":3},{"$f":"COUNTIFS($J57:$BB62,\">19,99\")","v":0},{"$f":"COUNTIFS($J60:$BA60,\">4,99\",$J60:$BA60,\"<9,99\")","v":0},{"$f":"COUNTIFS($J60:$BB60,\">9,99\")","v":0}]
["A8",{"$f":"kod!B9","v":"Nyári kikötő, külső"},{"$f":"kod!C9","v":"Ózdi Sporthorgász Egyesület"},{"$f":"SUM(J57:AZ57)","v":0},{"$f":"COUNT(J57:AZ57)","v":0},0,{"$f":"MAX(J57:BA57)","v":0},null,"tükörponty"]
["A8",{"$f":"kod!B9","v":"Nyári kikötő, külső"},{"$f":"kod!C9","v":"Ózdi Sporthorgász Egyesület"},61.55,7,8.7928571428571427,{"$f":"MAX(J58:BA58)","v":11.425000000000001},null,"tőponty",7.1749999999999998,4.8,8.4749999999999996,11.15,9.0749999999999993,9.4499999999999993,11.425000000000001]
["A8",{"$f":"kod!B9","v":"Nyári kikötő, külső"},{"$f":"kod!C9","v":"Ózdi Sporthorgász Egyesület"},10.875,1,10.875,{"$f":"MAX(J59:BA59)","v":10.875},null,"nyurgaponty",10.875]
["A8",{"$f":"kod!B9","v":"Nyári kikötő, külső"},{"$f":"kod!C9","v":"Ózdi Sporthorgász Egyesület"},0,0,0,null,{"$f":"MAX(J60:AZ60)","v":0},"koi ponty"]
["A8",{"$f":"kod!B9","v":"Nyári kikötő, külső"},{"$f":"kod!C9","v":"Ózdi Sporthorgász Egyesület"},0,0,0,{"$f":"MAX(J61:BA61)","v":0},null,"amur"]
["A8",{"$f":"kod!B9","v":"Nyári kikötő, külső"},{"$f":"kod!C9","v":"Ózdi Sporthorgász Egyesület"},0,0,0,{"$f":"MAX(J62:BA62)","v":0},null,"fekete amur"]
["A9",{"$f":"kod!B10","v":"I. sziget, bal külső"},{"$f":"kod!C10","v":"Kártékony Carp Team"},{"$f":"SUM(D64:D69)","v":181.10000000000002},{"$f":"SUM(E64:E69)","v":20},9.0550000000000015,{"$f":"MAX(G64:G69)","v":16.675000000000001},{"$f":"H67","v":0},"ÖSSZESEN",{"$f":"COUNTIFS($J64:$BB69,\">9,99\",$J64:$BB69,\"<20\")","v":5},{"$f":"COUNTIFS($J64:$BB69,\">19,99\")","v":0},{"$f":"COUNTIFS($J67:$BA67,\">4,99\",$J67:$BA67,\"<9,99\")","v":0},{"$f":"COUNTIFS($J67:$BB67,\">9,99\")","v":0}]
["A9",{"$f":"kod!B10","v":"I. sziget, bal külső"},{"$f":"kod!C10","v":"Kártékony Carp Team"},{"$f":"SUM(J64:AZ64)","v":45.424999999999997},{"$f":"COUNT(J64:AZ64)","v":4},{"$f":"IF(E64=0,0,D64/E64)","v":11.356249999999999},{"$f":"MAX(J64:BA64)","v":16.675000000000001},null,"tükörponty",16.675000000000001,9.1750000000000007,5,14.574999999999999]
["A9",{"$f":"kod!B10","v":"I. sziget, bal külső"},{"$f":"kod!C10","v":"Kártékony Carp Team"},123.42500000000001,15,8.2283333333333335,{"$f":"MAX(J65:BA65)","v":14.525},null,"tőponty",14.5,7.9,5.65,6.8,8.9,8.5,4.8499999999999996,8.3249999999999993,7.2750000000000004,8.375,6.05,9.6,4.6500000000000004,7.5250000000000004,14.525]
["A9",{"$f":"kod!B10","v":"I. sziget, bal külső"},{"$f":"kod!C10","v":"Kártékony Carp Team"},12.25,1,12.25,{"$f":"MAX(J66:BA66)","v":12.25},null,"nyurgaponty",12.25]
["A9",{"$f":"kod!B10","v":"I. sziget, bal külső"},{"$f":"kod!C10","v":"Kártékony Carp Team"},0,0,0,null,{"$f":"MAX(J67:AZ67)","v":0},"koi ponty"]
["A9",{"$f":"kod!B10","v":"I. sziget, bal külső"},{"$f":"kod!C10","v":"Kártékony Carp Team"},0,0,0,{"$f":"MAX(J68:BA68)","v":0},null,"amur"]
["A9",{"$f":"kod!B10","v":"I. sziget, bal külső"},{"$f":"kod!C10","v":"Kártékony Carp Team"},0,0,0,{"$f":"MAX(J69:BA69)","v":0},null,"fekete amur"]
["A10",{"$f":"kod!B11","v":"I. sziget, bal"},{"$f":"kod!C11","v":"Team 5 Austria"},{"$f":"SUM(D71:D76)","v":0},{"$f":"SUM(E71:E76)","v":0},0,{"$f":"MAX(G71:G76)","v":0},{"$f":"H74","v":0},"ÖSSZESEN",{"$f":"COUNTIFS($J71:$BB76,\">9,99\",$J71:$BB76,\"<20\")","v":0},{"$f":"COUNTIFS($J71:$BB76,\">19,99\")","v":0},{"$f":"COUNTIFS($J74:$BA74,\">4,99\",$J74:$BA74,\"<9,99\")","v":0},{"$f":"COUNTIFS($J74:$BB74,\">9,99\")","v":0}]
["A10",{"$f":"kod!B11","v":"I. sziget, bal"},{"$f":"kod!C11","v":"Team 5 Austria"},{"$f":"SUM(J71:AZ71)","v":0},{"$f":"COUNT(J71:AZ71)","v":0},0,{"$f":"MAX(J71:BA71)","v":0},null,"tükörponty"]
["A10",{"$f":"kod!B11","v":"I. sziget, bal"},{"$f":"kod!C11","v":"Team 5 Austria"},0,0,0,{"$f":"MAX(J72:BA72)","v":0},null,"tőponty"]
["A10",{"$f":"kod!B11","v":"I. sziget, bal"},{"$f":"kod!C11","v":"Team 5 Austria"},0,0,0,{"$f":"MAX(J73:BA73)","v":0},null,"nyurgaponty"]
["A10",{"$f":"kod!B11","v":"I. sziget, bal"},{"$f":"kod!C11","v":"Team 5 Austria"},0,0,0,null,{"$f":"MAX(J74:AZ74)","v":0},"koi ponty"]
["A10",{"$f":"kod!B11","v":"I. sziget, bal"},{"$f":"kod!C11","v":"Team 5 Austria"},0,0,0,{"$f":"MAX(J75:BA75)","v":0},null,"amur"]
["A10",{"$f":"kod!B11","v":"I. sziget, bal"},{"$f":"kod!C11","v":"Team 5 Austria"},0,0,0,{"$f":"MAX(J76:BA76)","v":0},null,"fekete amur"]
["A11",{"$f":"kod!B12","v":"I. sziget, bal közép"},{"$f":"kod!C12","v":"Invader's Team Poland"},{"$f":"SUM(D78:D83)","v":5.4749999999999996},{"$f":"SUM(E78:E83)","v":2},2.7374999999999998,{"$f":"MAX(G78:G83)","v":3.7749999999999999},{"$f":"H81","v":0},"ÖSSZESEN",{"$f":"COUNTIFS($J78:$BB83,\">9,99\",$J78:$BB83,\"<20\")","v":0},{"$f":"COUNTIFS($J78:$BB83,\">19,99\")","v":0},{"$f":"COUNTIFS($J81:$BA81,\">4,99\",$J81:$BA81,\"<9,99\")","v":0},{"$f":"COUNTIFS($J81:$BB81,\">9,99\")","v":0}]
["A11",{"$f":"kod!B12","v":"I. sziget, bal közép"},{"$f":"kod!C12","v":"Invader's Team Poland"},{"$f":"SUM(J78:AZ78)","v":1.7},{"$f":"COUNT(J78:AZ78)","v":1},1.7,{"$f":"MAX(J78:BA78)","v":1.7},null,"tükörponty",1.7]
["A11",{"$f":"kod!B12","v":"I. sziget, bal közép"},{"$f":"kod!C12","v":"Invader's Team Poland"},0,0,0,{"$f":"MAX(J79:BA79)","v":0},null,"tőponty"]
["A11",{"$f":"kod!B12","v":"I. sziget, bal közép"},{"$f":"kod!C12","v":"Invader's Team Poland"},0,0,0,{"$f":"MAX(J80:BA80)","v":0},null,"nyurgaponty"]
["A11",{"$f":"kod!B12","v":"I. sziget, bal közép"},{"$f":"kod!C12","v":"Invader's Team Poland"},0,0,0,null,{"$f":"MAX(J81:AZ81)","v":0},"koi ponty"]
["A11",{"$f":"kod!B12","v":"I. sziget, bal közép"},{"$f":"kod!C12","v":"Invader's Team Poland"},0,0,0,{"$f":"MAX(J82:BA82)","v":0},null,"amur"]
["A11",{"$f":"kod!B12","v":"I. sziget, bal közép"},{"$f":"kod!C12","v":"Invader's Team Poland"},3.7749999999999999,1,3.7749999999999999,{"$f":"MAX(J83:BA83)","v":3.7749999999999999},null,"fekete amur",3.7749999999999999]
["B1",{"$f":"kod!B13","v":"Gát, közepes víz"},{"$f":"kod!C13","v":"Tata Nitu Carp Team"},{"$f":"SUM(D85:D90)","v":19.399999999999999},{"$f":"SUM(E85:E90)","v":3},{"$f":"IF(E84=0,0,D84/E84)","v":6.4666666666666659},{"$f":"MAX(G85:G90)","v":9.3000000000000007},{"$f":"H88","v":0},"ÖSSZESEN",{"$f":"COUNTIFS($J85:$BB90,\">9,99\",$J85:$BB90,\"<20\")","v":0},{"$f":"COUNTIFS($J85:$BB90,\">19,99\")","v":0},{"$f":"COUNTIFS($J88:$BA88,\">4,99\",$J88:$BA88,\"<9,99\")","v":0},{"$f":"COUNTIFS($J88:$BB88,\">9,99\")","v":0}]
["B1",{"$f":"kod!B13","v":"Gát, közepes víz"},{"$f":"kod!C13","v":"Tata Nitu Carp Team"},{"$f":"SUM(J85:AZ85)","v":0},{"$f":"COUNT(J85:AZ85)","v":0},{"$f":"IF(E85=0,0,D85/E85)","v":0},{"$f":"MAX(J85:BA85)","v":0},null,"tükörponty"]
["B1",{"$f":"kod!B13","v":"Gát, közepes víz"},{"$f":"kod!C13","v":"Tata Nitu Carp Team"},6.5,1,6.5,{"$f":"MAX(J86:BA86)","v":6.5},null,"tőponty",6.5]
["B1",{"$f":"kod!B13","v":"Gát, közepes víz"},{"$f":"kod!C13","v":"Tata Nitu Carp Team"},12.9,2,6.45,{"$f":"MAX(J87:BA87)","v":9.3000000000000007},null,"nyurgaponty",9.3000000000000007,3.6]
["B1",{"$f":"kod!B13","v":"Gát, közepes víz"},{"$f":"kod!C13","v":"Tata Nitu Carp Team"},0,0,0,null,{"$f":"MAX(J88:AZ88)","v":0},"koi ponty"]
["B1",{"$f":"kod!B13","v":"Gát, közepes víz"},{"$f":"kod!C13","v":"Tata Nitu Carp Team"},0,0,0,{"$f":"MAX(J89:BA89)","v":0},null,"amur"]
["B1",{"$f":"kod!B13","v":"Gát, közepes víz"},{"$f":"kod!C13","v":"Tata Nitu Carp Team"},0,0,0,{"$f":"MAX(J90:BA90)","v":0},null,"fekete amur"]
["B2",{"$f":"kod!B14","v":"Gát, közepes víz"},{"$f":"kod!C14","v":"Slovakia Carp Team"},{"$f":"SUM(D92:D97)","v":0},{"$f":"SUM(E92:E97)","v":0},0,{"$f":"MAX(G92:G97)","v":0},{"$f":"H95","v":0},"ÖSSZESEN",{"$f":"COUNTIFS($J92:$BB97,\">9,99\",$J92:$BB97,\"<20\")","v":0},{"$f":"COUNTIFS($J92:$BB97,\">19,99\")","v":0},{"$f":"COUNTIFS($J95:$BA95,\">4,99\",$J95:$BA95,\"<9,99\")","v":0},{"$f":"COUNTIFS($J95:$BB95,\">9,99\")","v":0}]
["B2",{"$f":"kod!B14","v":"Gát, közepes víz"},{"$f":"kod!C14","v":"Slovakia Carp Team"},{"$f":"SUM(J92:AZ92)","v":0},{"$f":"COUNT(J92:AZ92)","v":0},0,{"$f":"MAX(J92:BA92)","v":0},null,"tükörponty"]
["B2",{"$f":"kod!B14","v":"Gát, közepes víz"},{"$f":"kod!C14","v":"Slovakia Carp Team"},0,0,0,{"$f":"MAX(J93:BA93)","v":0},null,"tőponty"]
["B2",{"$f":"kod!B14","v":"Gát, közepes víz"},{"$f":"kod!C14","v":"Slovakia Carp Team"},0,0,0,{"$f":"MAX(J94:BA94)","v":0},null,"nyurgaponty"]
["B2",{"$f":"kod!B14","v":"Gát, közepes víz"},{"$f":"kod!C14","v":"Slovakia Carp Team"},0,0,0,null,{"$f":"MAX(J95:AZ95)","v":0},"koi ponty"]
["B2",{"$f":"kod!B14","v":"Gát, közepes víz"},{"$f":"kod!C14","v":"Slovakia Carp Team"},0,0,0,{"$f":"MAX(J96:BA96)","v":0},null,"amur"]
["B2",{"$f":"kod!B14","v":"Gát, közepes víz"},{"$f":"kod!C14","v":"Slovakia Carp Team"},0,0,0,{"$f":"MAX(J97:BA97)","v":0},null,"fekete amur"]
["B3",{"$f":"kod!B15","v":"Gát, közepes víz"},{"$f":"kod!C15","v":"WLC Hungary "},{"$f":"SUM(D99:D104)","v":32.524999999999999},{"$f":"SUM(E99:E104)","v":4},8.1312499999999996,{"$f":"MAX(G99:G104)","v":12.275},{"$f":"H102","v":0},"ÖSSZESEN",{"$f":"COUNTIFS($J99:$BB104,\">9,99\",$J99:$BB104,\"<20\")","v":2},{"$f":"COUNTIFS($J99:$BB104,\">19,99\")","v":0},{"$f":"COUNTIFS($J102:$BA102,\">4,99\",$J102:$BA102,\"<9,99\")","v":0},{"$f":"COUNTIFS($J102:$BB102,\">9,99\")","v":0}]
["B3",{"$f":"kod!B15","v":"Gát, közepes víz"},{"$f":"kod!C15","v":"WLC Hungary "},{"$f":"SUM(J99:AZ99)","v":0},{"$f":"COUNT(J99:AZ99)","v":0},0,{"$f":"MAX(J99:BA99)","v":0},null,"tükörponty"]
["B3",{"$f":"kod!B15","v":"Gát, közepes víz"},{"$f":"kod!C15","v":"WLC Hungary "},0,0,0,{"$f":"MAX(J100:BA100)","v":0},null,"tőponty"]
["B3",{"$f":"kod!B15","v":"Gát, közepes víz"},{"$f":"kod!C15","v":"WLC Hungary "},24.15,2,12.074999999999999,{"$f":"MAX(J101:BA101)","v":12.275},null,"nyurgaponty",11.875,12.275]
["B3",{"$f":"kod!B15","v":"Gát, közepes víz"},{"$f":"kod!C15","v":"WLC Hungary "},0,0,0,null,{"$f":"MAX(J102:AZ102)","v":0},"koi ponty"]
["B3",{"$f":"kod!B15","v":"Gát, közepes víz"},{"$f":"kod!C15","v":"WLC Hungary "},0,0,0,{"$f":"MAX(J103:BA103)","v":0},null,"amur"]
["B3",{"$f":"kod!B15","v":"Gát, közepes víz"},{"$f":"kod!C15","v":"WLC Hungary "},8.375,2,4.1875,{"$f":"MAX(J104:BA104)","v":4.8},null,"fekete amur",3.5750000000000002,4.8]
["B4",{"$f":"kod!B16","v":"Gát, közepes víz"},{"$f":"kod!C16","v":"Barfin Line NSD Bulgaria"},{"$f":"SUM(D106:D111)","v":44.674999999999997},{"$f":"SUM(E106:E111)","v":5},8.9349999999999987,{"$f":"MAX(G106:G111)","v":11.8},{"$f":"H109","v":0},"ÖSSZESEN",{"$f":"COUNTIFS($J106:$BB111,\">9,99\",$J106:$BB111,\"<20\")","v":2},{"$f":"COUNTIFS($J106:$BB111,\">19,99\")","v":0},{"$f":"COUNTIFS($J109:$BA109,\">4,99\",$J109:$BA109,\"<9,99\")","v":0},{"$f":"COUNTIFS($J109:$BB109,\">9,99\")","v":0}]
["B4",{"$f":"kod!B16","v":"Gát, közepes víz"},{"$f":"kod!C16","v":"Barfin Line NSD Bulgaria"},{"$f":"SUM(J106:AZ106)","v":7.2},{"$f":"COUNT(J106:AZ106)","v":1},7.2,{"$f":"MAX(J106:BA106)","v":7.2},null,"tükörponty",7.2]
["B4",{"$f":"kod!B16","v":"Gát, közepes víz"},{"$f":"kod!C16","v":"Barfin Line NSD Bulgaria"},15.274999999999999,2,7.6374999999999993,8.5749999999999993,null,"tőponty",8.5749999999999993,6.7]
["B4",{"$f":"kod!B16","v":"Gát, közepes víz"},{"$f":"kod!C16","v":"Barfin Line NSD Bulgaria"},22.200000000000003,2,11.100000000000001,11.8,null,"nyurgaponty",11.8,10.4]
["B4",{"$f":"kod!B16","v":"Gát, közepes víz"},{"$f":"kod!C16","v":"Barfin Line NSD Bulgaria"},0,0,0,0,{"$f":"MAX(J109:AZ109)","v":0},"koi ponty"]
["B4",{"$f":"kod!B16","v":"Gát, közepes víz"},{"$f":"kod!C16","v":"Barfin Line NSD Bulgaria"},0,0,0,0,null,"amur"]
["B4",{"$f":"kod!B16","v":"Gát, közepes víz"},{"$f":"kod!C16","v":"Barfin Line NSD Bulgaria"},0,0,0,0,null,"fekete amur"]
["B5",{"$f":"kod!B17","v":"Gát, közepes víz"},{"$f":"kod!C17","v":"Lutra Carp Hunters"},{"$f":"SUM(D113:D118)","v":28.025000000000002},{"$f":"SUM(E113:E118)","v":4},7.0062500000000005,{"$f":"MAX(G113:G118)","v":11.375},{"$f":"H116","v":0},"ÖSSZESEN",{"$f":"COUNTIFS($J113:$BB118,\">9,99\",$J113:$BB118,\"<20\")","v":1},{"$f":"COUNTIFS($J113:$BB118,\">19,99\")","v":0},{"$f":"COUNTIFS($J116:$BA116,\">4,99\",$J116:$BA116,\"<9,99\")","v":0},{"$f":"COUNTIFS($J116:$BB116,\">9,99\")","v":0}]
["B5",{"$f":"kod!B17","v":"Gát, közepes víz"},{"$f":"kod!C17","v":"Lutra Carp Hunters"},{"$f":"SUM(J113:AZ113)","v":0},{"$f":"COUNT(J113:AZ113)","v":0},0,{"$f":"MAX(J113:BA113)","v":0},null,"tükörponty"]
["B5",{"$f":"kod!B17","v":"Gát, közepes víz"},{"$f":"kod!C17","v":"Lutra Carp Hunters"},7.9749999999999996,1,7.9749999999999996,{"$f":"MAX(J114:BA114)","v":7.9749999999999996},null,"tőponty",7.9749999999999996]
["B5",{"$f":"kod!B17","v":"Gát, közepes víz"},{"$f":"kod!C17","v":"Lutra Carp Hunters"},11.375,1,11.375,{"$f":"MAX(J115:BA115)","v":11.375},null,"nyurgaponty",11.375]
["B5",{"$f":"kod!B17","v":"Gát, közepes víz"},{"$f":"kod!C17","v":"Lutra Carp Hunters"},0,0,0,null,{"$f":"MAX(J116:AZ116)","v":0},"koi ponty"]
["B5",{"$f":"kod!B17","v":"Gát, közepes víz"},{"$f":"kod!C17","v":"Lutra Carp Hunters"},0,0,0,{"$f":"MAX(J117:BA117)","v":0},null,"amur"]
["B5",{"$f":"kod!B17","v":"Gát, közepes víz"},{"$f":"kod!C17","v":"Lutra Carp Hunters"},8.6750000000000007,2,4.3375000000000004,{"$f":"MAX(J118:BA118)","v":4.3499999999999996},null,"fekete amur",4.3250000000000002,4.3499999999999996]
["B6",{"$f":"kod!B18","v":"Gát, közepes víz"},{"$f":"kod!C18","v":"Xtra Carp Team"},{"$f":"SUM(D120:D125)","v":60.849999999999994},{"$f":"SUM(E120:E125)","v":5},12.169999999999998,{"$f":"MAX(G120:G125)","v":19.45},{"$f":"H123","v":0},"ÖSSZESEN",{"$f":"COUNTIFS($J120:$BB125,\">9,99\",$J120:$BB125,\"<20\")","v":4},{"$f":"COUNTIFS($J120:$BB125,\">19,99\")","v":0},{"$f":"COUNTIFS($J123:$BA123,\">4,99\",$J123:$BA123,\"<9,99\")","v":0},{"$f":"COUNTIFS($J123:$BB123,\">9,99\")","v":0}]
["B6",{"$f":"kod!B18","v":"Gát, közepes víz"},{"$f":"kod!C18","v":"Xtra Carp Team"},{"$f":"SUM(J120:AZ120)","v":19.45},{"$f":"COUNT(J120:AZ120)","v":1},19.45,{"$f":"MAX(J120:BA120)","v":19.45},null,"tükörponty",19.45]
["B6",{"$f":"kod!B18","v":"Gát, közepes víz"},{"$f":"kod!C18","v":"Xtra Carp Team"},17.899999999999999,1,17.899999999999999,{"$f":"MAX(J121:BA121)","v":17.899999999999999},null,"tőponty",17.899999999999999]
["B6",{"$f":"kod!B18","v":"Gát, közepes víz"},{"$f":"kod!C18","v":"Xtra Carp Team"},0,0,0,{"$f":"MAX(J122:BA122)","v":0},null,"nyurgaponty"]
["B6",{"$f":"kod!B18","v":"Gát, közepes víz"},{"$f":"kod!C18","v":"Xtra Carp Team"},0,0,0,null,{"$f":"MAX(J123:AZ123)","v":0},"koi ponty"]
["B6",{"$f":"kod!B18","v":"Gát, közepes víz"},{"$f":"kod!C18","v":"Xtra Carp Team"},20.625,2,10.3125,{"$f":"MAX(J124:BA124)","v":10.525},null,"amur",10.525,10.1]
["B6",{"$f":"kod!B18","v":"Gát, közepes víz"},{"$f":"kod!C18","v":"Xtra Carp Team"},2.875,1,2.875,{"$f":"MAX(J125:BA125)","v":2.875},null,"fekete amur",2.875]
["B7",{"$f":"kod!B19","v":"I. sziget, jobb közép"},{"$f":"kod!C19","v":"Elite Carp Team Brasov"},{"$f":"SUM(D127:D132)","v":71.599999999999994},{"$f":"SUM(E127:E132)","v":9},7.9555555555555548,{"$f":"MAX(G127:G132)","v":11.05},{"$f":"H130","v":10.3},"ÖSSZESEN",{"$f":"COUNTIFS($J127:$BB132,\">9,99\",$J127:$BB132,\"<20\")","v":2},{"$f":"COUNTIFS($J127:$BB132,\">19,99\")","v":0},{"$f":"COUNTIFS($J130:$BA130,\">4,99\",$J130:$BA130,\"<9,99\")","v":0},{"$f":"COUNTIFS($J130:$BB130,\">9,99\")","v":1}]
["B7",{"$f":"kod!B19","v":"I. sziget, jobb közép"},{"$f":"kod!C19","v":"Elite Carp Team Brasov"},{"$f":"SUM(J127:AZ127)","v":5.6749999999999998},{"$f":"COUNT(J127:AZ127)","v":1},5.6749999999999998,{"$f":"MAX(J127:BA127)","v":5.6749999999999998},null,"tükörponty",5.6749999999999998]
["B7",{"$f":"kod!B19","v":"I. sziget, jobb közép"},{"$f":"kod!C19","v":"Elite Carp Team Brasov"},27.950000000000003,4,6.9875000000000007,{"$f":"MAX(J128:BA128)","v":9.9},null,"tőponty",7.3,3,9.9,7.75]
["B7",{"$f":"kod!B19","v":"I. sziget, jobb közép"},{"$f":"kod!C19","v":"Elite Carp Team Brasov"},27.675000000000001,3,9.2249999999999996,{"$f":"MAX(J129:BA129)","v":11.05},null,"nyurgaponty",8.125,8.5,11.05]
["B7",{"$f":"kod!B19","v":"I. sziget, jobb közép"},{"$f":"kod!C19","v":"Elite Carp Team Brasov"},10.3,1,10.3,null,{"$f":"MAX(J130:AZ130)","v":10.3},"koi ponty",10.3]
["B7",{"$f":"kod!B19","v":"I. sziget, jobb közép"},{"$f":"kod!C19","v":"Elite Carp Team Brasov"},0,0,0,{"$f":"MAX(J131:BA131)","v":0},null,"amur"]
["B7",{"$f":"kod!B19","v":"I. sziget, jobb közép"},{"$f":"kod!C19","v":"Elite Carp Team Brasov"},0,0,0,{"$f":"MAX(J132:BA132)","v":0},null,"fekete amur"]
["B8",{"$f":"kod!B20","v":"I. sziget, jobb "},{"$f":"kod!C20","v":"CT777 Varna Bulgaria"},{"$f":"SUM(D134:D139)","v":54.875},{"$f":"SUM(E134:E139)","v":6},9.1458333333333339,{"$f":"MAX(G134:G139)","v":12.175000000000001},{"$f":"H137","v":0},"ÖSSZESEN",{"$f":"COUNTIFS($J134:$BB139,\">9,99\",$J134:$BB139,\"<20\")","v":2},{"$f":"COUNTIFS($J134:$BB139,\">19,99\")","v":0},{"$f":"COUNTIFS($J137:$BA137,\">4,99\",$J137:$BA137,\"<9,99\")","v":0},{"$f":"COUNTIFS($J137:$BB137,\">9,99\")","v":0}]
["B8",{"$f":"kod!B20","v":"I. sziget, jobb "},{"$f":"kod!C20","v":"CT777 Varna Bulgaria"},{"$f":"SUM(J134:AZ134)","v":8.9499999999999993},{"$f":"COUNT(J134:AZ134)","v":1},8.9499999999999993,{"$f":"MAX(J134:BA134)","v":8.9499999999999993},null,"tükörponty",8.9499999999999993]
["B8",{"$f":"kod!B20","v":"I. sziget, jobb "},{"$f":"kod!C20","v":"CT777 Varna Bulgaria"},28.400000000000002,3,9.4666666666666668,{"$f":"MAX(J135:BA135)","v":12.175000000000001},null,"tőponty",7.35,8.875,12.175000000000001]
["B8",{"$f":"kod!B20","v":"I. sziget, jobb "},{"$f":"kod!C20","v":"CT777 Varna Bulgaria"},10.35,1,10.35,{"$f":"MAX(J136:BA136)","v":10.35},null,"nyurgaponty",10.35]
["B8",{"$f":"kod!B20","v":"I. sziget, jobb "},{"$f":"kod!C20","v":"CT777 Varna Bulgaria"},0,0,0,null,{"$f":"MAX(J137:AZ137)","v":0},"koi ponty"]
["B8",{"$f":"kod!B20","v":"I. sziget, jobb "},{"$f":"kod!C20","v":"CT777 Varna Bulgaria"},7.1749999999999998,1,7.1749999999999998,{"$f":"MAX(J138:BA138)","v":7.1749999999999998},null,"amur",7.1749999999999998]
["B8",{"$f":"kod!B20","v":"I. sziget, jobb "},{"$f":"kod!C20","v":"CT777 Varna Bulgaria"},0,0,0,{"$f":"MAX(J139:BA139)","v":0},null,"fekete amur"]
["B9",{"$f":"kod!B21","v":"I. sziget, jobb külső"},{"$f":"kod!C21","v":"Bait Maker Team"},{"$f":"SUM(D141:D146)","v":101.07499999999999},{"$f":"SUM(E141:E146)","v":11},9.1886363636363626,{"$f":"MAX(G141:G146)","v":15.15},{"$f":"H144","v":0},"ÖSSZESEN",{"$f":"COUNTIFS($J141:$BB146,\">9,99\",$J141:$BB146,\"<20\")","v":3},{"$f":"COUNTIFS($J141:$BB146,\">19,99\")","v":0},{"$f":"COUNTIFS($J144:$BA144,\">4,99\",$J144:$BA144,\"<9,99\")","v":0},{"$f":"COUNTIFS($J144:$BB144,\">9,99\")","v":0}]
["B9",{"$f":"kod!B21","v":"I. sziget, jobb külső"},{"$f":"kod!C21","v":"Bait Maker Team"},{"$f":"SUM(J141:AZ141)","v":40.15},{"$f":"COUNT(J141:AZ141)","v":5},{"$f":"IF(E141=0,0,D141/E141)","v":8.0299999999999994},{"$f":"MAX(J141:BA141)","v":10.65},null,"tükörponty",10.65,6.4,7.35,9.4,6.35]
["B9",{"$f":"kod!B21","v":"I. sziget, jobb külső"},{"$f":"kod!C21","v":"Bait Maker Team"},60.92499999999999,6,10.154166666666665,{"$f":"MAX(J142:BA142)","v":15.15},null,"tőponty",8.125,8.9,8.9,11.925000000000001,15.15,7.9249999999999998]
["B9",{"$f":"kod!B21","v":"I. sziget, jobb külső"},{"$f":"kod!C21","v":"Bait Maker Team"},0,0,0,{"$f":"MAX(J143:BA143)","v":0},null,"nyurgaponty"]
["B9",{"$f":"kod!B21","v":"I. sziget, jobb külső"},{"$f":"kod!C21","v":"Bait Maker Team"},0,0,0,null,{"$f":"MAX(J144:AZ144)","v":0},"koi ponty"]
["B9",{"$f":"kod!B21","v":"I. sziget, jobb külső"},{"$f":"kod!C21","v":"Bait Maker Team"},0,0,0,{"$f":"MAX(J145:BA145)","v":0},null,"amur"]
["B9",{"$f":"kod!B21","v":"I. sziget, jobb külső"},{"$f":"kod!C21","v":"Bait Maker Team"},0,0,0,{"$f":"MAX(J146:BA146)","v":0},null,"fekete amur"]
["B10",{"$f":"kod!B22","v":"Felező-spicc, bal"},{"$f":"kod!C22","v":"SBS - SziKo Team"},{"$f":"SUM(D148:D153)","v":19.649999999999999},{"$f":"SUM(E148:E153)","v":3},6.55,{"$f":"MAX(G148:G153)","v":10.225},{"$f":"H151","v":0},"ÖSSZESEN",{"$f":"COUNTIFS($J148:$BB153,\">9,99\",$J148:$BB153,\"<20\")","v":1},{"$f":"COUNTIFS($J148:$BB153,\">19,99\")","v":0},{"$f":"COUNTIFS($J151:$BA151,\">4,99\",$J151:$BA151,\"<9,99\")","v":0},{"$f":"COUNTIFS($J151:$BB151,\">9,99\")","v":0}]
["B10",{"$f":"kod!B22","v":"Felező-spicc, bal"},{"$f":"kod!C22","v":"SBS - SziKo Team"},{"$f":"SUM(J148:AZ148)","v":10.225},{"$f":"COUNT(J148:AZ148)","v":1},10.225,{"$f":"MAX(J148:BA148)","v":10.225},null,"tükörponty",10.225]
["B10",{"$f":"kod!B22","v":"Felező-spicc, bal"},{"$f":"kod!C22","v":"SBS - SziKo Team"},9.4250000000000007,2,4.7125000000000004,{"$f":"MAX(J149:BA149)","v":7.3},null,"tőponty",2.125,7.3]
["B10",{"$f":"kod!B22","v":"Felező-spicc, bal"},{"$f":"kod!C22","v":"SBS - SziKo Team"},0,0,0,{"$f":"MAX(J150:BA150)","v":0},null,"nyurgaponty"]
["B10",{"$f":"kod!B22","v":"Felező-spicc, bal"},{"$f":"kod!C22","v":"SBS - SziKo Team"},0,0,0,null,{"$f":"MAX(J151:AZ151)","v":0},"koi ponty"]
["B10",{"$f":"kod!B22","v":"Felező-spicc, bal"},{"$f":"kod!C22","v":"SBS - SziKo Team"},0,0,0,{"$f":"MAX(J152:BA152)","v":0},null,"amur"]
["B10",{"$f":"kod!B22","v":"Felező-spicc, bal"},{"$f":"kod!C22","v":"SBS - SziKo Team"},0,0,0,{"$f":"MAX(J153:BA153)","v":0},null,"fekete amur"]
["B11",{"$f":"kod!B23","v":"Felező-spicc, közép"},{"$f":"kod!C23","v":"Síp Carp Team"},{"$f":"SUM(D155:D160)","v":22.15},{"$f":"SUM(E155:E160)","v":3},7.3833333333333329,{"$f":"MAX(G155:G160)","v":8.5},{"$f":"H158","v":0},"ÖSSZESEN",{"$f":"COUNTIFS($J155:$BB160,\">9,99\",$J155:$BB160,\"<20\")","v":0},{"$f":"COUNTIFS($J155:$BB160,\">19,99\")","v":0},{"$f":"COUNTIFS($J158:$BA158,\">4,99\",$J158:$BA158,\"<9,99\")","v":0},{"$f":"COUNTIFS($J158:$BB158,\">9,99\")","v":0}]
["B11",{"$f":"kod!B23","v":"Felező-spicc, közép"},{"$f":"kod!C23","v":"Síp Carp Team"},{"$f":"SUM(J155:AZ155)","v":6.95},1,6.95,{"$f":"MAX(J155:BA155)","v":6.95},null,"tükörponty",6.95]
["B11",{"$f":"kod!B23","v":"Felező-spicc, közép"},{"$f":"kod!C23","v":"Síp Carp Team"},15.2,2,7.6,8.5,null,"tőponty",8.5,6.7]
["B11",{"$f":"kod!B23","v":"Felező-spicc, közép"},{"$f":"kod!C23","v":"Síp Carp Team"},0,0,0,0,null,"nyurgaponty"]
["B11",{"$f":"kod!B23","v":"Felező-spicc, közép"},{"$f":"kod!C23","v":"Síp Carp Team"},0,0,0,null,{"$f":"MAX(J158:AZ158)","v":0},"koi ponty"]
["B11",{"$f":"kod!B23","v":"Felező-spicc, közép"},{"$f":"kod!C23","v":"Síp Carp Team"},0,0,0,{"$f":"MAX(J159:BA159)","v":0},null,"amur"]
["B11",{"$f":"kod!B23","v":"Felező-spicc, közép"},{"$f":"kod!C23","v":"Síp Carp Team"},0,0,0,0,null,"fekete amur"]
["C1",{"$f":"kod!B24","v":"Gát, sekély víz"},{"$f":"kod!C24","v":"Carp Fever Bulgaria"},{"$f":"SUM(D162:D167)","v":27.875},{"$f":"SUM(E162:E167)","v":5},{"$f":"IF(E161=0,0,D161/E161)","v":5.5750000000000002},{"$f":"MAX(G162:G167)","v":8.1750000000000007},{"$f":"H165","v":0},"ÖSSZESEN",{"$f":"COUNTIFS($J162:$BB167,\">9,99\",$J162:$BB167,\"<20\")","v":0},{"$f":"COUNTIFS($J162:$BB167,\">19,99\")","v":0},{"$f":"COUNTIFS($J165:$BA165,\">4,99\",$J165:$BA165,\"<9,99\")","v":0},{"$f":"COUNTIFS($J165:$BB165,\">9,99\")","v":0}]
["C1",{"$f":"kod!B24","v":"Gát, sekély víz"},{"$f":"kod!C24","v":"Carp Fever Bulgaria"},{"$f":"SUM(J162:AZ162)","v":6.95},{"$f":"COUNT(J162:AZ162)","v":1},{"$f":"IF(E162=0,0,D162/E162)","v":6.95},{"$f":"MAX(J162:BA162)","v":6.95},null,"tükörponty",6.95]
["C1",{"$f":"kod!B24","v":"Gát, sekély víz"},{"$f":"kod!C24","v":"Carp Fever Bulgaria"},12.75,3,4.25,{"$f":"MAX(J163:BA163)","v":6.6},null,"tőponty",3.375,2.7749999999999999,6.6]
["C1",{"$f":"kod!B24","v":"Gát, sekély víz"},{"$f":"kod!C24","v":"Carp Fever Bulgaria"},8.1750000000000007,1,8.1750000000000007,{"$f":"MAX(J164:BA164)","v":8.1750000000000007},null,"nyurgaponty",8.1750000000000007]
["C1",{"$f":"kod!B24","v":"Gát, sekély víz"},{"$f":"kod!C24","v":"Carp Fever Bulgaria"},0,0,0,null,{"$f":"MAX(J165:AZ165)","v":0},"koi ponty"]
["C1",{"$f":"kod!B24","v":"Gát, sekély víz"},{"$f":"kod!C24","v":"Carp Fever Bulgaria"},0,0,0,{"$f":"MAX(J166:BA166)","v":0},null,"amur"]
["C1",{"$f":"kod!B24","v":"Gát, sekély víz"},{"$f":"kod!C24","v":"Carp Fever Bulgaria"},0,0,0,{"$f":"MAX(J167:BA167)","v":0},null,"fekete amur"]
["C2",{"$f":"kod!B25","v":"Gát, sekély víz"},{"$f":"kod!C25","v":"Carpfriends Ennstal-Austria"},{"$f":"SUM(D169:D174)","v":24.9},{"$f":"SUM(E169:E174)","v":3},8.2999999999999989,{"$f":"MAX(G169:G174)","v":10.425000000000001},{"$f":"H172","v":0},"ÖSSZESEN",{"$f":"COUNTIFS($J169:$BB174,\">9,99\",$J169:$BB174,\"<20\")","v":1},{"$f":"COUNTIFS($J169:$BB174,\">19,99\")","v":0},{"$f":"COUNTIFS($J172:$BA172,\">4,99\",$J172:$BA172,\"<9,99\")","v":0},{"$f":"COUNTIFS($J172:$BB172,\">9,99\")","v":0}]
["C2",{"$f":"kod!B25","v":"Gát, sekély víz"},{"$f":"kod!C25","v":"Carpfriends Ennstal-Austria"},{"$f":"SUM(J169:AZ169)","v":0},{"$f":"COUNT(J169:AZ169)","v":0},0,{"$f":"MAX(J169:BA169)","v":0},null,"tükörponty"]
["C2",{"$f":"kod!B25","v":"Gát, sekély víz"},{"$f":"kod!C25","v":"Carpfriends Ennstal-Austria"},0,0,0,{"$f":"MAX(J170:BA170)","v":0},null,"tőponty"]
["C2",{"$f":"kod!B25","v":"Gát, sekély víz"},{"$f":"kod!C25","v":"Carpfriends Ennstal-Austria"},24.9,3,8.2999999999999989,{"$f":"MAX(J171:BA171)","v":10.425000000000001},null,"nyurgaponty",5.2750000000000004,9.1999999999999993,10.425000000000001]
["C2",{"$f":"kod!B25","v":"Gát, sekély víz"},{"$f":"kod!C25","v":"Carpfriends Ennstal-Austria"},0,0,0,null,{"$f":"MAX(J172:AZ172)","v":0},"koi ponty"]
["C2",{"$f":"kod!B25","v":"Gát, sekély víz"},{"$f":"kod!C25","v":"Carpfriends Ennstal-Austria"},0,0,0,{"$f":"MAX(J173:BA173)","v":0},null,"amur"]
["C2",{"$f":"kod!B25","v":"Gát, sekély víz"},{"$f":"kod!C25","v":"Carpfriends Ennstal-Austria"},0,0,0,{"$f":"MAX(J174:BA174)","v":0},null,"fekete amur"]
["C3",{"$f":"kod!B26","v":"Gát, sekély víz"},{"$f":"kod!C26","v":"Carp Team Brasov"},{"$f":"SUM(D176:D181)","v":20.074999999999999},{"$f":"SUM(E176:E181)","v":2},10.0375,{"$f":"MAX(G176:G181)","v":11.475},{"$f":"H179","v":0},"ÖSSZESEN",{"$f":"COUNTIFS($J176:$BB181,\">9,99\",$J176:$BB181,\"<20\")","v":1},{"$f":"COUNTIFS($J176:$BB181,\">19,99\")","v":0},{"$f":"COUNTIFS($J179:$BA179,\">4,99\",$J179:$BA179,\"<9,99\")","v":0},{"$f":"COUNTIFS($J179:$BB179,\">9,99\")","v":0}]
["C3",{"$f":"kod!B26","v":"Gát, sekély víz"},{"$f":"kod!C26","v":"Carp Team Brasov"},{"$f":"SUM(J176:AZ176)","v":0},{"$f":"COUNT(J176:AZ176)","v":0},0,{"$f":"MAX(J176:BA176)","v":0},null,"tükörponty"]
["C3",{"$f":"kod!B26","v":"Gát, sekély víz"},{"$f":"kod!C26","v":"Carp Team Brasov"},0,0,0,{"$f":"MAX(J177:BA177)","v":0},null,"tőponty"]
["C3",{"$f":"kod!B26","v":"Gát, sekély víz"},{"$f":"kod!C26","v":"Carp Team Brasov"},20.074999999999999,2,10.0375,{"$f":"MAX(J178:BA178)","v":11.475},null,"nyurgaponty",8.6,11.475]
["C3",{"$f":"kod!B26","v":"Gát, sekély víz"},{"$f":"kod!C26","v":"Carp Team Brasov"},0,0,0,null,{"$f":"MAX(J179:AZ179)","v":0},"koi ponty"]
["C3",{"$f":"kod!B26","v":"Gát, sekély víz"},{"$f":"kod!C26","v":"Carp Team Brasov"},0,0,0,{"$f":"MAX(J180:BA180)","v":0},null,"amur"]
["C3",{"$f":"kod!B26","v":"Gát, sekély víz"},{"$f":"kod!C26","v":"Carp Team Brasov"},0,0,0,{"$f":"MAX(J181:BA181)","v":0},null,"fekete amur"]
["C4",{"$f":"kod!B27","v":"Gát, sekély víz"},{"$f":"kod!C27","v":"As La Carp Team"},{"$f":"SUM(D183:D188)","v":18.975000000000001},{"$f":"SUM(E183:E188)","v":3},6.3250000000000002,{"$f":"MAX(G183:G188)","v":6.8250000000000002},{"$f":"H186","v":0},"ÖSSZESEN",{"$f":"COUNTIFS($J183:$BB188,\">9,99\",$J183:$BB188,\"<20\")","v":0},{"$f":"COUNTIFS($J183:$BB188,\">19,99\")","v":0},{"$f":"COUNTIFS($J186:$BA186,\">4,99\",$J186:$BA186,\"<9,99\")","v":0},{"$f":"COUNTIFS($J186:$BB186,\">9,99\")","v":0}]
["C4",{"$f":"kod!B27","v":"Gát, sekély víz"},{"$f":"kod!C27","v":"As La Carp Team"},{"$f":"SUM(J183:AZ183)","v":6.8250000000000002},{"$f":"COUNT(J183:AZ183)","v":1},6.8250000000000002,{"$f":"MAX(J183:BA183)","v":6.8250000000000002},null,"tükörponty",6.8250000000000002]
["C4",{"$f":"kod!B27","v":"Gát, sekély víz"},{"$f":"kod!C27","v":"As La Carp Team"},6.1,1,6.1,6.1,null,"tőponty",6.1]
["C4",{"$f":"kod!B27","v":"Gát, sekély víz"},{"$f":"kod!C27","v":"As La Carp Team"},6.05,1,6.05,6.05,null,"nyurgaponty",6.05]
["C4",{"$f":"kod!B27","v":"Gát, sekély víz"},{"$f":"kod!C27","v":"As La Carp Team"},0,0,0,0,{"$f":"MAX(J186:AZ186)","v":0},"koi ponty"]
["C4",{"$f":"kod!B27","v":"Gát, sekély víz"},{"$f":"kod!C27","v":"As La Carp Team"},0,0,0,0,null,"amur"]
["C4",{"$f":"kod!B27","v":"Gát, sekély víz"},{"$f":"kod!C27","v":"As La Carp Team"},0,0,0,0,null,"fekete amur"]
["C5",{"$f":"kod!B28","v":"Gát, sekély víz"},{"$f":"kod!C28","v":"Bojlis Főnök - Bait Bait Carp Team"},{"$f":"SUM(D190:D195)","v":15.05},{"$f":"SUM(E190:E195)","v":2},7.5250000000000004,{"$f":"MAX(G190:G195)","v":7.55},{"$f":"H193","v":0},"ÖSSZESEN",{"$f":"COUNTIFS($J190:$BB195,\">9,99\",$J190:$BB195,\"<20\")","v":0},{"$f":"COUNTIFS($J190:$BB195,\">19,99\")","v":0},{"$f":"COUNTIFS($J193:$BA193,\">4,99\",$J193:$BA193,\"<9,99\")","v":0},{"$f":"COUNTIFS($J193:$BB193,\">9,99\")","v":0}]
["C5",{"$f":"kod!B28","v":"Gát, sekély víz"},{"$f":"kod!C28","v":"Bojlis Főnök - Bait Bait Carp Team"},{"$f":"SUM(J190:AZ190)","v":0},{"$f":"COUNT(J190:AZ190)","v":0},0,{"$f":"MAX(J190:BA190)","v":0},null,"tükörponty"]
["C5",{"$f":"kod!B28","v":"Gát, sekély víz"},{"$f":"kod!C28","v":"Bojlis Főnök - Bait Bait Carp Team"},15.05,2,7.5250000000000004,{"$f":"MAX(J191:BA191)","v":7.55},null,"tőponty",7.5,7.55]
["C5",{"$f":"kod!B28","v":"Gát, sekély víz"},{"$f":"kod!C28","v":"Bojlis Főnök - Bait Bait Carp Team"},0,0,0,{"$f":"MAX(J192:BA192)","v":0},null,"nyurgaponty"]
["C5",{"$f":"kod!B28","v":"Gát, sekély víz"},{"$f":"kod!C28","v":"Bojlis Főnök - Bait Bait Carp Team"},0,0,0,null,{"$f":"MAX(J193:AZ193)","v":0},"koi ponty"]
["C5",{"$f":"kod!B28","v":"Gát, sekély víz"},{"$f":"kod!C28","v":"Bojlis Főnök - Bait Bait Carp Team"},0,0,0,{"$f":"MAX(J194:BA194)","v":0},null,"amur"]
["C5",{"$f":"kod!B28","v":"Gát, sekély víz"},{"$f":"kod!C28","v":"Bojlis Főnök - Bait Bait Carp Team"},0,0,0,{"$f":"MAX(J195:BA195)","v":0},null,"fekete amur"]
["C6",{"$f":"kod!B29","v":"Felező-spicc, jobb"},{"$f":"kod!C29","v":"Secret Of The Carp"},{"$f":"SUM(D197:D202)","v":31.324999999999999},{"$f":"SUM(E197:E202)","v":4},7.8312499999999998,{"$f":"MAX(G197:G202)","v":9.75},{"$f":"H200","v":3.0249999999999999},"ÖSSZESEN",{"$f":"COUNTIFS($J197:$BB202,\">9,99\",$J197:$BB202,\"<20\")","v":0},{"$f":"COUNTIFS($J197:$BB202,\">19,99\")","v":0},{"$f":"COUNTIFS($J200:$BA200,\">4,99\",$J200:$BA200,\"<9,99\")","v":0},{"$f":"COUNTIFS($J200:$BB200,\">9,99\")","v":0}]
["C6",{"$f":"kod!B29","v":"Felező-spicc, jobb"},{"$f":"kod!C29","v":"Secret Of The Carp"},{"$f":"SUM(J197:AZ197)","v":9.5500000000000007},{"$f":"COUNT(J197:AZ197)","v":1},9.5500000000000007,{"$f":"MAX(J197:BA197)","v":9.5500000000000007},null,"tükörponty",9.5500000000000007]
["C6",{"$f":"kod!B29","v":"Felező-spicc, jobb"},{"$f":"kod!C29","v":"Secret Of The Carp"},18.75,2,9.375,9.75,null,"tőponty",9,9.75]
["C6",{"$f":"kod!B29","v":"Felező-spicc, jobb"},{"$f":"kod!C29","v":"Secret Of The Carp"},0,0,0,0,null,"nyurgaponty"]
["C6",{"$f":"kod!B29","v":"Felező-spicc, jobb"},{"$f":"kod!C29","v":"Secret Of The Carp"},3.0249999999999999,1,3.0249999999999999,3.0249999999999999,{"$f":"MAX(J200:AZ200)","v":3.0249999999999999},"koi ponty",3.0249999999999999]
["C6",{"$f":"kod!B29","v":"Felező-spicc, jobb"},{"$f":"kod!C29","v":"Secret Of The Carp"},0,0,0,0,null,"amur"]
["C6",{"$f":"kod!B29","v":"Felező-spicc, jobb"},{"$f":"kod!C29","v":"Secret Of The Carp"},0,0,0,0,null,"fekete amur"]
["C7",{"$f":"kod!B30","v":"II. sziget, bal"},{"$f":"kod!C30","v":"Quick Baits"},{"$f":"SUM(D204:D209)","v":66.974999999999994},{"$f":"SUM(E204:E209)","v":6},11.1625,{"$f":"MAX(G204:G209)","v":17.8},{"$f":"H207","v":0},"ÖSSZESEN",{"$f":"COUNTIFS($J204:$BB209,\">9,99\",$J204:$BB209,\"<20\")","v":5},{"$f":"COUNTIFS($J204:$BB209,\">19,99\")","v":0},{"$f":"COUNTIFS($J207:$BA207,\">4,99\",$J207:$BA207,\"<9,99\")","v":0},{"$f":"COUNTIFS($J207:$BB207,\">9,99\")","v":0}]
["C7",{"$f":"kod!B30","v":"II. sziget, bal"},{"$f":"kod!C30","v":"Quick Baits"},{"$f":"SUM(J204:AZ204)","v":23.75},{"$f":"COUNT(J204:AZ204)","v":2},11.875,{"$f":"MAX(J204:BA204)","v":12.2},null,"tükörponty",11.55,12.2]
["C7",{"$f":"kod!B30","v":"II. sziget, bal"},{"$f":"kod!C30","v":"Quick Baits"},15,2,7.5,{"$f":"MAX(J205:BA205)","v":11.475},null,"tőponty",3.5249999999999999,11.475]
["C7",{"$f":"kod!B30","v":"II. sziget, bal"},{"$f":"kod!C30","v":"Quick Baits"},28.225000000000001,2,14.112500000000001,{"$f":"MAX(J206:BA206)","v":17.8},null,"nyurgaponty",17.8,10.425000000000001]
["C7",{"$f":"kod!B30","v":"II. sziget, bal"},{"$f":"kod!C30","v":"Quick Baits"},0,0,0,null,{"$f":"MAX(J207:AZ207)","v":0},"koi ponty"]
["C7",{"$f":"kod!B30","v":"II. sziget, bal"},{"$f":"kod!C30","v":"Quick Baits"},0,0,0,{"$f":"MAX(J208:BA208)","v":0},null,"amur"]
["C7",{"$f":"kod!B30","v":"II. sziget, bal"},{"$f":"kod!C30","v":"Quick Baits"},0,0,0,{"$f":"MAX(J209:BA209)","v":0},null,"fekete amur"]
["C8",{"$f":"kod!B31","v":"II. sziget, bal közép"},{"$f":"kod!C31","v":"Carp Team Blankbrothers"},{"$f":"SUM(D211:D216)","v":24.475000000000001},{"$f":"SUM(E211:E216)","v":3},8.1583333333333332,{"$f":"MAX(G211:G216)","v":10.8},{"$f":"H214","v":0},"ÖSSZESEN",{"$f":"COUNTIFS($J211:$BB216,\">9,99\",$J211:$BB216,\"<20\")","v":1},{"$f":"COUNTIFS($J211:$BB216,\">19,99\")","v":0},{"$f":"COUNTIFS($J214:$BA214,\">4,99\",$J214:$BA214,\"<9,99\")","v":0},{"$f":"COUNTIFS($J214:$BB214,\">9,99\")","v":0}]
["C8",{"$f":"kod!B31","v":"II. sziget, bal közép"},{"$f":"kod!C31","v":"Carp Team Blankbrothers"},{"$f":"SUM(J211:AZ211)","v":10.8},{"$f":"COUNT(J211:AZ211)","v":1},10.8,{"$f":"MAX(J211:BA211)","v":10.8},null,"tükörponty",10.8]
["C8",{"$f":"kod!B31","v":"II. sziget, bal közép"},{"$f":"kod!C31","v":"Carp Team Blankbrothers"},13.675000000000001,2,6.8375000000000004,{"$f":"MAX(J212:BA212)","v":6.9},null,"tőponty",6.9,6.7750000000000004]
["C8",{"$f":"kod!B31","v":"II. sziget, bal közép"},{"$f":"kod!C31","v":"Carp Team Blankbrothers"},0,0,0,{"$f":"MAX(J213:BA213)","v":0},null,"nyurgaponty"]
["C8",{"$f":"kod!B31","v":"II. sziget, bal közép"},{"$f":"kod!C31","v":"Carp Team Blankbrothers"},0,0,0,null,{"$f":"MAX(J214:AZ214)","v":0},"koi ponty"]
["C8",{"$f":"kod!B31","v":"II. sziget, bal közép"},{"$f":"kod!C31","v":"Carp Team Blankbrothers"},0,0,0,{"$f":"MAX(J215:BA215)","v":0},null,"amur"]
["C8",{"$f":"kod!B31","v":"II. sziget, bal közép"},{"$f":"kod!C31","v":"Carp Team Blankbrothers"},0,0,0,{"$f":"MAX(J216:BA216)","v":0},null,"fekete amur"]
["C9",{"$f":"kod!B32","v":"II. sziget, közép"},{"$f":"kod!C32","v":"Bait Bait Hungary"},{"$f":"SUM(D218:D223)","v":76.3},{"$f":"SUM(E218:E223)","v":9},8.4777777777777779,{"$f":"MAX(G218:G223)","v":12.925000000000001},{"$f":"H221","v":0},"ÖSSZESEN",{"$f":"COUNTIFS($J218:$BB223,\">9,99\",$J218:$BB223,\"<20\")","v":1},{"$f":"COUNTIFS($J218:$BB223,\">19,99\")","v":0},{"$f":"COUNTIFS($J221:$BA221,\">4,99\",$J221:$BA221,\"<9,99\")","v":0},{"$f":"COUNTIFS($J221:$BB221,\">9,99\")","v":0}]
["C9",{"$f":"kod!B32","v":"II. sziget, közép"},{"$f":"kod!C32","v":"Bait Bait Hungary"},{"$f":"SUM(J218:AZ218)","v":8.1},{"$f":"COUNT(J218:AZ218)","v":1},{"$f":"IF(E218=0,0,D218/E218)","v":8.1},{"$f":"MAX(J218:BA218)","v":8.1},null,"tükörponty",8.1]
["C9",{"$f":"kod!B32","v":"II. sziget, közép"},{"$f":"kod!C32","v":"Bait Bait Hungary"},68.2,8,8.5250000000000004,{"$f":"MAX(J219:BA219)","v":12.925000000000001},null,"tőponty",6.5250000000000004,8.5,9.35,9.3249999999999993,9.375,5.2,12.925000000000001,7]
["C9",{"$f":"kod!B32","v":"II. sziget, közép"},{"$f":"kod!C32","v":"Bait Bait Hungary"},0,0,0,{"$f":"MAX(J220:BA220)","v":0},null,"nyurgaponty"]
["C9",{"$f":"kod!B32","v":"II. sziget, közép"},{"$f":"kod!C32","v":"Bait Bait Hungary"},0,0,0,null,{"$f":"MAX(J221:AZ221)","v":0},"koi ponty"]
["C9",{"$f":"kod!B32","v":"II. sziget, közép"},{"$f":"kod!C32","v":"Bait Bait Hungary"},0,0,0,{"$f":"MAX(J222:BA222)","v":0},null,"amur"]
["C9",{"$f":"kod!B32","v":"II. sziget, közép"},{"$f":"kod!C32","v":"Bait Bait Hungary"},0,0,0,{"$f":"MAX(J223:BA223)","v":0},null,"fekete amur"]
["C10",{"$f":"kod!B33","v":"II. sziget, jobb közép"},{"$f":"kod!C33","v":"Acroft Illusive Bait Me"},{"$f":"SUM(D225:D230)","v":20.100000000000001},{"$f":"SUM(E225:E230)","v":3},6.7,{"$f":"MAX(G225:G230)","v":7.75},{"$f":"H228","v":0},"ÖSSZESEN",{"$f":"COUNTIFS($J225:$BB230,\">9,99\",$J225:$BB230,\"<20\")","v":0},{"$f":"COUNTIFS($J225:$BB230,\">19,99\")","v":0},{"$f":"COUNTIFS($J228:$BA228,\">4,99\",$J228:$BA228,\"<9,99\")","v":0},{"$f":"COUNTIFS($J228:$BB228,\">9,99\")","v":0}]
["C10",{"$f":"kod!B33","v":"II. sziget, jobb közép"},{"$f":"kod!C33","v":"Acroft Illusive Bait Me"},{"$f":"SUM(J225:AZ225)","v":0},{"$f":"COUNT(J225:AZ225)","v":0},0,{"$f":"MAX(J225:BA225)","v":0},null,"tükörponty"]
["C10",{"$f":"kod!B33","v":"II. sziget, jobb közép"},{"$f":"kod!C33","v":"Acroft Illusive Bait Me"},20.100000000000001,3,6.7,{"$f":"MAX(J226:BA226)","v":7.75},null,"tőponty",7.75,5.7750000000000004,6.5750000000000002]
["C10",{"$f":"kod!B33","v":"II. sziget, jobb közép"},{"$f":"kod!C33","v":"Acroft Illusive Bait Me"},0,0,0,{"$f":"MAX(J227:BA227)","v":0},null,"nyurgaponty"]
["C10",{"$f":"kod!B33","v":"II. sziget, jobb közép"},{"$f":"kod!C33","v":"Acroft Illusive Bait Me"},0,0,0,null,{"$f":"MAX(J228:AZ228)","v":0},"koi ponty"]
["C10",{"$f":"kod!B33","v":"II. sziget, jobb közép"},{"$f":"kod!C33","v":"Acroft Illusive Bait Me"},0,0,0,{"$f":"MAX(J229:BA229)","v":0},null,"amur"]
["C10",{"$f":"kod!B33","v":"II. sziget, jobb közép"},{"$f":"kod!C33","v":"Acroft Illusive Bait Me"},0,0,0,{"$f":"MAX(J230:BA230)","v":0},null,"fekete amur"]
["C11",{"$f":"kod!B34","v":"II. sziget, jobb"},{"$f":"kod!C34","v":"Vaslui Carp Team"},{"$f":"SUM(D232:D237)","v":129.80000000000001},{"$f":"SUM(E232:E237)","v":15},8.6533333333333342,{"$f":"MAX(G232:G237)","v":17.3},{"$f":"H235","v":11.425000000000001},"ÖSSZESEN",{"$f":"COUNTIFS($J232:$BB237,\">9,99\",$J232:$BB237,\"<20\")","v":5},{"$f":"COUNTIFS($J232:$BB237,\">19,99\")","v":0},{"$f":"COUNTIFS($J235:$BA235,\">4,99\",$J235:$BA235,\"<9,99\")","v":0},{"$f":"COUNTIFS($J235:$BB235,\">9,99\")","v":1}]
["C11",{"$f":"kod!B34","v":"II. sziget, jobb"},{"$f":"kod!C34","v":"Vaslui Carp Team"},{"$f":"SUM(J232:AZ232)","v":14.074999999999999},{"$f":"COUNT(J232:AZ232)","v":2},7.0374999999999996,{"$f":"MAX(J232:BA232)","v":7.375},null,"tükörponty",6.7,7.375]
["C11",{"$f":"kod!B34","v":"II. sziget, jobb"},{"$f":"kod!C34","v":"Vaslui Carp Team"},71.924999999999997,8,8.9906249999999996,{"$f":"MAX(J233:BA233)","v":17.3},null,"tőponty",5.5750000000000002,9.1999999999999993,8.0749999999999993,5.9,10.375,7.9,7.6,17.3]
["C11",{"$f":"kod!B34","v":"II. sziget, jobb"},{"$f":"kod!C34","v":"Vaslui Carp Team"},0,0,0,{"$f":"MAX(J234:BA234)","v":0},null,"nyurgaponty"]
["C11",{"$f":"kod!B34","v":"II. sziget, jobb"},{"$f":"kod!C34","v":"Vaslui Carp Team"},11.425000000000001,1,11.425000000000001,null,{"$f":"MAX(J235:AZ235)","v":11.425000000000001},"koi ponty",11.425000000000001]
["C11",{"$f":"kod!B34","v":"II. sziget, jobb"},{"$f":"kod!C34","v":"Vaslui Carp Team"},29.875,3,9.9583333333333339,{"$f":"MAX(J236:BA236)","v":12.574999999999999},null,"amur",12.574999999999999,7.125,10.175000000000001]
["C11",{"$f":"kod!B34","v":"II. sziget, jobb"},{"$f":"kod!C34","v":"Vaslui Carp Team"},2.5,1,2.5,{"$f":"MAX(J237:BA237)","v":2.5},null,"fekete amur",2.5]
[null,null,"Összesen:",{"$f":"SUM(D7,D14,D21,D28,D35,D42,D49,D56,D63,D70,D77,D84,D91,D98,D105,D112,D119,D126,D133,D140,D147,D154,D161,D168,D175,D182,D189,D196,D203,D210,D217,D224,D231)","v":1320.5699999999997},{"$f":"SUM(E7,E14,E21,E28,E35,E42,E49,E56,E63,E70,E77,E84,E91,E98,E105,E112,E119,E126,E133,E140,E147,E154,E161,E168,E175,E182,E189,E196,E203,E210,E217,E224,E231)","v":155},{"$f":"IF(E238=0,0,D238/E238)","v":8.5198064516129008},null,null,null,{"$f":"SUM(J7,J14,J21,J28,J35,J42,J49,J56,J63,J70,J77,J84,J91,J98,J105,J112,J119,J126,J133,J140,J147,J154,J161,J168,J175,J182,J189,J196,J203,J210,J217,J224,J231)","v":45},{"$f":"SUM(K7,K14,K21,K28,K35,K42,K49,K56,K63,K70,K77,K84,K91,K98,K105,K112,K119,K126,K133,K140,K147,K154,K161,K168,K175,K182,K189,K196,K203,K210,K217,K224,K231)","v":0},{"$f":"SUM(L7,L14,L21,L28,L35,L42,L49,L56,L63,L70,L77,L84,L91,L98,L105,L112,L119,L126,L133,L140,L147,L154,L161,L168,L175,L182,L189,L196,L203,L210,L217,L224,L231)","v":0},{"$f":"SUM(M7,M14,M21,M28,M35,M42,M49,M56,M63,M70,M77,M84,M91,M98,M105,M112,M119,M126,M133,M140,M147,M154,M161,M168,M175,M182,M189,M196,M203,M210,M217,M224,M231)","v":2}]

{"sheet":"szakasz4","index":5,"n_rows":238,"n_cols":22,"rows_kept":238,"cut":false,"hidden":false,"merged":[[0,0,0,12],[1,0,1,12],[2,0,2,12],[3,0,3,12],[4,0,4,12]]}
[{"$f":"IF(kod!E2>0,kod!E2,\"\")","v":"XXI. PROFESSZIONÁLIS BOJLIS EURÓPA KUPA (EPBC)"}]
[{"$f":"IF(kod!E3>0,kod!E3,\"\")","v":"XXXVI. MACONKA NEMZETKÖZI BOJLIS KUPA"}]
[{"$f":"IF(kod!E4>0,kod!E4,\"\")","v":"Maconka, 2025.06.15. - 2025.06.20."}]
[{"$f":"IF(kod!E5>0,kod!E5,\"\")","v":""}]
[{"$f":"kod!E10","v":"4. szakasz:  2025.06.17. 06:00 - 2025.06.17. 18:00"}]
["Rajthely","Elhelyezés","Csapatnév","Kg","Db","Átlag","BC","BkC","Faj","10-20 kg","20+ kg","koi 5-10 kg","koi 10+ kg"]
["A1",{"$f":"kod!B2","v":"Gát, mélyvíz"},{"$f":"kod!C2","v":"SBS - Halcatraz - TiZo Team"},{"$f":"SUM(D8:D13)","v":51.949999999999996},{"$f":"SUM(E8:E13)","v":5},{"$f":"IF(E7=0,0,D7/E7)","v":10.389999999999999},{"$f":"MAX(G8:G13)","v":15.574999999999999},{"$f":"H11","v":0},"ÖSSZESEN",{"$f":"COUNTIFS($J8:$BB13,\">9,99\",$J8:$BB13,\"<20\")","v":3},{"$f":"COUNTIFS($J8:$BB13,\">19,99\")","v":0},{"$f":"COUNTIFS($J11:$BA11,\">4,99\",$J11:$BA11,\"<9,99\")","v":0},{"$f":"COUNTIFS($J11:$BB11,\">9,99\")","v":0}]
["A1",{"$f":"kod!B2","v":"Gát, mélyvíz"},{"$f":"kod!C2","v":"SBS - Halcatraz - TiZo Team"},{"$f":"SUM(J8:AZ8)","v":15.574999999999999},{"$f":"COUNT(J8:AZ8)","v":1},{"$f":"IF(E8=0,0,D8/E8)","v":15.574999999999999},{"$f":"MAX(J8:BA8)","v":15.574999999999999},null,"tükörponty",15.574999999999999]
["A1",{"$f":"kod!B2","v":"Gát, mélyvíz"},{"$f":"kod!C2","v":"SBS - Halcatraz - TiZo Team"},13.2,1,13.2,{"$f":"MAX(J9:BA9)","v":13.2},null,"tőponty",13.2]
["A1",{"$f":"kod!B2","v":"Gát, mélyvíz"},{"$f":"kod!C2","v":"SBS - Halcatraz - TiZo Team"},20.074999999999999,2,10.0375,11.324999999999999,null,"nyurgaponty",8.75,11.324999999999999]
["A1",{"$f":"kod!B2","v":"Gát, mélyvíz"},{"$f":"kod!C2","v":"SBS - Halcatraz - TiZo Team"},0,0,0,null,{"$f":"MAX(J11:AZ11)","v":0},"koi ponty"]
["A1",{"$f":"kod!B2","v":"Gát, mélyvíz"},{"$f":"kod!C2","v":"SBS - Halcatraz - TiZo Team"},0,0,0,0,null,"amur"]
["A1",{"$f":"kod!B2","v":"Gát, mélyvíz"},{"$f":"kod!C2","v":"SBS - Halcatraz - TiZo Team"},3.1,1,3.1,3.1,null,"fekete amur",3.1]
["A2",{"$f":"kod!B3","v":"Gát, mélyvíz"},{"$f":"kod!C3","v":"Altstadt Carp Team"},{"$f":"SUM(D15:D20)","v":26.15},{"$f":"SUM(E15:E20)","v":5},5.2299999999999995,{"$f":"MAX(G15:G20)","v":6.7},{"$f":"H18","v":0},"ÖSSZESEN",{"$f":"COUNTIFS($J15:$BB20,\">9,99\",$J15:$BB20,\"<20\")","v":0},{"$f":"COUNTIFS($J15:$BB20,\">19,99\")","v":0},{"$f":"COUNTIFS($J18:$BA18,\">4,99\",$J18:$BA18,\"<9,99\")","v":0},{"$f":"COUNTIFS($J18:$BB18,\">9,99\")","v":0}]
["A2",{"$f":"kod!B3","v":"Gát, mélyvíz"},{"$f":"kod!C3","v":"Altstadt Carp Team"},{"$f":"SUM(J15:AZ15)","v":6.7},{"$f":"COUNT(J15:AZ15)","v":1},6.7,{"$f":"MAX(J15:BA15)","v":6.7},null,"tükörponty",6.7]
["A2",{"$f":"kod!B3","v":"Gát, mélyvíz"},{"$f":"kod!C3","v":"Altstadt Carp Team"},6.3250000000000002,1,6.3250000000000002,{"$f":"MAX(J16:BA16)","v":6.3250000000000002},null,"tőponty",6.3250000000000002]
["A2",{"$f":"kod!B3","v":"Gát, mélyvíz"},{"$f":"kod!C3","v":"Altstadt Carp Team"},6.6749999999999998,1,6.6749999999999998,{"$f":"MAX(J17:BA17)","v":6.6749999999999998},null,"nyurgaponty",6.6749999999999998]
["A2",{"$f":"kod!B3","v":"Gát, mélyvíz"},{"$f":"kod!C3","v":"Altstadt Carp Team"},0,0,0,null,{"$f":"MAX(J18:AZ18)","v":0},"koi ponty"]
["A2",{"$f":"kod!B3","v":"Gát, mélyvíz"},{"$f":"kod!C3","v":"Altstadt Carp Team"},0,0,0,{"$f":"MAX(J19:BA19)","v":0},null,"amur"]
["A2",{"$f":"kod!B3","v":"Gát, mélyvíz"},{"$f":"kod!C3","v":"Altstadt Carp Team"},6.4499999999999993,2,3.2249999999999996,{"$f":"MAX(J20:BA20)","v":3.3},null,"fekete amur",3.15,3.3]
["A3",{"$f":"kod!B4","v":"Gát, mélyvíz"},{"$f":"kod!C4","v":"Ferma De Crap Diosig"},{"$f":"SUM(D22:D27)","v":31.225000000000001},{"$f":"SUM(E22:E27)","v":3},10.408333333333333,{"$f":"MAX(G22:G27)","v":18.225000000000001},{"$f":"H25","v":0},"ÖSSZESEN",{"$f":"COUNTIFS($J22:$BB27,\">9,99\",$J22:$BB27,\"<20\")","v":1},{"$f":"COUNTIFS($J22:$BB27,\">19,99\")","v":0},{"$f":"COUNTIFS($J25:$BA25,\">4,99\",$J25:$BA25,\"<9,99\")","v":0},{"$f":"COUNTIFS($J25:$BB25,\">9,99\")","v":0}]
["A3",{"$f":"kod!B4","v":"Gát, mélyvíz"},{"$f":"kod!C4","v":"Ferma De Crap Diosig"},{"$f":"SUM(J22:AZ22)","v":0},{"$f":"COUNT(J22:AZ22)","v":0},0,{"$f":"MAX(J22:BA22)","v":0},null,"tükörponty"]
["A3",{"$f":"kod!B4","v":"Gát, mélyvíz"},{"$f":"kod!C4","v":"Ferma De Crap Diosig"},27.3,2,13.65,{"$f":"MAX(J23:BA23)","v":18.225000000000001},null,"tőponty",9.0749999999999993,18.225000000000001]
["A3",{"$f":"kod!B4","v":"Gát, mélyvíz"},{"$f":"kod!C4","v":"Ferma De Crap Diosig"},0,0,0,{"$f":"MAX(J24:BA24)","v":0},null,"nyurgaponty"]
["A3",{"$f":"kod!B4","v":"Gát, mélyvíz"},{"$f":"kod!C4","v":"Ferma De Crap Diosig"},0,0,0,null,{"$f":"MAX(J25:AZ25)","v":0},"koi ponty"]
["A3",{"$f":"kod!B4","v":"Gát, mélyvíz"},{"$f":"kod!C4","v":"Ferma De Crap Diosig"},0,0,0,{"$f":"MAX(J26:BA26)","v":0},null,"amur"]
["A3",{"$f":"kod!B4","v":"Gát, mélyvíz"},{"$f":"kod!C4","v":"Ferma De Crap Diosig"},3.9249999999999998,1,3.9249999999999998,{"$f":"MAX(J27:BA27)","v":3.9249999999999998},null,"fekete amur",3.9249999999999998]
["A4",{"$f":"kod!B5","v":"Gát, mélyvíz"},{"$f":"kod!C5","v":"Bull Tackle"},{"$f":"SUM(D29:D34)","v":24.564999999999998},{"$f":"SUM(E29:E34)","v":2},12.282499999999999,{"$f":"MAX(G29:G34)","v":16.664999999999999},{"$f":"H32","v":0},"ÖSSZESEN",{"$f":"COUNTIFS($J29:$BB34,\">9,99\",$J29:$BB34,\"<20\")","v":1},{"$f":"COUNTIFS($J29:$BB34,\">19,99\")","v":0},{"$f":"COUNTIFS($J32:$BA32,\">4,99\",$J32:$BA32,\"<9,99\")","v":0},{"$f":"COUNTIFS($J32:$BB32,\">9,99\")","v":0}]
["A4",{"$f":"kod!B5","v":"Gát, mélyvíz"},{"$f":"kod!C5","v":"Bull Tackle"},{"$f":"SUM(J29:AZ29)","v":16.664999999999999},{"$f":"COUNT(J29:AZ29)","v":1},16.664999999999999,{"$f":"MAX(J29:BA29)","v":16.664999999999999},null,"tükörponty",16.664999999999999]
["A4",{"$f":"kod!B5","v":"Gát, mélyvíz"},{"$f":"kod!C5","v":"Bull Tackle"},0,0,0,{"$f":"MAX(J30:BA30)","v":0},null,"tőponty"]
["A4",{"$f":"kod!B5","v":"Gát, mélyvíz"},{"$f":"kod!C5","v":"Bull Tackle"},7.9,1,7.9,{"$f":"MAX(J31:BA31)","v":7.9},null,"nyurgaponty",7.9]
["A4",{"$f":"kod!B5","v":"Gát, mélyvíz"},{"$f":"kod!C5","v":"Bull Tackle"},0,0,0,null,{"$f":"MAX(J32:AZ32)","v":0},"koi ponty"]
["A4",{"$f":"kod!B5","v":"Gát, mélyvíz"},{"$f":"kod!C5","v":"Bull Tackle"},0,0,0,{"$f":"MAX(J33:BA33)","v":0},null,"amur"]
["A4",{"$f":"kod!B5","v":"Gát, mélyvíz"},{"$f":"kod!C5","v":"Bull Tackle"},0,0,0,{"$f":"MAX(J34:BA34)","v":0},null,"fekete amur"]
["A5",{"$f":"kod!B6","v":"Gát, mélyvíz"},{"$f":"kod!C6","v":"AHFSZ Fishing Team"},{"$f":"SUM(D36:D41)","v":2.95},{"$f":"SUM(E36:E41)","v":1},2.95,{"$f":"MAX(G36:G41)","v":2.95},{"$f":"H39","v":0},"ÖSSZESEN",{"$f":"COUNTIFS($J36:$BB41,\">9,99\",$J36:$BB41,\"<20\")","v":0},{"$f":"COUNTIFS($J36:$BB41,\">19,99\")","v":0},{"$f":"COUNTIFS($J39:$BA39,\">4,99\",$J39:$BA39,\"<9,99\")","v":0},{"$f":"COUNTIFS($J39:$BB39,\">9,99\")","v":0}]
["A5",{"$f":"kod!B6","v":"Gát, mélyvíz"},{"$f":"kod!C6","v":"AHFSZ Fishing Team"},{"$f":"SUM(J36:AZ36)","v":0},{"$f":"COUNT(J36:AZ36)","v":0},0,{"$f":"MAX(J36:BA36)","v":0},null,"tükörponty"]
["A5",{"$f":"kod!B6","v":"Gát, mélyvíz"},{"$f":"kod!C6","v":"AHFSZ Fishing Team"},0,0,0,{"$f":"MAX(J37:BA37)","v":0},null,"tőponty"]
["A5",{"$f":"kod!B6","v":"Gát, mélyvíz"},{"$f":"kod!C6","v":"AHFSZ Fishing Team"},0,0,0,{"$f":"MAX(J38:BA38)","v":0},null,"nyurgaponty"]
["A5",{"$f":"kod!B6","v":"Gát, mélyvíz"},{"$f":"kod!C6","v":"AHFSZ Fishing Team"},0,0,0,null,{"$f":"MAX(J39:AZ39)","v":0},"koi ponty"]
["A5",{"$f":"kod!B6","v":"Gát, mélyvíz"},{"$f":"kod!C6","v":"AHFSZ Fishing Team"},0,0,0,{"$f":"MAX(J40:BA40)","v":0},null,"amur"]
["A5",{"$f":"kod!B6","v":"Gát, mélyvíz"},{"$f":"kod!C6","v":"AHFSZ Fishing Team"},2.95,1,2.95,{"$f":"MAX(J41:BA41)","v":2.95},null,"fekete amur",2.95]
["A6",{"$f":"kod!B7","v":"Nyári kikötő, belső"},{"$f":"kod!C7","v":"Black Carp Team"},{"$f":"SUM(D43:D48)","v":136.75},{"$f":"SUM(E43:E48)","v":22},6.2159090909090908,{"$f":"MAX(G43:G48)","v":13.074999999999999},{"$f":"H46","v":0},"ÖSSZESEN",{"$f":"COUNTIFS($J43:$BB48,\">9,99\",$J43:$BB48,\"<20\")","v":3},{"$f":"COUNTIFS($J43:$BB48,\">19,99\")","v":0},{"$f":"COUNTIFS($J46:$BA46,\">4,99\",$J46:$BA46,\"<9,99\")","v":0},{"$f":"COUNTIFS($J46:$BB46,\">9,99\")","v":0}]
["A6",{"$f":"kod!B7","v":"Nyári kikötő, belső"},{"$f":"kod!C7","v":"Black Carp Team"},{"$f":"SUM(J43:AZ43)","v":0},{"$f":"COUNT(J43:AZ43)","v":0},0,{"$f":"MAX(J43:BA43)","v":0},null,"tükörponty"]
["A6",{"$f":"kod!B7","v":"Nyári kikötő, belső"},{"$f":"kod!C7","v":"Black Carp Team"},8.375,1,8.375,{"$f":"MAX(J44:BA44)","v":8.375},null,"tőponty",8.375]
["A6",{"$f":"kod!B7","v":"Nyári kikötő, belső"},{"$f":"kod!C7","v":"Black Carp Team"},45.7,6,7.6166666666666671,{"$f":"MAX(J45:BA45)","v":12.25},null,"nyurgaponty",12.25,7.4249999999999998,5.2,8.2249999999999996,7.4,5.2]
["A6",{"$f":"kod!B7","v":"Nyári kikötő, belső"},{"$f":"kod!C7","v":"Black Carp Team"},0,0,0,null,{"$f":"MAX(J46:AZ46)","v":0},"koi ponty"]
["A6",{"$f":"kod!B7","v":"Nyári kikötő, belső"},{"$f":"kod!C7","v":"Black Carp Team"},25.45,2,12.725,{"$f":"MAX(J47:BA47)","v":13.074999999999999},null,"amur",13.074999999999999,12.375]
["A6",{"$f":"kod!B7","v":"Nyári kikötő, belső"},{"$f":"kod!C7","v":"Black Carp Team"},57.225000000000001,13,4.4019230769230768,{"$f":"MAX(J48:BA48)","v":8.85},null,"fekete amur",4.2249999999999996,8.85,3.5750000000000002,4.2249999999999996,3.35,4.25,3.5249999999999999,3.2749999999999999,2.9750000000000001,8.5749999999999993,2.875,4.4749999999999996,3.05]
["A7",{"$f":"kod!B8","v":"Nyári kikötő, közép"},{"$f":"kod!C8","v":"USA & Mivado Carp Team"},{"$f":"SUM(D50:D55)","v":3.9},{"$f":"SUM(E50:E55)","v":1},3.9,{"$f":"MAX(G50:G55)","v":3.9},{"$f":"H53","v":0},"ÖSSZESEN",{"$f":"J46","v":0},{"$f":"COUNTIFS($J50:$BB55,\">19,99\")","v":0},{"$f":"COUNTIFS($J53:$BA53,\">4,99\",$J53:$BA53,\"<9,99\")","v":0},{"$f":"COUNTIFS($J53:$BB53,\">9,99\")","v":0}]
["A7",{"$f":"kod!B8","v":"Nyári kikötő, közép"},{"$f":"kod!C8","v":"USA & Mivado Carp Team"},{"$f":"SUM(J50:AZ50)","v":0},{"$f":"COUNT(J50:AZ50)","v":0},0,{"$f":"MAX(J50:BA50)","v":0},null,"tükörponty"]
["A7",{"$f":"kod!B8","v":"Nyári kikötő, közép"},{"$f":"kod!C8","v":"USA & Mivado Carp Team"},0,0,0,{"$f":"MAX(J51:BA51)","v":0},null,"tőponty"]
["A7",{"$f":"kod!B8","v":"Nyári kikötő, közép"},{"$f":"kod!C8","v":"USA & Mivado Carp Team"},0,0,0,{"$f":"MAX(J52:BA52)","v":0},null,"nyurgaponty"]
["A7",{"$f":"kod!B8","v":"Nyári kikötő, közép"},{"$f":"kod!C8","v":"USA & Mivado Carp Team"},0,0,0,null,{"$f":"MAX(J53:AZ53)","v":0},"koi ponty"]
["A7",{"$f":"kod!B8","v":"Nyári kikötő, közép"},{"$f":"kod!C8","v":"USA & Mivado Carp Team"},0,0,0,{"$f":"MAX(J54:BA54)","v":0},null,"amur"]
["A7",{"$f":"kod!B8","v":"Nyári kikötő, közép"},{"$f":"kod!C8","v":"USA & Mivado Carp Team"},3.9,1,3.9,{"$f":"MAX(J55:BA55)","v":3.9},null,"fekete amur",3.9]
["A8",{"$f":"kod!B9","v":"Nyári kikötő, külső"},{"$f":"kod!C9","v":"Ózdi Sporthorgász Egyesület"},{"$f":"SUM(D57:D62)","v":27.05},{"$f":"SUM(E57:E62)","v":3},9.0166666666666675,{"$f":"MAX(G57:G62)","v":10.475},{"$f":"H60","v":0},"ÖSSZESEN",{"$f":"COUNTIFS($J57:$BB62,\">9,99\",$J57:$BB62,\"<20\")","v":1},{"$f":"COUNTIFS($J57:$BB62,\">19,99\")","v":0},{"$f":"COUNTIFS($J60:$BA60,\">4,99\",$J60:$BA60,\"<9,99\")","v":0},{"$f":"COUNTIFS($J60:$BB60,\">9,99\")","v":0}]
["A8",{"$f":"kod!B9","v":"Nyári kikötő, külső"},{"$f":"kod!C9","v":"Ózdi Sporthorgász Egyesület"},{"$f":"SUM(J57:AZ57)","v":7.3},{"$f":"COUNT(J57:AZ57)","v":1},7.3,{"$f":"MAX(J57:BA57)","v":7.3},null,"tükörponty",7.3]
["A8",{"$f":"kod!B9","v":"Nyári kikötő, külső"},{"$f":"kod!C9","v":"Ózdi Sporthorgász Egyesület"},0,0,0,{"$f":"MAX(J58:BA58)","v":0},null,"tőponty"]
["A8",{"$f":"kod!B9","v":"Nyári kikötő, külső"},{"$f":"kod!C9","v":"Ózdi Sporthorgász Egyesület"},19.75,2,9.875,{"$f":"MAX(J59:BA59)","v":10.475},null,"nyurgaponty",10.475,9.2750000000000004]
["A8",{"$f":"kod!B9","v":"Nyári kikötő, külső"},{"$f":"kod!C9","v":"Ózdi Sporthorgász Egyesület"},0,0,0,null,{"$f":"MAX(J60:AZ60)","v":0},"koi ponty"]
["A8",{"$f":"kod!B9","v":"Nyári kikötő, külső"},{"$f":"kod!C9","v":"Ózdi Sporthorgász Egyesület"},0,0,0,{"$f":"MAX(J61:BA61)","v":0},null,"amur"]
["A8",{"$f":"kod!B9","v":"Nyári kikötő, külső"},{"$f":"kod!C9","v":"Ózdi Sporthorgász Egyesület"},0,0,0,{"$f":"MAX(J62:BA62)","v":0},null,"fekete amur"]
["A9",{"$f":"kod!B10","v":"I. sziget, bal külső"},{"$f":"kod!C10","v":"Kártékony Carp Team"},{"$f":"SUM(D64:D69)","v":116.55000000000001},{"$f":"SUM(E64:E69)","v":13},8.9653846153846164,{"$f":"MAX(G64:G69)","v":12.95},{"$f":"H67","v":0},"ÖSSZESEN",{"$f":"COUNTIFS($J64:$BB69,\">9,99\",$J64:$BB69,\"<20\")","v":4},{"$f":"COUNTIFS($J64:$BB69,\">19,99\")","v":0},{"$f":"COUNTIFS($J67:$BA67,\">4,99\",$J67:$BA67,\"<9,99\")","v":0},{"$f":"COUNTIFS($J67:$BB67,\">9,99\")","v":0}]
["A9",{"$f":"kod!B10","v":"I. sziget, bal külső"},{"$f":"kod!C10","v":"Kártékony Carp Team"},{"$f":"SUM(J64:AZ64)","v":16.175000000000001},{"$f":"COUNT(J64:AZ64)","v":2},{"$f":"IF(E64=0,0,D64/E64)","v":8.0875000000000004},{"$f":"MAX(J64:BA64)","v":8.1750000000000007},null,"tükörponty",8.1750000000000007,8]
["A9",{"$f":"kod!B10","v":"I. sziget, bal külső"},{"$f":"kod!C10","v":"Kártékony Carp Team"},52.45,7,7.4928571428571429,{"$f":"MAX(J65:BA65)","v":8.25},null,"tőponty",7.2249999999999996,7.95,7.1,7.6,7.95,8.25,6.375]
["A9",{"$f":"kod!B10","v":"I. sziget, bal külső"},{"$f":"kod!C10","v":"Kártékony Carp Team"},47.925000000000004,4,11.981250000000001,{"$f":"MAX(J66:BA66)","v":12.95},null,"nyurgaponty",12.95,12.275,10.925000000000001,11.775]
["A9",{"$f":"kod!B10","v":"I. sziget, bal külső"},{"$f":"kod!C10","v":"Kártékony Carp Team"},0,0,0,null,{"$f":"MAX(J67:AZ67)","v":0},"koi ponty"]
["A9",{"$f":"kod!B10","v":"I. sziget, bal külső"},{"$f":"kod!C10","v":"Kártékony Carp Team"},0,0,0,{"$f":"MAX(J68:BA68)","v":0},null,"amur"]
["A9",{"$f":"kod!B10","v":"I. sziget, bal külső"},{"$f":"kod!C10","v":"Kártékony Carp Team"},0,0,0,{"$f":"MAX(J69:BA69)","v":0},null,"fekete amur"]
["A10",{"$f":"kod!B11","v":"I. sziget, bal"},{"$f":"kod!C11","v":"Team 5 Austria"},{"$f":"SUM(D71:D76)","v":7.2750000000000004},{"$f":"SUM(E71:E76)","v":1},7.2750000000000004,{"$f":"MAX(G71:G76)","v":7.2750000000000004},{"$f":"H74","v":0},"ÖSSZESEN",{"$f":"COUNTIFS($J71:$BB76,\">9,99\",$J71:$BB76,\"<20\")","v":0},{"$f":"COUNTIFS($J71:$BB76,\">19,99\")","v":0},{"$f":"COUNTIFS($J74:$BA74,\">4,99\",$J74:$BA74,\"<9,99\")","v":0},{"$f":"COUNTIFS($J74:$BB74,\">9,99\")","v":0}]
["A10",{"$f":"kod!B11","v":"I. sziget, bal"},{"$f":"kod!C11","v":"Team 5 Austria"},{"$f":"SUM(J71:AZ71)","v":0},{"$f":"COUNT(J71:AZ71)","v":0},0,{"$f":"MAX(J71:BA71)","v":0},null,"tükörponty"]
["A10",{"$f":"kod!B11","v":"I. sziget, bal"},{"$f":"kod!C11","v":"Team 5 Austria"},0,0,0,{"$f":"MAX(J72:BA72)","v":0},null,"tőponty"]
["A10",{"$f":"kod!B11","v":"I. sziget, bal"},{"$f":"kod!C11","v":"Team 5 Austria"},0,0,0,{"$f":"MAX(J73:BA73)","v":0},null,"nyurgaponty"]
["A10",{"$f":"kod!B11","v":"I. sziget, bal"},{"$f":"kod!C11","v":"Team 5 Austria"},0,0,0,null,{"$f":"MAX(J74:AZ74)","v":0},"koi ponty"]
["A10",{"$f":"kod!B11","v":"I. sziget, bal"},{"$f":"kod!C11","v":"Team 5 Austria"},7.2750000000000004,1,7.2750000000000004,{"$f":"MAX(J75:BA75)","v":7.2750000000000004},null,"amur",7.2750000000000004]
["A10",{"$f":"kod!B11","v":"I. sziget, bal"},{"$f":"kod!C11","v":"Team 5 Austria"},0,0,0,{"$f":"MAX(J76:BA76)","v":0},null,"fekete amur"]
["A11",{"$f":"kod!B12","v":"I. sziget, bal közép"},{"$f":"kod!C12","v":"Invader's Team Poland"},{"$f":"SUM(D78:D83)","v":37.1},{"$f":"SUM(E78:E83)","v":4},9.2750000000000004,{"$f":"MAX(G78:G83)","v":12.725},{"$f":"H81","v":0},"ÖSSZESEN",{"$f":"COUNTIFS($J78:$BB83,\">9,99\",$J78:$BB83,\"<20\")","v":3},{"$f":"COUNTIFS($J78:$BB83,\">19,99\")","v":0},{"$f":"COUNTIFS($J81:$BA81,\">4,99\",$J81:$BA81,\"<9,99\")","v":0},{"$f":"COUNTIFS($J81:$BB81,\">9,99\")","v":0}]
["A11",{"$f":"kod!B12","v":"I. sziget, bal közép"},{"$f":"kod!C12","v":"Invader's Team Poland"},{"$f":"SUM(J78:AZ78)","v":0},{"$f":"COUNT(J78:AZ78)","v":0},0,{"$f":"MAX(J78:BA78)","v":0},null,"tükörponty"]
["A11",{"$f":"kod!B12","v":"I. sziget, bal közép"},{"$f":"kod!C12","v":"Invader's Team Poland"},0,0,0,{"$f":"MAX(J79:BA79)","v":0},null,"tőponty"]
["A11",{"$f":"kod!B12","v":"I. sziget, bal közép"},{"$f":"kod!C12","v":"Invader's Team Poland"},10.525,1,10.525,{"$f":"MAX(J80:BA80)","v":10.525},null,"nyurgaponty",10.525]
["A11",{"$f":"kod!B12","v":"I. sziget, bal közép"},{"$f":"kod!C12","v":"Invader's Team Poland"},0,0,0,null,{"$f":"MAX(J81:AZ81)","v":0},"koi ponty"]
["A11",{"$f":"kod!B12","v":"I. sziget, bal közép"},{"$f":"kod!C12","v":"Invader's Team Poland"},12.725,1,12.725,{"$f":"MAX(J82:BA82)","v":12.725},null,"amur",12.725]
["A11",{"$f":"kod!B12","v":"I. sziget, bal közép"},{"$f":"kod!C12","v":"Invader's Team Poland"},13.850000000000001,2,6.9250000000000007,{"$f":"MAX(J83:BA83)","v":10.9},null,"fekete amur",2.95,10.9]
["B1",{"$f":"kod!B13","v":"Gát, közepes víz"},{"$f":"kod!C13","v":"Tata Nitu Carp Team"},{"$f":"SUM(D85:D90)","v":16.649999999999999},{"$f":"SUM(E85:E90)","v":4},{"$f":"IF(E84=0,0,D84/E84)","v":4.1624999999999996},{"$f":"MAX(G85:G90)","v":5.75},{"$f":"H88","v":0},"ÖSSZESEN",{"$f":"COUNTIFS($J85:$BB90,\">9,99\",$J85:$BB90,\"<20\")","v":0},{"$f":"COUNTIFS($J85:$BB90,\">19,99\")","v":0},{"$f":"COUNTIFS($J88:$BA88,\">4,99\",$J88:$BA88,\"<9,99\")","v":0},{"$f":"COUNTIFS($J88:$BB88,\">9,99\")","v":0}]
["B1",{"$f":"kod!B13","v":"Gát, közepes víz"},{"$f":"kod!C13","v":"Tata Nitu Carp Team"},{"$f":"SUM(J85:AZ85)","v":7.9249999999999998},{"$f":"COUNT(J85:AZ85)","v":2},{"$f":"IF(E85=0,0,D85/E85)","v":3.9624999999999999},{"$f":"MAX(J85:BA85)","v":5.35},null,"tükörponty",2.5750000000000002,5.35]
["B1",{"$f":"kod!B13","v":"Gát, közepes víz"},{"$f":"kod!C13","v":"Tata Nitu Carp Team"},2.9750000000000001,1,2.9750000000000001,{"$f":"MAX(J86:BA86)","v":2.9750000000000001},null,"tőponty",2.9750000000000001]
["B1",{"$f":"kod!B13","v":"Gát, közepes víz"},{"$f":"kod!C13","v":"Tata Nitu Carp Team"},5.75,1,5.75,{"$f":"MAX(J87:BA87)","v":5.75},null,"nyurgaponty",5.75]
["B1",{"$f":"kod!B13","v":"Gát, közepes víz"},{"$f":"kod!C13","v":"Tata Nitu Carp Team"},0,0,0,null,{"$f":"MAX(J88:AZ88)","v":0},"koi ponty"]
["B1",{"$f":"kod!B13","v":"Gát, közepes víz"},{"$f":"kod!C13","v":"Tata Nitu Carp Team"},0,0,0,{"$f":"MAX(J89:BA89)","v":0},null,"amur"]
["B1",{"$f":"kod!B13","v":"Gát, közepes víz"},{"$f":"kod!C13","v":"Tata Nitu Carp Team"},0,0,0,{"$f":"MAX(J90:BA90)","v":0},null,"fekete amur"]
["B2",{"$f":"kod!B14","v":"Gát, közepes víz"},{"$f":"kod!C14","v":"Slovakia Carp Team"},{"$f":"SUM(D92:D97)","v":9.4},{"$f":"SUM(E92:E97)","v":3},3.1333333333333333,{"$f":"MAX(G92:G97)","v":6.0250000000000004},{"$f":"H95","v":0},"ÖSSZESEN",{"$f":"COUNTIFS($J92:$BB97,\">9,99\",$J92:$BB97,\"<20\")","v":0},{"$f":"COUNTIFS($J92:$BB97,\">19,99\")","v":0},{"$f":"COUNTIFS($J95:$BA95,\">4,99\",$J95:$BA95,\"<9,99\")","v":0},{"$f":"COUNTIFS($J95:$BB95,\">9,99\")","v":0}]
["B2",{"$f":"kod!B14","v":"Gát, közepes víz"},{"$f":"kod!C14","v":"Slovakia Carp Team"},{"$f":"SUM(J92:AZ92)","v":0},{"$f":"COUNT(J92:AZ92)","v":0},0,{"$f":"MAX(J92:BA92)","v":0},null,"tükörponty"]
["B2",{"$f":"kod!B14","v":"Gát, közepes víz"},{"$f":"kod!C14","v":"Slovakia Carp Team"},9.4,3,3.1333333333333333,{"$f":"MAX(J93:BA93)","v":6.0250000000000004},null,"tőponty",6.0250000000000004,1.85,1.5249999999999999]
["B2",{"$f":"kod!B14","v":"Gát, közepes víz"},{"$f":"kod!C14","v":"Slovakia Carp Team"},0,0,0,{"$f":"MAX(J94:BA94)","v":0},null,"nyurgaponty"]
["B2",{"$f":"kod!B14","v":"Gát, közepes víz"},{"$f":"kod!C14","v":"Slovakia Carp Team"},0,0,0,null,{"$f":"MAX(J95:AZ95)","v":0},"koi ponty"]
["B2",{"$f":"kod!B14","v":"Gát, közepes víz"},{"$f":"kod!C14","v":"Slovakia Carp Team"},0,0,0,{"$f":"MAX(J96:BA96)","v":0},null,"amur"]
["B2",{"$f":"kod!B14","v":"Gát, közepes víz"},{"$f":"kod!C14","v":"Slovakia Carp Team"},0,0,0,{"$f":"MAX(J97:BA97)","v":0},null,"fekete amur"]
["B3",{"$f":"kod!B15","v":"Gát, közepes víz"},{"$f":"kod!C15","v":"WLC Hungary "},{"$f":"SUM(D99:D104)","v":165.15},{"$f":"SUM(E99:E104)","v":15},11.01,{"$f":"MAX(G99:G104)","v":21.7},{"$f":"H102","v":0},"ÖSSZESEN",{"$f":"COUNTIFS($J99:$BB104,\">9,99\",$J99:$BB104,\"<20\")","v":8},{"$f":"COUNTIFS($J99:$BB104,\">19,99\")","v":1},{"$f":"COUNTIFS($J102:$BA102,\">4,99\",$J102:$BA102,\"<9,99\")","v":0},{"$f":"COUNTIFS($J102:$BB102,\">9,99\")","v":0}]
["B3",{"$f":"kod!B15","v":"Gát, közepes víz"},{"$f":"kod!C15","v":"WLC Hungary "},{"$f":"SUM(J99:AZ99)","v":72.625},{"$f":"COUNT(J99:AZ99)","v":6},12.104166666666666,{"$f":"MAX(J99:BA99)","v":21.7},null,"tükörponty",8.0749999999999993,8.6750000000000007,21.7,12.8,10.824999999999999,10.55]
["B3",{"$f":"kod!B15","v":"Gát, közepes víz"},{"$f":"kod!C15","v":"WLC Hungary "},25.074999999999999,2,12.5375,{"$f":"MAX(J100:BA100)","v":13.95},null,"tőponty",11.125,13.95]
["B3",{"$f":"kod!B15","v":"Gát, közepes víz"},{"$f":"kod!C15","v":"WLC Hungary "},56.15,5,11.23,{"$f":"MAX(J101:BA101)","v":13.975},null,"nyurgaponty",13.975,7.45,9.0500000000000007,12.574999999999999,13.1]
["B3",{"$f":"kod!B15","v":"Gát, közepes víz"},{"$f":"kod!C15","v":"WLC Hungary "},0,0,0,null,{"$f":"MAX(J102:AZ102)","v":0},"koi ponty"]
["B3",{"$f":"kod!B15","v":"Gát, közepes víz"},{"$f":"kod!C15","v":"WLC Hungary "},11.3,2,5.65,{"$f":"MAX(J103:BA103)","v":5.9249999999999998},null,"amur",5.375,5.9249999999999998]
["B3",{"$f":"kod!B15","v":"Gát, közepes víz"},{"$f":"kod!C15","v":"WLC Hungary "},0,0,0,{"$f":"MAX(J104:BA104)","v":0},null,"fekete amur"]
["B4",{"$f":"kod!B16","v":"Gát, közepes víz"},{"$f":"kod!C16","v":"Barfin Line NSD Bulgaria"},{"$f":"SUM(D106:D111)","v":13.875},{"$f":"SUM(E106:E111)","v":2},6.9375,{"$f":"MAX(G106:G111)","v":12.25},{"$f":"H109","v":0},"ÖSSZESEN",{"$f":"COUNTIFS($J106:$BB111,\">9,99\",$J106:$BB111,\"<20\")","v":1},{"$f":"COUNTIFS($J106:$BB111,\">19,99\")","v":0},{"$f":"COUNTIFS($J109:$BA109,\">4,99\",$J109:$BA109,\"<9,99\")","v":0},{"$f":"COUNTIFS($J109:$BB109,\">9,99\")","v":0}]
["B4",{"$f":"kod!B16","v":"Gát, közepes víz"},{"$f":"kod!C16","v":"Barfin Line NSD Bulgaria"},{"$f":"SUM(J106:AZ106)","v":0},{"$f":"COUNT(J106:AZ106)","v":0},0,{"$f":"MAX(J106:BA106)","v":0},null,"tükörponty"]
["B4",{"$f":"kod!B16","v":"Gát, közepes víz"},{"$f":"kod!C16","v":"Barfin Line NSD Bulgaria"},13.875,2,6.9375,12.25,null,"tőponty",12.25,1.625]
["B4",{"$f":"kod!B16","v":"Gát, közepes víz"},{"$f":"kod!C16","v":"Barfin Line NSD Bulgaria"},0,0,0,0,null,"nyurgaponty"]
["B4",{"$f":"kod!B16","v":"Gát, közepes víz"},{"$f":"kod!C16","v":"Barfin Line NSD Bulgaria"},0,0,0,0,{"$f":"MAX(J109:AZ109)","v":0},"koi ponty"]
["B4",{"$f":"kod!B16","v":"Gát, közepes víz"},{"$f":"kod!C16","v":"Barfin Line NSD Bulgaria"},0,0,0,0,null,"amur"]
["B4",{"$f":"kod!B16","v":"Gát, közepes víz"},{"$f":"kod!C16","v":"Barfin Line NSD Bulgaria"},0,0,0,0,null,"fekete amur"]
["B5",{"$f":"kod!B17","v":"Gát, közepes víz"},{"$f":"kod!C17","v":"Lutra Carp Hunters"},{"$f":"SUM(D113:D118)","v":0},{"$f":"SUM(E113:E118)","v":0},0,{"$f":"MAX(G113:G118)","v":0},{"$f":"H116","v":0},"ÖSSZESEN",{"$f":"COUNTIFS($J113:$BB118,\">9,99\",$J113:$BB118,\"<20\")","v":0},{"$f":"COUNTIFS($J113:$BB118,\">19,99\")","v":0},{"$f":"COUNTIFS($J116:$BA116,\">4,99\",$J116:$BA116,\"<9,99\")","v":0},{"$f":"COUNTIFS($J116:$BB116,\">9,99\")","v":0}]
["B5",{"$f":"kod!B17","v":"Gát, közepes víz"},{"$f":"kod!C17","v":"Lutra Carp Hunters"},{"$f":"SUM(J113:AZ113)","v":0},{"$f":"COUNT(J113:AZ113)","v":0},0,{"$f":"MAX(J113:BA113)","v":0},null,"tükörponty"]
["B5",{"$f":"kod!B17","v":"Gát, közepes víz"},{"$f":"kod!C17","v":"Lutra Carp Hunters"},0,0,0,{"$f":"MAX(J114:BA114)","v":0},null,"tőponty"]
["B5",{"$f":"kod!B17","v":"Gát, közepes víz"},{"$f":"kod!C17","v":"Lutra Carp Hunters"},0,0,0,{"$f":"MAX(J115:BA115)","v":0},null,"nyurgaponty"]
["B5",{"$f":"kod!B17","v":"Gát, közepes víz"},{"$f":"kod!C17","v":"Lutra Carp Hunters"},0,0,0,null,{"$f":"MAX(J116:AZ116)","v":0},"koi ponty"]
["B5",{"$f":"kod!B17","v":"Gát, közepes víz"},{"$f":"kod!C17","v":"Lutra Carp Hunters"},0,0,0,{"$f":"MAX(J117:BA117)","v":0},null,"amur"]
["B5",{"$f":"kod!B17","v":"Gát, közepes víz"},{"$f":"kod!C17","v":"Lutra Carp Hunters"},0,0,0,{"$f":"MAX(J118:BA118)","v":0},null,"fekete amur"]
["B6",{"$f":"kod!B18","v":"Gát, közepes víz"},{"$f":"kod!C18","v":"Xtra Carp Team"},{"$f":"SUM(D120:D125)","v":113.625},{"$f":"SUM(E120:E125)","v":12},9.46875,{"$f":"MAX(G120:G125)","v":17.399999999999999},{"$f":"H123","v":0},"ÖSSZESEN",{"$f":"COUNTIFS($J120:$BB125,\">9,99\",$J120:$BB125,\"<20\")","v":6},{"$f":"COUNTIFS($J120:$BB125,\">19,99\")","v":0},{"$f":"COUNTIFS($J123:$BA123,\">4,99\",$J123:$BA123,\"<9,99\")","v":0},{"$f":"COUNTIFS($J123:$BB123,\">9,99\")","v":0}]
["B6",{"$f":"kod!B18","v":"Gát, közepes víz"},{"$f":"kod!C18","v":"Xtra Carp Team"},{"$f":"SUM(J120:AZ120)","v":23.1},{"$f":"COUNT(J120:AZ120)","v":2},11.55,{"$f":"MAX(J120:BA120)","v":14.225},null,"tükörponty",8.875,14.225]
["B6",{"$f":"kod!B18","v":"Gát, közepes víz"},{"$f":"kod!C18","v":"Xtra Carp Team"},34.450000000000003,2,17.225000000000001,{"$f":"MAX(J121:BA121)","v":17.399999999999999},null,"tőponty",17.05,17.399999999999999]
["B6",{"$f":"kod!B18","v":"Gát, közepes víz"},{"$f":"kod!C18","v":"Xtra Carp Team"},28.400000000000002,3,9.4666666666666668,{"$f":"MAX(J122:BA122)","v":11.05},null,"nyurgaponty",10.574999999999999,6.7750000000000004,11.05]
["B6",{"$f":"kod!B18","v":"Gát, közepes víz"},{"$f":"kod!C18","v":"Xtra Carp Team"},0,0,0,null,{"$f":"MAX(J123:AZ123)","v":0},"koi ponty"]
["B6",{"$f":"kod!B18","v":"Gát, közepes víz"},{"$f":"kod!C18","v":"Xtra Carp Team"},17.924999999999997,2,8.9624999999999986,{"$f":"MAX(J124:BA124)","v":10.45},null,"amur",10.45,7.4749999999999996]
["B6",{"$f":"kod!B18","v":"Gát, közepes víz"},{"$f":"kod!C18","v":"Xtra Carp Team"},9.75,3,3.25,{"$f":"MAX(J125:BA125)","v":3.9750000000000001},null,"fekete amur",3.1749999999999998,2.6,3.9750000000000001]
["B7",{"$f":"kod!B19","v":"I. sziget, jobb közép"},{"$f":"kod!C19","v":"Elite Carp Team Brasov"},{"$f":"SUM(D127:D132)","v":110.325},{"$f":"SUM(E127:E132)","v":11},10.029545454545454,{"$f":"MAX(G127:G132)","v":17.074999999999999},{"$f":"H130","v":5.5250000000000004},"ÖSSZESEN",{"$f":"COUNTIFS($J127:$BB132,\">9,99\",$J127:$BB132,\"<20\")","v":5},{"$f":"COUNTIFS($J127:$BB132,\">19,99\")","v":0},{"$f":"COUNTIFS($J130:$BA130,\">4,99\",$J130:$BA130,\"<9,99\")","v":1},{"$f":"COUNTIFS($J130:$BB130,\">9,99\")","v":0}]
["B7",{"$f":"kod!B19","v":"I. sziget, jobb közép"},{"$f":"kod!C19","v":"Elite Carp Team Brasov"},{"$f":"SUM(J127:AZ127)","v":28.7},{"$f":"COUNT(J127:AZ127)","v":3},9.5666666666666664,{"$f":"MAX(J127:BA127)","v":13},null,"tükörponty",8.875,6.8250000000000002,13]
["B7",{"$f":"kod!B19","v":"I. sziget, jobb közép"},{"$f":"kod!C19","v":"Elite Carp Team Brasov"},17.149999999999999,2,8.5749999999999993,8.9499999999999993,null,"tőponty",8.9499999999999993,8.1999999999999993]
["B7",{"$f":"kod!B19","v":"I. sziget, jobb közép"},{"$f":"kod!C19","v":"Elite Carp Team Brasov"},37.525000000000006,3,12.508333333333335,13.2,null,"nyurgaponty",11.925000000000001,12.4,13.2]
["B7",{"$f":"kod!B19","v":"I. sziget, jobb közép"},{"$f":"kod!C19","v":"Elite Carp Team Brasov"},9.875,2,4.9375,5.5250000000000004,{"$f":"MAX(J130:AZ130)","v":5.5250000000000004},"koi ponty",4.3499999999999996,5.5250000000000004]
["B7",{"$f":"kod!B19","v":"I. sziget, jobb közép"},{"$f":"kod!C19","v":"Elite Carp Team Brasov"},0,0,0,0,null,"amur"]
["B7",{"$f":"kod!B19","v":"I. sziget, jobb közép"},{"$f":"kod!C19","v":"Elite Carp Team Brasov"},17.074999999999999,1,17.074999999999999,17.074999999999999,null,"fekete amur",17.074999999999999]
["B8",{"$f":"kod!B20","v":"I. sziget, jobb "},{"$f":"kod!C20","v":"CT777 Varna Bulgaria"},{"$f":"SUM(D134:D139)","v":56.524999999999999},{"$f":"SUM(E134:E139)","v":8},7.0656249999999998,{"$f":"MAX(G134:G139)","v":13.65},{"$f":"H137","v":9.9},"ÖSSZESEN",{"$f":"COUNTIFS($J134:$BB139,\">9,99\",$J134:$BB139,\"<20\")","v":1},{"$f":"COUNTIFS($J134:$BB139,\">19,99\")","v":0},{"$f":"COUNTIFS($J137:$BA137,\">4,99\",$J137:$BA137,\"<9,99\")","v":1},{"$f":"COUNTIFS($J137:$BB137,\">9,99\")","v":0}]
["B8",{"$f":"kod!B20","v":"I. sziget, jobb "},{"$f":"kod!C20","v":"CT777 Varna Bulgaria"},{"$f":"SUM(J134:AZ134)","v":13.625},{"$f":"COUNT(J134:AZ134)","v":2},6.8125,{"$f":"MAX(J134:BA134)","v":8.4499999999999993},null,"tükörponty",5.1749999999999998,8.4499999999999993]
["B8",{"$f":"kod!B20","v":"I. sziget, jobb "},{"$f":"kod!C20","v":"CT777 Varna Bulgaria"},9.875,2,4.9375,{"$f":"MAX(J135:BA135)","v":8.0500000000000007},null,"tőponty",1.825,8.0500000000000007]
["B8",{"$f":"kod!B20","v":"I. sziget, jobb "},{"$f":"kod!C20","v":"CT777 Varna Bulgaria"},20.274999999999999,2,10.137499999999999,{"$f":"MAX(J136:BA136)","v":13.65},null,"nyurgaponty",6.625,13.65]
["B8",{"$f":"kod!B20","v":"I. sziget, jobb "},{"$f":"kod!C20","v":"CT777 Varna Bulgaria"},9.9,1,9.9,null,{"$f":"MAX(J137:AZ137)","v":9.9},"koi ponty",9.9]
["B8",{"$f":"kod!B20","v":"I. sziget, jobb "},{"$f":"kod!C20","v":"CT777 Varna Bulgaria"},0,0,0,{"$f":"MAX(J138:BA138)","v":0},null,"amur"]
["B8",{"$f":"kod!B20","v":"I. sziget, jobb "},{"$f":"kod!C20","v":"CT777 Varna Bulgaria"},2.85,1,2.85,{"$f":"MAX(J139:BA139)","v":2.85},null,"fekete amur",2.85]
["B9",{"$f":"kod!B21","v":"I. sziget, jobb külső"},{"$f":"kod!C21","v":"Bait Maker Team"},{"$f":"SUM(D141:D146)","v":42.424999999999997},{"$f":"SUM(E141:E146)","v":6},7.0708333333333329,{"$f":"MAX(G141:G146)","v":10.625},{"$f":"H144","v":0},"ÖSSZESEN",{"$f":"COUNTIFS($J141:$BB146,\">9,99\",$J141:$BB146,\"<20\")","v":1},{"$f":"COUNTIFS($J141:$BB146,\">19,99\")","v":0},{"$f":"COUNTIFS($J144:$BA144,\">4,99\",$J144:$BA144,\"<9,99\")","v":0},{"$f":"COUNTIFS($J144:$BB144,\">9,99\")","v":0}]
["B9",{"$f":"kod!B21","v":"I. sziget, jobb külső"},{"$f":"kod!C21","v":"Bait Maker Team"},{"$f":"SUM(J141:AZ141)","v":19.524999999999999},{"$f":"COUNT(J141:AZ141)","v":2},{"$f":"IF(E141=0,0,D141/E141)","v":9.7624999999999993},{"$f":"MAX(J141:BA141)","v":10.625},null,"tükörponty",8.9,10.625]
["B9",{"$f":"kod!B21","v":"I. sziget, jobb külső"},{"$f":"kod!C21","v":"Bait Maker Team"},12.35,2,6.1749999999999998,7.2249999999999996,null,"tőponty",7.2249999999999996,5.125]
["B9",{"$f":"kod!B21","v":"I. sziget, jobb külső"},{"$f":"kod!C21","v":"Bait Maker Team"},7,1,7,7,null,"nyurgaponty",7]
["B9",{"$f":"kod!B21","v":"I. sziget, jobb külső"},{"$f":"kod!C21","v":"Bait Maker Team"},0,0,0,0,{"$f":"MAX(J144:AZ144)","v":0},"koi ponty"]
["B9",{"$f":"kod!B21","v":"I. sziget, jobb külső"},{"$f":"kod!C21","v":"Bait Maker Team"},0,0,0,0,null,"amur"]
["B9",{"$f":"kod!B21","v":"I. sziget, jobb külső"},{"$f":"kod!C21","v":"Bait Maker Team"},3.55,1,3.55,3.55,null,"fekete amur",3.55]
["B10",{"$f":"kod!B22","v":"Felező-spicc, bal"},{"$f":"kod!C22","v":"SBS - SziKo Team"},{"$f":"SUM(D148:D153)","v":12.55},{"$f":"SUM(E148:E153)","v":3},4.1833333333333336,{"$f":"MAX(G148:G153)","v":6.5250000000000004},{"$f":"H151","v":0},"ÖSSZESEN",{"$f":"COUNTIFS($J148:$BB153,\">9,99\",$J148:$BB153,\"<20\")","v":0},{"$f":"COUNTIFS($J148:$BB153,\">19,99\")","v":0},{"$f":"COUNTIFS($J151:$BA151,\">4,99\",$J151:$BA151,\"<9,99\")","v":0},{"$f":"COUNTIFS($J151:$BB151,\">9,99\")","v":0}]
["B10",{"$f":"kod!B22","v":"Felező-spicc, bal"},{"$f":"kod!C22","v":"SBS - SziKo Team"},{"$f":"SUM(J148:AZ148)","v":0},{"$f":"COUNT(J148:AZ148)","v":0},0,{"$f":"MAX(J148:BA148)","v":0},null,"tükörponty"]
["B10",{"$f":"kod!B22","v":"Felező-spicc, bal"},{"$f":"kod!C22","v":"SBS - SziKo Team"},12.55,3,4.1833333333333336,6.5250000000000004,null,"tőponty",3.7749999999999999,6.5250000000000004,2.25]
["B10",{"$f":"kod!B22","v":"Felező-spicc, bal"},{"$f":"kod!C22","v":"SBS - SziKo Team"},0,0,0,0,null,"nyurgaponty"]
["B10",{"$f":"kod!B22","v":"Felező-spicc, bal"},{"$f":"kod!C22","v":"SBS - SziKo Team"},0,0,0,0,{"$f":"MAX(J151:AZ151)","v":0},"koi ponty"]
["B10",{"$f":"kod!B22","v":"Felező-spicc, bal"},{"$f":"kod!C22","v":"SBS - SziKo Team"},0,0,0,0,null,"amur"]
["B10",{"$f":"kod!B22","v":"Felező-spicc, bal"},{"$f":"kod!C22","v":"SBS - SziKo Team"},0,0,0,0,null,"fekete amur"]
["B11",{"$f":"kod!B23","v":"Felező-spicc, közép"},{"$f":"kod!C23","v":"Síp Carp Team"},{"$f":"SUM(D155:D160)","v":30.175000000000001},{"$f":"SUM(E155:E160)","v":3},10.058333333333334,{"$f":"MAX(G155:G160)","v":17.350000000000001},{"$f":"H158","v":0},"ÖSSZESEN",{"$f":"COUNTIFS($J155:$BB160,\">9,99\",$J155:$BB160,\"<20\")","v":1},{"$f":"COUNTIFS($J155:$BB160,\">19,99\")","v":0},{"$f":"COUNTIFS($J158:$BA158,\">4,99\",$J158:$BA158,\"<9,99\")","v":0},{"$f":"COUNTIFS($J158:$BB158,\">9,99\")","v":0}]
["B11",{"$f":"kod!B23","v":"Felező-spicc, közép"},{"$f":"kod!C23","v":"Síp Carp Team"},{"$f":"SUM(J155:AZ155)","v":17.350000000000001},1,17.350000000000001,{"$f":"MAX(J155:BA155)","v":17.350000000000001},null,"tükörponty",17.350000000000001]
["B11",{"$f":"kod!B23","v":"Felező-spicc, közép"},{"$f":"kod!C23","v":"Síp Carp Team"},6.3250000000000002,1,6.3250000000000002,6.3250000000000002,null,"tőponty",6.3250000000000002]
["B11",{"$f":"kod!B23","v":"Felező-spicc, közép"},{"$f":"kod!C23","v":"Síp Carp Team"},0,0,0,0,null,"nyurgaponty"]
["B11",{"$f":"kod!B23","v":"Felező-spicc, közép"},{"$f":"kod!C23","v":"Síp Carp Team"},0,0,0,null,{"$f":"MAX(J158:AZ158)","v":0},"koi ponty"]
["B11",{"$f":"kod!B23","v":"Felező-spicc, közép"},{"$f":"kod!C23","v":"Síp Carp Team"},6.5,1,6.5,{"$f":"MAX(J159:BA159)","v":6.5},null,"amur",6.5]
["B11",{"$f":"kod!B23","v":"Felező-spicc, közép"},{"$f":"kod!C23","v":"Síp Carp Team"},0,0,0,0,null,"fekete amur"]
["C1",{"$f":"kod!B24","v":"Gát, sekély víz"},{"$f":"kod!C24","v":"Carp Fever Bulgaria"},{"$f":"SUM(D162:D167)","v":101},{"$f":"SUM(E162:E167)","v":17},{"$f":"IF(E161=0,0,D161/E161)","v":5.9411764705882355},{"$f":"MAX(G162:G167)","v":8.9},{"$f":"H165","v":8.9},"ÖSSZESEN",{"$f":"COUNTIFS($J162:$BB167,\">9,99\",$J162:$BB167,\"<20\")","v":0},{"$f":"COUNTIFS($J162:$BB167,\">19,99\")","v":0},{"$f":"COUNTIFS($J165:$BA165,\">4,99\",$J165:$BA165,\"<9,99\")","v":3},{"$f":"COUNTIFS($J165:$BB165,\">9,99\")","v":0}]
["C1",{"$f":"kod!B24","v":"Gát, sekély víz"},{"$f":"kod!C24","v":"Carp Fever Bulgaria"},{"$f":"SUM(J162:AZ162)","v":10.15},{"$f":"COUNT(J162:AZ162)","v":2},{"$f":"IF(E162=0,0,D162/E162)","v":5.0750000000000002},{"$f":"MAX(J162:BA162)","v":7.8},null,"tükörponty",2.35,7.8]
["C1",{"$f":"kod!B24","v":"Gát, sekély víz"},{"$f":"kod!C24","v":"Carp Fever Bulgaria"},22.324999999999999,5,4.4649999999999999,7.9249999999999998,null,"tőponty",7.9249999999999998,2.9750000000000001,7.5,1.2250000000000001,2.7]
["C1",{"$f":"kod!B24","v":"Gát, sekély víz"},{"$f":"kod!C24","v":"Carp Fever Bulgaria"},39.925000000000004,6,6.6541666666666677,7.9,null,"nyurgaponty",7.375,7.625,4.2,7.9,6.3250000000000002,6.5]
["C1",{"$f":"kod!B24","v":"Gát, sekély víz"},{"$f":"kod!C24","v":"Carp Fever Bulgaria"},28.6,4,7.15,8.9,{"$f":"MAX(J165:AZ165)","v":8.9},"koi ponty",4.5250000000000004,8.9,7.0750000000000002,8.1]
["C1",{"$f":"kod!B24","v":"Gát, sekély víz"},{"$f":"kod!C24","v":"Carp Fever Bulgaria"},0,0,0,0,null,"amur"]
["C1",{"$f":"kod!B24","v":"Gát, sekély víz"},{"$f":"kod!C24","v":"Carp Fever Bulgaria"},0,0,0,0,null,"fekete amur"]
["C2",{"$f":"kod!B25","v":"Gát, sekély víz"},{"$f":"kod!C25","v":"Carpfriends Ennstal-Austria"},{"$f":"SUM(D169:D174)","v":49.599999999999994},{"$f":"SUM(E169:E174)","v":5},9.9199999999999982,{"$f":"MAX(G169:G174)","v":12.9},{"$f":"H172","v":0},"ÖSSZESEN",{"$f":"COUNTIFS($J169:$BB174,\">9,99\",$J169:$BB174,\"<20\")","v":3},{"$f":"COUNTIFS($J169:$BB174,\">19,99\")","v":0},{"$f":"COUNTIFS($J172:$BA172,\">4,99\",$J172:$BA172,\"<9,99\")","v":0},{"$f":"COUNTIFS($J172:$BB172,\">9,99\")","v":0}]
["C2",{"$f":"kod!B25","v":"Gát, sekély víz"},{"$f":"kod!C25","v":"Carpfriends Ennstal-Austria"},{"$f":"SUM(J169:AZ169)","v":17.649999999999999},{"$f":"COUNT(J169:AZ169)","v":2},8.8249999999999993,{"$f":"MAX(J169:BA169)","v":10.875},null,"tükörponty",6.7750000000000004,10.875]
["C2",{"$f":"kod!B25","v":"Gát, sekély víz"},{"$f":"kod!C25","v":"Carpfriends Ennstal-Austria"},0,0,0,0,null,"tőponty"]
["C2",{"$f":"kod!B25","v":"Gát, sekély víz"},{"$f":"kod!C25","v":"Carpfriends Ennstal-Austria"},31.95,3,10.65,12.9,null,"nyurgaponty",11.375,12.9,7.6749999999999998]
["C2",{"$f":"kod!B25","v":"Gát, sekély víz"},{"$f":"kod!C25","v":"Carpfriends Ennstal-Austria"},0,0,0,0,{"$f":"MAX(J172:AZ172)","v":0},"koi ponty"]
["C2",{"$f":"kod!B25","v":"Gát, sekély víz"},{"$f":"kod!C25","v":"Carpfriends Ennstal-Austria"},0,0,0,0,null,"amur"]
["C2",{"$f":"kod!B25","v":"Gát, sekély víz"},{"$f":"kod!C25","v":"Carpfriends Ennstal-Austria"},0,0,0,0,null,"fekete amur"]
["C3",{"$f":"kod!B26","v":"Gát, sekély víz"},{"$f":"kod!C26","v":"Carp Team Brasov"},{"$f":"SUM(D176:D181)","v":86.074999999999989},{"$f":"SUM(E176:E181)","v":10},8.6074999999999982,{"$f":"MAX(G176:G181)","v":17.399999999999999},{"$f":"H179","v":12.7},"ÖSSZESEN",{"$f":"COUNTIFS($J176:$BB181,\">9,99\",$J176:$BB181,\"<20\")","v":2},{"$f":"COUNTIFS($J176:$BB181,\">19,99\")","v":0},{"$f":"COUNTIFS($J179:$BA179,\">4,99\",$J179:$BA179,\"<9,99\")","v":1},{"$f":"COUNTIFS($J179:$BB179,\">9,99\")","v":1}]
["C3",{"$f":"kod!B26","v":"Gát, sekély víz"},{"$f":"kod!C26","v":"Carp Team Brasov"},{"$f":"SUM(J176:AZ176)","v":0},{"$f":"COUNT(J176:AZ176)","v":0},0,{"$f":"MAX(J176:BA176)","v":0},null,"tükörponty"]
["C3",{"$f":"kod!B26","v":"Gát, sekély víz"},{"$f":"kod!C26","v":"Carp Team Brasov"},50.65,6,8.4416666666666664,{"$f":"MAX(J177:BA177)","v":17.399999999999999},null,"tőponty",17.399999999999999,7.5,4.875,5.0250000000000004,8.625,7.2249999999999996]
["C3",{"$f":"kod!B26","v":"Gát, sekély víz"},{"$f":"kod!C26","v":"Carp Team Brasov"},13.524999999999999,2,6.7624999999999993,{"$f":"MAX(J178:BA178)","v":7.1749999999999998},null,"nyurgaponty",6.35,7.1749999999999998]
["C3",{"$f":"kod!B26","v":"Gát, sekély víz"},{"$f":"kod!C26","v":"Carp Team Brasov"},21.9,2,10.95,null,{"$f":"MAX(J179:AZ179)","v":12.7},"koi ponty",9.1999999999999993,12.7]
["C3",{"$f":"kod!B26","v":"Gát, sekély víz"},{"$f":"kod!C26","v":"Carp Team Brasov"},0,0,0,{"$f":"MAX(J180:BA180)","v":0},null,"amur"]
["C3",{"$f":"kod!B26","v":"Gát, sekély víz"},{"$f":"kod!C26","v":"Carp Team Brasov"},0,0,0,{"$f":"MAX(J181:BA181)","v":0},null,"fekete amur"]
["C4",{"$f":"kod!B27","v":"Gát, sekély víz"},{"$f":"kod!C27","v":"As La Carp Team"},{"$f":"SUM(D183:D188)","v":38.4},{"$f":"SUM(E183:E188)","v":5},7.68,{"$f":"MAX(G183:G188)","v":11.225},{"$f":"H186","v":10.55},"ÖSSZESEN",{"$f":"COUNTIFS($J183:$BB188,\">9,99\",$J183:$BB188,\"<20\")","v":2},{"$f":"COUNTIFS($J183:$BB188,\">19,99\")","v":0},{"$f":"COUNTIFS($J186:$BA186,\">4,99\",$J186:$BA186,\"<9,99\")","v":1},{"$f":"COUNTIFS($J186:$BB186,\">9,99\")","v":1}]
["C4",{"$f":"kod!B27","v":"Gát, sekély víz"},{"$f":"kod!C27","v":"As La Carp Team"},{"$f":"SUM(J183:AZ183)","v":17.399999999999999},{"$f":"COUNT(J183:AZ183)","v":2},8.6999999999999993,{"$f":"MAX(J183:BA183)","v":11.225},null,"tükörponty",6.1749999999999998,11.225]
["C4",{"$f":"kod!B27","v":"Gát, sekély víz"},{"$f":"kod!C27","v":"As La Carp Team"},1.75,1,1.75,1.75,null,"tőponty",1.75]
["C4",{"$f":"kod!B27","v":"Gát, sekély víz"},{"$f":"kod!C27","v":"As La Carp Team"},0,0,0,0,null,"nyurgaponty"]
["C4",{"$f":"kod!B27","v":"Gát, sekély víz"},{"$f":"kod!C27","v":"As La Carp Team"},19.25,2,9.625,10.55,{"$f":"MAX(J186:AZ186)","v":10.55},"koi ponty",10.55,8.6999999999999993]
["C4",{"$f":"kod!B27","v":"Gát, sekély víz"},{"$f":"kod!C27","v":"As La Carp Team"},0,0,0,0,null,"amur"]
["C4",{"$f":"kod!B27","v":"Gát, sekély víz"},{"$f":"kod!C27","v":"As La Carp Team"},0,0,0,0,null,"fekete amur"]
["C5",{"$f":"kod!B28","v":"Gát, sekély víz"},{"$f":"kod!C28","v":"Bojlis Főnök - Bait Bait Carp Team"},{"$f":"SUM(D190:D195)","v":29.575000000000003},{"$f":"SUM(E190:E195)","v":7},4.2250000000000005,{"$f":"MAX(G190:G195)","v":8.4749999999999996},{"$f":"H193","v":0},"ÖSSZESEN",{"$f":"COUNTIFS($J190:$BB195,\">9,99\",$J190:$BB195,\"<20\")","v":0},{"$f":"COUNTIFS($J190:$BB195,\">19,99\")","v":0},{"$f":"COUNTIFS($J193:$BA193,\">4,99\",$J193:$BA193,\"<9,99\")","v":0},{"$f":"COUNTIFS($J193:$BB193,\">9,99\")","v":0}]
["C5",{"$f":"kod!B28","v":"Gát, sekély víz"},{"$f":"kod!C28","v":"Bojlis Főnök - Bait Bait Carp Team"},{"$f":"SUM(J190:AZ190)","v":9.6750000000000007},{"$f":"COUNT(J190:AZ190)","v":3},3.2250000000000001,{"$f":"MAX(J190:BA190)","v":5.9},null,"tükörponty",1.4750000000000001,2.2999999999999998,5.9]
["C5",{"$f":"kod!B28","v":"Gát, sekély víz"},{"$f":"kod!C28","v":"Bojlis Főnök - Bait Bait Carp Team"},11.425000000000001,3,3.8083333333333336,{"$f":"MAX(J191:BA191)","v":8.1},null,"tőponty",1.9,1.425,8.1]
["C5",{"$f":"kod!B28","v":"Gát, sekély víz"},{"$f":"kod!C28","v":"Bojlis Főnök - Bait Bait Carp Team"},8.4749999999999996,1,8.4749999999999996,{"$f":"MAX(J192:BA192)","v":8.4749999999999996},null,"nyurgaponty",8.4749999999999996]
["C5",{"$f":"kod!B28","v":"Gát, sekély víz"},{"$f":"kod!C28","v":"Bojlis Főnök - Bait Bait Carp Team"},0,0,0,null,{"$f":"MAX(J193:AZ193)","v":0},"koi ponty"]
["C5",{"$f":"kod!B28","v":"Gát, sekély víz"},{"$f":"kod!C28","v":"Bojlis Főnök - Bait Bait Carp Team"},0,0,0,{"$f":"MAX(J194:BA194)","v":0},null,"amur"]
["C5",{"$f":"kod!B28","v":"Gát, sekély víz"},{"$f":"kod!C28","v":"Bojlis Főnök - Bait Bait Carp Team"},0,0,0,{"$f":"MAX(J195:BA195)","v":0},null,"fekete amur"]
["C6",{"$f":"kod!B29","v":"Felező-spicc, jobb"},{"$f":"kod!C29","v":"Secret Of The Carp"},{"$f":"SUM(D197:D202)","v":40.200000000000003},{"$f":"SUM(E197:E202)","v":4},10.050000000000001,{"$f":"MAX(G197:G202)","v":16.3},{"$f":"H200","v":0},"ÖSSZESEN",{"$f":"COUNTIFS($J197:$BB202,\">9,99\",$J197:$BB202,\"<20\")","v":1},{"$f":"COUNTIFS($J197:$BB202,\">19,99\")","v":0},{"$f":"COUNTIFS($J200:$BA200,\">4,99\",$J200:$BA200,\"<9,99\")","v":0},{"$f":"COUNTIFS($J200:$BB200,\">9,99\")","v":0}]
["C6",{"$f":"kod!B29","v":"Felező-spicc, jobb"},{"$f":"kod!C29","v":"Secret Of The Carp"},{"$f":"SUM(J197:AZ197)","v":8.8249999999999993},{"$f":"COUNT(J197:AZ197)","v":1},8.8249999999999993,{"$f":"MAX(J197:BA197)","v":8.8249999999999993},null,"tükörponty",8.8249999999999993]
["C6",{"$f":"kod!B29","v":"Felező-spicc, jobb"},{"$f":"kod!C29","v":"Secret Of The Carp"},7.0750000000000002,1,7.0750000000000002,7.0750000000000002,null,"tőponty",7.0750000000000002]
["C6",{"$f":"kod!B29","v":"Felező-spicc, jobb"},{"$f":"kod!C29","v":"Secret Of The Carp"},24.3,2,12.15,16.3,null,"nyurgaponty",8,16.3]
["C6",{"$f":"kod!B29","v":"Felező-spicc, jobb"},{"$f":"kod!C29","v":"Secret Of The Carp"},0,0,0,0,{"$f":"MAX(J200:AZ200)","v":0},"koi ponty"]
["C6",{"$f":"kod!B29","v":"Felező-spicc, jobb"},{"$f":"kod!C29","v":"Secret Of The Carp"},0,0,0,0,null,"amur"]
["C6",{"$f":"kod!B29","v":"Felező-spicc, jobb"},{"$f":"kod!C29","v":"Secret Of The Carp"},0,0,0,0,null,"fekete amur"]
["C7",{"$f":"kod!B30","v":"II. sziget, bal"},{"$f":"kod!C30","v":"Quick Baits"},{"$f":"SUM(D204:D209)","v":82.199999999999989},{"$f":"SUM(E204:E209)","v":9},9.1333333333333329,{"$f":"MAX(G204:G209)","v":12.3},{"$f":"H207","v":0},"ÖSSZESEN",{"$f":"COUNTIFS($J204:$BB209,\">9,99\",$J204:$BB209,\"<20\")","v":3},{"$f":"COUNTIFS($J204:$BB209,\">19,99\")","v":0},{"$f":"COUNTIFS($J207:$BA207,\">4,99\",$J207:$BA207,\"<9,99\")","v":0},{"$f":"COUNTIFS($J207:$BB207,\">9,99\")","v":0}]
["C7",{"$f":"kod!B30","v":"II. sziget, bal"},{"$f":"kod!C30","v":"Quick Baits"},{"$f":"SUM(J204:AZ204)","v":19},{"$f":"COUNT(J204:AZ204)","v":2},9.5,{"$f":"MAX(J204:BA204)","v":11.45},null,"tükörponty",7.55,11.45]
["C7",{"$f":"kod!B30","v":"II. sziget, bal"},{"$f":"kod!C30","v":"Quick Baits"},34.274999999999999,4,8.5687499999999996,{"$f":"MAX(J205:BA205)","v":11.175000000000001},null,"tőponty",7.65,7.7249999999999996,11.175000000000001,7.7249999999999996]
["C7",{"$f":"kod!B30","v":"II. sziget, bal"},{"$f":"kod!C30","v":"Quick Baits"},28.924999999999997,3,9.6416666666666657,{"$f":"MAX(J206:BA206)","v":12.3},null,"nyurgaponty",12.3,7.1,9.5250000000000004]
["C7",{"$f":"kod!B30","v":"II. sziget, bal"},{"$f":"kod!C30","v":"Quick Baits"},0,0,0,null,{"$f":"MAX(J207:AZ207)","v":0},"koi ponty"]
["C7",{"$f":"kod!B30","v":"II. sziget, bal"},{"$f":"kod!C30","v":"Quick Baits"},0,0,0,{"$f":"MAX(J208:BA208)","v":0},null,"amur"]
["C7",{"$f":"kod!B30","v":"II. sziget, bal"},{"$f":"kod!C30","v":"Quick Baits"},0,0,0,{"$f":"MAX(J209:BA209)","v":0},null,"fekete amur"]
["C8",{"$f":"kod!B31","v":"II. sziget, bal közép"},{"$f":"kod!C31","v":"Carp Team Blankbrothers"},{"$f":"SUM(D211:D216)","v":6.4},{"$f":"SUM(E211:E216)","v":1},6.4,{"$f":"MAX(G211:G216)","v":6.4},{"$f":"H214","v":0},"ÖSSZESEN",{"$f":"COUNTIFS($J211:$BB216,\">9,99\",$J211:$BB216,\"<20\")","v":0},{"$f":"COUNTIFS($J211:$BB216,\">19,99\")","v":0},{"$f":"COUNTIFS($J214:$BA214,\">4,99\",$J214:$BA214,\"<9,99\")","v":0},{"$f":"COUNTIFS($J214:$BB214,\">9,99\")","v":0}]
["C8",{"$f":"kod!B31","v":"II. sziget, bal közép"},{"$f":"kod!C31","v":"Carp Team Blankbrothers"},{"$f":"SUM(J211:AZ211)","v":0},{"$f":"COUNT(J211:AZ211)","v":0},0,{"$f":"MAX(J211:BA211)","v":0},null,"tükörponty"]
["C8",{"$f":"kod!B31","v":"II. sziget, bal közép"},{"$f":"kod!C31","v":"Carp Team Blankbrothers"},0,0,0,0,null,"tőponty"]
["C8",{"$f":"kod!B31","v":"II. sziget, bal közép"},{"$f":"kod!C31","v":"Carp Team Blankbrothers"},6.4,1,6.4,6.4,null,"nyurgaponty",6.4]
["C8",{"$f":"kod!B31","v":"II. sziget, bal közép"},{"$f":"kod!C31","v":"Carp Team Blankbrothers"},0,0,0,0,{"$f":"MAX(J214:AZ214)","v":0},"koi ponty"]
["C8",{"$f":"kod!B31","v":"II. sziget, bal közép"},{"$f":"kod!C31","v":"Carp Team Blankbrothers"},0,0,0,0,null,"amur"]
["C8",{"$f":"kod!B31","v":"II. sziget, bal közép"},{"$f":"kod!C31","v":"Carp Team Blankbrothers"},0,0,0,0,null,"fekete amur"]
["C9",{"$f":"kod!B32","v":"II. sziget, közép"},{"$f":"kod!C32","v":"Bait Bait Hungary"},{"$f":"SUM(D218:D223)","v":63.475000000000001},{"$f":"SUM(E218:E223)","v":12},5.2895833333333337,{"$f":"MAX(G218:G223)","v":8.6},{"$f":"H221","v":8.6},"ÖSSZESEN",{"$f":"COUNTIFS($J218:$BB223,\">9,99\",$J218:$BB223,\"<20\")","v":0},{"$f":"COUNTIFS($J218:$BB223,\">19,99\")","v":0},{"$f":"COUNTIFS($J221:$BA221,\">4,99\",$J221:$BA221,\"<9,99\")","v":1},{"$f":"COUNTIFS($J221:$BB221,\">9,99\")","v":0}]
["C9",{"$f":"kod!B32","v":"II. sziget, közép"},{"$f":"kod!C32","v":"Bait Bait Hungary"},{"$f":"SUM(J218:AZ218)","v":0},{"$f":"COUNT(J218:AZ218)","v":0},{"$f":"IF(E218=0,0,D218/E218)","v":0},{"$f":"MAX(J218:BA218)","v":0},null,"tükörponty"]
["C9",{"$f":"kod!B32","v":"II. sziget, közép"},{"$f":"kod!C32","v":"Bait Bait Hungary"},45.674999999999997,9,5.0749999999999993,8.0250000000000004,null,"tőponty",1.25,7.8250000000000002,6.6,4.45,6.9249999999999998,1.55,8.0250000000000004,1.875,7.1749999999999998]
["C9",{"$f":"kod!B32","v":"II. sziget, közép"},{"$f":"kod!C32","v":"Bait Bait Hungary"},5.8250000000000002,1,5.8250000000000002,5.8250000000000002,null,"nyurgaponty",5.8250000000000002]
["C9",{"$f":"kod!B32","v":"II. sziget, közép"},{"$f":"kod!C32","v":"Bait Bait Hungary"},8.6,1,8.6,8.6,{"$f":"MAX(J221:AZ221)","v":8.6},"koi ponty",8.6]
["C9",{"$f":"kod!B32","v":"II. sziget, közép"},{"$f":"kod!C32","v":"Bait Bait Hungary"},0,0,0,0,null,"amur"]
["C9",{"$f":"kod!B32","v":"II. sziget, közép"},{"$f":"kod!C32","v":"Bait Bait Hungary"},3.375,1,3.375,3.375,null,"fekete amur",3.375]
["C10",{"$f":"kod!B33","v":"II. sziget, jobb közép"},{"$f":"kod!C33","v":"Acroft Illusive Bait Me"},{"$f":"SUM(D225:D230)","v":35.875},{"$f":"SUM(E225:E230)","v":5},7.1749999999999998,{"$f":"MAX(G225:G230)","v":9.1},{"$f":"H228","v":0},"ÖSSZESEN",{"$f":"COUNTIFS($J225:$BB230,\">9,99\",$J225:$BB230,\"<20\")","v":0},{"$f":"COUNTIFS($J225:$BB230,\">19,99\")","v":0},{"$f":"COUNTIFS($J228:$BA228,\">4,99\",$J228:$BA228,\"<9,99\")","v":0},{"$f":"COUNTIFS($J228:$BB228,\">9,99\")","v":0}]
["C10",{"$f":"kod!B33","v":"II. sziget, jobb közép"},{"$f":"kod!C33","v":"Acroft Illusive Bait Me"},{"$f":"SUM(J225:AZ225)","v":0},{"$f":"COUNT(J225:AZ225)","v":0},0,{"$f":"MAX(J225:BA225)","v":0},null,"tükörponty"]
["C10",{"$f":"kod!B33","v":"II. sziget, jobb közép"},{"$f":"kod!C33","v":"Acroft Illusive Bait Me"},16.3,2,8.15,8.7750000000000004,null,"tőponty",8.7750000000000004,7.5250000000000004]
["C10",{"$f":"kod!B33","v":"II. sziget, jobb közép"},{"$f":"kod!C33","v":"Acroft Illusive Bait Me"},14.7,2,7.35,9.1,null,"nyurgaponty",9.1,5.6]
["C10",{"$f":"kod!B33","v":"II. sziget, jobb közép"},{"$f":"kod!C33","v":"Acroft Illusive Bait Me"},0,0,0,0,{"$f":"MAX(J228:AZ228)","v":0},"koi ponty"]
["C10",{"$f":"kod!B33","v":"II. sziget, jobb közép"},{"$f":"kod!C33","v":"Acroft Illusive Bait Me"},0,0,0,0,null,"amur"]
["C10",{"$f":"kod!B33","v":"II. sziget, jobb közép"},{"$f":"kod!C33","v":"Acroft Illusive Bait Me"},4.875,1,4.875,4.875,null,"fekete amur",4.875]
["C11",{"$f":"kod!B34","v":"II. sziget, jobb"},{"$f":"kod!C34","v":"Vaslui Carp Team"},{"$f":"SUM(D232:D237)","v":121.35000000000001},{"$f":"SUM(E232:E237)","v":20},6.0675000000000008,{"$f":"MAX(G232:G237)","v":9},{"$f":"H235","v":9.0250000000000004},"ÖSSZESEN",{"$f":"COUNTIFS($J232:$BB237,\">9,99\",$J232:$BB237,\"<20\")","v":0},{"$f":"COUNTIFS($J232:$BB237,\">19,99\")","v":0},{"$f":"COUNTIFS($J235:$BA235,\">4,99\",$J235:$BA235,\"<9,99\")","v":2},{"$f":"COUNTIFS($J235:$BB235,\">9,99\")","v":0}]
["C11",{"$f":"kod!B34","v":"II. sziget, jobb"},{"$f":"kod!C34","v":"Vaslui Carp Team"},{"$f":"SUM(J232:AZ232)","v":13.15},{"$f":"COUNT(J232:AZ232)","v":2},6.5750000000000002,{"$f":"MAX(J232:BA232)","v":7.65},null,"tükörponty",5.5,7.65]
["C11",{"$f":"kod!B34","v":"II. sziget, jobb"},{"$f":"kod!C34","v":"Vaslui Carp Team"},29.425000000000001,6,4.9041666666666668,{"$f":"MAX(J233:BA233)","v":7.9},null,"tőponty",1.575,3.75,1.1499999999999999,7.9,7.8,7.25]
["C11",{"$f":"kod!B34","v":"II. sziget, jobb"},{"$f":"kod!C34","v":"Vaslui Carp Team"},37.424999999999997,5,7.4849999999999994,{"$f":"MAX(J234:BA234)","v":9},null,"nyurgaponty",7.4749999999999996,6.45,5.7249999999999996,9,8.7750000000000004]
["C11",{"$f":"kod!B34","v":"II. sziget, jobb"},{"$f":"kod!C34","v":"Vaslui Carp Team"},16.074999999999999,2,8.0374999999999996,null,{"$f":"MAX(J235:AZ235)","v":9.0250000000000004},"koi ponty",9.0250000000000004,7.05]
["C11",{"$f":"kod!B34","v":"II. sziget, jobb"},{"$f":"kod!C34","v":"Vaslui Carp Team"},16.25,2,8.125,{"$f":"MAX(J236:BA236)","v":8.625},null,"amur",8.625,7.625]
["C11",{"$f":"kod!B34","v":"II. sziget, jobb"},{"$f":"kod!C34","v":"Vaslui Carp Team"},9.0250000000000004,3,3.0083333333333333,{"$f":"MAX(J237:BA237)","v":3.4750000000000001},null,"fekete amur",2.65,3.4750000000000001,2.9]
[null,null,"Összesen:",{"$f":"SUM(D7,D14,D21,D28,D35,D42,D49,D56,D63,D70,D77,D84,D91,D98,D105,D112,D119,D126,D133,D140,D147,D154,D161,D168,D175,D182,D189,D196,D203,D210,D217,D224,D231)","v":1690.3150000000001},{"$f":"SUM(E7,E14,E21,E28,E35,E42,E49,E56,E63,E70,E77,E84,E91,E98,E105,E112,E119,E126,E133,E140,E147,E154,E161,E168,E175,E182,E189,E196,E203,E210,E217,E224,E231)","v":222},{"$f":"IF(E238=0,0,D238/E238)","v":7.6140315315315314},null,null,null,{"$f":"SUM(J7,J14,J21,J28,J35,J42,J49,J56,J63,J70,J77,J84,J91,J98,J105,J112,J119,J126,J133,J140,J147,J154,J161,J168,J175,J182,J189,J196,J203,J210,J217,J224,J231)","v":50},{"$f":"SUM(K7,K14,K21,K28,K35,K42,K49,K56,K63,K70,K77,K84,K91,K98,K105,K112,K119,K126,K133,K140,K147,K154,K161,K168,K175,K182,K189,K196,K203,K210,K217,K224,K231)","v":1},{"$f":"SUM(L7,L14,L21,L28,L35,L42,L49,L56,L63,L70,L77,L84,L91,L98,L105,L112,L119,L126,L133,L140,L147,L154,L161,L168,L175,L182,L189,L196,L203,L210,L217,L224,L231)","v":10},2]

{"sheet":"szakasz5","index":6,"n_rows":238,"n_cols":23,"rows_kept":238,"cut":false,"hidden":false,"merged":[[0,0,0,12],[1,0,1,12],[2,0,2,12],[3,0,3,12],[4,0,4,12]]}
[{"$f":"IF(kod!E2>0,kod!E2,\"\")","v":"XXI. PROFESSZIONÁLIS BOJLIS EURÓPA KUPA (EPBC)"}]
[{"$f":"IF(kod!E3>0,kod!E3,\"\")","v":"XXXVI. MACONKA NEMZETKÖZI BOJLIS KUPA"}]
[{"$f":"IF(kod!E4>0,kod!E4,\"\")","v":"Maconka, 2025.06.15. - 2025.06.20."}]
[{"$f":"IF(kod!E5>0,kod!E5,\"\")","v":""}]
[{"$f":"kod!E11","v":"5. szakasz:  2025.06.17. 18:00 - 2025.06.18. 06:00"}]
["Rajthely","Elhelyezés","Csapatnév","Kg","Db","Átlag","BC","BkC","Faj","10-20 kg","20+ kg","koi 5-10 kg","koi 10+ kg"]
["A1",{"$f":"kod!B2","v":"Gát, mélyvíz"},{"$f":"kod!C2","v":"SBS - Halcatraz - TiZo Team"},{"$f":"SUM(D8:D13)","v":0},{"$f":"SUM(E8:E13)","v":0},{"$f":"IF(E7=0,0,D7/E7)","v":0},{"$f":"MAX(G8:G13)","v":0},{"$f":"H11","v":0},"ÖSSZESEN",{"$f":"COUNTIFS($J8:$BB13,\">9,99\",$J8:$BB13,\"<20\")","v":0},{"$f":"COUNTIFS($J8:$BB13,\">19,99\")","v":0},{"$f":"COUNTIFS($J11:$BA11,\">4,99\",$J11:$BA11,\"<9,99\")","v":0},{"$f":"COUNTIFS($J11:$BB11,\">9,99\")","v":0}]
["A1",{"$f":"kod!B2","v":"Gát, mélyvíz"},{"$f":"kod!C2","v":"SBS - Halcatraz - TiZo Team"},{"$f":"SUM(J8:AZ8)","v":0},{"$f":"COUNT(J8:AZ8)","v":0},{"$f":"IF(E8=0,0,D8/E8)","v":0},{"$f":"MAX(J8:BA8)","v":0},null,"tükörponty"]
["A1",{"$f":"kod!B2","v":"Gát, mélyvíz"},{"$f":"kod!C2","v":"SBS - Halcatraz - TiZo Team"},0,0,0,{"$f":"MAX(J9:BA9)","v":0},null,"tőponty"]
["A1",{"$f":"kod!B2","v":"Gát, mélyvíz"},{"$f":"kod!C2","v":"SBS - Halcatraz - TiZo Team"},0,0,0,0,null,"nyurgaponty"]
["A1",{"$f":"kod!B2","v":"Gát, mélyvíz"},{"$f":"kod!C2","v":"SBS - Halcatraz - TiZo Team"},0,0,0,null,{"$f":"MAX(J11:AZ11)","v":0},"koi ponty"]
["A1",{"$f":"kod!B2","v":"Gát, mélyvíz"},{"$f":"kod!C2","v":"SBS - Halcatraz - TiZo Team"},0,0,0,0,null,"amur"]
["A1",{"$f":"kod!B2","v":"Gát, mélyvíz"},{"$f":"kod!C2","v":"SBS - Halcatraz - TiZo Team"},0,0,0,0,null,"fekete amur"]
["A2",{"$f":"kod!B3","v":"Gát, mélyvíz"},{"$f":"kod!C3","v":"Altstadt Carp Team"},{"$f":"SUM(D15:D20)","v":36.524999999999999},{"$f":"SUM(E15:E20)","v":4},9.1312499999999996,{"$f":"MAX(G15:G20)","v":10.324999999999999},{"$f":"H18","v":12.375},"ÖSSZESEN",{"$f":"COUNTIFS($J15:$BB20,\">9,99\",$J15:$BB20,\"<20\")","v":2},{"$f":"COUNTIFS($J15:$BB20,\">19,99\")","v":0},{"$f":"COUNTIFS($J18:$BA18,\">4,99\",$J18:$BA18,\"<9,99\")","v":0},{"$f":"COUNTIFS($J18:$BB18,\">9,99\")","v":1}]
["A2",{"$f":"kod!B3","v":"Gát, mélyvíz"},{"$f":"kod!C3","v":"Altstadt Carp Team"},{"$f":"SUM(J15:AZ15)","v":0},{"$f":"COUNT(J15:AZ15)","v":0},0,{"$f":"MAX(J15:BA15)","v":0},null,"tükörponty"]
["A2",{"$f":"kod!B3","v":"Gát, mélyvíz"},{"$f":"kod!C3","v":"Altstadt Carp Team"},0,0,0,{"$f":"MAX(J16:BA16)","v":0},null,"tőponty"]
["A2",{"$f":"kod!B3","v":"Gát, mélyvíz"},{"$f":"kod!C3","v":"Altstadt Carp Team"},9.6,1,9.6,{"$f":"MAX(J17:BA17)","v":9.6},null,"nyurgaponty",9.6]
["A2",{"$f":"kod!B3","v":"Gát, mélyvíz"},{"$f":"kod!C3","v":"Altstadt Carp Team"},12.375,1,12.375,null,{"$f":"MAX(J18:AZ18)","v":12.375},"koi ponty",12.375]
["A2",{"$f":"kod!B3","v":"Gát, mélyvíz"},{"$f":"kod!C3","v":"Altstadt Carp Team"},10.324999999999999,1,10.324999999999999,{"$f":"MAX(J19:BA19)","v":10.324999999999999},null,"amur",10.324999999999999]
["A2",{"$f":"kod!B3","v":"Gát, mélyvíz"},{"$f":"kod!C3","v":"Altstadt Carp Team"},4.2249999999999996,1,4.2249999999999996,{"$f":"MAX(J20:BA20)","v":4.2249999999999996},null,"fekete amur",4.2249999999999996]
["A3",{"$f":"kod!B4","v":"Gát, mélyvíz"},{"$f":"kod!C4","v":"Ferma De Crap Diosig"},{"$f":"SUM(D22:D27)","v":0},{"$f":"SUM(E22:E27)","v":0},0,{"$f":"MAX(G22:G27)","v":0},{"$f":"H25","v":0},"ÖSSZESEN",{"$f":"COUNTIFS($J22:$BB27,\">9,99\",$J22:$BB27,\"<20\")","v":0},{"$f":"COUNTIFS($J22:$BB27,\">19,99\")","v":0},{"$f":"COUNTIFS($J25:$BA25,\">4,99\",$J25:$BA25,\"<9,99\")","v":0},{"$f":"COUNTIFS($J25:$BB25,\">9,99\")","v":0}]
["A3",{"$f":"kod!B4","v":"Gát, mélyvíz"},{"$f":"kod!C4","v":"Ferma De Crap Diosig"},{"$f":"SUM(J22:AZ22)","v":0},{"$f":"COUNT(J22:AZ22)","v":0},0,{"$f":"MAX(J22:BA22)","v":0},null,"tükörponty"]
["A3",{"$f":"kod!B4","v":"Gát, mélyvíz"},{"$f":"kod!C4","v":"Ferma De Crap Diosig"},0,0,0,{"$f":"MAX(J23:BA23)","v":0},null,"tőponty"]
["A3",{"$f":"kod!B4","v":"Gát, mélyvíz"},{"$f":"kod!C4","v":"Ferma De Crap Diosig"},0,0,0,{"$f":"MAX(J24:BA24)","v":0},null,"nyurgaponty"]
["A3",{"$f":"kod!B4","v":"Gát, mélyvíz"},{"$f":"kod!C4","v":"Ferma De Crap Diosig"},0,0,0,null,{"$f":"MAX(J25:AZ25)","v":0},"koi ponty"]
["A3",{"$f":"kod!B4","v":"Gát, mélyvíz"},{"$f":"kod!C4","v":"Ferma De Crap Diosig"},0,0,0,{"$f":"MAX(J26:BA26)","v":0},null,"amur"]
["A3",{"$f":"kod!B4","v":"Gát, mélyvíz"},{"$f":"kod!C4","v":"Ferma De Crap Diosig"},0,0,0,{"$f":"MAX(J27:BA27)","v":0},null,"fekete amur"]
["A4",{"$f":"kod!B5","v":"Gát, mélyvíz"},{"$f":"kod!C5","v":"Bull Tackle"},{"$f":"SUM(D29:D34)","v":79.525000000000006},{"$f":"SUM(E29:E34)","v":6},13.254166666666668,{"$f":"MAX(G29:G34)","v":21.675000000000001},{"$f":"H32","v":13.25},"ÖSSZESEN",{"$f":"COUNTIFS($J29:$BB34,\">9,99\",$J29:$BB34,\"<20\")","v":4},{"$f":"COUNTIFS($J29:$BB34,\">19,99\")","v":1},{"$f":"COUNTIFS($J32:$BA32,\">4,99\",$J32:$BA32,\"<9,99\")","v":0},{"$f":"COUNTIFS($J32:$BB32,\">9,99\")","v":1}]
["A4",{"$f":"kod!B5","v":"Gát, mélyvíz"},{"$f":"kod!C5","v":"Bull Tackle"},{"$f":"SUM(J29:AZ29)","v":0},{"$f":"COUNT(J29:AZ29)","v":0},0,{"$f":"MAX(J29:BA29)","v":0},null,"tükörponty"]
["A4",{"$f":"kod!B5","v":"Gát, mélyvíz"},{"$f":"kod!C5","v":"Bull Tackle"},12.2,1,12.2,{"$f":"MAX(J30:BA30)","v":12.2},null,"tőponty",12.2]
["A4",{"$f":"kod!B5","v":"Gát, mélyvíz"},{"$f":"kod!C5","v":"Bull Tackle"},30.675000000000001,2,15.3375,{"$f":"MAX(J31:BA31)","v":21.675000000000001},null,"nyurgaponty",21.675000000000001,9]
["A4",{"$f":"kod!B5","v":"Gát, mélyvíz"},{"$f":"kod!C5","v":"Bull Tackle"},13.25,1,13.25,null,{"$f":"MAX(J32:AZ32)","v":13.25},"koi ponty",13.25]
["A4",{"$f":"kod!B5","v":"Gát, mélyvíz"},{"$f":"kod!C5","v":"Bull Tackle"},0,0,0,{"$f":"MAX(J33:BA33)","v":0},null,"amur"]
["A4",{"$f":"kod!B5","v":"Gát, mélyvíz"},{"$f":"kod!C5","v":"Bull Tackle"},23.4,2,11.7,{"$f":"MAX(J34:BA34)","v":13.3},null,"fekete amur",13.3,10.1]
["A5",{"$f":"kod!B6","v":"Gát, mélyvíz"},{"$f":"kod!C6","v":"AHFSZ Fishing Team"},{"$f":"SUM(D36:D41)","v":0},{"$f":"SUM(E36:E41)","v":0},0,{"$f":"MAX(G36:G41)","v":0},{"$f":"H39","v":0},"ÖSSZESEN",{"$f":"COUNTIFS($J36:$BB41,\">9,99\",$J36:$BB41,\"<20\")","v":0},{"$f":"COUNTIFS($J36:$BB41,\">19,99\")","v":0},{"$f":"COUNTIFS($J39:$BA39,\">4,99\",$J39:$BA39,\"<9,99\")","v":0},{"$f":"COUNTIFS($J39:$BB39,\">9,99\")","v":0}]
["A5",{"$f":"kod!B6","v":"Gát, mélyvíz"},{"$f":"kod!C6","v":"AHFSZ Fishing Team"},{"$f":"SUM(J36:AZ36)","v":0},{"$f":"COUNT(J36:AZ36)","v":0},0,{"$f":"MAX(J36:BA36)","v":0},null,"tükörponty"]
["A5",{"$f":"kod!B6","v":"Gát, mélyvíz"},{"$f":"kod!C6","v":"AHFSZ Fishing Team"},0,0,0,{"$f":"MAX(J37:BA37)","v":0},null,"tőponty"]
["A5",{"$f":"kod!B6","v":"Gát, mélyvíz"},{"$f":"kod!C6","v":"AHFSZ Fishing Team"},0,0,0,{"$f":"MAX(J38:BA38)","v":0},null,"nyurgaponty"]
["A5",{"$f":"kod!B6","v":"Gát, mélyvíz"},{"$f":"kod!C6","v":"AHFSZ Fishing Team"},0,0,0,null,{"$f":"MAX(J39:AZ39)","v":0},"koi ponty"]
["A5",{"$f":"kod!B6","v":"Gát, mélyvíz"},{"$f":"kod!C6","v":"AHFSZ Fishing Team"},0,0,0,{"$f":"MAX(J40:BA40)","v":0},null,"amur"]
["A5",{"$f":"kod!B6","v":"Gát, mélyvíz"},{"$f":"kod!C6","v":"AHFSZ Fishing Team"},0,0,0,{"$f":"MAX(J41:BA41)","v":0},null,"fekete amur"]
["A6",{"$f":"kod!B7","v":"Nyári kikötő, belső"},{"$f":"kod!C7","v":"Black Carp Team"},{"$f":"SUM(D43:D48)","v":56.85},{"$f":"SUM(E43:E48)","v":8},7.1062500000000002,{"$f":"MAX(G43:G48)","v":11.574999999999999},{"$f":"H46","v":0},"ÖSSZESEN",{"$f":"COUNTIFS($J43:$BB48,\">9,99\",$J43:$BB48,\"<20\")","v":1},{"$f":"COUNTIFS($J43:$BB48,\">19,99\")","v":0},{"$f":"COUNTIFS($J46:$BA46,\">4,99\",$J46:$BA46,\"<9,99\")","v":0},{"$f":"COUNTIFS($J46:$BB46,\">9,99\")","v":0}]
["A6",{"$f":"kod!B7","v":"Nyári kikötő, belső"},{"$f":"kod!C7","v":"Black Carp Team"},{"$f":"SUM(J43:AZ43)","v":0},{"$f":"COUNT(J43:AZ43)","v":0},0,{"$f":"MAX(J43:BA43)","v":0},null,"tükörponty"]
["A6",{"$f":"kod!B7","v":"Nyári kikötő, belső"},{"$f":"kod!C7","v":"Black Carp Team"},39.625,5,7.9249999999999998,{"$f":"MAX(J44:BA44)","v":11.574999999999999},null,"tőponty",7.125,6.65,4.7249999999999996,9.5500000000000007,11.574999999999999]
["A6",{"$f":"kod!B7","v":"Nyári kikötő, belső"},{"$f":"kod!C7","v":"Black Carp Team"},0,0,0,{"$f":"MAX(J45:BA45)","v":0},null,"nyurgaponty"]
["A6",{"$f":"kod!B7","v":"Nyári kikötő, belső"},{"$f":"kod!C7","v":"Black Carp Team"},0,0,0,null,{"$f":"MAX(J46:AZ46)","v":0},"koi ponty"]
["A6",{"$f":"kod!B7","v":"Nyári kikötő, belső"},{"$f":"kod!C7","v":"Black Carp Team"},0,0,0,{"$f":"MAX(J47:BA47)","v":0},null,"amur"]
["A6",{"$f":"kod!B7","v":"Nyári kikötő, belső"},{"$f":"kod!C7","v":"Black Carp Team"},17.225000000000001,3,5.7416666666666671,{"$f":"MAX(J48:BA48)","v":9.4749999999999996},null,"fekete amur",3.3250000000000002,4.4249999999999998,9.4749999999999996]
["A7",{"$f":"kod!B8","v":"Nyári kikötő, közép"},{"$f":"kod!C8","v":"USA & Mivado Carp Team"},{"$f":"SUM(D50:D55)","v":50.954999999999998},{"$f":"SUM(E50:E55)","v":5},10.190999999999999,{"$f":"MAX(G50:G55)","v":15.78},{"$f":"H53","v":0},"ÖSSZESEN",{"$f":"COUNTIFS($J50:$BB55,\">9,99\",$J50:$BB55,\"<20\")","v":3},{"$f":"COUNTIFS($J50:$BB55,\">19,99\")","v":0},{"$f":"COUNTIFS($J53:$BA53,\">4,99\",$J53:$BA53,\"<9,99\")","v":0},{"$f":"COUNTIFS($J53:$BB53,\">9,99\")","v":0}]
["A7",{"$f":"kod!B8","v":"Nyári kikötő, közép"},{"$f":"kod!C8","v":"USA & Mivado Carp Team"},{"$f":"SUM(J50:AZ50)","v":0},{"$f":"COUNT(J50:AZ50)","v":0},0,{"$f":"MAX(J50:BA50)","v":0},null,"tükörponty"]
["A7",{"$f":"kod!B8","v":"Nyári kikötő, közép"},{"$f":"kod!C8","v":"USA & Mivado Carp Team"},19.100000000000001,2,9.5500000000000007,{"$f":"MAX(J51:BA51)","v":10.3},null,"tőponty",10.3,8.8000000000000007]
["A7",{"$f":"kod!B8","v":"Nyári kikötő, közép"},{"$f":"kod!C8","v":"USA & Mivado Carp Team"},10.574999999999999,1,10.574999999999999,{"$f":"MAX(J52:BA52)","v":10.574999999999999},null,"nyurgaponty",10.574999999999999]
["A7",{"$f":"kod!B8","v":"Nyári kikötő, közép"},{"$f":"kod!C8","v":"USA & Mivado Carp Team"},0,0,0,null,{"$f":"MAX(J53:AZ53)","v":0},"koi ponty"]
["A7",{"$f":"kod!B8","v":"Nyári kikötő, közép"},{"$f":"kod!C8","v":"USA & Mivado Carp Team"},0,0,0,{"$f":"MAX(J54:BA54)","v":0},null,"amur"]
["A7",{"$f":"kod!B8","v":"Nyári kikötő, közép"},{"$f":"kod!C8","v":"USA & Mivado Carp Team"},21.28,2,10.64,{"$f":"MAX(J55:BA55)","v":15.78},null,"fekete amur",15.78,5.5]
["A8",{"$f":"kod!B9","v":"Nyári kikötő, külső"},{"$f":"kod!C9","v":"Ózdi Sporthorgász Egyesület"},{"$f":"SUM(D57:D62)","v":11.25},{"$f":"SUM(E57:E62)","v":1},11.25,{"$f":"MAX(G57:G62)","v":11.25},{"$f":"H60","v":0},"ÖSSZESEN",{"$f":"COUNTIFS($J57:$BB62,\">9,99\",$J57:$BB62,\"<20\")","v":1},{"$f":"COUNTIFS($J57:$BB62,\">19,99\")","v":0},{"$f":"COUNTIFS($J60:$BA60,\">4,99\",$J60:$BA60,\"<9,99\")","v":0},{"$f":"COUNTIFS($J60:$BB60,\">9,99\")","v":0}]
["A8",{"$f":"kod!B9","v":"Nyári kikötő, külső"},{"$f":"kod!C9","v":"Ózdi Sporthorgász Egyesület"},{"$f":"SUM(J57:AZ57)","v":0},{"$f":"COUNT(J57:AZ57)","v":0},0,{"$f":"MAX(J57:BA57)","v":0},null,"tükörponty"]
["A8",{"$f":"kod!B9","v":"Nyári kikötő, külső"},{"$f":"kod!C9","v":"Ózdi Sporthorgász Egyesület"},11.25,1,11.25,{"$f":"MAX(J58:BA58)","v":11.25},null,"tőponty",11.25]
["A8",{"$f":"kod!B9","v":"Nyári kikötő, külső"},{"$f":"kod!C9","v":"Ózdi Sporthorgász Egyesület"},0,0,0,{"$f":"MAX(J59:BA59)","v":0},null,"nyurgaponty"]
["A8",{"$f":"kod!B9","v":"Nyári kikötő, külső"},{"$f":"kod!C9","v":"Ózdi Sporthorgász Egyesület"},0,0,0,null,{"$f":"MAX(J60:AZ60)","v":0},"koi ponty"]
["A8",{"$f":"kod!B9","v":"Nyári kikötő, külső"},{"$f":"kod!C9","v":"Ózdi Sporthorgász Egyesület"},0,0,0,{"$f":"MAX(J61:BA61)","v":0},null,"amur"]
["A8",{"$f":"kod!B9","v":"Nyári kikötő, külső"},{"$f":"kod!C9","v":"Ózdi Sporthorgász Egyesület"},0,0,0,{"$f":"MAX(J62:BA62)","v":0},null,"fekete amur"]
["A9",{"$f":"kod!B10","v":"I. sziget, bal külső"},{"$f":"kod!C10","v":"Kártékony Carp Team"},{"$f":"SUM(D64:D69)","v":176.52500000000001},{"$f":"SUM(E64:E69)","v":22},8.023863636363636,{"$f":"MAX(G64:G69)","v":15.8},{"$f":"H67","v":10.074999999999999},"ÖSSZESEN",{"$f":"COUNTIFS($J64:$BB69,\">9,99\",$J64:$BB69,\"<20\")","v":5},{"$f":"COUNTIFS($J64:$BB69,\">19,99\")","v":0},{"$f":"COUNTIFS($J67:$BA67,\">4,99\",$J67:$BA67,\"<9,99\")","v":0},{"$f":"COUNTIFS($J67:$BB67,\">9,99\")","v":1}]
["A9",{"$f":"kod!B10","v":"I. sziget, bal külső"},{"$f":"kod!C10","v":"Kártékony Carp Team"},{"$f":"SUM(J64:AZ64)","v":44.674999999999997},{"$f":"COUNT(J64:AZ64)","v":5},{"$f":"IF(E64=0,0,D64/E64)","v":8.9349999999999987},{"$f":"MAX(J64:BA64)","v":12.475},null,"tükörponty",12.475,6.1,12.4,5.5,8.1999999999999993]
["A9",{"$f":"kod!B10","v":"I. sziget, bal külső"},{"$f":"kod!C10","v":"Kártékony Carp Team"},105.85000000000001,14,7.5607142857142859,{"$f":"MAX(J65:BA65)","v":15.8},null,"tőponty",7.1,7.2249999999999996,5.0250000000000004,7.1,6.6,7.15,6.35,15.8,7.8,6.5,9.9250000000000007,2.7250000000000001,9.65,6.9]
["A9",{"$f":"kod!B10","v":"I. sziget, bal külső"},{"$f":"kod!C10","v":"Kártékony Carp Team"},11.4,1,11.4,{"$f":"MAX(J66:BA66)","v":11.4},null,"nyurgaponty",11.4]
["A9",{"$f":"kod!B10","v":"I. sziget, bal külső"},{"$f":"kod!C10","v":"Kártékony Carp Team"},14.6,2,7.3,null,{"$f":"MAX(J67:AZ67)","v":10.074999999999999},"koi ponty",10.074999999999999,4.5250000000000004]
["A9",{"$f":"kod!B10","v":"I. sziget, bal külső"},{"$f":"kod!C10","v":"Kártékony Carp Team"},0,0,0,{"$f":"MAX(J68:BA68)","v":0},null,"amur"]
["A9",{"$f":"kod!B10","v":"I. sziget, bal külső"},{"$f":"kod!C10","v":"Kártékony Carp Team"},0,0,0,{"$f":"MAX(J69:BA69)","v":0},null,"fekete amur"]
["A10",{"$f":"kod!B11","v":"I. sziget, bal"},{"$f":"kod!C11","v":"Team 5 Austria"},{"$f":"SUM(D71:D76)","v":72.599999999999994},{"$f":"SUM(E71:E76)","v":6},12.1,{"$f":"MAX(G71:G76)","v":22.55},{"$f":"H74","v":0},"ÖSSZESEN",{"$f":"COUNTIFS($J71:$BB76,\">9,99\",$J71:$BB76,\"<20\")","v":3},{"$f":"COUNTIFS($J71:$BB76,\">19,99\")","v":1},{"$f":"COUNTIFS($J74:$BA74,\">4,99\",$J74:$BA74,\"<9,99\")","v":0},{"$f":"COUNTIFS($J74:$BB74,\">9,99\")","v":0}]
["A10",{"$f":"kod!B11","v":"I. sziget, bal"},{"$f":"kod!C11","v":"Team 5 Austria"},{"$f":"SUM(J71:AZ71)","v":0},{"$f":"COUNT(J71:AZ71)","v":0},0,{"$f":"MAX(J71:BA71)","v":0},null,"tükörponty"]
["A10",{"$f":"kod!B11","v":"I. sziget, bal"},{"$f":"kod!C11","v":"Team 5 Austria"},31.924999999999997,3,10.641666666666666,{"$f":"MAX(J72:BA72)","v":12.75},null,"tőponty",12.75,10.275,8.9]
["A10",{"$f":"kod!B11","v":"I. sziget, bal"},{"$f":"kod!C11","v":"Team 5 Austria"},22.55,1,22.55,{"$f":"MAX(J73:BA73)","v":22.55},null,"nyurgaponty",22.55]
["A10",{"$f":"kod!B11","v":"I. sziget, bal"},{"$f":"kod!C11","v":"Team 5 Austria"},0,0,0,null,{"$f":"MAX(J74:AZ74)","v":0},"koi ponty"]
["A10",{"$f":"kod!B11","v":"I. sziget, bal"},{"$f":"kod!C11","v":"Team 5 Austria"},18.125,2,9.0625,{"$f":"MAX(J75:BA75)","v":12.475},null,"amur",5.65,12.475]
["A10",{"$f":"kod!B11","v":"I. sziget, bal"},{"$f":"kod!C11","v":"Team 5 Austria"},0,0,0,{"$f":"MAX(J76:BA76)","v":0},null,"fekete amur"]
["A11",{"$f":"kod!B12","v":"I. sziget, bal közép"},{"$f":"kod!C12","v":"Invader's Team Poland"},{"$f":"SUM(D78:D83)","v":32.07},{"$f":"SUM(E78:E83)","v":6},5.3449999999999998,{"$f":"MAX(G78:G83)","v":10.5},{"$f":"H81","v":0},"ÖSSZESEN",{"$f":"COUNTIFS($J78:$BB83,\">9,99\",$J78:$BB83,\"<20\")","v":1},{"$f":"COUNTIFS($J78:$BB83,\">19,99\")","v":0},{"$f":"COUNTIFS($J81:$BA81,\">4,99\",$J81:$BA81,\"<9,99\")","v":0},{"$f":"COUNTIFS($J81:$BB81,\">9,99\")","v":0}]
["A11",{"$f":"kod!B12","v":"I. sziget, bal közép"},{"$f":"kod!C12","v":"Invader's Team Poland"},{"$f":"SUM(J78:AZ78)","v":6.8250000000000002},{"$f":"COUNT(J78:AZ78)","v":1},6.8250000000000002,{"$f":"MAX(J78:BA78)","v":6.8250000000000002},null,"tükörponty",6.8250000000000002]
["A11",{"$f":"kod!B12","v":"I. sziget, bal közép"},{"$f":"kod!C12","v":"Invader's Team Poland"},5.62,3,1.8733333333333333,{"$f":"MAX(J79:BA79)","v":3.35},null,"tőponty",3.35,1.07,1.2]
["A11",{"$f":"kod!B12","v":"I. sziget, bal közép"},{"$f":"kod!C12","v":"Invader's Team Poland"},10.5,1,10.5,{"$f":"MAX(J80:BA80)","v":10.5},null,"nyurgaponty",10.5]
["A11",{"$f":"kod!B12","v":"I. sziget, bal közép"},{"$f":"kod!C12","v":"Invader's Team Poland"},0,0,0,null,{"$f":"MAX(J81:AZ81)","v":0},"koi ponty"]
["A11",{"$f":"kod!B12","v":"I. sziget, bal közép"},{"$f":"kod!C12","v":"Invader's Team Poland"},9.125,1,9.125,{"$f":"MAX(J82:BA82)","v":9.125},null,"amur",9.125]
["A11",{"$f":"kod!B12","v":"I. sziget, bal közép"},{"$f":"kod!C12","v":"Invader's Team Poland"},0,0,0,{"$f":"MAX(J83:BA83)","v":0},null,"fekete amur"]
["B1",{"$f":"kod!B13","v":"Gát, közepes víz"},{"$f":"kod!C13","v":"Tata Nitu Carp Team"},{"$f":"SUM(D85:D90)","v":22.925000000000001},{"$f":"SUM(E85:E90)","v":3},{"$f":"IF(E84=0,0,D84/E84)","v":7.6416666666666666},{"$f":"MAX(G85:G90)","v":15},{"$f":"H88","v":0},"ÖSSZESEN",{"$f":"COUNTIFS($J85:$BB90,\">9,99\",$J85:$BB90,\"<20\")","v":1},{"$f":"COUNTIFS($J85:$BB90,\">19,99\")","v":0},{"$f":"COUNTIFS($J88:$BA88,\">4,99\",$J88:$BA88,\"<9,99\")","v":0},{"$f":"COUNTIFS($J88:$BB88,\">9,99\")","v":0}]
["B1",{"$f":"kod!B13","v":"Gát, közepes víz"},{"$f":"kod!C13","v":"Tata Nitu Carp Team"},{"$f":"SUM(J85:AZ85)","v":0},{"$f":"COUNT(J85:AZ85)","v":0},{"$f":"IF(E85=0,0,D85/E85)","v":0},{"$f":"MAX(J85:BA85)","v":0},null,"tükörponty"]
["B1",{"$f":"kod!B13","v":"Gát, közepes víz"},{"$f":"kod!C13","v":"Tata Nitu Carp Team"},7.9250000000000007,2,3.9625000000000004,{"$f":"MAX(J86:BA86)","v":6.45},null,"tőponty",1.4750000000000001,6.45]
["B1",{"$f":"kod!B13","v":"Gát, közepes víz"},{"$f":"kod!C13","v":"Tata Nitu Carp Team"},0,0,0,{"$f":"MAX(J87:BA87)","v":0},null,"nyurgaponty"]
["B1",{"$f":"kod!B13","v":"Gát, közepes víz"},{"$f":"kod!C13","v":"Tata Nitu Carp Team"},0,0,0,null,{"$f":"MAX(J88:AZ88)","v":0},"koi ponty"]
["B1",{"$f":"kod!B13","v":"Gát, közepes víz"},{"$f":"kod!C13","v":"Tata Nitu Carp Team"},15,1,15,{"$f":"MAX(J89:BA89)","v":15},null,"amur",15]
["B1",{"$f":"kod!B13","v":"Gát, közepes víz"},{"$f":"kod!C13","v":"Tata Nitu Carp Team"},0,0,0,{"$f":"MAX(J90:BA90)","v":0},null,"fekete amur"]
["B2",{"$f":"kod!B14","v":"Gát, közepes víz"},{"$f":"kod!C14","v":"Slovakia Carp Team"},{"$f":"SUM(D92:D97)","v":0},{"$f":"SUM(E92:E97)","v":0},0,{"$f":"MAX(G92:G97)","v":0},{"$f":"H95","v":0},"ÖSSZESEN",{"$f":"COUNTIFS($J92:$BB97,\">9,99\",$J92:$BB97,\"<20\")","v":0},{"$f":"COUNTIFS($J92:$BB97,\">19,99\")","v":0},{"$f":"COUNTIFS($J95:$BA95,\">4,99\",$J95:$BA95,\"<9,99\")","v":0},{"$f":"COUNTIFS($J95:$BB95,\">9,99\")","v":0}]
["B2",{"$f":"kod!B14","v":"Gát, közepes víz"},{"$f":"kod!C14","v":"Slovakia Carp Team"},{"$f":"SUM(J92:AZ92)","v":0},{"$f":"COUNT(J92:AZ92)","v":0},0,{"$f":"MAX(J92:BA92)","v":0},null,"tükörponty"]
["B2",{"$f":"kod!B14","v":"Gát, közepes víz"},{"$f":"kod!C14","v":"Slovakia Carp Team"},0,0,0,{"$f":"MAX(J93:BA93)","v":0},null,"tőponty"]
["B2",{"$f":"kod!B14","v":"Gát, közepes víz"},{"$f":"kod!C14","v":"Slovakia Carp Team"},0,0,0,{"$f":"MAX(J94:BA94)","v":0},null,"nyurgaponty"]
["B2",{"$f":"kod!B14","v":"Gát, közepes víz"},{"$f":"kod!C14","v":"Slovakia Carp Team"},0,0,0,null,{"$f":"MAX(J95:AZ95)","v":0},"koi ponty"]
["B2",{"$f":"kod!B14","v":"Gát, közepes víz"},{"$f":"kod!C14","v":"Slovakia Carp Team"},0,0,0,{"$f":"MAX(J96:BA96)","v":0},null,"amur"]
["B2",{"$f":"kod!B14","v":"Gát, közepes víz"},{"$f":"kod!C14","v":"Slovakia Carp Team"},0,0,0,{"$f":"MAX(J97:BA97)","v":0},null,"fekete amur"]
["B3",{"$f":"kod!B15","v":"Gát, közepes víz"},{"$f":"kod!C15","v":"WLC Hungary "},{"$f":"SUM(D99:D104)","v":97.674999999999983},{"$f":"SUM(E99:E104)","v":9},10.852777777777776,{"$f":"MAX(G99:G104)","v":15.85},{"$f":"H102","v":10.225},"ÖSSZESEN",{"$f":"COUNTIFS($J99:$BB104,\">9,99\",$J99:$BB104,\"<20\")","v":7},{"$f":"COUNTIFS($J99:$BB104,\">19,99\")","v":0},{"$f":"COUNTIFS($J102:$BA102,\">4,99\",$J102:$BA102,\"<9,99\")","v":0},{"$f":"COUNTIFS($J102:$BB102,\">9,99\")","v":1}]
["B3",{"$f":"kod!B15","v":"Gát, közepes víz"},{"$f":"kod!C15","v":"WLC Hungary "},{"$f":"SUM(J99:AZ99)","v":0},{"$f":"COUNT(J99:AZ99)","v":0},0,{"$f":"MAX(J99:BA99)","v":0},null,"tükörponty"]
["B3",{"$f":"kod!B15","v":"Gát, közepes víz"},{"$f":"kod!C15","v":"WLC Hungary "},0,0,0,{"$f":"MAX(J100:BA100)","v":0},null,"tőponty"]
["B3",{"$f":"kod!B15","v":"Gát, közepes víz"},{"$f":"kod!C15","v":"WLC Hungary "},83.974999999999994,7,11.99642857142857,{"$f":"MAX(J101:BA101)","v":15.85},null,"nyurgaponty",10.475,12.925000000000001,8.2249999999999996,10.7,13.2,12.6,15.85]
["B3",{"$f":"kod!B15","v":"Gát, közepes víz"},{"$f":"kod!C15","v":"WLC Hungary "},10.225,1,10.225,null,{"$f":"MAX(J102:AZ102)","v":10.225},"koi ponty",10.225]
["B3",{"$f":"kod!B15","v":"Gát, közepes víz"},{"$f":"kod!C15","v":"WLC Hungary "},0,0,0,{"$f":"MAX(J103:BA103)","v":0},null,"amur"]
["B3",{"$f":"kod!B15","v":"Gát, közepes víz"},{"$f":"kod!C15","v":"WLC Hungary "},3.4750000000000001,1,3.4750000000000001,{"$f":"MAX(J104:BA104)","v":3.4750000000000001},null,"fekete amur",3.4750000000000001]
["B4",{"$f":"kod!B16","v":"Gát, közepes víz"},{"$f":"kod!C16","v":"Barfin Line NSD Bulgaria"},{"$f":"SUM(D106:D111)","v":12.3},{"$f":"SUM(E106:E111)","v":1},12.3,{"$f":"MAX(G106:G111)","v":12.3},{"$f":"H109","v":0},"ÖSSZESEN",{"$f":"COUNTIFS($J106:$BB111,\">9,99\",$J106:$BB111,\"<20\")","v":1},{"$f":"COUNTIFS($J106:$BB111,\">19,99\")","v":0},{"$f":"COUNTIFS($J109:$BA109,\">4,99\",$J109:$BA109,\"<9,99\")","v":0},{"$f":"COUNTIFS($J109:$BB109,\">9,99\")","v":0}]
["B4",{"$f":"kod!B16","v":"Gát, közepes víz"},{"$f":"kod!C16","v":"Barfin Line NSD Bulgaria"},{"$f":"SUM(J106:AZ106)","v":0},{"$f":"COUNT(J106:AZ106)","v":0},0,{"$f":"MAX(J106:BA106)","v":0},null,"tükörponty"]
["B4",{"$f":"kod!B16","v":"Gát, közepes víz"},{"$f":"kod!C16","v":"Barfin Line NSD Bulgaria"},0,0,0,0,null,"tőponty"]
["B4",{"$f":"kod!B16","v":"Gát, közepes víz"},{"$f":"kod!C16","v":"Barfin Line NSD Bulgaria"},12.3,1,12.3,12.3,null,"nyurgaponty",12.3]
["B4",{"$f":"kod!B16","v":"Gát, közepes víz"},{"$f":"kod!C16","v":"Barfin Line NSD Bulgaria"},0,0,0,0,{"$f":"MAX(J109:AZ109)","v":0},"koi ponty"]
["B4",{"$f":"kod!B16","v":"Gát, közepes víz"},{"$f":"kod!C16","v":"Barfin Line NSD Bulgaria"},0,0,0,0,null,"amur"]
["B4",{"$f":"kod!B16","v":"Gát, közepes víz"},{"$f":"kod!C16","v":"Barfin Line NSD Bulgaria"},0,0,0,0,null,"fekete amur"]
["B5",{"$f":"kod!B17","v":"Gát, közepes víz"},{"$f":"kod!C17","v":"Lutra Carp Hunters"},{"$f":"SUM(D113:D118)","v":0},{"$f":"SUM(E113:E118)","v":0},0,{"$f":"MAX(G113:G118)","v":0},{"$f":"H116","v":0},"ÖSSZESEN",{"$f":"COUNTIFS($J113:$BB118,\">9,99\",$J113:$BB118,\"<20\")","v":0},{"$f":"COUNTIFS($J113:$BB118,\">19,99\")","v":0},{"$f":"COUNTIFS($J116:$BA116,\">4,99\",$J116:$BA116,\"<9,99\")","v":0},{"$f":"COUNTIFS($J116:$BB116,\">9,99\")","v":0}]
["B5",{"$f":"kod!B17","v":"Gát, közepes víz"},{"$f":"kod!C17","v":"Lutra Carp Hunters"},{"$f":"SUM(J113:AZ113)","v":0},{"$f":"COUNT(J113:AZ113)","v":0},0,{"$f":"MAX(J113:BA113)","v":0},null,"tükörponty"]
["B5",{"$f":"kod!B17","v":"Gát, közepes víz"},{"$f":"kod!C17","v":"Lutra Carp Hunters"},0,0,0,{"$f":"MAX(J114:BA114)","v":0},null,"tőponty"]
["B5",{"$f":"kod!B17","v":"Gát, közepes víz"},{"$f":"kod!C17","v":"Lutra Carp Hunters"},0,0,0,{"$f":"MAX(J115:BA115)","v":0},null,"nyurgaponty"]
["B5",{"$f":"kod!B17","v":"Gát, közepes víz"},{"$f":"kod!C17","v":"Lutra Carp Hunters"},0,0,0,null,{"$f":"MAX(J116:AZ116)","v":0},"koi ponty"]
["B5",{"$f":"kod!B17","v":"Gát, közepes víz"},{"$f":"kod!C17","v":"Lutra Carp Hunters"},0,0,0,{"$f":"MAX(J117:BA117)","v":0},null,"amur"]
["B5",{"$f":"kod!B17","v":"Gát, közepes víz"},{"$f":"kod!C17","v":"Lutra Carp Hunters"},0,0,0,{"$f":"MAX(J118:BA118)","v":0},null,"fekete amur"]
["B6",{"$f":"kod!B18","v":"Gát, közepes víz"},{"$f":"kod!C18","v":"Xtra Carp Team"},{"$f":"SUM(D120:D125)","v":7.85},{"$f":"SUM(E120:E125)","v":1},7.85,{"$f":"MAX(G120:G125)","v":7.85},{"$f":"H123","v":0},"ÖSSZESEN",{"$f":"COUNTIFS($J120:$BB125,\">9,99\",$J120:$BB125,\"<20\")","v":0},{"$f":"COUNTIFS($J120:$BB125,\">19,99\")","v":0},{"$f":"COUNTIFS($J123:$BA123,\">4,99\",$J123:$BA123,\"<9,99\")","v":0},{"$f":"COUNTIFS($J123:$BB123,\">9,99\")","v":0}]
["B6",{"$f":"kod!B18","v":"Gát, közepes víz"},{"$f":"kod!C18","v":"Xtra Carp Team"},{"$f":"SUM(J120:AZ120)","v":0},{"$f":"COUNT(J120:AZ120)","v":0},0,{"$f":"MAX(J120:BA120)","v":0},null,"tükörponty"]
["B6",{"$f":"kod!B18","v":"Gát, közepes víz"},{"$f":"kod!C18","v":"Xtra Carp Team"},0,0,0,{"$f":"MAX(J121:BA121)","v":0},null,"tőponty"]
["B6",{"$f":"kod!B18","v":"Gát, közepes víz"},{"$f":"kod!C18","v":"Xtra Carp Team"},7.85,1,7.85,{"$f":"MAX(J122:BA122)","v":7.85},null,"nyurgaponty",7.85]
["B6",{"$f":"kod!B18","v":"Gát, közepes víz"},{"$f":"kod!C18","v":"Xtra Carp Team"},0,0,0,null,{"$f":"MAX(J123:AZ123)","v":0},"koi ponty"]
["B6",{"$f":"kod!B18","v":"Gát, közepes víz"},{"$f":"kod!C18","v":"Xtra Carp Team"},0,0,0,{"$f":"MAX(J124:BA124)","v":0},null,"amur"]
["B6",{"$f":"kod!B18","v":"Gát, közepes víz"},{"$f":"kod!C18","v":"Xtra Carp Team"},0,0,0,{"$f":"MAX(J125:BA125)","v":0},null,"fekete amur"]
["B7",{"$f":"kod!B19","v":"I. sziget, jobb közép"},{"$f":"kod!C19","v":"Elite Carp Team Brasov"},{"$f":"SUM(D127:D132)","v":98.924999999999997},{"$f":"SUM(E127:E132)","v":9},10.991666666666667,{"$f":"MAX(G127:G132)","v":17.3},{"$f":"H130","v":0},"ÖSSZESEN",{"$f":"COUNTIFS($J127:$BB132,\">9,99\",$J127:$BB132,\"<20\")","v":5},{"$f":"COUNTIFS($J127:$BB132,\">19,99\")","v":0},{"$f":"COUNTIFS($J130:$BA130,\">4,99\",$J130:$BA130,\"<9,99\")","v":0},{"$f":"COUNTIFS($J130:$BB130,\">9,99\")","v":0}]
["B7",{"$f":"kod!B19","v":"I. sziget, jobb közép"},{"$f":"kod!C19","v":"Elite Carp Team Brasov"},{"$f":"SUM(J127:AZ127)","v":0},{"$f":"COUNT(J127:AZ127)","v":0},0,{"$f":"MAX(J127:BA127)","v":0},null,"tükörponty"]
["B7",{"$f":"kod!B19","v":"I. sziget, jobb közép"},{"$f":"kod!C19","v":"Elite Carp Team Brasov"},41.3,5,8.26,{"$f":"MAX(J128:BA128)","v":12.225},null,"tőponty",7.5,7.6,8.0749999999999993,12.225,5.9]
["B7",{"$f":"kod!B19","v":"I. sziget, jobb közép"},{"$f":"kod!C19","v":"Elite Carp Team Brasov"},57.625,4,14.40625,{"$f":"MAX(J129:BA129)","v":17.3},null,"nyurgaponty",12.75,17.3,13,14.574999999999999]
["B7",{"$f":"kod!B19","v":"I. sziget, jobb közép"},{"$f":"kod!C19","v":"Elite Carp Team Brasov"},0,0,0,null,{"$f":"MAX(J130:AZ130)","v":0},"koi ponty"]
["B7",{"$f":"kod!B19","v":"I. sziget, jobb közép"},{"$f":"kod!C19","v":"Elite Carp Team Brasov"},0,0,0,{"$f":"MAX(J131:BA131)","v":0},null,"amur"]
["B7",{"$f":"kod!B19","v":"I. sziget, jobb közép"},{"$f":"kod!C19","v":"Elite Carp Team Brasov"},0,0,0,{"$f":"MAX(J132:BA132)","v":0},null,"fekete amur"]
["B8",{"$f":"kod!B20","v":"I. sziget, jobb "},{"$f":"kod!C20","v":"CT777 Varna Bulgaria"},{"$f":"SUM(D134:D139)","v":21.75},{"$f":"SUM(E134:E139)","v":2},10.875,{"$f":"MAX(G134:G139)","v":12.375},{"$f":"H137","v":0},"ÖSSZESEN",{"$f":"COUNTIFS($J134:$BB139,\">9,99\",$J134:$BB139,\"<20\")","v":1},{"$f":"COUNTIFS($J134:$BB139,\">19,99\")","v":0},{"$f":"COUNTIFS($J137:$BA137,\">4,99\",$J137:$BA137,\"<9,99\")","v":0},{"$f":"COUNTIFS($J137:$BB137,\">9,99\")","v":0}]
["B8",{"$f":"kod!B20","v":"I. sziget, jobb "},{"$f":"kod!C20","v":"CT777 Varna Bulgaria"},{"$f":"SUM(J134:AZ134)","v":0},{"$f":"COUNT(J134:AZ134)","v":0},0,{"$f":"MAX(J134:BA134)","v":0},null,"tükörponty"]
["B8",{"$f":"kod!B20","v":"I. sziget, jobb "},{"$f":"kod!C20","v":"CT777 Varna Bulgaria"},9.375,1,9.375,{"$f":"MAX(J135:BA135)","v":9.375},null,"tőponty",9.375]
["B8",{"$f":"kod!B20","v":"I. sziget, jobb "},{"$f":"kod!C20","v":"CT777 Varna Bulgaria"},12.375,1,12.375,{"$f":"MAX(J136:BA136)","v":12.375},null,"nyurgaponty",12.375]
["B8",{"$f":"kod!B20","v":"I. sziget, jobb "},{"$f":"kod!C20","v":"CT777 Varna Bulgaria"},0,0,0,null,{"$f":"MAX(J137:AZ137)","v":0},"koi ponty"]
["B8",{"$f":"kod!B20","v":"I. sziget, jobb "},{"$f":"kod!C20","v":"CT777 Varna Bulgaria"},0,0,0,{"$f":"MAX(J138:BA138)","v":0},null,"amur"]
["B8",{"$f":"kod!B20","v":"I. sziget, jobb "},{"$f":"kod!C20","v":"CT777 Varna Bulgaria"},0,0,0,{"$f":"MAX(J139:BA139)","v":0},null,"fekete amur"]
["B9",{"$f":"kod!B21","v":"I. sziget, jobb külső"},{"$f":"kod!C21","v":"Bait Maker Team"},{"$f":"SUM(D141:D146)","v":31.225000000000001},{"$f":"SUM(E141:E146)","v":4},7.8062500000000004,{"$f":"MAX(G141:G146)","v":9.2249999999999996},{"$f":"H144","v":0},"ÖSSZESEN",{"$f":"COUNTIFS($J141:$BB146,\">9,99\",$J141:$BB146,\"<20\")","v":0},{"$f":"COUNTIFS($J141:$BB146,\">19,99\")","v":0},{"$f":"COUNTIFS($J144:$BA144,\">4,99\",$J144:$BA144,\"<9,99\")","v":0},{"$f":"COUNTIFS($J144:$BB144,\">9,99\")","v":0}]
["B9",{"$f":"kod!B21","v":"I. sziget, jobb külső"},{"$f":"kod!C21","v":"Bait Maker Team"},{"$f":"SUM(J141:AZ141)","v":7.75},{"$f":"COUNT(J141:AZ141)","v":1},{"$f":"IF(E141=0,0,D141/E141)","v":7.75},{"$f":"MAX(J141:BA141)","v":7.75},null,"tükörponty",7.75]
["B9",{"$f":"kod!B21","v":"I. sziget, jobb külső"},{"$f":"kod!C21","v":"Bait Maker Team"},16.100000000000001,2,8.0500000000000007,{"$f":"MAX(J142:BA142)","v":9.2249999999999996},null,"tőponty",6.875,9.2249999999999996]
["B9",{"$f":"kod!B21","v":"I. sziget, jobb külső"},{"$f":"kod!C21","v":"Bait Maker Team"},0,0,0,{"$f":"MAX(J143:BA143)","v":0},null,"nyurgaponty"]
["B9",{"$f":"kod!B21","v":"I. sziget, jobb külső"},{"$f":"kod!C21","v":"Bait Maker Team"},0,0,0,null,{"$f":"MAX(J144:AZ144)","v":0},"koi ponty"]
["B9",{"$f":"kod!B21","v":"I. sziget, jobb külső"},{"$f":"kod!C21","v":"Bait Maker Team"},7.375,1,7.375,{"$f":"MAX(J145:BA145)","v":7.375},null,"amur",7.375]
["B9",{"$f":"kod!B21","v":"I. sziget, jobb külső"},{"$f":"kod!C21","v":"Bait Maker Team"},0,0,0,{"$f":"MAX(J146:BA146)","v":0},null,"fekete amur"]
["B10",{"$f":"kod!B22","v":"Felező-spicc, bal"},{"$f":"kod!C22","v":"SBS - SziKo Team"},{"$f":"SUM(D148:D153)","v":44.9},{"$f":"SUM(E148:E153)","v":8},5.6124999999999998,{"$f":"MAX(G148:G153)","v":7.4249999999999998},{"$f":"H151","v":0},"ÖSSZESEN",{"$f":"COUNTIFS($J148:$BB153,\">9,99\",$J148:$BB153,\"<20\")","v":0},{"$f":"COUNTIFS($J148:$BB153,\">19,99\")","v":0},{"$f":"COUNTIFS($J151:$BA151,\">4,99\",$J151:$BA151,\"<9,99\")","v":0},{"$f":"COUNTIFS($J151:$BB151,\">9,99\")","v":0}]
["B10",{"$f":"kod!B22","v":"Felező-spicc, bal"},{"$f":"kod!C22","v":"SBS - SziKo Team"},{"$f":"SUM(J148:AZ148)","v":22.875},{"$f":"COUNT(J148:AZ148)","v":4},5.71875,{"$f":"MAX(J148:BA148)","v":6.35},null,"tükörponty",6.35,6.25,4.1500000000000004,6.125]
["B10",{"$f":"kod!B22","v":"Felező-spicc, bal"},{"$f":"kod!C22","v":"SBS - SziKo Team"},22.024999999999999,4,5.5062499999999996,{"$f":"MAX(J149:BA149)","v":7.4249999999999998},null,"tőponty",4.6749999999999998,4.7,7.4249999999999998,5.2249999999999996]
["B10",{"$f":"kod!B22","v":"Felező-spicc, bal"},{"$f":"kod!C22","v":"SBS - SziKo Team"},0,0,0,{"$f":"MAX(J150:BA150)","v":0},null,"nyurgaponty"]
["B10",{"$f":"kod!B22","v":"Felező-spicc, bal"},{"$f":"kod!C22","v":"SBS - SziKo Team"},0,0,0,null,{"$f":"MAX(J151:AZ151)","v":0},"koi ponty"]
["B10",{"$f":"kod!B22","v":"Felező-spicc, bal"},{"$f":"kod!C22","v":"SBS - SziKo Team"},0,0,0,{"$f":"MAX(J152:BA152)","v":0},null,"amur"]
["B10",{"$f":"kod!B22","v":"Felező-spicc, bal"},{"$f":"kod!C22","v":"SBS - SziKo Team"},0,0,0,{"$f":"MAX(J153:BA153)","v":0},null,"fekete amur"]
["B11",{"$f":"kod!B23","v":"Felező-spicc, közép"},{"$f":"kod!C23","v":"Síp Carp Team"},{"$f":"SUM(D155:D160)","v":17.074999999999999},{"$f":"SUM(E155:E160)","v":3},5.6916666666666664,{"$f":"MAX(G155:G160)","v":6.0750000000000002},{"$f":"H158","v":0},"ÖSSZESEN",{"$f":"COUNTIFS($J155:$BB160,\">9,99\",$J155:$BB160,\"<20\")","v":0},{"$f":"COUNTIFS($J155:$BB160,\">19,99\")","v":0},{"$f":"COUNTIFS($J158:$BA158,\">4,99\",$J158:$BA158,\"<9,99\")","v":0},{"$f":"COUNTIFS($J158:$BB158,\">9,99\")","v":0}]
["B11",{"$f":"kod!B23","v":"Felező-spicc, közép"},{"$f":"kod!C23","v":"Síp Carp Team"},{"$f":"SUM(J155:AZ155)","v":5.4249999999999998},1,5.4249999999999998,{"$f":"MAX(J155:BA155)","v":5.4249999999999998},null,"tükörponty",5.4249999999999998]
["B11",{"$f":"kod!B23","v":"Felező-spicc, közép"},{"$f":"kod!C23","v":"Síp Carp Team"},11.65,2,5.8250000000000002,6.0750000000000002,null,"tőponty",6.0750000000000002,5.5750000000000002]
["B11",{"$f":"kod!B23","v":"Felező-spicc, közép"},{"$f":"kod!C23","v":"Síp Carp Team"},0,0,0,0,null,"nyurgaponty"]
["B11",{"$f":"kod!B23","v":"Felező-spicc, közép"},{"$f":"kod!C23","v":"Síp Carp Team"},0,0,0,null,{"$f":"MAX(J158:AZ158)","v":0},"koi ponty"]
["B11",{"$f":"kod!B23","v":"Felező-spicc, közép"},{"$f":"kod!C23","v":"Síp Carp Team"},0,0,0,{"$f":"MAX(J159:BA159)","v":0},null,"amur"]
["B11",{"$f":"kod!B23","v":"Felező-spicc, közép"},{"$f":"kod!C23","v":"Síp Carp Team"},0,0,0,0,null,"fekete amur"]
["C1",{"$f":"kod!B24","v":"Gát, sekély víz"},{"$f":"kod!C24","v":"Carp Fever Bulgaria"},{"$f":"SUM(D162:D167)","v":52.3},{"$f":"SUM(E162:E167)","v":7},{"$f":"IF(E161=0,0,D161/E161)","v":7.4714285714285706},{"$f":"MAX(G162:G167)","v":11.775},{"$f":"H165","v":0},"ÖSSZESEN",{"$f":"COUNTIFS($J162:$BB167,\">9,99\",$J162:$BB167,\"<20\")","v":1},{"$f":"COUNTIFS($J162:$BB167,\">19,99\")","v":0},{"$f":"COUNTIFS($J165:$BA165,\">4,99\",$J165:$BA165,\"<9,99\")","v":0},{"$f":"COUNTIFS($J165:$BB165,\">9,99\")","v":0}]
["C1",{"$f":"kod!B24","v":"Gát, sekély víz"},{"$f":"kod!C24","v":"Carp Fever Bulgaria"},{"$f":"SUM(J162:AZ162)","v":6.5750000000000002},{"$f":"COUNT(J162:AZ162)","v":1},{"$f":"IF(E162=0,0,D162/E162)","v":6.5750000000000002},{"$f":"MAX(J162:BA162)","v":6.5750000000000002},null,"tükörponty",6.5750000000000002]
["C1",{"$f":"kod!B24","v":"Gát, sekély víz"},{"$f":"kod!C24","v":"Carp Fever Bulgaria"},14.25,2,7.125,{"$f":"MAX(J163:BA163)","v":9},null,"tőponty",5.25,9]
["C1",{"$f":"kod!B24","v":"Gát, sekély víz"},{"$f":"kod!C24","v":"Carp Fever Bulgaria"},31.475000000000001,4,7.8687500000000004,{"$f":"MAX(J164:BA164)","v":11.775},null,"nyurgaponty",6.55,9.9250000000000007,11.775,3.2250000000000001]
["C1",{"$f":"kod!B24","v":"Gát, sekély víz"},{"$f":"kod!C24","v":"Carp Fever Bulgaria"},0,0,0,null,{"$f":"MAX(J165:AZ165)","v":0},"koi ponty"]
["C1",{"$f":"kod!B24","v":"Gát, sekély víz"},{"$f":"kod!C24","v":"Carp Fever Bulgaria"},0,0,0,{"$f":"MAX(J166:BA166)","v":0},null,"amur"]
["C1",{"$f":"kod!B24","v":"Gát, sekély víz"},{"$f":"kod!C24","v":"Carp Fever Bulgaria"},0,0,0,{"$f":"MAX(J167:BA167)","v":0},null,"fekete amur"]
["C2",{"$f":"kod!B25","v":"Gát, sekély víz"},{"$f":"kod!C25","v":"Carpfriends Ennstal-Austria"},{"$f":"SUM(D169:D174)","v":77.549999999999983},{"$f":"SUM(E169:E174)","v":9},8.6166666666666654,{"$f":"MAX(G169:G174)","v":16.45},{"$f":"H172","v":4.9749999999999996},"ÖSSZESEN",{"$f":"COUNTIFS($J169:$BB174,\">9,99\",$J169:$BB174,\"<20\")","v":3},{"$f":"COUNTIFS($J169:$BB174,\">19,99\")","v":0},{"$f":"COUNTIFS($J172:$BA172,\">4,99\",$J172:$BA172,\"<9,99\")","v":0},{"$f":"COUNTIFS($J172:$BB172,\">9,99\")","v":0}]
["C2",{"$f":"kod!B25","v":"Gát, sekély víz"},{"$f":"kod!C25","v":"Carpfriends Ennstal-Austria"},{"$f":"SUM(J169:AZ169)","v":16.824999999999999},{"$f":"COUNT(J169:AZ169)","v":2},8.4124999999999996,{"$f":"MAX(J169:BA169)","v":8.7249999999999996},null,"tükörponty",8.1,8.7249999999999996]
["C2",{"$f":"kod!B25","v":"Gát, sekély víz"},{"$f":"kod!C25","v":"Carpfriends Ennstal-Austria"},0,0,0,{"$f":"MAX(J170:BA170)","v":0},null,"tőponty"]
["C2",{"$f":"kod!B25","v":"Gát, sekély víz"},{"$f":"kod!C25","v":"Carpfriends Ennstal-Austria"},52.749999999999993,5,10.549999999999999,{"$f":"MAX(J171:BA171)","v":16.45},null,"nyurgaponty",12.675000000000001,16.45,10.425000000000001,6.5250000000000004,6.6749999999999998]
["C2",{"$f":"kod!B25","v":"Gát, sekély víz"},{"$f":"kod!C25","v":"Carpfriends Ennstal-Austria"},7.9749999999999996,2,3.9874999999999998,null,{"$f":"MAX(J172:AZ172)","v":4.9749999999999996},"koi ponty",3,4.9749999999999996]
["C2",{"$f":"kod!B25","v":"Gát, sekély víz"},{"$f":"kod!C25","v":"Carpfriends Ennstal-Austria"},0,0,0,{"$f":"MAX(J173:BA173)","v":0},null,"amur"]
["C2",{"$f":"kod!B25","v":"Gát, sekély víz"},{"$f":"kod!C25","v":"Carpfriends Ennstal-Austria"},0,0,0,{"$f":"MAX(J174:BA174)","v":0},null,"fekete amur"]
["C3",{"$f":"kod!B26","v":"Gát, sekély víz"},{"$f":"kod!C26","v":"Carp Team Brasov"},{"$f":"SUM(D176:D181)","v":15.55},{"$f":"SUM(E176:E181)","v":3},5.1833333333333336,{"$f":"MAX(G176:G181)","v":5.85},{"$f":"H179","v":4.375},"ÖSSZESEN",{"$f":"COUNTIFS($J176:$BB181,\">9,99\",$J176:$BB181,\"<20\")","v":0},{"$f":"COUNTIFS($J176:$BB181,\">19,99\")","v":0},{"$f":"COUNTIFS($J179:$BA179,\">4,99\",$J179:$BA179,\"<9,99\")","v":0},{"$f":"COUNTIFS($J179:$BB179,\">9,99\")","v":0}]
["C3",{"$f":"kod!B26","v":"Gát, sekély víz"},{"$f":"kod!C26","v":"Carp Team Brasov"},{"$f":"SUM(J176:AZ176)","v":0},{"$f":"COUNT(J176:AZ176)","v":0},0,{"$f":"MAX(J176:BA176)","v":0},null,"tükörponty"]
["C3",{"$f":"kod!B26","v":"Gát, sekély víz"},{"$f":"kod!C26","v":"Carp Team Brasov"},11.175000000000001,2,5.5875000000000004,{"$f":"MAX(J177:BA177)","v":5.85},null,"tőponty",5.3250000000000002,5.85]
["C3",{"$f":"kod!B26","v":"Gát, sekély víz"},{"$f":"kod!C26","v":"Carp Team Brasov"},0,0,0,{"$f":"MAX(J178:BA178)","v":0},null,"nyurgaponty"]
["C3",{"$f":"kod!B26","v":"Gát, sekély víz"},{"$f":"kod!C26","v":"Carp Team Brasov"},4.375,1,4.375,null,{"$f":"MAX(J179:AZ179)","v":4.375},"koi ponty",4.375]
["C3",{"$f":"kod!B26","v":"Gát, sekély víz"},{"$f":"kod!C26","v":"Carp Team Brasov"},0,0,0,{"$f":"MAX(J180:BA180)","v":0},null,"amur"]
["C3",{"$f":"kod!B26","v":"Gát, sekély víz"},{"$f":"kod!C26","v":"Carp Team Brasov"},0,0,0,{"$f":"MAX(J181:BA181)","v":0},null,"fekete amur"]
["C4",{"$f":"kod!B27","v":"Gát, sekély víz"},{"$f":"kod!C27","v":"As La Carp Team"},{"$f":"SUM(D183:D188)","v":7.125},{"$f":"SUM(E183:E188)","v":1},7.125,{"$f":"MAX(G183:G188)","v":7.125},{"$f":"H186","v":7.125},"ÖSSZESEN",{"$f":"COUNTIFS($J183:$BB188,\">9,99\",$J183:$BB188,\"<20\")","v":0},{"$f":"COUNTIFS($J183:$BB188,\">19,99\")","v":0},{"$f":"COUNTIFS($J186:$BA186,\">4,99\",$J186:$BA186,\"<9,99\")","v":1},{"$f":"COUNTIFS($J186:$BB186,\">9,99\")","v":0}]
["C4",{"$f":"kod!B27","v":"Gát, sekély víz"},{"$f":"kod!C27","v":"As La Carp Team"},{"$f":"SUM(J183:AZ183)","v":0},{"$f":"COUNT(J183:AZ183)","v":0},0,{"$f":"MAX(J183:BA183)","v":0},null,"tükörponty"]
["C4",{"$f":"kod!B27","v":"Gát, sekély víz"},{"$f":"kod!C27","v":"As La Carp Team"},0,0,0,0,null,"tőponty"]
["C4",{"$f":"kod!B27","v":"Gát, sekély víz"},{"$f":"kod!C27","v":"As La Carp Team"},0,0,0,0,null,"nyurgaponty"]
["C4",{"$f":"kod!B27","v":"Gát, sekély víz"},{"$f":"kod!C27","v":"As La Carp Team"},7.125,1,7.125,7.125,{"$f":"MAX(J186:AZ186)","v":7.125},"koi ponty",7.125]
["C4",{"$f":"kod!B27","v":"Gát, sekély víz"},{"$f":"kod!C27","v":"As La Carp Team"},0,0,0,0,null,"amur"]
["C4",{"$f":"kod!B27","v":"Gát, sekély víz"},{"$f":"kod!C27","v":"As La Carp Team"},0,0,0,0,null,"fekete amur"]
["C5",{"$f":"kod!B28","v":"Gát, sekély víz"},{"$f":"kod!C28","v":"Bojlis Főnök - Bait Bait Carp Team"},{"$f":"SUM(D190:D195)","v":2.4249999999999998},{"$f":"SUM(E190:E195)","v":2},1.2124999999999999,{"$f":"MAX(G190:G195)","v":1.3},{"$f":"H193","v":0},"ÖSSZESEN",{"$f":"COUNTIFS($J190:$BB195,\">9,99\",$J190:$BB195,\"<20\")","v":0},{"$f":"COUNTIFS($J190:$BB195,\">19,99\")","v":0},{"$f":"COUNTIFS($J193:$BA193,\">4,99\",$J193:$BA193,\"<9,99\")","v":0},{"$f":"COUNTIFS($J193:$BB193,\">9,99\")","v":0}]
["C5",{"$f":"kod!B28","v":"Gát, sekély víz"},{"$f":"kod!C28","v":"Bojlis Főnök - Bait Bait Carp Team"},{"$f":"SUM(J190:AZ190)","v":0},{"$f":"COUNT(J190:AZ190)","v":0},0,{"$f":"MAX(J190:BA190)","v":0},null,"tükörponty"]
["C5",{"$f":"kod!B28","v":"Gát, sekély víz"},{"$f":"kod!C28","v":"Bojlis Főnök - Bait Bait Carp Team"},2.4249999999999998,2,1.2124999999999999,{"$f":"MAX(J191:BA191)","v":1.3},null,"tőponty",1.3,1.125]
["C5",{"$f":"kod!B28","v":"Gát, sekély víz"},{"$f":"kod!C28","v":"Bojlis Főnök - Bait Bait Carp Team"},0,0,0,{"$f":"MAX(J192:BA192)","v":0},null,"nyurgaponty"]
["C5",{"$f":"kod!B28","v":"Gát, sekély víz"},{"$f":"kod!C28","v":"Bojlis Főnök - Bait Bait Carp Team"},0,0,0,null,{"$f":"MAX(J193:AZ193)","v":0},"koi ponty"]
["C5",{"$f":"kod!B28","v":"Gát, sekély víz"},{"$f":"kod!C28","v":"Bojlis Főnök - Bait Bait Carp Team"},0,0,0,{"$f":"MAX(J194:BA194)","v":0},null,"amur"]
["C5",{"$f":"kod!B28","v":"Gát, sekély víz"},{"$f":"kod!C28","v":"Bojlis Főnök - Bait Bait Carp Team"},0,0,0,{"$f":"MAX(J195:BA195)","v":0},null,"fekete amur"]
["C6",{"$f":"kod!B29","v":"Felező-spicc, jobb"},{"$f":"kod!C29","v":"Secret Of The Carp"},{"$f":"SUM(D197:D202)","v":6.9},{"$f":"SUM(E197:E202)","v":1},6.9,{"$f":"MAX(G197:G202)","v":6.9},{"$f":"H200","v":0},"ÖSSZESEN",{"$f":"COUNTIFS($J197:$BB202,\">9,99\",$J197:$BB202,\"<20\")","v":0},{"$f":"COUNTIFS($J197:$BB202,\">19,99\")","v":0},{"$f":"COUNTIFS($J200:$BA200,\">4,99\",$J200:$BA200,\"<9,99\")","v":0},{"$f":"COUNTIFS($J200:$BB200,\">9,99\")","v":0}]
["C6",{"$f":"kod!B29","v":"Felező-spicc, jobb"},{"$f":"kod!C29","v":"Secret Of The Carp"},{"$f":"SUM(J197:AZ197)","v":0},{"$f":"COUNT(J197:AZ197)","v":0},0,{"$f":"MAX(J197:BA197)","v":0},null,"tükörponty"]
["C6",{"$f":"kod!B29","v":"Felező-spicc, jobb"},{"$f":"kod!C29","v":"Secret Of The Carp"},6.9,1,6.9,6.9,null,"tőponty",6.9]
["C6",{"$f":"kod!B29","v":"Felező-spicc, jobb"},{"$f":"kod!C29","v":"Secret Of The Carp"},0,0,0,0,null,"nyurgaponty"]
["C6",{"$f":"kod!B29","v":"Felező-spicc, jobb"},{"$f":"kod!C29","v":"Secret Of The Carp"},0,0,0,0,{"$f":"MAX(J200:AZ200)","v":0},"koi ponty"]
["C6",{"$f":"kod!B29","v":"Felező-spicc, jobb"},{"$f":"kod!C29","v":"Secret Of The Carp"},0,0,0,0,null,"amur"]
["C6",{"$f":"kod!B29","v":"Felező-spicc, jobb"},{"$f":"kod!C29","v":"Secret Of The Carp"},0,0,0,0,null,"fekete amur"]
["C7",{"$f":"kod!B30","v":"II. sziget, bal"},{"$f":"kod!C30","v":"Quick Baits"},{"$f":"SUM(D204:D209)","v":49.625},{"$f":"SUM(E204:E209)","v":5},9.9250000000000007,{"$f":"MAX(G204:G209)","v":15.025},{"$f":"H207","v":0},"ÖSSZESEN",{"$f":"COUNTIFS($J204:$BB209,\">9,99\",$J204:$BB209,\"<20\")","v":2},{"$f":"COUNTIFS($J204:$BB209,\">19,99\")","v":0},{"$f":"COUNTIFS($J207:$BA207,\">4,99\",$J207:$BA207,\"<9,99\")","v":0},{"$f":"COUNTIFS($J207:$BB207,\">9,99\")","v":0}]
["C7",{"$f":"kod!B30","v":"II. sziget, bal"},{"$f":"kod!C30","v":"Quick Baits"},{"$f":"SUM(J204:AZ204)","v":28.35},{"$f":"COUNT(J204:AZ204)","v":2},14.175000000000001,{"$f":"MAX(J204:BA204)","v":15.025},null,"tükörponty",13.324999999999999,15.025]
["C7",{"$f":"kod!B30","v":"II. sziget, bal"},{"$f":"kod!C30","v":"Quick Baits"},21.274999999999999,3,7.0916666666666659,{"$f":"MAX(J205:BA205)","v":7.5250000000000004},null,"tőponty",6.9,7.5250000000000004,6.85]
["C7",{"$f":"kod!B30","v":"II. sziget, bal"},{"$f":"kod!C30","v":"Quick Baits"},0,0,0,{"$f":"MAX(J206:BA206)","v":0},null,"nyurgaponty"]
["C7",{"$f":"kod!B30","v":"II. sziget, bal"},{"$f":"kod!C30","v":"Quick Baits"},0,0,0,null,{"$f":"MAX(J207:AZ207)","v":0},"koi ponty"]
["C7",{"$f":"kod!B30","v":"II. sziget, bal"},{"$f":"kod!C30","v":"Quick Baits"},0,0,0,{"$f":"MAX(J208:BA208)","v":0},null,"amur"]
["C7",{"$f":"kod!B30","v":"II. sziget, bal"},{"$f":"kod!C30","v":"Quick Baits"},0,0,0,{"$f":"MAX(J209:BA209)","v":0},null,"fekete amur"]
["C8",{"$f":"kod!B31","v":"II. sziget, bal közép"},{"$f":"kod!C31","v":"Carp Team Blankbrothers"},{"$f":"SUM(D211:D216)","v":38.049999999999997},{"$f":"SUM(E211:E216)","v":6},6.3416666666666659,{"$f":"MAX(G211:G216)","v":9.2750000000000004},{"$f":"H214","v":0},"ÖSSZESEN",{"$f":"COUNTIFS($J211:$BB216,\">9,99\",$J211:$BB216,\"<20\")","v":0},{"$f":"COUNTIFS($J211:$BB216,\">19,99\")","v":0},{"$f":"COUNTIFS($J214:$BA214,\">4,99\",$J214:$BA214,\"<9,99\")","v":0},{"$f":"COUNTIFS($J214:$BB214,\">9,99\")","v":0}]
["C8",{"$f":"kod!B31","v":"II. sziget, bal közép"},{"$f":"kod!C31","v":"Carp Team Blankbrothers"},{"$f":"SUM(J211:AZ211)","v":10.600000000000001},{"$f":"COUNT(J211:AZ211)","v":2},5.3000000000000007,{"$f":"MAX(J211:BA211)","v":5.4},null,"tükörponty",5.2,5.4]
["C8",{"$f":"kod!B31","v":"II. sziget, bal közép"},{"$f":"kod!C31","v":"Carp Team Blankbrothers"},27.449999999999996,4,6.8624999999999989,{"$f":"MAX(J212:BA212)","v":9.2750000000000004},null,"tőponty",9.2750000000000004,3.9249999999999998,7.6,6.65]
["C8",{"$f":"kod!B31","v":"II. sziget, bal közép"},{"$f":"kod!C31","v":"Carp Team Blankbrothers"},0,0,0,{"$f":"MAX(J213:BA213)","v":0},null,"nyurgaponty"]
["C8",{"$f":"kod!B31","v":"II. sziget, bal közép"},{"$f":"kod!C31","v":"Carp Team Blankbrothers"},0,0,0,null,{"$f":"MAX(J214:AZ214)","v":0},"koi ponty"]
["C8",{"$f":"kod!B31","v":"II. sziget, bal közép"},{"$f":"kod!C31","v":"Carp Team Blankbrothers"},0,0,0,{"$f":"MAX(J215:BA215)","v":0},null,"amur"]
["C8",{"$f":"kod!B31","v":"II. sziget, bal közép"},{"$f":"kod!C31","v":"Carp Team Blankbrothers"},0,0,0,{"$f":"MAX(J216:BA216)","v":0},null,"fekete amur"]
["C9",{"$f":"kod!B32","v":"II. sziget, közép"},{"$f":"kod!C32","v":"Bait Bait Hungary"},{"$f":"SUM(D218:D223)","v":91.724999999999994},{"$f":"SUM(E218:E223)","v":12},7.6437499999999998,{"$f":"MAX(G218:G223)","v":12.925000000000001},{"$f":"H221","v":0},"ÖSSZESEN",{"$f":"COUNTIFS($J218:$BB223,\">9,99\",$J218:$BB223,\"<20\")","v":2},{"$f":"COUNTIFS($J218:$BB223,\">19,99\")","v":0},{"$f":"COUNTIFS($J221:$BA221,\">4,99\",$J221:$BA221,\"<9,99\")","v":0},{"$f":"COUNTIFS($J221:$BB221,\">9,99\")","v":0}]
["C9",{"$f":"kod!B32","v":"II. sziget, közép"},{"$f":"kod!C32","v":"Bait Bait Hungary"},{"$f":"SUM(J218:AZ218)","v":33.174999999999997},{"$f":"COUNT(J218:AZ218)","v":4},{"$f":"IF(E218=0,0,D218/E218)","v":8.2937499999999993},{"$f":"MAX(J218:BA218)","v":9.7750000000000004},null,"tükörponty",6.625,8.875,7.9,9.7750000000000004]
["C9",{"$f":"kod!B32","v":"II. sziget, közép"},{"$f":"kod!C32","v":"Bait Bait Hungary"},47.55,7,6.7928571428571427,{"$f":"MAX(J219:BA219)","v":12.925000000000001},null,"tőponty",6.9249999999999998,1.85,8.0500000000000007,12.925000000000001,3.7,7.4249999999999998,6.6749999999999998]
["C9",{"$f":"kod!B32","v":"II. sziget, közép"},{"$f":"kod!C32","v":"Bait Bait Hungary"},11,1,11,{"$f":"MAX(J220:BA220)","v":11},null,"nyurgaponty",11]
["C9",{"$f":"kod!B32","v":"II. sziget, közép"},{"$f":"kod!C32","v":"Bait Bait Hungary"},0,0,0,null,{"$f":"MAX(J221:AZ221)","v":0},"koi ponty"]
["C9",{"$f":"kod!B32","v":"II. sziget, közép"},{"$f":"kod!C32","v":"Bait Bait Hungary"},0,0,0,{"$f":"MAX(J222:BA222)","v":0},null,"amur"]
["C9",{"$f":"kod!B32","v":"II. sziget, közép"},{"$f":"kod!C32","v":"Bait Bait Hungary"},0,0,0,{"$f":"MAX(J223:BA223)","v":0},null,"fekete amur"]
["C10",{"$f":"kod!B33","v":"II. sziget, jobb közép"},{"$f":"kod!C33","v":"Acroft Illusive Bait Me"},{"$f":"SUM(D225:D230)","v":36.225000000000001},{"$f":"SUM(E225:E230)","v":4},9.0562500000000004,{"$f":"MAX(G225:G230)","v":9.9},{"$f":"H228","v":0},"ÖSSZESEN",{"$f":"COUNTIFS($J225:$BB230,\">9,99\",$J225:$BB230,\"<20\")","v":0},{"$f":"COUNTIFS($J225:$BB230,\">19,99\")","v":0},{"$f":"COUNTIFS($J228:$BA228,\">4,99\",$J228:$BA228,\"<9,99\")","v":0},{"$f":"COUNTIFS($J228:$BB228,\">9,99\")","v":0}]
["C10",{"$f":"kod!B33","v":"II. sziget, jobb közép"},{"$f":"kod!C33","v":"Acroft Illusive Bait Me"},{"$f":"SUM(J225:AZ225)","v":17.625},{"$f":"COUNT(J225:AZ225)","v":2},8.8125,{"$f":"MAX(J225:BA225)","v":9.8000000000000007},null,"tükörponty",9.8000000000000007,7.8250000000000002]
["C10",{"$f":"kod!B33","v":"II. sziget, jobb közép"},{"$f":"kod!C33","v":"Acroft Illusive Bait Me"},18.600000000000001,2,9.3000000000000007,{"$f":"MAX(J226:BA226)","v":9.9},null,"tőponty",9.9,8.6999999999999993]
["C10",{"$f":"kod!B33","v":"II. sziget, jobb közép"},{"$f":"kod!C33","v":"Acroft Illusive Bait Me"},0,0,0,{"$f":"MAX(J227:BA227)","v":0},null,"nyurgaponty"]
["C10",{"$f":"kod!B33","v":"II. sziget, jobb közép"},{"$f":"kod!C33","v":"Acroft Illusive Bait Me"},0,0,0,null,{"$f":"MAX(J228:AZ228)","v":0},"koi ponty"]
["C10",{"$f":"kod!B33","v":"II. sziget, jobb közép"},{"$f":"kod!C33","v":"Acroft Illusive Bait Me"},0,0,0,{"$f":"MAX(J229:BA229)","v":0},null,"amur"]
["C10",{"$f":"kod!B33","v":"II. sziget, jobb közép"},{"$f":"kod!C33","v":"Acroft Illusive Bait Me"},0,0,0,{"$f":"MAX(J230:BA230)","v":0},null,"fekete amur"]
["C11",{"$f":"kod!B34","v":"II. sziget, jobb"},{"$f":"kod!C34","v":"Vaslui Carp Team"},{"$f":"SUM(D232:D237)","v":137.625},{"$f":"SUM(E232:E237)","v":17},8.0955882352941178,{"$f":"MAX(G232:G237)","v":16.399999999999999},{"$f":"H235","v":13.2},"ÖSSZESEN",{"$f":"COUNTIFS($J232:$BB237,\">9,99\",$J232:$BB237,\"<20\")","v":6},{"$f":"COUNTIFS($J232:$BB237,\">19,99\")","v":0},{"$f":"COUNTIFS($J235:$BA235,\">4,99\",$J235:$BA235,\"<9,99\")","v":0},{"$f":"COUNTIFS($J235:$BB235,\">9,99\")","v":1}]
["C11",{"$f":"kod!B34","v":"II. sziget, jobb"},{"$f":"kod!C34","v":"Vaslui Carp Team"},{"$f":"SUM(J232:AZ232)","v":6.1},{"$f":"COUNT(J232:AZ232)","v":1},6.1,{"$f":"MAX(J232:BA232)","v":6.1},null,"tükörponty",6.1]
["C11",{"$f":"kod!B34","v":"II. sziget, jobb"},{"$f":"kod!C34","v":"Vaslui Carp Team"},76.3,11,6.9363636363636365,{"$f":"MAX(J233:BA233)","v":15.2},null,"tőponty",4.2750000000000004,3.9249999999999998,6.5750000000000002,4.0250000000000004,7.125,9.3000000000000007,5.7750000000000004,5.3,4.125,10.675000000000001,15.2]
["C11",{"$f":"kod!B34","v":"II. sziget, jobb"},{"$f":"kod!C34","v":"Vaslui Carp Team"},39.799999999999997,3,13.266666666666666,{"$f":"MAX(J234:BA234)","v":16.399999999999999},null,"nyurgaponty",10.55,12.85,16.399999999999999]
["C11",{"$f":"kod!B34","v":"II. sziget, jobb"},{"$f":"kod!C34","v":"Vaslui Carp Team"},15.424999999999999,2,7.7124999999999995,null,{"$f":"MAX(J235:AZ235)","v":13.2},"koi ponty",13.2,2.2250000000000001]
["C11",{"$f":"kod!B34","v":"II. sziget, jobb"},{"$f":"kod!C34","v":"Vaslui Carp Team"},0,0,0,{"$f":"MAX(J236:BA236)","v":0},null,"amur"]
["C11",{"$f":"kod!B34","v":"II. sziget, jobb"},{"$f":"kod!C34","v":"Vaslui Carp Team"},0,0,0,{"$f":"MAX(J237:BA237)","v":0},null,"fekete amur"]
[null,null,"Összesen:",{"$f":"SUM(D7,D14,D21,D28,D35,D42,D49,D56,D63,D70,D77,D84,D91,D98,D105,D112,D119,D126,D133,D140,D147,D154,D161,D168,D175,D182,D189,D196,D203,D210,D217,D224,D231)","v":1386.0249999999996},{"$f":"SUM(E7,E14,E21,E28,E35,E42,E49,E56,E63,E70,E77,E84,E91,E98,E105,E112,E119,E126,E133,E140,E147,E154,E161,E168,E175,E182,E189,E196,E203,E210,E217,E224,E231)","v":165},{"$f":"IF(E238=0,0,D238/E238)","v":8.4001515151515136},null,null,null,{"$f":"SUM(J7,J14,J21,J28,J35,J42,J49,J56,J63,J70,J77,J84,J91,J98,J105,J112,J119,J126,J133,J140,J147,J154,J161,J168,J175,J182,J189,J196,J203,J210,J217,J224,J231)","v":49},{"$f":"SUM(K7,K14,K21,K28,K35,K42,K49,K56,K63,K70,K77,K84,K91,K98,K105,K112,K119,K126,K133,K140,K147,K154,K161,K168,K175,K182,K189,K196,K203,K210,K217,K224,K231)","v":2},{"$f":"SUM(L7,L14,L21,L28,L35,L42,L49,L56,L63,L70,L77,L84,L91,L98,L105,L112,L119,L126,L133,L140,L147,L154,L161,L168,L175,L182,L189,L196,L203,L210,L217,L224,L231)","v":1},5]

{"sheet":"szakasz6","index":7,"n_rows":238,"n_cols":22,"rows_kept":238,"cut":false,"hidden":false,"merged":[[0,0,0,12],[1,0,1,12],[2,0,2,12],[3,0,3,12],[4,0,4,12]]}
[{"$f":"IF(kod!E2>0,kod!E2,\"\")","v":"XXI. PROFESSZIONÁLIS BOJLIS EURÓPA KUPA (EPBC)"}]
[{"$f":"IF(kod!E3>0,kod!E3,\"\")","v":"XXXVI. MACONKA NEMZETKÖZI BOJLIS KUPA"}]
[{"$f":"IF(kod!E4>0,kod!E4,\"\")","v":"Maconka, 2025.06.15. - 2025.06.20."}]
[{"$f":"IF(kod!E5>0,kod!E5,\"\")","v":""}]
[{"$f":"kod!E12","v":"6. szakasz:  2025.06.18. 06:00 - 2025.06.18. 18:00"}]
["Rajthely","Elhelyezés","Csapatnév","Kg","Db","Átlag","BC","BkC","Faj","10-20 kg","20+ kg","koi 5-10 kg","koi 10+ kg"]
["A1",{"$f":"kod!B2","v":"Gát, mélyvíz"},{"$f":"kod!C2","v":"SBS - Halcatraz - TiZo Team"},{"$f":"SUM(D8:D13)","v":97.324999999999989},{"$f":"SUM(E8:E13)","v":8},{"$f":"IF(E7=0,0,D7/E7)","v":12.165624999999999},{"$f":"MAX(G8:G13)","v":17.55},{"$f":"H11","v":0},"ÖSSZESEN",{"$f":"COUNTIFS($J8:$BB13,\">9,99\",$J8:$BB13,\"<20\")","v":5},{"$f":"COUNTIFS($J8:$BB13,\">19,99\")","v":0},{"$f":"COUNTIFS($J11:$BA11,\">4,99\",$J11:$BA11,\"<9,99\")","v":0},{"$f":"COUNTIFS($J11:$BB11,\">9,99\")","v":0}]
["A1",{"$f":"kod!B2","v":"Gát, mélyvíz"},{"$f":"kod!C2","v":"SBS - Halcatraz - TiZo Team"},{"$f":"SUM(J8:AZ8)","v":35.425000000000004},{"$f":"COUNT(J8:AZ8)","v":3},{"$f":"IF(E8=0,0,D8/E8)","v":11.808333333333335},{"$f":"MAX(J8:BA8)","v":15.55},null,"tükörponty",11.275,15.55,8.6]
["A1",{"$f":"kod!B2","v":"Gát, mélyvíz"},{"$f":"kod!C2","v":"SBS - Halcatraz - TiZo Team"},0,0,0,{"$f":"MAX(J9:BA9)","v":0},null,"tőponty"]
["A1",{"$f":"kod!B2","v":"Gát, mélyvíz"},{"$f":"kod!C2","v":"SBS - Halcatraz - TiZo Team"},61.899999999999991,5,12.379999999999999,17.55,null,"nyurgaponty",9.7249999999999996,17.55,9.3249999999999993,13.55,11.75]
["A1",{"$f":"kod!B2","v":"Gát, mélyvíz"},{"$f":"kod!C2","v":"SBS - Halcatraz - TiZo Team"},0,0,0,null,{"$f":"MAX(J11:AZ11)","v":0},"koi ponty"]
["A1",{"$f":"kod!B2","v":"Gát, mélyvíz"},{"$f":"kod!C2","v":"SBS - Halcatraz - TiZo Team"},0,0,0,0,null,"amur"]
["A1",{"$f":"kod!B2","v":"Gát, mélyvíz"},{"$f":"kod!C2","v":"SBS - Halcatraz - TiZo Team"},0,0,0,0,null,"fekete amur"]
["A2",{"$f":"kod!B3","v":"Gát, mélyvíz"},{"$f":"kod!C3","v":"Altstadt Carp Team"},{"$f":"SUM(D15:D20)","v":79.975000000000009},{"$f":"SUM(E15:E20)","v":7},11.425000000000001,{"$f":"MAX(G15:G20)","v":20},{"$f":"H18","v":0},"ÖSSZESEN",{"$f":"COUNTIFS($J15:$BB20,\">9,99\",$J15:$BB20,\"<20\")","v":2},{"$f":"COUNTIFS($J15:$BB20,\">19,99\")","v":1},{"$f":"COUNTIFS($J18:$BA18,\">4,99\",$J18:$BA18,\"<9,99\")","v":0},{"$f":"COUNTIFS($J18:$BB18,\">9,99\")","v":0}]
["A2",{"$f":"kod!B3","v":"Gát, mélyvíz"},{"$f":"kod!C3","v":"Altstadt Carp Team"},{"$f":"SUM(J15:AZ15)","v":20},{"$f":"COUNT(J15:AZ15)","v":1},20,{"$f":"MAX(J15:BA15)","v":20},null,"tükörponty",20]
["A2",{"$f":"kod!B3","v":"Gát, mélyvíz"},{"$f":"kod!C3","v":"Altstadt Carp Team"},7.7750000000000004,1,7.7750000000000004,{"$f":"MAX(J16:BA16)","v":7.7750000000000004},null,"tőponty",7.7750000000000004]
["A2",{"$f":"kod!B3","v":"Gát, mélyvíz"},{"$f":"kod!C3","v":"Altstadt Carp Team"},44.025000000000006,4,11.006250000000001,{"$f":"MAX(J17:BA17)","v":14.775},null,"nyurgaponty",8.6999999999999993,14.775,9.2249999999999996,11.324999999999999]
["A2",{"$f":"kod!B3","v":"Gát, mélyvíz"},{"$f":"kod!C3","v":"Altstadt Carp Team"},0,0,0,null,{"$f":"MAX(J18:AZ18)","v":0},"koi ponty"]
["A2",{"$f":"kod!B3","v":"Gát, mélyvíz"},{"$f":"kod!C3","v":"Altstadt Carp Team"},0,0,0,{"$f":"MAX(J19:BA19)","v":0},null,"amur"]
["A2",{"$f":"kod!B3","v":"Gát, mélyvíz"},{"$f":"kod!C3","v":"Altstadt Carp Team"},8.1750000000000007,1,8.1750000000000007,{"$f":"MAX(J20:BA20)","v":8.1750000000000007},null,"fekete amur",8.1750000000000007]
["A3",{"$f":"kod!B4","v":"Gát, mélyvíz"},{"$f":"kod!C4","v":"Ferma De Crap Diosig"},{"$f":"SUM(D22:D27)","v":5.7},{"$f":"SUM(E22:E27)","v":1},5.7,{"$f":"MAX(G22:G27)","v":5.7},{"$f":"H25","v":0},"ÖSSZESEN",{"$f":"COUNTIFS($J22:$BB27,\">9,99\",$J22:$BB27,\"<20\")","v":0},{"$f":"COUNTIFS($J22:$BB27,\">19,99\")","v":0},{"$f":"COUNTIFS($J25:$BA25,\">4,99\",$J25:$BA25,\"<9,99\")","v":0},{"$f":"COUNTIFS($J25:$BB25,\">9,99\")","v":0}]
["A3",{"$f":"kod!B4","v":"Gát, mélyvíz"},{"$f":"kod!C4","v":"Ferma De Crap Diosig"},{"$f":"SUM(J22:AZ22)","v":0},{"$f":"COUNT(J22:AZ22)","v":0},0,{"$f":"MAX(J22:BA22)","v":0},null,"tükörponty"]
["A3",{"$f":"kod!B4","v":"Gát, mélyvíz"},{"$f":"kod!C4","v":"Ferma De Crap Diosig"},5.7,1,5.7,{"$f":"MAX(J23:BA23)","v":5.7},null,"tőponty",5.7]
["A3",{"$f":"kod!B4","v":"Gát, mélyvíz"},{"$f":"kod!C4","v":"Ferma De Crap Diosig"},0,0,0,{"$f":"MAX(J24:BA24)","v":0},null,"nyurgaponty"]
["A3",{"$f":"kod!B4","v":"Gát, mélyvíz"},{"$f":"kod!C4","v":"Ferma De Crap Diosig"},0,0,0,null,{"$f":"MAX(J25:AZ25)","v":0},"koi ponty"]
["A3",{"$f":"kod!B4","v":"Gát, mélyvíz"},{"$f":"kod!C4","v":"Ferma De Crap Diosig"},0,0,0,{"$f":"MAX(J26:BA26)","v":0},null,"amur"]
["A3",{"$f":"kod!B4","v":"Gát, mélyvíz"},{"$f":"kod!C4","v":"Ferma De Crap Diosig"},0,0,0,{"$f":"MAX(J27:BA27)","v":0},null,"fekete amur"]
["A4",{"$f":"kod!B5","v":"Gát, mélyvíz"},{"$f":"kod!C5","v":"Bull Tackle"},{"$f":"SUM(D29:D34)","v":52.099999999999994},{"$f":"SUM(E29:E34)","v":5},10.419999999999998,{"$f":"MAX(G29:G34)","v":17.824999999999999},{"$f":"H32","v":0},"ÖSSZESEN",{"$f":"COUNTIFS($J29:$BB34,\">9,99\",$J29:$BB34,\"<20\")","v":3},{"$f":"COUNTIFS($J29:$BB34,\">19,99\")","v":0},{"$f":"COUNTIFS($J32:$BA32,\">4,99\",$J32:$BA32,\"<9,99\")","v":0},{"$f":"COUNTIFS($J32:$BB32,\">9,99\")","v":0}]
["A4",{"$f":"kod!B5","v":"Gát, mélyvíz"},{"$f":"kod!C5","v":"Bull Tackle"},{"$f":"SUM(J29:AZ29)","v":0},{"$f":"COUNT(J29:AZ29)","v":0},0,{"$f":"MAX(J29:BA29)","v":0},null,"tükörponty"]
["A4",{"$f":"kod!B5","v":"Gát, mélyvíz"},{"$f":"kod!C5","v":"Bull Tackle"},17.824999999999999,1,17.824999999999999,{"$f":"MAX(J30:BA30)","v":17.824999999999999},null,"tőponty",17.824999999999999]
["A4",{"$f":"kod!B5","v":"Gát, mélyvíz"},{"$f":"kod!C5","v":"Bull Tackle"},12.525,1,12.525,{"$f":"MAX(J31:BA31)","v":12.525},null,"nyurgaponty",12.525]
["A4",{"$f":"kod!B5","v":"Gát, mélyvíz"},{"$f":"kod!C5","v":"Bull Tackle"},0,0,0,null,{"$f":"MAX(J32:AZ32)","v":0},"koi ponty"]
["A4",{"$f":"kod!B5","v":"Gát, mélyvíz"},{"$f":"kod!C5","v":"Bull Tackle"},14.45,1,14.45,{"$f":"MAX(J33:BA33)","v":14.45},null,"amur",14.45]
["A4",{"$f":"kod!B5","v":"Gát, mélyvíz"},{"$f":"kod!C5","v":"Bull Tackle"},7.3,2,3.65,{"$f":"MAX(J34:BA34)","v":4.2249999999999996},null,"fekete amur",3.0750000000000002,4.2249999999999996]
["A5",{"$f":"kod!B6","v":"Gát, mélyvíz"},{"$f":"kod!C6","v":"AHFSZ Fishing Team"},{"$f":"SUM(D36:D41)","v":10.85},{"$f":"SUM(E36:E41)","v":1},10.85,{"$f":"MAX(G36:G41)","v":10.85},{"$f":"H39","v":0},"ÖSSZESEN",{"$f":"COUNTIFS($J36:$BB41,\">9,99\",$J36:$BB41,\"<20\")","v":1},{"$f":"COUNTIFS($J36:$BB41,\">19,99\")","v":0},{"$f":"COUNTIFS($J39:$BA39,\">4,99\",$J39:$BA39,\"<9,99\")","v":0},{"$f":"COUNTIFS($J39:$BB39,\">9,99\")","v":0}]
["A5",{"$f":"kod!B6","v":"Gát, mélyvíz"},{"$f":"kod!C6","v":"AHFSZ Fishing Team"},{"$f":"SUM(J36:AZ36)","v":0},{"$f":"COUNT(J36:AZ36)","v":0},0,{"$f":"MAX(J36:BA36)","v":0},null,"tükörponty"]
["A5",{"$f":"kod!B6","v":"Gát, mélyvíz"},{"$f":"kod!C6","v":"AHFSZ Fishing Team"},0,0,0,{"$f":"MAX(J37:BA37)","v":0},null,"tőponty"]
["A5",{"$f":"kod!B6","v":"Gát, mélyvíz"},{"$f":"kod!C6","v":"AHFSZ Fishing Team"},0,0,0,{"$f":"MAX(J38:BA38)","v":0},null,"nyurgaponty"]
["A5",{"$f":"kod!B6","v":"Gát, mélyvíz"},{"$f":"kod!C6","v":"AHFSZ Fishing Team"},0,0,0,null,{"$f":"MAX(J39:AZ39)","v":0},"koi ponty"]
["A5",{"$f":"kod!B6","v":"Gát, mélyvíz"},{"$f":"kod!C6","v":"AHFSZ Fishing Team"},10.85,1,10.85,{"$f":"MAX(J40:BA40)","v":10.85},null,"amur",10.85]
["A5",{"$f":"kod!B6","v":"Gát, mélyvíz"},{"$f":"kod!C6","v":"AHFSZ Fishing Team"},0,0,0,{"$f":"MAX(J41:BA41)","v":0},null,"fekete amur"]
["A6",{"$f":"kod!B7","v":"Nyári kikötő, belső"},{"$f":"kod!C7","v":"Black Carp Team"},{"$f":"SUM(D43:D48)","v":73.400000000000006},{"$f":"SUM(E43:E48)","v":14},5.2428571428571429,{"$f":"MAX(G43:G48)","v":11.775},{"$f":"H46","v":0},"ÖSSZESEN",{"$f":"COUNTIFS($J43:$BB48,\">9,99\",$J43:$BB48,\"<20\")","v":1},{"$f":"COUNTIFS($J43:$BB48,\">19,99\")","v":0},{"$f":"COUNTIFS($J46:$BA46,\">4,99\",$J46:$BA46,\"<9,99\")","v":0},{"$f":"COUNTIFS($J46:$BB46,\">9,99\")","v":0}]
["A6",{"$f":"kod!B7","v":"Nyári kikötő, belső"},{"$f":"kod!C7","v":"Black Carp Team"},{"$f":"SUM(J43:AZ43)","v":0},{"$f":"COUNT(J43:AZ43)","v":0},0,{"$f":"MAX(J43:BA43)","v":0},null,"tükörponty"]
["A6",{"$f":"kod!B7","v":"Nyári kikötő, belső"},{"$f":"kod!C7","v":"Black Carp Team"},5.15,2,2.5750000000000002,{"$f":"MAX(J44:BA44)","v":3},null,"tőponty",2.15,3]
["A6",{"$f":"kod!B7","v":"Nyári kikötő, belső"},{"$f":"kod!C7","v":"Black Carp Team"},8.75,1,8.75,{"$f":"MAX(J45:BA45)","v":8.75},null,"nyurgaponty",8.75]
["A6",{"$f":"kod!B7","v":"Nyári kikötő, belső"},{"$f":"kod!C7","v":"Black Carp Team"},0,0,0,null,{"$f":"MAX(J46:AZ46)","v":0},"koi ponty"]
["A6",{"$f":"kod!B7","v":"Nyári kikötő, belső"},{"$f":"kod!C7","v":"Black Carp Team"},6.9249999999999998,1,6.9249999999999998,{"$f":"MAX(J47:BA47)","v":6.9249999999999998},null,"amur",6.9249999999999998]
["A6",{"$f":"kod!B7","v":"Nyári kikötő, belső"},{"$f":"kod!C7","v":"Black Carp Team"},52.57500000000001,10,5.2575000000000012,{"$f":"MAX(J48:BA48)","v":11.775},null,"fekete amur",3.9249999999999998,2.7749999999999999,11.775,3.7,3.1749999999999998,9.6,3.45,4.625,5.6,3.95]
["A7",{"$f":"kod!B8","v":"Nyári kikötő, közép"},{"$f":"kod!C8","v":"USA & Mivado Carp Team"},{"$f":"SUM(D50:D55)","v":28.9},{"$f":"SUM(E50:E55)","v":4},7.2249999999999996,{"$f":"MAX(G50:G55)","v":11.25},{"$f":"H53","v":0},"ÖSSZESEN",{"$f":"COUNTIFS($J50:$BB55,\">9,99\",$J50:$BB55,\"<20\")","v":2},{"$f":"COUNTIFS($J50:$BB55,\">19,99\")","v":0},{"$f":"COUNTIFS($J53:$BA53,\">4,99\",$J53:$BA53,\"<9,99\")","v":0},{"$f":"COUNTIFS($J53:$BB53,\">9,99\")","v":0}]
["A7",{"$f":"kod!B8","v":"Nyári kikötő, közép"},{"$f":"kod!C8","v":"USA & Mivado Carp Team"},{"$f":"SUM(J50:AZ50)","v":0},{"$f":"COUNT(J50:AZ50)","v":0},0,{"$f":"MAX(J50:BA50)","v":0},null,"tükörponty"]
["A7",{"$f":"kod!B8","v":"Nyári kikötő, közép"},{"$f":"kod!C8","v":"USA & Mivado Carp Team"},0,0,0,{"$f":"MAX(J51:BA51)","v":0},null,"tőponty"]
["A7",{"$f":"kod!B8","v":"Nyári kikötő, közép"},{"$f":"kod!C8","v":"USA & Mivado Carp Team"},11.125,1,11.125,{"$f":"MAX(J52:BA52)","v":11.125},null,"nyurgaponty",11.125]
["A7",{"$f":"kod!B8","v":"Nyári kikötő, közép"},{"$f":"kod!C8","v":"USA & Mivado Carp Team"},0,0,0,null,{"$f":"MAX(J53:AZ53)","v":0},"koi ponty"]
["A7",{"$f":"kod!B8","v":"Nyári kikötő, közép"},{"$f":"kod!C8","v":"USA & Mivado Carp Team"},0,0,0,{"$f":"MAX(J54:BA54)","v":0},null,"amur"]
["A7",{"$f":"kod!B8","v":"Nyári kikötő, közép"},{"$f":"kod!C8","v":"USA & Mivado Carp Team"},17.774999999999999,3,5.9249999999999998,{"$f":"MAX(J55:BA55)","v":11.25},null,"fekete amur",3.0249999999999999,11.25,3.5]
["A8",{"$f":"kod!B9","v":"Nyári kikötő, külső"},{"$f":"kod!C9","v":"Ózdi Sporthorgász Egyesület"},{"$f":"SUM(D57:D62)","v":26.95},{"$f":"SUM(E57:E62)","v":4},6.7374999999999998,{"$f":"MAX(G57:G62)","v":12.5},{"$f":"H60","v":0},"ÖSSZESEN",{"$f":"COUNTIFS($J57:$BB62,\">9,99\",$J57:$BB62,\"<20\")","v":1},{"$f":"COUNTIFS($J57:$BB62,\">19,99\")","v":0},{"$f":"COUNTIFS($J60:$BA60,\">4,99\",$J60:$BA60,\"<9,99\")","v":0},{"$f":"COUNTIFS($J60:$BB60,\">9,99\")","v":0}]
["A8",{"$f":"kod!B9","v":"Nyári kikötő, külső"},{"$f":"kod!C9","v":"Ózdi Sporthorgász Egyesület"},{"$f":"SUM(J57:AZ57)","v":0},{"$f":"COUNT(J57:AZ57)","v":0},0,{"$f":"MAX(J57:BA57)","v":0},null,"tükörponty"]
["A8",{"$f":"kod!B9","v":"Nyári kikötő, külső"},{"$f":"kod!C9","v":"Ózdi Sporthorgász Egyesület"},0,0,0,{"$f":"MAX(J58:BA58)","v":0},null,"tőponty"]
["A8",{"$f":"kod!B9","v":"Nyári kikötő, külső"},{"$f":"kod!C9","v":"Ózdi Sporthorgász Egyesület"},20.65,2,10.324999999999999,{"$f":"MAX(J59:BA59)","v":12.5},null,"nyurgaponty",8.15,12.5]
["A8",{"$f":"kod!B9","v":"Nyári kikötő, külső"},{"$f":"kod!C9","v":"Ózdi Sporthorgász Egyesület"},0,0,0,null,{"$f":"MAX(J60:AZ60)","v":0},"koi ponty"]
["A8",{"$f":"kod!B9","v":"Nyári kikötő, külső"},{"$f":"kod!C9","v":"Ózdi Sporthorgász Egyesület"},0,0,0,{"$f":"MAX(J61:BA61)","v":0},null,"amur"]
["A8",{"$f":"kod!B9","v":"Nyári kikötő, külső"},{"$f":"kod!C9","v":"Ózdi Sporthorgász Egyesület"},6.3000000000000007,2,3.1500000000000004,{"$f":"MAX(J62:BA62)","v":3.6},null,"fekete amur",2.7,3.6]
["A9",{"$f":"kod!B10","v":"I. sziget, bal külső"},{"$f":"kod!C10","v":"Kártékony Carp Team"},{"$f":"SUM(D64:D69)","v":214.57499999999999},{"$f":"SUM(E64:E69)","v":26},8.2528846153846143,{"$f":"MAX(G64:G69)","v":13.875},{"$f":"H67","v":11.525},"ÖSSZESEN",{"$f":"COUNTIFS($J64:$BB69,\">9,99\",$J64:$BB69,\"<20\")","v":8},{"$f":"COUNTIFS($J64:$BB69,\">19,99\")","v":0},{"$f":"COUNTIFS($J67:$BA67,\">4,99\",$J67:$BA67,\"<9,99\")","v":0},{"$f":"COUNTIFS($J67:$BB67,\">9,99\")","v":1}]
["A9",{"$f":"kod!B10","v":"I. sziget, bal külső"},{"$f":"kod!C10","v":"Kártékony Carp Team"},{"$f":"SUM(J64:AZ64)","v":36.425000000000004},{"$f":"COUNT(J64:AZ64)","v":4},{"$f":"IF(E64=0,0,D64/E64)","v":9.1062500000000011},{"$f":"MAX(J64:BA64)","v":13.1},null,"tükörponty",7.2249999999999996,13.1,9.15,6.95]
["A9",{"$f":"kod!B10","v":"I. sziget, bal külső"},{"$f":"kod!C10","v":"Kártékony Carp Team"},47.524999999999999,7,6.7892857142857137,{"$f":"MAX(J65:BA65)","v":9.2750000000000004},null,"tőponty",9.2750000000000004,4.95,7.7750000000000004,7.5750000000000002,6.7750000000000004,6.625,4.55]
["A9",{"$f":"kod!B10","v":"I. sziget, bal külső"},{"$f":"kod!C10","v":"Kártékony Carp Team"},114.82499999999999,13,8.832692307692307,{"$f":"MAX(J66:BA66)","v":13.875},null,"nyurgaponty",13.875,10.55,7.75,11.225,6.05,5,10.824999999999999,8.5,10.175000000000001,10.425000000000001,6.6749999999999998,6,7.7750000000000004]
["A9",{"$f":"kod!B10","v":"I. sziget, bal külső"},{"$f":"kod!C10","v":"Kártékony Carp Team"},15.8,2,7.9,null,{"$f":"MAX(J67:AZ67)","v":11.525},"koi ponty",11.525,4.2750000000000004]
["A9",{"$f":"kod!B10","v":"I. sziget, bal külső"},{"$f":"kod!C10","v":"Kártékony Carp Team"},0,0,0,{"$f":"MAX(J68:BA68)","v":0},null,"amur"]
["A9",{"$f":"kod!B10","v":"I. sziget, bal külső"},{"$f":"kod!C10","v":"Kártékony Carp Team"},0,0,0,{"$f":"MAX(J69:BA69)","v":0},null,"fekete amur"]
["A10",{"$f":"kod!B11","v":"I. sziget, bal"},{"$f":"kod!C11","v":"Team 5 Austria"},{"$f":"SUM(D71:D76)","v":8.5},{"$f":"SUM(E71:E76)","v":1},8.5,{"$f":"MAX(G71:G76)","v":8.5},{"$f":"H74","v":0},"ÖSSZESEN",{"$f":"COUNTIFS($J71:$BB76,\">9,99\",$J71:$BB76,\"<20\")","v":0},{"$f":"COUNTIFS($J71:$BB76,\">19,99\")","v":0},{"$f":"COUNTIFS($J74:$BA74,\">4,99\",$J74:$BA74,\"<9,99\")","v":0},{"$f":"COUNTIFS($J74:$BB74,\">9,99\")","v":0}]
["A10",{"$f":"kod!B11","v":"I. sziget, bal"},{"$f":"kod!C11","v":"Team 5 Austria"},{"$f":"SUM(J71:AZ71)","v":8.5},{"$f":"COUNT(J71:AZ71)","v":1},8.5,{"$f":"MAX(J71:BA71)","v":8.5},null,"tükörponty",8.5]
["A10",{"$f":"kod!B11","v":"I. sziget, bal"},{"$f":"kod!C11","v":"Team 5 Austria"},0,0,0,{"$f":"MAX(J72:BA72)","v":0},null,"tőponty"]
["A10",{"$f":"kod!B11","v":"I. sziget, bal"},{"$f":"kod!C11","v":"Team 5 Austria"},0,0,0,{"$f":"MAX(J73:BA73)","v":0},null,"nyurgaponty"]
["A10",{"$f":"kod!B11","v":"I. sziget, bal"},{"$f":"kod!C11","v":"Team 5 Austria"},0,0,0,null,{"$f":"MAX(J74:AZ74)","v":0},"koi ponty"]
["A10",{"$f":"kod!B11","v":"I. sziget, bal"},{"$f":"kod!C11","v":"Team 5 Austria"},0,0,0,{"$f":"MAX(J75:BA75)","v":0},null,"amur"]
["A10",{"$f":"kod!B11","v":"I. sziget, bal"},{"$f":"kod!C11","v":"Team 5 Austria"},0,0,0,{"$f":"MAX(J76:BA76)","v":0},null,"fekete amur"]
["A11",{"$f":"kod!B12","v":"I. sziget, bal közép"},{"$f":"kod!C12","v":"Invader's Team Poland"},{"$f":"SUM(D78:D83)","v":55.545000000000002},{"$f":"SUM(E78:E83)","v":7},7.9350000000000005,{"$f":"MAX(G78:G83)","v":11.675000000000001},{"$f":"H81","v":10.8},"ÖSSZESEN",{"$f":"COUNTIFS($J78:$BB83,\">9,99\",$J78:$BB83,\"<20\")","v":3},{"$f":"COUNTIFS($J78:$BB83,\">19,99\")","v":0},{"$f":"COUNTIFS($J81:$BA81,\">4,99\",$J81:$BA81,\"<9,99\")","v":0},{"$f":"COUNTIFS($J81:$BB81,\">9,99\")","v":1}]
["A11",{"$f":"kod!B12","v":"I. sziget, bal közép"},{"$f":"kod!C12","v":"Invader's Team Poland"},{"$f":"SUM(J78:AZ78)","v":10.45},{"$f":"COUNT(J78:AZ78)","v":1},10.45,{"$f":"MAX(J78:BA78)","v":10.45},null,"tükörponty",10.45]
["A11",{"$f":"kod!B12","v":"I. sziget, bal közép"},{"$f":"kod!C12","v":"Invader's Team Poland"},1.1000000000000001,1,1.1000000000000001,{"$f":"MAX(J79:BA79)","v":1.1000000000000001},null,"tőponty",1.1000000000000001]
["A11",{"$f":"kod!B12","v":"I. sziget, bal közép"},{"$f":"kod!C12","v":"Invader's Team Poland"},9.9749999999999996,1,9.9749999999999996,{"$f":"MAX(J80:BA80)","v":9.9749999999999996},null,"nyurgaponty",9.9749999999999996]
["A11",{"$f":"kod!B12","v":"I. sziget, bal közép"},{"$f":"kod!C12","v":"Invader's Team Poland"},10.8,1,10.8,null,{"$f":"MAX(J81:AZ81)","v":10.8},"koi ponty",10.8]
["A11",{"$f":"kod!B12","v":"I. sziget, bal közép"},{"$f":"kod!C12","v":"Invader's Team Poland"},23.22,3,7.7399999999999993,{"$f":"MAX(J82:BA82)","v":11.675000000000001},null,"amur",4.375,11.675000000000001,7.17]
["A11",{"$f":"kod!B12","v":"I. sziget, bal közép"},{"$f":"kod!C12","v":"Invader's Team Poland"},0,0,0,{"$f":"MAX(J83:BA83)","v":0},null,"fekete amur"]
["B1",{"$f":"kod!B13","v":"Gát, közepes víz"},{"$f":"kod!C13","v":"Tata Nitu Carp Team"},{"$f":"SUM(D85:D90)","v":19.87},{"$f":"SUM(E85:E90)","v":4},{"$f":"IF(E84=0,0,D84/E84)","v":4.9675000000000002},{"$f":"MAX(G85:G90)","v":6.4},{"$f":"H88","v":0},"ÖSSZESEN",{"$f":"COUNTIFS($J85:$BB90,\">9,99\",$J85:$BB90,\"<20\")","v":0},{"$f":"COUNTIFS($J85:$BB90,\">19,99\")","v":0},{"$f":"COUNTIFS($J88:$BA88,\">4,99\",$J88:$BA88,\"<9,99\")","v":0},{"$f":"COUNTIFS($J88:$BB88,\">9,99\")","v":0}]
["B1",{"$f":"kod!B13","v":"Gát, közepes víz"},{"$f":"kod!C13","v":"Tata Nitu Carp Team"},{"$f":"SUM(J85:AZ85)","v":0},{"$f":"COUNT(J85:AZ85)","v":0},{"$f":"IF(E85=0,0,D85/E85)","v":0},{"$f":"MAX(J85:BA85)","v":0},null,"tükörponty"]
["B1",{"$f":"kod!B13","v":"Gát, közepes víz"},{"$f":"kod!C13","v":"Tata Nitu Carp Team"},16.045000000000002,3,5.3483333333333336,{"$f":"MAX(J86:BA86)","v":6.4},null,"tőponty",6.4,4.07,5.5750000000000002]
["B1",{"$f":"kod!B13","v":"Gát, közepes víz"},{"$f":"kod!C13","v":"Tata Nitu Carp Team"},0,0,0,{"$f":"MAX(J87:BA87)","v":0},null,"nyurgaponty"]
["B1",{"$f":"kod!B13","v":"Gát, közepes víz"},{"$f":"kod!C13","v":"Tata Nitu Carp Team"},0,0,0,null,{"$f":"MAX(J88:AZ88)","v":0},"koi ponty"]
["B1",{"$f":"kod!B13","v":"Gát, közepes víz"},{"$f":"kod!C13","v":"Tata Nitu Carp Team"},0,0,0,{"$f":"MAX(J89:BA89)","v":0},null,"amur"]
["B1",{"$f":"kod!B13","v":"Gát, közepes víz"},{"$f":"kod!C13","v":"Tata Nitu Carp Team"},3.8250000000000002,1,3.8250000000000002,{"$f":"MAX(J90:BA90)","v":3.8250000000000002},null,"fekete amur",3.8250000000000002]
["B2",{"$f":"kod!B14","v":"Gát, közepes víz"},{"$f":"kod!C14","v":"Slovakia Carp Team"},{"$f":"SUM(D92:D97)","v":33.150000000000006},{"$f":"SUM(E92:E97)","v":6},5.5250000000000012,{"$f":"MAX(G92:G97)","v":15.55},{"$f":"H95","v":0},"ÖSSZESEN",{"$f":"COUNTIFS($J92:$BB97,\">9,99\",$J92:$BB97,\"<20\")","v":1},{"$f":"COUNTIFS($J92:$BB97,\">19,99\")","v":0},{"$f":"COUNTIFS($J95:$BA95,\">4,99\",$J95:$BA95,\"<9,99\")","v":0},{"$f":"COUNTIFS($J95:$BB95,\">9,99\")","v":0}]
["B2",{"$f":"kod!B14","v":"Gát, közepes víz"},{"$f":"kod!C14","v":"Slovakia Carp Team"},{"$f":"SUM(J92:AZ92)","v":15.55},{"$f":"COUNT(J92:AZ92)","v":1},15.55,{"$f":"MAX(J92:BA92)","v":15.55},null,"tükörponty",15.55]
["B2",{"$f":"kod!B14","v":"Gát, közepes víz"},{"$f":"kod!C14","v":"Slovakia Carp Team"},0,0,0,{"$f":"MAX(J93:BA93)","v":0},null,"tőponty"]
["B2",{"$f":"kod!B14","v":"Gát, közepes víz"},{"$f":"kod!C14","v":"Slovakia Carp Team"},4.8,1,4.8,{"$f":"MAX(J94:BA94)","v":4.8},null,"nyurgaponty",4.8]
["B2",{"$f":"kod!B14","v":"Gát, közepes víz"},{"$f":"kod!C14","v":"Slovakia Carp Team"},0,0,0,null,{"$f":"MAX(J95:AZ95)","v":0},"koi ponty"]
["B2",{"$f":"kod!B14","v":"Gát, közepes víz"},{"$f":"kod!C14","v":"Slovakia Carp Team"},0,0,0,{"$f":"MAX(J96:BA96)","v":0},null,"amur"]
["B2",{"$f":"kod!B14","v":"Gát, közepes víz"},{"$f":"kod!C14","v":"Slovakia Carp Team"},12.8,4,3.2,{"$f":"MAX(J97:BA97)","v":3.7},null,"fekete amur",3.1749999999999998,3.3,2.625,3.7]
["B3",{"$f":"kod!B15","v":"Gát, közepes víz"},{"$f":"kod!C15","v":"WLC Hungary "},{"$f":"SUM(D99:D104)","v":138.155},{"$f":"SUM(E99:E104)","v":18},7.6752777777777776,{"$f":"MAX(G99:G104)","v":12.95},{"$f":"H102","v":14.05},"ÖSSZESEN",{"$f":"COUNTIFS($J99:$BB104,\">9,99\",$J99:$BB104,\"<20\")","v":5},{"$f":"COUNTIFS($J99:$BB104,\">19,99\")","v":0},{"$f":"COUNTIFS($J102:$BA102,\">4,99\",$J102:$BA102,\"<9,99\")","v":0},{"$f":"COUNTIFS($J102:$BB102,\">9,99\")","v":1}]
["B3",{"$f":"kod!B15","v":"Gát, közepes víz"},{"$f":"kod!C15","v":"WLC Hungary "},{"$f":"SUM(J99:AZ99)","v":8.3550000000000004},{"$f":"COUNT(J99:AZ99)","v":1},8.3550000000000004,{"$f":"MAX(J99:BA99)","v":8.3550000000000004},null,"tükörponty",8.3550000000000004]
["B3",{"$f":"kod!B15","v":"Gát, közepes víz"},{"$f":"kod!C15","v":"WLC Hungary "},16.100000000000001,2,8.0500000000000007,{"$f":"MAX(J100:BA100)","v":12.625},null,"tőponty",3.4750000000000001,12.625]
["B3",{"$f":"kod!B15","v":"Gát, közepes víz"},{"$f":"kod!C15","v":"WLC Hungary "},73.325000000000003,7,10.475,{"$f":"MAX(J101:BA101)","v":12.95},null,"nyurgaponty",9.65,8.75,9.7249999999999996,7.75,12.95,11.75,12.75]
["B3",{"$f":"kod!B15","v":"Gát, közepes víz"},{"$f":"kod!C15","v":"WLC Hungary "},18.450000000000003,2,9.2250000000000014,null,{"$f":"MAX(J102:AZ102)","v":14.05},"koi ponty",4.4000000000000004,14.05]
["B3",{"$f":"kod!B15","v":"Gát, közepes víz"},{"$f":"kod!C15","v":"WLC Hungary "},0,0,0,{"$f":"MAX(J103:BA103)","v":0},null,"amur"]
["B3",{"$f":"kod!B15","v":"Gát, közepes víz"},{"$f":"kod!C15","v":"WLC Hungary "},21.924999999999997,6,3.6541666666666663,{"$f":"MAX(J104:BA104)","v":4.875},null,"fekete amur",3.5,3.125,4.875,3.5,3.2749999999999999,3.65]
["B4",{"$f":"kod!B16","v":"Gát, közepes víz"},{"$f":"kod!C16","v":"Barfin Line NSD Bulgaria"},{"$f":"SUM(D106:D111)","v":100.77500000000002},{"$f":"SUM(E106:E111)","v":9},11.197222222222225,{"$f":"MAX(G106:G111)","v":22.975000000000001},{"$f":"H109","v":10.525},"ÖSSZESEN",{"$f":"COUNTIFS($J106:$BB111,\">9,99\",$J106:$BB111,\"<20\")","v":3},{"$f":"COUNTIFS($J106:$BB111,\">19,99\")","v":1},{"$f":"COUNTIFS($J109:$BA109,\">4,99\",$J109:$BA109,\"<9,99\")","v":0},{"$f":"COUNTIFS($J109:$BB109,\">9,99\")","v":1}]
["B4",{"$f":"kod!B16","v":"Gát, közepes víz"},{"$f":"kod!C16","v":"Barfin Line NSD Bulgaria"},{"$f":"SUM(J106:AZ106)","v":22.975000000000001},{"$f":"COUNT(J106:AZ106)","v":1},22.975000000000001,{"$f":"MAX(J106:BA106)","v":22.975000000000001},null,"tükörponty",22.975000000000001]
["B4",{"$f":"kod!B16","v":"Gát, közepes víz"},{"$f":"kod!C16","v":"Barfin Line NSD Bulgaria"},4.8,1,4.8,4.8,null,"tőponty",4.8]
["B4",{"$f":"kod!B16","v":"Gát, közepes víz"},{"$f":"kod!C16","v":"Barfin Line NSD Bulgaria"},55.075000000000003,5,11.015000000000001,18.475000000000001,null,"nyurgaponty",18.475000000000001,10.5,8.9250000000000007,8.35,8.8249999999999993]
["B4",{"$f":"kod!B16","v":"Gát, közepes víz"},{"$f":"kod!C16","v":"Barfin Line NSD Bulgaria"},10.525,1,10.525,10.525,{"$f":"MAX(J109:AZ109)","v":10.525},"koi ponty",10.525]
["B4",{"$f":"kod!B16","v":"Gát, közepes víz"},{"$f":"kod!C16","v":"Barfin Line NSD Bulgaria"},7.4,1,7.4,7.4,null,"amur",7.4]
["B4",{"$f":"kod!B16","v":"Gát, közepes víz"},{"$f":"kod!C16","v":"Barfin Line NSD Bulgaria"},0,0,0,0,null,"fekete amur"]
["B5",{"$f":"kod!B17","v":"Gát, közepes víz"},{"$f":"kod!C17","v":"Lutra Carp Hunters"},{"$f":"SUM(D113:D118)","v":24.4},{"$f":"SUM(E113:E118)","v":2},12.2,{"$f":"MAX(G113:G118)","v":13.725},{"$f":"H116","v":0},"ÖSSZESEN",{"$f":"COUNTIFS($J113:$BB118,\">9,99\",$J113:$BB118,\"<20\")","v":2},{"$f":"COUNTIFS($J113:$BB118,\">19,99\")","v":0},{"$f":"COUNTIFS($J116:$BA116,\">4,99\",$J116:$BA116,\"<9,99\")","v":0},{"$f":"COUNTIFS($J116:$BB116,\">9,99\")","v":0}]
["B5",{"$f":"kod!B17","v":"Gát, közepes víz"},{"$f":"kod!C17","v":"Lutra Carp Hunters"},{"$f":"SUM(J113:AZ113)","v":24.4},{"$f":"COUNT(J113:AZ113)","v":2},12.2,{"$f":"MAX(J113:BA113)","v":13.725},null,"tükörponty",10.675000000000001,13.725]
["B5",{"$f":"kod!B17","v":"Gát, közepes víz"},{"$f":"kod!C17","v":"Lutra Carp Hunters"},0,0,0,{"$f":"MAX(J114:BA114)","v":0},null,"tőponty"]
["B5",{"$f":"kod!B17","v":"Gát, közepes víz"},{"$f":"kod!C17","v":"Lutra Carp Hunters"},0,0,0,{"$f":"MAX(J115:BA115)","v":0},null,"nyurgaponty"]
["B5",{"$f":"kod!B17","v":"Gát, közepes víz"},{"$f":"kod!C17","v":"Lutra Carp Hunters"},0,0,0,null,{"$f":"MAX(J116:AZ116)","v":0},"koi ponty"]
["B5",{"$f":"kod!B17","v":"Gát, közepes víz"},{"$f":"kod!C17","v":"Lutra Carp Hunters"},0,0,0,{"$f":"MAX(J117:BA117)","v":0},null,"amur"]
["B5",{"$f":"kod!B17","v":"Gát, közepes víz"},{"$f":"kod!C17","v":"Lutra Carp Hunters"},0,0,0,{"$f":"MAX(J118:BA118)","v":0},null,"fekete amur"]
["B6",{"$f":"kod!B18","v":"Gát, közepes víz"},{"$f":"kod!C18","v":"Xtra Carp Team"},{"$f":"SUM(D120:D125)","v":151.625},{"$f":"SUM(E120:E125)","v":12},12.635416666666666,{"$f":"MAX(G120:G125)","v":20.324999999999999},{"$f":"H123","v":0},"ÖSSZESEN",{"$f":"COUNTIFS($J120:$BB125,\">9,99\",$J120:$BB125,\"<20\")","v":8},{"$f":"COUNTIFS($J120:$BB125,\">19,99\")","v":1},{"$f":"COUNTIFS($J123:$BA123,\">4,99\",$J123:$BA123,\"<9,99\")","v":0},{"$f":"COUNTIFS($J123:$BB123,\">9,99\")","v":0}]
["B6",{"$f":"kod!B18","v":"Gát, közepes víz"},{"$f":"kod!C18","v":"Xtra Carp Team"},{"$f":"SUM(J120:AZ120)","v":40.625},{"$f":"COUNT(J120:AZ120)","v":3},13.541666666666666,{"$f":"MAX(J120:BA120)","v":16.774999999999999},null,"tükörponty",10.025,13.824999999999999,16.774999999999999]
["B6",{"$f":"kod!B18","v":"Gát, közepes víz"},{"$f":"kod!C18","v":"Xtra Carp Team"},47.3,3,15.766666666666666,{"$f":"MAX(J121:BA121)","v":20.324999999999999},null,"tőponty",12.875,14.1,20.324999999999999]
["B6",{"$f":"kod!B18","v":"Gát, közepes víz"},{"$f":"kod!C18","v":"Xtra Carp Team"},63.7,6,10.616666666666667,{"$f":"MAX(J122:BA122)","v":15.8},null,"nyurgaponty",12,9.6750000000000007,6.2249999999999996,15.8,7.45,12.55]
["B6",{"$f":"kod!B18","v":"Gát, közepes víz"},{"$f":"kod!C18","v":"Xtra Carp Team"},0,0,0,null,{"$f":"MAX(J123:AZ123)","v":0},"koi ponty"]
["B6",{"$f":"kod!B18","v":"Gát, közepes víz"},{"$f":"kod!C18","v":"Xtra Carp Team"},0,0,0,{"$f":"MAX(J124:BA124)","v":0},null,"amur"]
["B6",{"$f":"kod!B18","v":"Gát, közepes víz"},{"$f":"kod!C18","v":"Xtra Carp Team"},0,0,0,{"$f":"MAX(J125:BA125)","v":0},null,"fekete amur"]
["B7",{"$f":"kod!B19","v":"I. sziget, jobb közép"},{"$f":"kod!C19","v":"Elite Carp Team Brasov"},{"$f":"SUM(D127:D132)","v":96.024999999999991},{"$f":"SUM(E127:E132)","v":9},10.669444444444444,{"$f":"MAX(G127:G132)","v":13.25},{"$f":"H130","v":0},"ÖSSZESEN",{"$f":"COUNTIFS($J127:$BB132,\">9,99\",$J127:$BB132,\"<20\")","v":5},{"$f":"COUNTIFS($J127:$BB132,\">19,99\")","v":0},{"$f":"COUNTIFS($J130:$BA130,\">4,99\",$J130:$BA130,\"<9,99\")","v":0},{"$f":"COUNTIFS($J130:$BB130,\">9,99\")","v":0}]
["B7",{"$f":"kod!B19","v":"I. sziget, jobb közép"},{"$f":"kod!C19","v":"Elite Carp Team Brasov"},{"$f":"SUM(J127:AZ127)","v":0},{"$f":"COUNT(J127:AZ127)","v":0},0,{"$f":"MAX(J127:BA127)","v":0},null,"tükörponty"]
["B7",{"$f":"kod!B19","v":"I. sziget, jobb közép"},{"$f":"kod!C19","v":"Elite Carp Team Brasov"},8.0250000000000004,1,8.0250000000000004,{"$f":"MAX(J128:BA128)","v":8.0250000000000004},null,"tőponty",8.0250000000000004]
["B7",{"$f":"kod!B19","v":"I. sziget, jobb közép"},{"$f":"kod!C19","v":"Elite Carp Team Brasov"},87.999999999999986,8,10.999999999999998,{"$f":"MAX(J129:BA129)","v":13.25},null,"nyurgaponty",13.15,13.25,12.324999999999999,9.6,10.75,12.1,8.2249999999999996,8.6]
["B7",{"$f":"kod!B19","v":"I. sziget, jobb közép"},{"$f":"kod!C19","v":"Elite Carp Team Brasov"},0,0,0,null,{"$f":"MAX(J130:AZ130)","v":0},"koi ponty"]
["B7",{"$f":"kod!B19","v":"I. sziget, jobb közép"},{"$f":"kod!C19","v":"Elite Carp Team Brasov"},0,0,0,{"$f":"MAX(J131:BA131)","v":0},null,"amur"]
["B7",{"$f":"kod!B19","v":"I. sziget, jobb közép"},{"$f":"kod!C19","v":"Elite Carp Team Brasov"},0,0,0,{"$f":"MAX(J132:BA132)","v":0},null,"fekete amur"]
["B8",{"$f":"kod!B20","v":"I. sziget, jobb "},{"$f":"kod!C20","v":"CT777 Varna Bulgaria"},{"$f":"SUM(D134:D139)","v":101.575},{"$f":"SUM(E134:E139)","v":13},7.8134615384615387,{"$f":"MAX(G134:G139)","v":13.375},{"$f":"H137","v":8.8000000000000007},"ÖSSZESEN",{"$f":"COUNTIFS($J134:$BB139,\">9,99\",$J134:$BB139,\"<20\")","v":3},{"$f":"COUNTIFS($J134:$BB139,\">19,99\")","v":0},{"$f":"COUNTIFS($J137:$BA137,\">4,99\",$J137:$BA137,\"<9,99\")","v":2},{"$f":"COUNTIFS($J137:$BB137,\">9,99\")","v":0}]
["B8",{"$f":"kod!B20","v":"I. sziget, jobb "},{"$f":"kod!C20","v":"CT777 Varna Bulgaria"},{"$f":"SUM(J134:AZ134)","v":13.375},{"$f":"COUNT(J134:AZ134)","v":1},13.375,{"$f":"MAX(J134:BA134)","v":13.375},null,"tükörponty",13.375]
["B8",{"$f":"kod!B20","v":"I. sziget, jobb "},{"$f":"kod!C20","v":"CT777 Varna Bulgaria"},31.775000000000002,4,7.9437500000000005,{"$f":"MAX(J135:BA135)","v":9.1750000000000007},null,"tőponty",7.95,6.3250000000000002,8.3249999999999993,9.1750000000000007]
["B8",{"$f":"kod!B20","v":"I. sziget, jobb "},{"$f":"kod!C20","v":"CT777 Varna Bulgaria"},20.774999999999999,2,10.387499999999999,{"$f":"MAX(J136:BA136)","v":10.4},null,"nyurgaponty",10.375,10.4]
["B8",{"$f":"kod!B20","v":"I. sziget, jobb "},{"$f":"kod!C20","v":"CT777 Varna Bulgaria"},15.675000000000001,2,7.8375000000000004,null,{"$f":"MAX(J137:AZ137)","v":8.8000000000000007},"koi ponty",6.875,8.8000000000000007]
["B8",{"$f":"kod!B20","v":"I. sziget, jobb "},{"$f":"kod!C20","v":"CT777 Varna Bulgaria"},9.7249999999999996,1,9.7249999999999996,{"$f":"MAX(J138:BA138)","v":9.7249999999999996},null,"amur",9.7249999999999996]
["B8",{"$f":"kod!B20","v":"I. sziget, jobb "},{"$f":"kod!C20","v":"CT777 Varna Bulgaria"},10.25,3,3.4166666666666665,{"$f":"MAX(J139:BA139)","v":4.125},null,"fekete amur",4.125,2.8,3.3250000000000002]
["B9",{"$f":"kod!B21","v":"I. sziget, jobb külső"},{"$f":"kod!C21","v":"Bait Maker Team"},{"$f":"SUM(D141:D146)","v":67.399999999999991},{"$f":"SUM(E141:E146)","v":10},6.7399999999999993,{"$f":"MAX(G141:G146)","v":11.45},{"$f":"H144","v":0},"ÖSSZESEN",{"$f":"COUNTIFS($J141:$BB146,\">9,99\",$J141:$BB146,\"<20\")","v":3},{"$f":"COUNTIFS($J141:$BB146,\">19,99\")","v":0},{"$f":"COUNTIFS($J144:$BA144,\">4,99\",$J144:$BA144,\"<9,99\")","v":0},{"$f":"COUNTIFS($J144:$BB144,\">9,99\")","v":0}]
["B9",{"$f":"kod!B21","v":"I. sziget, jobb külső"},{"$f":"kod!C21","v":"Bait Maker Team"},{"$f":"SUM(J141:AZ141)","v":9.7249999999999996},{"$f":"COUNT(J141:AZ141)","v":2},{"$f":"IF(E141=0,0,D141/E141)","v":4.8624999999999998},{"$f":"MAX(J141:BA141)","v":8.375},null,"tükörponty",1.35,8.375]
["B9",{"$f":"kod!B21","v":"I. sziget, jobb külső"},{"$f":"kod!C21","v":"Bait Maker Team"},27.074999999999996,4,6.7687499999999989,{"$f":"MAX(J142:BA142)","v":10.25},null,"tőponty",10.25,7.7,5.6,3.5249999999999999]
["B9",{"$f":"kod!B21","v":"I. sziget, jobb külső"},{"$f":"kod!C21","v":"Bait Maker Team"},28.15,3,9.3833333333333329,{"$f":"MAX(J143:BA143)","v":11.45},null,"nyurgaponty",10.75,11.45,5.95]
["B9",{"$f":"kod!B21","v":"I. sziget, jobb külső"},{"$f":"kod!C21","v":"Bait Maker Team"},0,0,0,null,{"$f":"MAX(J144:AZ144)","v":0},"koi ponty"]
["B9",{"$f":"kod!B21","v":"I. sziget, jobb külső"},{"$f":"kod!C21","v":"Bait Maker Team"},0,0,0,{"$f":"MAX(J145:BA145)","v":0},null,"amur"]
["B9",{"$f":"kod!B21","v":"I. sziget, jobb külső"},{"$f":"kod!C21","v":"Bait Maker Team"},2.4500000000000002,1,2.4500000000000002,{"$f":"MAX(J146:BA146)","v":2.4500000000000002},null,"fekete amur",2.4500000000000002]
["B10",{"$f":"kod!B22","v":"Felező-spicc, bal"},{"$f":"kod!C22","v":"SBS - SziKo Team"},{"$f":"SUM(D148:D153)","v":23.25},{"$f":"SUM(E148:E153)","v":3},7.75,{"$f":"MAX(G148:G153)","v":10.5},{"$f":"H151","v":0},"ÖSSZESEN",{"$f":"COUNTIFS($J148:$BB153,\">9,99\",$J148:$BB153,\"<20\")","v":1},{"$f":"COUNTIFS($J148:$BB153,\">19,99\")","v":0},{"$f":"COUNTIFS($J151:$BA151,\">4,99\",$J151:$BA151,\"<9,99\")","v":0},{"$f":"COUNTIFS($J151:$BB151,\">9,99\")","v":0}]
["B10",{"$f":"kod!B22","v":"Felező-spicc, bal"},{"$f":"kod!C22","v":"SBS - SziKo Team"},{"$f":"SUM(J148:AZ148)","v":10.5},{"$f":"COUNT(J148:AZ148)","v":1},10.5,{"$f":"MAX(J148:BA148)","v":10.5},null,"tükörponty",10.5]
["B10",{"$f":"kod!B22","v":"Felező-spicc, bal"},{"$f":"kod!C22","v":"SBS - SziKo Team"},12.75,2,6.375,{"$f":"MAX(J149:BA149)","v":6.5},null,"tőponty",6.25,6.5]
["B10",{"$f":"kod!B22","v":"Felező-spicc, bal"},{"$f":"kod!C22","v":"SBS - SziKo Team"},0,0,0,{"$f":"MAX(J150:BA150)","v":0},null,"nyurgaponty"]
["B10",{"$f":"kod!B22","v":"Felező-spicc, bal"},{"$f":"kod!C22","v":"SBS - SziKo Team"},0,0,0,null,{"$f":"MAX(J151:AZ151)","v":0},"koi ponty"]
["B10",{"$f":"kod!B22","v":"Felező-spicc, bal"},{"$f":"kod!C22","v":"SBS - SziKo Team"},0,0,0,{"$f":"MAX(J152:BA152)","v":0},null,"amur"]
["B10",{"$f":"kod!B22","v":"Felező-spicc, bal"},{"$f":"kod!C22","v":"SBS - SziKo Team"},0,0,0,{"$f":"MAX(J153:BA153)","v":0},null,"fekete amur"]
["B11",{"$f":"kod!B23","v":"Felező-spicc, közép"},{"$f":"kod!C23","v":"Síp Carp Team"},{"$f":"SUM(D155:D160)","v":12.45},{"$f":"SUM(E155:E160)","v":3},4.1499999999999995,{"$f":"MAX(G155:G160)","v":5.75},{"$f":"H158","v":0},"ÖSSZESEN",{"$f":"COUNTIFS($J155:$BB160,\">9,99\",$J155:$BB160,\"<20\")","v":0},{"$f":"COUNTIFS($J155:$BB160,\">19,99\")","v":0},{"$f":"COUNTIFS($J158:$BA158,\">4,99\",$J158:$BA158,\"<9,99\")","v":0},{"$f":"COUNTIFS($J158:$BB158,\">9,99\")","v":0}]
["B11",{"$f":"kod!B23","v":"Felező-spicc, közép"},{"$f":"kod!C23","v":"Síp Carp Team"},{"$f":"SUM(J155:AZ155)","v":0},0,0,{"$f":"MAX(J155:BA155)","v":0},null,"tükörponty"]
["B11",{"$f":"kod!B23","v":"Felező-spicc, közép"},{"$f":"kod!C23","v":"Síp Carp Team"},7.6,2,3.8,5.75,null,"tőponty",1.85,5.75]
["B11",{"$f":"kod!B23","v":"Felező-spicc, közép"},{"$f":"kod!C23","v":"Síp Carp Team"},0,0,0,0,null,"nyurgaponty"]
["B11",{"$f":"kod!B23","v":"Felező-spicc, közép"},{"$f":"kod!C23","v":"Síp Carp Team"},0,0,0,null,{"$f":"MAX(J158:AZ158)","v":0},"koi ponty"]
["B11",{"$f":"kod!B23","v":"Felező-spicc, közép"},{"$f":"kod!C23","v":"Síp Carp Team"},0,0,0,{"$f":"MAX(J159:BA159)","v":0},null,"amur"]
["B11",{"$f":"kod!B23","v":"Felező-spicc, közép"},{"$f":"kod!C23","v":"Síp Carp Team"},4.8499999999999996,1,4.8499999999999996,4.8499999999999996,null,"fekete amur",4.8499999999999996]
["C1",{"$f":"kod!B24","v":"Gát, sekély víz"},{"$f":"kod!C24","v":"Carp Fever Bulgaria"},{"$f":"SUM(D162:D167)","v":118.02500000000001},{"$f":"SUM(E162:E167)","v":16},{"$f":"IF(E161=0,0,D161/E161)","v":7.3765625000000004},{"$f":"MAX(G162:G167)","v":12.2},{"$f":"H165","v":8.4},"ÖSSZESEN",{"$f":"COUNTIFS($J162:$BB167,\">9,99\",$J162:$BB167,\"<20\")","v":1},{"$f":"COUNTIFS($J162:$BB167,\">19,99\")","v":0},{"$f":"COUNTIFS($J165:$BA165,\">4,99\",$J165:$BA165,\"<9,99\")","v":1},{"$f":"COUNTIFS($J165:$BB165,\">9,99\")","v":0}]
["C1",{"$f":"kod!B24","v":"Gát, sekély víz"},{"$f":"kod!C24","v":"Carp Fever Bulgaria"},{"$f":"SUM(J162:AZ162)","v":63.024999999999999},{"$f":"COUNT(J162:AZ162)","v":9},{"$f":"IF(E162=0,0,D162/E162)","v":7.0027777777777773},{"$f":"MAX(J162:BA162)","v":9.1999999999999993},null,"tükörponty",9.1999999999999993,4,6.3250000000000002,5.8250000000000002,7.75,7.7,8.9749999999999996,6.6,6.65]
["C1",{"$f":"kod!B24","v":"Gát, sekély víz"},{"$f":"kod!C24","v":"Carp Fever Bulgaria"},19.824999999999999,3,6.6083333333333334,{"$f":"MAX(J163:BA163)","v":8.0749999999999993},null,"tőponty",8.0749999999999993,5.6749999999999998,6.0750000000000002]
["C1",{"$f":"kod!B24","v":"Gát, sekély víz"},{"$f":"kod!C24","v":"Carp Fever Bulgaria"},26.774999999999999,3,8.9249999999999989,{"$f":"MAX(J164:BA164)","v":12.2},null,"nyurgaponty",12.2,8.4250000000000007,6.15]
["C1",{"$f":"kod!B24","v":"Gát, sekély víz"},{"$f":"kod!C24","v":"Carp Fever Bulgaria"},8.4,1,8.4,null,{"$f":"MAX(J165:AZ165)","v":8.4},"koi ponty",8.4]
["C1",{"$f":"kod!B24","v":"Gát, sekély víz"},{"$f":"kod!C24","v":"Carp Fever Bulgaria"},0,0,0,{"$f":"MAX(J166:BA166)","v":0},null,"amur"]
["C1",{"$f":"kod!B24","v":"Gát, sekély víz"},{"$f":"kod!C24","v":"Carp Fever Bulgaria"},0,0,0,{"$f":"MAX(J167:BA167)","v":0},null,"fekete amur"]
["C2",{"$f":"kod!B25","v":"Gát, sekély víz"},{"$f":"kod!C25","v":"Carpfriends Ennstal-Austria"},{"$f":"SUM(D169:D174)","v":90.825000000000003},{"$f":"SUM(E169:E174)","v":12},7.5687500000000005,{"$f":"MAX(G169:G174)","v":13.625},{"$f":"H172","v":0},"ÖSSZESEN",{"$f":"COUNTIFS($J169:$BB174,\">9,99\",$J169:$BB174,\"<20\")","v":1},{"$f":"COUNTIFS($J169:$BB174,\">19,99\")","v":0},{"$f":"COUNTIFS($J172:$BA172,\">4,99\",$J172:$BA172,\"<9,99\")","v":0},{"$f":"COUNTIFS($J172:$BB172,\">9,99\")","v":0}]
["C2",{"$f":"kod!B25","v":"Gát, sekély víz"},{"$f":"kod!C25","v":"Carpfriends Ennstal-Austria"},{"$f":"SUM(J169:AZ169)","v":37.1},{"$f":"COUNT(J169:AZ169)","v":5},7.42,{"$f":"MAX(J169:BA169)","v":8.375},null,"tükörponty",7.8250000000000002,8.375,7.125,5.5250000000000004,8.25]
["C2",{"$f":"kod!B25","v":"Gát, sekély víz"},{"$f":"kod!C25","v":"Carpfriends Ennstal-Austria"},14.225,2,7.1124999999999998,{"$f":"MAX(J170:BA170)","v":7.375},null,"tőponty",7.375,6.85]
["C2",{"$f":"kod!B25","v":"Gát, sekély víz"},{"$f":"kod!C25","v":"Carpfriends Ennstal-Austria"},39.5,5,7.9,{"$f":"MAX(J171:BA171)","v":13.625},null,"nyurgaponty",7.0750000000000002,6.9249999999999998,6.6749999999999998,5.2,13.625]
["C2",{"$f":"kod!B25","v":"Gát, sekély víz"},{"$f":"kod!C25","v":"Carpfriends Ennstal-Austria"},0,0,0,null,{"$f":"MAX(J172:AZ172)","v":0},"koi ponty"]
["C2",{"$f":"kod!B25","v":"Gát, sekély víz"},{"$f":"kod!C25","v":"Carpfriends Ennstal-Austria"},0,0,0,{"$f":"MAX(J173:BA173)","v":0},null,"amur"]
["C2",{"$f":"kod!B25","v":"Gát, sekély víz"},{"$f":"kod!C25","v":"Carpfriends Ennstal-Austria"},0,0,0,{"$f":"MAX(J174:BA174)","v":0},null,"fekete amur"]
["C3",{"$f":"kod!B26","v":"Gát, sekély víz"},{"$f":"kod!C26","v":"Carp Team Brasov"},{"$f":"SUM(D176:D181)","v":19.875},{"$f":"SUM(E176:E181)","v":4},4.96875,{"$f":"MAX(G176:G181)","v":6.75},{"$f":"H179","v":0},"ÖSSZESEN",{"$f":"COUNTIFS($J176:$BB181,\">9,99\",$J176:$BB181,\"<20\")","v":0},{"$f":"COUNTIFS($J176:$BB181,\">19,99\")","v":0},{"$f":"COUNTIFS($J179:$BA179,\">4,99\",$J179:$BA179,\"<9,99\")","v":0},{"$f":"COUNTIFS($J179:$BB179,\">9,99\")","v":0}]
["C3",{"$f":"kod!B26","v":"Gát, sekély víz"},{"$f":"kod!C26","v":"Carp Team Brasov"},{"$f":"SUM(J176:AZ176)","v":0},{"$f":"COUNT(J176:AZ176)","v":0},0,{"$f":"MAX(J176:BA176)","v":0},null,"tükörponty"]
["C3",{"$f":"kod!B26","v":"Gát, sekély víz"},{"$f":"kod!C26","v":"Carp Team Brasov"},8.85,2,4.4249999999999998,{"$f":"MAX(J177:BA177)","v":6.75},null,"tőponty",6.75,2.1]
["C3",{"$f":"kod!B26","v":"Gát, sekély víz"},{"$f":"kod!C26","v":"Carp Team Brasov"},11.024999999999999,2,5.5124999999999993,{"$f":"MAX(J178:BA178)","v":5.6},null,"nyurgaponty",5.4249999999999998,5.6]
["C3",{"$f":"kod!B26","v":"Gát, sekély víz"},{"$f":"kod!C26","v":"Carp Team Brasov"},0,0,0,null,{"$f":"MAX(J179:AZ179)","v":0},"koi ponty"]
["C3",{"$f":"kod!B26","v":"Gát, sekély víz"},{"$f":"kod!C26","v":"Carp Team Brasov"},0,0,0,{"$f":"MAX(J180:BA180)","v":0},null,"amur"]
["C3",{"$f":"kod!B26","v":"Gát, sekély víz"},{"$f":"kod!C26","v":"Carp Team Brasov"},0,0,0,{"$f":"MAX(J181:BA181)","v":0},null,"fekete amur"]
["C4",{"$f":"kod!B27","v":"Gát, sekély víz"},{"$f":"kod!C27","v":"As La Carp Team"},{"$f":"SUM(D183:D188)","v":18.075000000000003},{"$f":"SUM(E183:E188)","v":2},9.0375000000000014,{"$f":"MAX(G183:G188)","v":16.225000000000001},{"$f":"H186","v":16.225000000000001},"ÖSSZESEN",{"$f":"COUNTIFS($J183:$BB188,\">9,99\",$J183:$BB188,\"<20\")","v":1},{"$f":"COUNTIFS($J183:$BB188,\">19,99\")","v":0},{"$f":"COUNTIFS($J186:$BA186,\">4,99\",$J186:$BA186,\"<9,99\")","v":0},{"$f":"COUNTIFS($J186:$BB186,\">9,99\")","v":1}]
["C4",{"$f":"kod!B27","v":"Gát, sekély víz"},{"$f":"kod!C27","v":"As La Carp Team"},{"$f":"SUM(J183:AZ183)","v":0},{"$f":"COUNT(J183:AZ183)","v":0},0,{"$f":"MAX(J183:BA183)","v":0},null,"tükörponty"]
["C4",{"$f":"kod!B27","v":"Gát, sekély víz"},{"$f":"kod!C27","v":"As La Carp Team"},1.85,1,1.85,1.85,null,"tőponty",1.85]
["C4",{"$f":"kod!B27","v":"Gát, sekély víz"},{"$f":"kod!C27","v":"As La Carp Team"},0,0,0,0,null,"nyurgaponty"]
["C4",{"$f":"kod!B27","v":"Gát, sekély víz"},{"$f":"kod!C27","v":"As La Carp Team"},16.225000000000001,1,16.225000000000001,16.225000000000001,{"$f":"MAX(J186:AZ186)","v":16.225000000000001},"koi ponty",16.225000000000001]
["C4",{"$f":"kod!B27","v":"Gát, sekély víz"},{"$f":"kod!C27","v":"As La Carp Team"},0,0,0,0,null,"amur"]
["C4",{"$f":"kod!B27","v":"Gát, sekély víz"},{"$f":"kod!C27","v":"As La Carp Team"},0,0,0,0,null,"fekete amur"]
["C5",{"$f":"kod!B28","v":"Gát, sekély víz"},{"$f":"kod!C28","v":"Bojlis Főnök - Bait Bait Carp Team"},{"$f":"SUM(D190:D195)","v":31.275000000000002},{"$f":"SUM(E190:E195)","v":4},7.8187500000000005,{"$f":"MAX(G190:G195)","v":12.55},{"$f":"H193","v":0},"ÖSSZESEN",{"$f":"COUNTIFS($J190:$BB195,\">9,99\",$J190:$BB195,\"<20\")","v":1},{"$f":"COUNTIFS($J190:$BB195,\">19,99\")","v":0},{"$f":"COUNTIFS($J193:$BA193,\">4,99\",$J193:$BA193,\"<9,99\")","v":0},{"$f":"COUNTIFS($J193:$BB193,\">9,99\")","v":0}]
["C5",{"$f":"kod!B28","v":"Gát, sekély víz"},{"$f":"kod!C28","v":"Bojlis Főnök - Bait Bait Carp Team"},{"$f":"SUM(J190:AZ190)","v":18.450000000000003},{"$f":"COUNT(J190:AZ190)","v":2},9.2250000000000014,{"$f":"MAX(J190:BA190)","v":12.55},null,"tükörponty",5.9,12.55]
["C5",{"$f":"kod!B28","v":"Gát, sekély víz"},{"$f":"kod!C28","v":"Bojlis Főnök - Bait Bait Carp Team"},2.9,1,2.9,{"$f":"MAX(J191:BA191)","v":2.9},null,"tőponty",2.9]
["C5",{"$f":"kod!B28","v":"Gát, sekély víz"},{"$f":"kod!C28","v":"Bojlis Főnök - Bait Bait Carp Team"},9.9250000000000007,1,9.9250000000000007,{"$f":"MAX(J192:BA192)","v":9.9250000000000007},null,"nyurgaponty",9.9250000000000007]
["C5",{"$f":"kod!B28","v":"Gát, sekély víz"},{"$f":"kod!C28","v":"Bojlis Főnök - Bait Bait Carp Team"},0,0,0,null,{"$f":"MAX(J193:AZ193)","v":0},"koi ponty"]
["C5",{"$f":"kod!B28","v":"Gát, sekély víz"},{"$f":"kod!C28","v":"Bojlis Főnök - Bait Bait Carp Team"},0,0,0,{"$f":"MAX(J194:BA194)","v":0},null,"amur"]
["C5",{"$f":"kod!B28","v":"Gát, sekély víz"},{"$f":"kod!C28","v":"Bojlis Főnök - Bait Bait Carp Team"},0,0,0,{"$f":"MAX(J195:BA195)","v":0},null,"fekete amur"]
["C6",{"$f":"kod!B29","v":"Felező-spicc, jobb"},{"$f":"kod!C29","v":"Secret Of The Carp"},{"$f":"SUM(D197:D202)","v":13.875},{"$f":"SUM(E197:E202)","v":2},6.9375,{"$f":"MAX(G197:G202)","v":7.5250000000000004},{"$f":"H200","v":0},"ÖSSZESEN",{"$f":"COUNTIFS($J197:$BB202,\">9,99\",$J197:$BB202,\"<20\")","v":0},{"$f":"COUNTIFS($J197:$BB202,\">19,99\")","v":0},{"$f":"COUNTIFS($J200:$BA200,\">4,99\",$J200:$BA200,\"<9,99\")","v":0},{"$f":"COUNTIFS($J200:$BB200,\">9,99\")","v":0}]
["C6",{"$f":"kod!B29","v":"Felező-spicc, jobb"},{"$f":"kod!C29","v":"Secret Of The Carp"},{"$f":"SUM(J197:AZ197)","v":0},{"$f":"COUNT(J197:AZ197)","v":0},0,{"$f":"MAX(J197:BA197)","v":0},null,"tükörponty"]
["C6",{"$f":"kod!B29","v":"Felező-spicc, jobb"},{"$f":"kod!C29","v":"Secret Of The Carp"},13.875,2,6.9375,7.5250000000000004,null,"tőponty",7.5250000000000004,6.35]
["C6",{"$f":"kod!B29","v":"Felező-spicc, jobb"},{"$f":"kod!C29","v":"Secret Of The Carp"},0,0,0,0,null,"nyurgaponty"]
["C6",{"$f":"kod!B29","v":"Felező-spicc, jobb"},{"$f":"kod!C29","v":"Secret Of The Carp"},0,0,0,0,{"$f":"MAX(J200:AZ200)","v":0},"koi ponty"]
["C6",{"$f":"kod!B29","v":"Felező-spicc, jobb"},{"$f":"kod!C29","v":"Secret Of The Carp"},0,0,0,0,null,"amur"]
["C6",{"$f":"kod!B29","v":"Felező-spicc, jobb"},{"$f":"kod!C29","v":"Secret Of The Carp"},0,0,0,0,null,"fekete amur"]
["C7",{"$f":"kod!B30","v":"II. sziget, bal"},{"$f":"kod!C30","v":"Quick Baits"},{"$f":"SUM(D204:D209)","v":163.65},{"$f":"SUM(E204:E209)","v":18},9.0916666666666668,{"$f":"MAX(G204:G209)","v":13.975},{"$f":"H207","v":11.175000000000001},"ÖSSZESEN",{"$f":"COUNTIFS($J204:$BB209,\">9,99\",$J204:$BB209,\"<20\")","v":8},{"$f":"COUNTIFS($J204:$BB209,\">19,99\")","v":0},{"$f":"COUNTIFS($J207:$BA207,\">4,99\",$J207:$BA207,\"<9,99\")","v":0},{"$f":"COUNTIFS($J207:$BB207,\">9,99\")","v":1}]
["C7",{"$f":"kod!B30","v":"II. sziget, bal"},{"$f":"kod!C30","v":"Quick Baits"},{"$f":"SUM(J204:AZ204)","v":30.049999999999997},{"$f":"COUNT(J204:AZ204)","v":3},10.016666666666666,{"$f":"MAX(J204:BA204)","v":12.675000000000001},null,"tükörponty",12.675000000000001,9.1,8.2750000000000004]
["C7",{"$f":"kod!B30","v":"II. sziget, bal"},{"$f":"kod!C30","v":"Quick Baits"},52.375,7,7.4821428571428568,{"$f":"MAX(J205:BA205)","v":11.35},null,"tőponty",9.375,11.35,6.375,8.65,5.1749999999999998,1.5,9.9499999999999993]
["C7",{"$f":"kod!B30","v":"II. sziget, bal"},{"$f":"kod!C30","v":"Quick Baits"},65.725000000000009,6,10.954166666666667,{"$f":"MAX(J206:BA206)","v":13.975},null,"nyurgaponty",10.1,11.525,11.15,13.975,10.95,8.0250000000000004]
["C7",{"$f":"kod!B30","v":"II. sziget, bal"},{"$f":"kod!C30","v":"Quick Baits"},15.5,2,7.75,null,{"$f":"MAX(J207:AZ207)","v":11.175000000000001},"koi ponty",4.3250000000000002,11.175000000000001]
["C7",{"$f":"kod!B30","v":"II. sziget, bal"},{"$f":"kod!C30","v":"Quick Baits"},0,0,0,{"$f":"MAX(J208:BA208)","v":0},null,"amur"]
["C7",{"$f":"kod!B30","v":"II. sziget, bal"},{"$f":"kod!C30","v":"Quick Baits"},0,0,0,{"$f":"MAX(J209:BA209)","v":0},null,"fekete amur"]
["C8",{"$f":"kod!B31","v":"II. sziget, bal közép"},{"$f":"kod!C31","v":"Carp Team Blankbrothers"},{"$f":"SUM(D211:D216)","v":71.5},{"$f":"SUM(E211:E216)","v":8},8.9375,{"$f":"MAX(G211:G216)","v":12},{"$f":"H214","v":4.7750000000000004},"ÖSSZESEN",{"$f":"COUNTIFS($J211:$BB216,\">9,99\",$J211:$BB216,\"<20\")","v":3},{"$f":"COUNTIFS($J211:$BB216,\">19,99\")","v":0},{"$f":"COUNTIFS($J214:$BA214,\">4,99\",$J214:$BA214,\"<9,99\")","v":0},{"$f":"COUNTIFS($J214:$BB214,\">9,99\")","v":0}]
["C8",{"$f":"kod!B31","v":"II. sziget, bal közép"},{"$f":"kod!C31","v":"Carp Team Blankbrothers"},{"$f":"SUM(J211:AZ211)","v":22.475000000000001},{"$f":"COUNT(J211:AZ211)","v":2},11.237500000000001,{"$f":"MAX(J211:BA211)","v":11.25},null,"tükörponty",11.25,11.225]
["C8",{"$f":"kod!B31","v":"II. sziget, bal közép"},{"$f":"kod!C31","v":"Carp Team Blankbrothers"},14.975000000000001,2,7.4875000000000007,{"$f":"MAX(J212:BA212)","v":7.8250000000000002},null,"tőponty",7.8250000000000002,7.15]
["C8",{"$f":"kod!B31","v":"II. sziget, bal közép"},{"$f":"kod!C31","v":"Carp Team Blankbrothers"},19.899999999999999,2,9.9499999999999993,{"$f":"MAX(J213:BA213)","v":12},null,"nyurgaponty",7.9,12]
["C8",{"$f":"kod!B31","v":"II. sziget, bal közép"},{"$f":"kod!C31","v":"Carp Team Blankbrothers"},4.7750000000000004,1,4.7750000000000004,null,{"$f":"MAX(J214:AZ214)","v":4.7750000000000004},"koi ponty",4.7750000000000004]
["C8",{"$f":"kod!B31","v":"II. sziget, bal közép"},{"$f":"kod!C31","v":"Carp Team Blankbrothers"},9.375,1,9.375,{"$f":"MAX(J215:BA215)","v":9.375},null,"amur",9.375]
["C8",{"$f":"kod!B31","v":"II. sziget, bal közép"},{"$f":"kod!C31","v":"Carp Team Blankbrothers"},0,0,0,{"$f":"MAX(J216:BA216)","v":0},null,"fekete amur"]
["C9",{"$f":"kod!B32","v":"II. sziget, közép"},{"$f":"kod!C32","v":"Bait Bait Hungary"},{"$f":"SUM(D218:D223)","v":110.04999999999998},{"$f":"SUM(E218:E223)","v":13},8.4653846153846146,{"$f":"MAX(G218:G223)","v":11.324999999999999},{"$f":"H221","v":0},"ÖSSZESEN",{"$f":"COUNTIFS($J218:$BB223,\">9,99\",$J218:$BB223,\"<20\")","v":2},{"$f":"COUNTIFS($J218:$BB223,\">19,99\")","v":0},{"$f":"COUNTIFS($J221:$BA221,\">4,99\",$J221:$BA221,\"<9,99\")","v":0},{"$f":"COUNTIFS($J221:$BB221,\">9,99\")","v":0}]
["C9",{"$f":"kod!B32","v":"II. sziget, közép"},{"$f":"kod!C32","v":"Bait Bait Hungary"},{"$f":"SUM(J218:AZ218)","v":32.674999999999997},{"$f":"COUNT(J218:AZ218)","v":4},{"$f":"IF(E218=0,0,D218/E218)","v":8.1687499999999993},{"$f":"MAX(J218:BA218)","v":9.0500000000000007},null,"tükörponty",8.9499999999999993,8.7750000000000004,5.9,9.0500000000000007]
["C9",{"$f":"kod!B32","v":"II. sziget, közép"},{"$f":"kod!C32","v":"Bait Bait Hungary"},44.524999999999999,5,8.9049999999999994,{"$f":"MAX(J219:BA219)","v":11.324999999999999},null,"tőponty",8.2249999999999996,7.2249999999999996,8.9,11.324999999999999,8.85]
["C9",{"$f":"kod!B32","v":"II. sziget, közép"},{"$f":"kod!C32","v":"Bait Bait Hungary"},32.849999999999994,4,8.2124999999999986,{"$f":"MAX(J220:BA220)","v":10.6},null,"nyurgaponty",10.6,7.9749999999999996,6.2,8.0749999999999993]
["C9",{"$f":"kod!B32","v":"II. sziget, közép"},{"$f":"kod!C32","v":"Bait Bait Hungary"},0,0,0,null,{"$f":"MAX(J221:AZ221)","v":0},"koi ponty"]
["C9",{"$f":"kod!B32","v":"II. sziget, közép"},{"$f":"kod!C32","v":"Bait Bait Hungary"},0,0,0,{"$f":"MAX(J222:BA222)","v":0},null,"amur"]
["C9",{"$f":"kod!B32","v":"II. sziget, közép"},{"$f":"kod!C32","v":"Bait Bait Hungary"},0,0,0,{"$f":"MAX(J223:BA223)","v":0},null,"fekete amur"]
["C10",{"$f":"kod!B33","v":"II. sziget, jobb közép"},{"$f":"kod!C33","v":"Acroft Illusive Bait Me"},{"$f":"SUM(D225:D230)","v":91.525000000000006},{"$f":"SUM(E225:E230)","v":11},8.3204545454545453,{"$f":"MAX(G225:G230)","v":12.425000000000001},{"$f":"H228","v":9.5250000000000004},"ÖSSZESEN",{"$f":"COUNTIFS($J225:$BB230,\">9,99\",$J225:$BB230,\"<20\")","v":1},{"$f":"COUNTIFS($J225:$BB230,\">19,99\")","v":0},{"$f":"COUNTIFS($J228:$BA228,\">4,99\",$J228:$BA228,\"<9,99\")","v":1},{"$f":"COUNTIFS($J228:$BB228,\">9,99\")","v":0}]
["C10",{"$f":"kod!B33","v":"II. sziget, jobb közép"},{"$f":"kod!C33","v":"Acroft Illusive Bait Me"},{"$f":"SUM(J225:AZ225)","v":21.475000000000001},{"$f":"COUNT(J225:AZ225)","v":3},7.1583333333333341,{"$f":"MAX(J225:BA225)","v":7.9},null,"tükörponty",5.75,7.9,7.8250000000000002]
["C10",{"$f":"kod!B33","v":"II. sziget, jobb közép"},{"$f":"kod!C33","v":"Acroft Illusive Bait Me"},31.975000000000001,3,10.658333333333333,{"$f":"MAX(J226:BA226)","v":12.425000000000001},null,"tőponty",9.875,12.425000000000001,9.6750000000000007]
["C10",{"$f":"kod!B33","v":"II. sziget, jobb közép"},{"$f":"kod!C33","v":"Acroft Illusive Bait Me"},28.549999999999997,4,7.1374999999999993,{"$f":"MAX(J227:BA227)","v":8.1999999999999993},null,"nyurgaponty",6.5750000000000002,8.1999999999999993,7.15,6.625]
["C10",{"$f":"kod!B33","v":"II. sziget, jobb közép"},{"$f":"kod!C33","v":"Acroft Illusive Bait Me"},9.5250000000000004,1,9.5250000000000004,null,{"$f":"MAX(J228:AZ228)","v":9.5250000000000004},"koi ponty",9.5250000000000004]
["C10",{"$f":"kod!B33","v":"II. sziget, jobb közép"},{"$f":"kod!C33","v":"Acroft Illusive Bait Me"},0,0,0,{"$f":"MAX(J229:BA229)","v":0},null,"amur"]
["C10",{"$f":"kod!B33","v":"II. sziget, jobb közép"},{"$f":"kod!C33","v":"Acroft Illusive Bait Me"},0,0,0,{"$f":"MAX(J230:BA230)","v":0},null,"fekete amur"]
["C11",{"$f":"kod!B34","v":"II. sziget, jobb"},{"$f":"kod!C34","v":"Vaslui Carp Team"},{"$f":"SUM(D232:D237)","v":118.60000000000001},{"$f":"SUM(E232:E237)","v":14},8.4714285714285715,{"$f":"MAX(G232:G237)","v":18.850000000000001},{"$f":"H235","v":3.05},"ÖSSZESEN",{"$f":"COUNTIFS($J232:$BB237,\">9,99\",$J232:$BB237,\"<20\")","v":7},{"$f":"COUNTIFS($J232:$BB237,\">19,99\")","v":0},{"$f":"COUNTIFS($J235:$BA235,\">4,99\",$J235:$BA235,\"<9,99\")","v":0},{"$f":"COUNTIFS($J235:$BB235,\">9,99\")","v":0}]
["C11",{"$f":"kod!B34","v":"II. sziget, jobb"},{"$f":"kod!C34","v":"Vaslui Carp Team"},{"$f":"SUM(J232:AZ232)","v":29.4},{"$f":"COUNT(J232:AZ232)","v":3},9.7999999999999989,{"$f":"MAX(J232:BA232)","v":10.425000000000001},null,"tükörponty",10.425000000000001,8.6,10.375]
["C11",{"$f":"kod!B34","v":"II. sziget, jobb"},{"$f":"kod!C34","v":"Vaslui Carp Team"},14.6,3,4.8666666666666663,{"$f":"MAX(J233:BA233)","v":10.6},null,"tőponty",10.6,1.4750000000000001,2.5249999999999999]
["C11",{"$f":"kod!B34","v":"II. sziget, jobb"},{"$f":"kod!C34","v":"Vaslui Carp Team"},43.9,4,10.975,{"$f":"MAX(J234:BA234)","v":16.399999999999999},null,"nyurgaponty",16.399999999999999,10,7.15,10.35]
["C11",{"$f":"kod!B34","v":"II. sziget, jobb"},{"$f":"kod!C34","v":"Vaslui Carp Team"},3.05,1,3.05,null,{"$f":"MAX(J235:AZ235)","v":3.05},"koi ponty",3.05]
["C11",{"$f":"kod!B34","v":"II. sziget, jobb"},{"$f":"kod!C34","v":"Vaslui Carp Team"},25.075000000000003,2,12.537500000000001,{"$f":"MAX(J236:BA236)","v":18.850000000000001},null,"amur",18.850000000000001,6.2249999999999996]
["C11",{"$f":"kod!B34","v":"II. sziget, jobb"},{"$f":"kod!C34","v":"Vaslui Carp Team"},2.5750000000000002,1,2.5750000000000002,{"$f":"MAX(J237:BA237)","v":2.5750000000000002},null,"fekete amur",2.5750000000000002]
[null,null,"Összesen:",{"$f":"SUM(D7,D14,D21,D28,D35,D42,D49,D56,D63,D70,D77,D84,D91,D98,D105,D112,D119,D126,D133,D140,D147,D154,D161,D168,D175,D182,D189,D196,D203,D210,D217,D224,D231)","v":2269.7700000000004},{"$f":"SUM(E7,E14,E21,E28,E35,E42,E49,E56,E63,E70,E77,E84,E91,E98,E105,E112,E119,E126,E133,E140,E147,E154,E161,E168,E175,E182,E189,E196,E203,E210,E217,E224,E231)","v":271},{"$f":"IF(E238=0,0,D238/E238)","v":8.3755350553505554},null,null,null,{"$f":"SUM(J7,J14,J21,J28,J35,J42,J49,J56,J63,J70,J77,J84,J91,J98,J105,J112,J119,J126,J133,J140,J147,J154,J161,J168,J175,J182,J189,J196,J203,J210,J217,J224,J231)","v":82},{"$f":"SUM(K7,K14,K21,K28,K35,K42,K49,K56,K63,K70,K77,K84,K91,K98,K105,K112,K119,K126,K133,K140,K147,K154,K161,K168,K175,K182,K189,K196,K203,K210,K217,K224,K231)","v":3},{"$f":"SUM(L7,L14,L21,L28,L35,L42,L49,L56,L63,L70,L77,L84,L91,L98,L105,L112,L119,L126,L133,L140,L147,L154,L161,L168,L175,L182,L189,L196,L203,L210,L217,L224,L231)","v":4},6]

{"sheet":"szakasz7","index":8,"n_rows":238,"n_cols":20,"rows_kept":238,"cut":false,"hidden":false,"merged":[[0,0,0,12],[1,0,1,12],[2,0,2,12],[3,0,3,12],[4,0,4,12]]}
[{"$f":"IF(kod!E2>0,kod!E2,\"\")","v":"XXI. PROFESSZIONÁLIS BOJLIS EURÓPA KUPA (EPBC)"}]
[{"$f":"IF(kod!E3>0,kod!E3,\"\")","v":"XXXVI. MACONKA NEMZETKÖZI BOJLIS KUPA"}]
[{"$f":"IF(kod!E4>0,kod!E4,\"\")","v":"Maconka, 2025.06.15. - 2025.06.20."}]
[{"$f":"IF(kod!E5>0,kod!E5,\"\")","v":""}]
[{"$f":"kod!E13","v":"7. szakasz:  2025.06.18. 18:00 - 2025.06.19. 06:00"}]
["Rajthely","Elhelyezés","Csapatnév","Kg","Db","Átlag","BC","BkC","Faj","10-20 kg","20+ kg","koi 5-10 kg","koi 10+ kg"]
["A1",{"$f":"kod!B2","v":"Gát, mélyvíz"},{"$f":"kod!C2","v":"SBS - Halcatraz - TiZo Team"},{"$f":"SUM(D8:D13)","v":62.949999999999996},{"$f":"SUM(E8:E13)","v":5},{"$f":"IF(E7=0,0,D7/E7)","v":12.59},{"$f":"MAX(G8:G13)","v":16.425000000000001},{"$f":"H11","v":11.175000000000001},"ÖSSZESEN",{"$f":"COUNTIFS($J8:$BB13,\">9,99\",$J8:$BB13,\"<20\")","v":5},{"$f":"COUNTIFS($J8:$BB13,\">19,99\")","v":0},{"$f":"COUNTIFS($J11:$BA11,\">4,99\",$J11:$BA11,\"<9,99\")","v":0},{"$f":"COUNTIFS($J11:$BB11,\">9,99\")","v":1}]
["A1",{"$f":"kod!B2","v":"Gát, mélyvíz"},{"$f":"kod!C2","v":"SBS - Halcatraz - TiZo Team"},{"$f":"SUM(J8:AZ8)","v":0},{"$f":"COUNT(J8:AZ8)","v":0},{"$f":"IF(E8=0,0,D8/E8)","v":0},{"$f":"MAX(J8:BA8)","v":0},null,"tükörponty"]
["A1",{"$f":"kod!B2","v":"Gát, mélyvíz"},{"$f":"kod!C2","v":"SBS - Halcatraz - TiZo Team"},10.324999999999999,1,10.324999999999999,{"$f":"MAX(J9:BA9)","v":10.324999999999999},null,"tőponty",10.324999999999999]
["A1",{"$f":"kod!B2","v":"Gát, mélyvíz"},{"$f":"kod!C2","v":"SBS - Halcatraz - TiZo Team"},26.975000000000001,2,13.487500000000001,16.425000000000001,null,"nyurgaponty",16.425000000000001,10.55]
["A1",{"$f":"kod!B2","v":"Gát, mélyvíz"},{"$f":"kod!C2","v":"SBS - Halcatraz - TiZo Team"},11.175000000000001,1,11.175000000000001,null,{"$f":"MAX(J11:AZ11)","v":11.175000000000001},"koi ponty",11.175000000000001]
["A1",{"$f":"kod!B2","v":"Gát, mélyvíz"},{"$f":"kod!C2","v":"SBS - Halcatraz - TiZo Team"},0,0,0,0,null,"amur"]
["A1",{"$f":"kod!B2","v":"Gát, mélyvíz"},{"$f":"kod!C2","v":"SBS - Halcatraz - TiZo Team"},14.475,1,14.475,14.475,null,"fekete amur",14.475]
["A2",{"$f":"kod!B3","v":"Gát, mélyvíz"},{"$f":"kod!C3","v":"Altstadt Carp Team"},{"$f":"SUM(D15:D20)","v":16.150000000000002},{"$f":"SUM(E15:E20)","v":2},8.0750000000000011,{"$f":"MAX(G15:G20)","v":13.3},{"$f":"H18","v":0},"ÖSSZESEN",{"$f":"COUNTIFS($J15:$BB20,\">9,99\",$J15:$BB20,\"<20\")","v":1},{"$f":"COUNTIFS($J15:$BB20,\">19,99\")","v":0},{"$f":"COUNTIFS($J18:$BA18,\">4,99\",$J18:$BA18,\"<9,99\")","v":0},{"$f":"COUNTIFS($J18:$BB18,\">9,99\")","v":0}]
["A2",{"$f":"kod!B3","v":"Gát, mélyvíz"},{"$f":"kod!C3","v":"Altstadt Carp Team"},{"$f":"SUM(J15:AZ15)","v":0},{"$f":"COUNT(J15:AZ15)","v":0},0,{"$f":"MAX(J15:BA15)","v":0},null,"tükörponty"]
["A2",{"$f":"kod!B3","v":"Gát, mélyvíz"},{"$f":"kod!C3","v":"Altstadt Carp Team"},0,0,0,{"$f":"MAX(J16:BA16)","v":0},null,"tőponty"]
["A2",{"$f":"kod!B3","v":"Gát, mélyvíz"},{"$f":"kod!C3","v":"Altstadt Carp Team"},13.3,1,13.3,{"$f":"MAX(J17:BA17)","v":13.3},null,"nyurgaponty",13.3]
["A2",{"$f":"kod!B3","v":"Gát, mélyvíz"},{"$f":"kod!C3","v":"Altstadt Carp Team"},0,0,0,null,{"$f":"MAX(J18:AZ18)","v":0},"koi ponty"]
["A2",{"$f":"kod!B3","v":"Gát, mélyvíz"},{"$f":"kod!C3","v":"Altstadt Carp Team"},0,0,0,{"$f":"MAX(J19:BA19)","v":0},null,"amur"]
["A2",{"$f":"kod!B3","v":"Gát, mélyvíz"},{"$f":"kod!C3","v":"Altstadt Carp Team"},2.85,1,2.85,{"$f":"MAX(J20:BA20)","v":2.85},null,"fekete amur",2.85]
["A3",{"$f":"kod!B4","v":"Gát, mélyvíz"},{"$f":"kod!C4","v":"Ferma De Crap Diosig"},{"$f":"SUM(D22:D27)","v":0},{"$f":"SUM(E22:E27)","v":0},0,{"$f":"MAX(G22:G27)","v":0},{"$f":"H25","v":0},"ÖSSZESEN",{"$f":"COUNTIFS($J22:$BB27,\">9,99\",$J22:$BB27,\"<20\")","v":0},{"$f":"COUNTIFS($J22:$BB27,\">19,99\")","v":0},{"$f":"COUNTIFS($J25:$BA25,\">4,99\",$J25:$BA25,\"<9,99\")","v":0},{"$f":"COUNTIFS($J25:$BB25,\">9,99\")","v":0}]
["A3",{"$f":"kod!B4","v":"Gát, mélyvíz"},{"$f":"kod!C4","v":"Ferma De Crap Diosig"},{"$f":"SUM(J22:AZ22)","v":0},{"$f":"COUNT(J22:AZ22)","v":0},0,{"$f":"MAX(J22:BA22)","v":0},null,"tükörponty"]
["A3",{"$f":"kod!B4","v":"Gát, mélyvíz"},{"$f":"kod!C4","v":"Ferma De Crap Diosig"},0,0,0,{"$f":"MAX(J23:BA23)","v":0},null,"tőponty"]
["A3",{"$f":"kod!B4","v":"Gát, mélyvíz"},{"$f":"kod!C4","v":"Ferma De Crap Diosig"},0,0,0,{"$f":"MAX(J24:BA24)","v":0},null,"nyurgaponty"]
["A3",{"$f":"kod!B4","v":"Gát, mélyvíz"},{"$f":"kod!C4","v":"Ferma De Crap Diosig"},0,0,0,null,{"$f":"MAX(J25:AZ25)","v":0},"koi ponty"]
["A3",{"$f":"kod!B4","v":"Gát, mélyvíz"},{"$f":"kod!C4","v":"Ferma De Crap Diosig"},0,0,0,{"$f":"MAX(J26:BA26)","v":0},null,"amur"]
["A3",{"$f":"kod!B4","v":"Gát, mélyvíz"},{"$f":"kod!C4","v":"Ferma De Crap Diosig"},0,0,0,{"$f":"MAX(J27:BA27)","v":0},null,"fekete amur"]
["A4",{"$f":"kod!B5","v":"Gát, mélyvíz"},{"$f":"kod!C5","v":"Bull Tackle"},{"$f":"SUM(D29:D34)","v":47.4},{"$f":"SUM(E29:E34)","v":4},11.85,{"$f":"MAX(G29:G34)","v":18.100000000000001},{"$f":"H32","v":0},"ÖSSZESEN",{"$f":"COUNTIFS($J29:$BB34,\">9,99\",$J29:$BB34,\"<20\")","v":2},{"$f":"COUNTIFS($J29:$BB34,\">19,99\")","v":0},{"$f":"COUNTIFS($J32:$BA32,\">4,99\",$J32:$BA32,\"<9,99\")","v":0},{"$f":"COUNTIFS($J32:$BB32,\">9,99\")","v":0}]
["A4",{"$f":"kod!B5","v":"Gát, mélyvíz"},{"$f":"kod!C5","v":"Bull Tackle"},{"$f":"SUM(J29:AZ29)","v":0},{"$f":"COUNT(J29:AZ29)","v":0},0,{"$f":"MAX(J29:BA29)","v":0},null,"tükörponty"]
["A4",{"$f":"kod!B5","v":"Gát, mélyvíz"},{"$f":"kod!C5","v":"Bull Tackle"},18.100000000000001,1,18.100000000000001,{"$f":"MAX(J30:BA30)","v":18.100000000000001},null,"tőponty",18.100000000000001]
["A4",{"$f":"kod!B5","v":"Gát, mélyvíz"},{"$f":"kod!C5","v":"Bull Tackle"},29.299999999999997,3,9.7666666666666657,{"$f":"MAX(J31:BA31)","v":13.074999999999999},null,"nyurgaponty",13.074999999999999,6.95,9.2750000000000004]
["A4",{"$f":"kod!B5","v":"Gát, mélyvíz"},{"$f":"kod!C5","v":"Bull Tackle"},0,0,0,null,{"$f":"MAX(J32:AZ32)","v":0},"koi ponty"]
["A4",{"$f":"kod!B5","v":"Gát, mélyvíz"},{"$f":"kod!C5","v":"Bull Tackle"},0,0,0,{"$f":"MAX(J33:BA33)","v":0},null,"amur"]
["A4",{"$f":"kod!B5","v":"Gát, mélyvíz"},{"$f":"kod!C5","v":"Bull Tackle"},0,0,0,{"$f":"MAX(J34:BA34)","v":0},null,"fekete amur"]
["A5",{"$f":"kod!B6","v":"Gát, mélyvíz"},{"$f":"kod!C6","v":"AHFSZ Fishing Team"},{"$f":"SUM(D36:D41)","v":15.975},{"$f":"SUM(E36:E41)","v":1},15.975,{"$f":"MAX(G36:G41)","v":15.975},{"$f":"H39","v":0},"ÖSSZESEN",{"$f":"COUNTIFS($J36:$BB41,\">9,99\",$J36:$BB41,\"<20\")","v":1},{"$f":"COUNTIFS($J36:$BB41,\">19,99\")","v":0},{"$f":"COUNTIFS($J39:$BA39,\">4,99\",$J39:$BA39,\"<9,99\")","v":0},{"$f":"COUNTIFS($J39:$BB39,\">9,99\")","v":0}]
["A5",{"$f":"kod!B6","v":"Gát, mélyvíz"},{"$f":"kod!C6","v":"AHFSZ Fishing Team"},{"$f":"SUM(J36:AZ36)","v":0},{"$f":"COUNT(J36:AZ36)","v":0},0,{"$f":"MAX(J36:BA36)","v":0},null,"tükörponty"]
["A5",{"$f":"kod!B6","v":"Gát, mélyvíz"},{"$f":"kod!C6","v":"AHFSZ Fishing Team"},0,0,0,{"$f":"MAX(J37:BA37)","v":0},null,"tőponty"]
["A5",{"$f":"kod!B6","v":"Gát, mélyvíz"},{"$f":"kod!C6","v":"AHFSZ Fishing Team"},15.975,1,15.975,{"$f":"MAX(J38:BA38)","v":15.975},null,"nyurgaponty",15.975]
["A5",{"$f":"kod!B6","v":"Gát, mélyvíz"},{"$f":"kod!C6","v":"AHFSZ Fishing Team"},0,0,0,null,{"$f":"MAX(J39:AZ39)","v":0},"koi ponty"]
["A5",{"$f":"kod!B6","v":"Gát, mélyvíz"},{"$f":"kod!C6","v":"AHFSZ Fishing Team"},0,0,0,{"$f":"MAX(J40:BA40)","v":0},null,"amur"]
["A5",{"$f":"kod!B6","v":"Gát, mélyvíz"},{"$f":"kod!C6","v":"AHFSZ Fishing Team"},0,0,0,{"$f":"MAX(J41:BA41)","v":0},null,"fekete amur"]
["A6",{"$f":"kod!B7","v":"Nyári kikötő, belső"},{"$f":"kod!C7","v":"Black Carp Team"},{"$f":"SUM(D43:D48)","v":71.650000000000006},{"$f":"SUM(E43:E48)","v":8},8.9562500000000007,{"$f":"MAX(G43:G48)","v":17.024999999999999},{"$f":"H46","v":7.75},"ÖSSZESEN",{"$f":"COUNTIFS($J43:$BB48,\">9,99\",$J43:$BB48,\"<20\")","v":4},{"$f":"COUNTIFS($J43:$BB48,\">19,99\")","v":0},{"$f":"COUNTIFS($J46:$BA46,\">4,99\",$J46:$BA46,\"<9,99\")","v":1},{"$f":"COUNTIFS($J46:$BB46,\">9,99\")","v":0}]
["A6",{"$f":"kod!B7","v":"Nyári kikötő, belső"},{"$f":"kod!C7","v":"Black Carp Team"},{"$f":"SUM(J43:AZ43)","v":0},{"$f":"COUNT(J43:AZ43)","v":0},0,{"$f":"MAX(J43:BA43)","v":0},null,"tükörponty"]
["A6",{"$f":"kod!B7","v":"Nyári kikötő, belső"},{"$f":"kod!C7","v":"Black Carp Team"},12.05,1,12.05,{"$f":"MAX(J44:BA44)","v":12.05},null,"tőponty",12.05]
["A6",{"$f":"kod!B7","v":"Nyári kikötő, belső"},{"$f":"kod!C7","v":"Black Carp Team"},0,0,0,{"$f":"MAX(J45:BA45)","v":0},null,"nyurgaponty"]
["A6",{"$f":"kod!B7","v":"Nyári kikötő, belső"},{"$f":"kod!C7","v":"Black Carp Team"},7.75,1,7.75,null,{"$f":"MAX(J46:AZ46)","v":7.75},"koi ponty",7.75]
["A6",{"$f":"kod!B7","v":"Nyári kikötő, belső"},{"$f":"kod!C7","v":"Black Carp Team"},0,0,0,{"$f":"MAX(J47:BA47)","v":0},null,"amur"]
["A6",{"$f":"kod!B7","v":"Nyári kikötő, belső"},{"$f":"kod!C7","v":"Black Carp Team"},51.85,6,8.6416666666666675,{"$f":"MAX(J48:BA48)","v":17.024999999999999},null,"fekete amur",17.024999999999999,13.574999999999999,11.9,3.05,3.5750000000000002,2.7250000000000001]
["A7",{"$f":"kod!B8","v":"Nyári kikötő, közép"},{"$f":"kod!C8","v":"USA & Mivado Carp Team"},{"$f":"SUM(D50:D55)","v":26.9},{"$f":"SUM(E50:E55)","v":4},6.7249999999999996,{"$f":"MAX(G50:G55)","v":9.0749999999999993},{"$f":"H53","v":0},"ÖSSZESEN",{"$f":"COUNTIFS($J50:$BB55,\">9,99\",$J50:$BB55,\"<20\")","v":0},{"$f":"COUNTIFS($J50:$BB55,\">19,99\")","v":0},{"$f":"COUNTIFS($J53:$BA53,\">4,99\",$J53:$BA53,\"<9,99\")","v":0},{"$f":"COUNTIFS($J53:$BB53,\">9,99\")","v":0}]
["A7",{"$f":"kod!B8","v":"Nyári kikötő, közép"},{"$f":"kod!C8","v":"USA & Mivado Carp Team"},{"$f":"SUM(J50:AZ50)","v":0},{"$f":"COUNT(J50:AZ50)","v":0},0,{"$f":"MAX(J50:BA50)","v":0},null,"tükörponty"]
["A7",{"$f":"kod!B8","v":"Nyári kikötő, közép"},{"$f":"kod!C8","v":"USA & Mivado Carp Team"},19.95,3,6.6499999999999995,{"$f":"MAX(J51:BA51)","v":9.0749999999999993},null,"tőponty",5.6749999999999998,9.0749999999999993,5.2]
["A7",{"$f":"kod!B8","v":"Nyári kikötő, közép"},{"$f":"kod!C8","v":"USA & Mivado Carp Team"},0,0,0,{"$f":"MAX(J52:BA52)","v":0},null,"nyurgaponty"]
["A7",{"$f":"kod!B8","v":"Nyári kikötő, közép"},{"$f":"kod!C8","v":"USA & Mivado Carp Team"},0,0,0,null,{"$f":"MAX(J53:AZ53)","v":0},"koi ponty"]
["A7",{"$f":"kod!B8","v":"Nyári kikötő, közép"},{"$f":"kod!C8","v":"USA & Mivado Carp Team"},6.95,1,6.95,{"$f":"MAX(J54:BA54)","v":6.95},null,"amur",6.95]
["A7",{"$f":"kod!B8","v":"Nyári kikötő, közép"},{"$f":"kod!C8","v":"USA & Mivado Carp Team"},0,0,0,{"$f":"MAX(J55:BA55)","v":0},null,"fekete amur"]
["A8",{"$f":"kod!B9","v":"Nyári kikötő, külső"},{"$f":"kod!C9","v":"Ózdi Sporthorgász Egyesület"},{"$f":"SUM(D57:D62)","v":19.475000000000001},{"$f":"SUM(E57:E62)","v":2},9.7375000000000007,{"$f":"MAX(G57:G62)","v":16.725000000000001},{"$f":"H60","v":0},"ÖSSZESEN",{"$f":"COUNTIFS($J57:$BB62,\">9,99\",$J57:$BB62,\"<20\")","v":1},{"$f":"COUNTIFS($J57:$BB62,\">19,99\")","v":0},{"$f":"COUNTIFS($J60:$BA60,\">4,99\",$J60:$BA60,\"<9,99\")","v":0},{"$f":"COUNTIFS($J60:$BB60,\">9,99\")","v":0}]
["A8",{"$f":"kod!B9","v":"Nyári kikötő, külső"},{"$f":"kod!C9","v":"Ózdi Sporthorgász Egyesület"},{"$f":"SUM(J57:AZ57)","v":0},{"$f":"COUNT(J57:AZ57)","v":0},0,{"$f":"MAX(J57:BA57)","v":0},null,"tükörponty"]
["A8",{"$f":"kod!B9","v":"Nyári kikötő, külső"},{"$f":"kod!C9","v":"Ózdi Sporthorgász Egyesület"},0,0,0,{"$f":"MAX(J58:BA58)","v":0},null,"tőponty"]
["A8",{"$f":"kod!B9","v":"Nyári kikötő, külső"},{"$f":"kod!C9","v":"Ózdi Sporthorgász Egyesület"},16.725000000000001,1,16.725000000000001,{"$f":"MAX(J59:BA59)","v":16.725000000000001},null,"nyurgaponty",16.725000000000001]
["A8",{"$f":"kod!B9","v":"Nyári kikötő, külső"},{"$f":"kod!C9","v":"Ózdi Sporthorgász Egyesület"},0,0,0,null,{"$f":"MAX(J60:AZ60)","v":0},"koi ponty"]
["A8",{"$f":"kod!B9","v":"Nyári kikötő, külső"},{"$f":"kod!C9","v":"Ózdi Sporthorgász Egyesület"},0,0,0,{"$f":"MAX(J61:BA61)","v":0},null,"amur"]
["A8",{"$f":"kod!B9","v":"Nyári kikötő, külső"},{"$f":"kod!C9","v":"Ózdi Sporthorgász Egyesület"},2.75,1,2.75,{"$f":"MAX(J62:BA62)","v":2.75},null,"fekete amur",2.75]
["A9",{"$f":"kod!B10","v":"I. sziget, bal külső"},{"$f":"kod!C10","v":"Kártékony Carp Team"},{"$f":"SUM(D64:D69)","v":106.77499999999999},{"$f":"SUM(E64:E69)","v":16},6.6734374999999995,{"$f":"MAX(G64:G69)","v":9.7750000000000004},{"$f":"H67","v":0},"ÖSSZESEN",{"$f":"COUNTIFS($J64:$BB69,\">9,99\",$J64:$BB69,\"<20\")","v":0},{"$f":"COUNTIFS($J64:$BB69,\">19,99\")","v":0},{"$f":"COUNTIFS($J67:$BA67,\">4,99\",$J67:$BA67,\"<9,99\")","v":0},{"$f":"COUNTIFS($J67:$BB67,\">9,99\")","v":0}]
["A9",{"$f":"kod!B10","v":"I. sziget, bal külső"},{"$f":"kod!C10","v":"Kártékony Carp Team"},{"$f":"SUM(J64:AZ64)","v":34.1},{"$f":"COUNT(J64:AZ64)","v":6},5.6833333333333336,{"$f":"MAX(J64:BA64)","v":8.375},null,"tükörponty",8.375,5.25,5.0250000000000004,5.2249999999999996,5.5,4.7249999999999996]
["A9",{"$f":"kod!B10","v":"I. sziget, bal külső"},{"$f":"kod!C10","v":"Kártékony Carp Team"},66.625,9,7.4027777777777777,{"$f":"MAX(J65:BA65)","v":9.7750000000000004},null,"tőponty",9.4,5.05,6.5,9.7750000000000004,6.85,8.4,5.5,6.9,8.25]
["A9",{"$f":"kod!B10","v":"I. sziget, bal külső"},{"$f":"kod!C10","v":"Kártékony Carp Team"},6.05,1,6.05,{"$f":"MAX(J66:BA66)","v":6.05},null,"nyurgaponty",6.05]
["A9",{"$f":"kod!B10","v":"I. sziget, bal külső"},{"$f":"kod!C10","v":"Kártékony Carp Team"},0,0,0,null,{"$f":"MAX(J67:AZ67)","v":0},"koi ponty"]
["A9",{"$f":"kod!B10","v":"I. sziget, bal külső"},{"$f":"kod!C10","v":"Kártékony Carp Team"},0,0,0,{"$f":"MAX(J68:BA68)","v":0},null,"amur"]
["A9",{"$f":"kod!B10","v":"I. sziget, bal külső"},{"$f":"kod!C10","v":"Kártékony Carp Team"},0,0,0,{"$f":"MAX(J69:BA69)","v":0},null,"fekete amur"]
["A10",{"$f":"kod!B11","v":"I. sziget, bal"},{"$f":"kod!C11","v":"Team 5 Austria"},{"$f":"SUM(D71:D76)","v":9.4},{"$f":"SUM(E71:E76)","v":1},9.4,{"$f":"MAX(G71:G76)","v":9.4},{"$f":"H74","v":0},"ÖSSZESEN",{"$f":"COUNTIFS($J71:$BB76,\">9,99\",$J71:$BB76,\"<20\")","v":0},{"$f":"COUNTIFS($J71:$BB76,\">19,99\")","v":0},{"$f":"COUNTIFS($J74:$BA74,\">4,99\",$J74:$BA74,\"<9,99\")","v":0},{"$f":"COUNTIFS($J74:$BB74,\">9,99\")","v":0}]
["A10",{"$f":"kod!B11","v":"I. sziget, bal"},{"$f":"kod!C11","v":"Team 5 Austria"},{"$f":"SUM(J71:AZ71)","v":9.4},{"$f":"COUNT(J71:AZ71)","v":1},9.4,{"$f":"MAX(J71:BA71)","v":9.4},null,"tükörponty",9.4]
["A10",{"$f":"kod!B11","v":"I. sziget, bal"},{"$f":"kod!C11","v":"Team 5 Austria"},0,0,{"$f":"IF(E72=0,0,D72/E72)","v":0},{"$f":"MAX(J72:BA72)","v":0},null,"tőponty"]
["A10",{"$f":"kod!B11","v":"I. sziget, bal"},{"$f":"kod!C11","v":"Team 5 Austria"},0,0,0,{"$f":"MAX(J73:BA73)","v":0},null,"nyurgaponty"]
["A10",{"$f":"kod!B11","v":"I. sziget, bal"},{"$f":"kod!C11","v":"Team 5 Austria"},0,0,0,null,{"$f":"MAX(J74:AZ74)","v":0},"koi ponty"]
["A10",{"$f":"kod!B11","v":"I. sziget, bal"},{"$f":"kod!C11","v":"Team 5 Austria"},0,0,0,{"$f":"MAX(J75:BA75)","v":0},null,"amur"]
["A10",{"$f":"kod!B11","v":"I. sziget, bal"},{"$f":"kod!C11","v":"Team 5 Austria"},0,0,0,{"$f":"MAX(J76:BA76)","v":0},null,"fekete amur"]
["A11",{"$f":"kod!B12","v":"I. sziget, bal közép"},{"$f":"kod!C12","v":"Invader's Team Poland"},{"$f":"SUM(D78:D83)","v":56.575000000000003},{"$f":"SUM(E78:E83)","v":5},11.315000000000001,{"$f":"MAX(G78:G83)","v":14.074999999999999},{"$f":"H81","v":0},"ÖSSZESEN",{"$f":"COUNTIFS($J78:$BB83,\">9,99\",$J78:$BB83,\"<20\")","v":3},{"$f":"COUNTIFS($J78:$BB83,\">19,99\")","v":0},{"$f":"COUNTIFS($J81:$BA81,\">4,99\",$J81:$BA81,\"<9,99\")","v":0},{"$f":"COUNTIFS($J81:$BB81,\">9,99\")","v":0}]
["A11",{"$f":"kod!B12","v":"I. sziget, bal közép"},{"$f":"kod!C12","v":"Invader's Team Poland"},{"$f":"SUM(J78:AZ78)","v":9.7249999999999996},{"$f":"COUNT(J78:AZ78)","v":1},9.7249999999999996,{"$f":"MAX(J78:BA78)","v":9.7249999999999996},null,"tükörponty",9.7249999999999996]
["A11",{"$f":"kod!B12","v":"I. sziget, bal közép"},{"$f":"kod!C12","v":"Invader's Team Poland"},7.375,1,7.375,{"$f":"MAX(J79:BA79)","v":7.375},null,"tőponty",7.375]
["A11",{"$f":"kod!B12","v":"I. sziget, bal közép"},{"$f":"kod!C12","v":"Invader's Team Poland"},12.35,1,12.35,{"$f":"MAX(J80:BA80)","v":12.35},null,"nyurgaponty",12.35]
["A11",{"$f":"kod!B12","v":"I. sziget, bal közép"},{"$f":"kod!C12","v":"Invader's Team Poland"},0,0,0,null,{"$f":"MAX(J81:AZ81)","v":0},"koi ponty"]
["A11",{"$f":"kod!B12","v":"I. sziget, bal közép"},{"$f":"kod!C12","v":"Invader's Team Poland"},27.125,2,13.5625,{"$f":"MAX(J82:BA82)","v":14.074999999999999},null,"amur",13.05,14.074999999999999]
["A11",{"$f":"kod!B12","v":"I. sziget, bal közép"},{"$f":"kod!C12","v":"Invader's Team Poland"},0,0,0,{"$f":"MAX(J83:BA83)","v":0},null,"fekete amur"]
["B1",{"$f":"kod!B13","v":"Gát, közepes víz"},{"$f":"kod!C13","v":"Tata Nitu Carp Team"},{"$f":"SUM(D85:D90)","v":37.75},{"$f":"SUM(E85:E90)","v":5},{"$f":"IF(E84=0,0,D84/E84)","v":7.55},{"$f":"MAX(G85:G90)","v":13.7},{"$f":"H88","v":0},"ÖSSZESEN",{"$f":"COUNTIFS($J85:$BB90,\">9,99\",$J85:$BB90,\"<20\")","v":1},{"$f":"COUNTIFS($J85:$BB90,\">19,99\")","v":0},{"$f":"COUNTIFS($J88:$BA88,\">4,99\",$J88:$BA88,\"<9,99\")","v":0},{"$f":"COUNTIFS($J88:$BB88,\">9,99\")","v":0}]
["B1",{"$f":"kod!B13","v":"Gát, közepes víz"},{"$f":"kod!C13","v":"Tata Nitu Carp Team"},{"$f":"SUM(J85:AZ85)","v":0},{"$f":"COUNT(J85:AZ85)","v":0},{"$f":"IF(E85=0,0,D85/E85)","v":0},{"$f":"MAX(J85:BA85)","v":0},null,"tükörponty"]
["B1",{"$f":"kod!B13","v":"Gát, közepes víz"},{"$f":"kod!C13","v":"Tata Nitu Carp Team"},9.0500000000000007,2,4.5250000000000004,{"$f":"MAX(J86:BA86)","v":7.875},null,"tőponty",7.875,1.175]
["B1",{"$f":"kod!B13","v":"Gát, közepes víz"},{"$f":"kod!C13","v":"Tata Nitu Carp Team"},15,2,7.5,{"$f":"MAX(J87:BA87)","v":8.0749999999999993},null,"nyurgaponty",6.9249999999999998,8.0749999999999993]
["B1",{"$f":"kod!B13","v":"Gát, közepes víz"},{"$f":"kod!C13","v":"Tata Nitu Carp Team"},0,0,0,null,{"$f":"MAX(J88:AZ88)","v":0},"koi ponty"]
["B1",{"$f":"kod!B13","v":"Gát, közepes víz"},{"$f":"kod!C13","v":"Tata Nitu Carp Team"},13.7,1,13.7,{"$f":"MAX(J89:BA89)","v":13.7},null,"amur",13.7]
["B1",{"$f":"kod!B13","v":"Gát, közepes víz"},{"$f":"kod!C13","v":"Tata Nitu Carp Team"},0,0,0,{"$f":"MAX(J90:BA90)","v":0},null,"fekete amur"]
["B2",{"$f":"kod!B14","v":"Gát, közepes víz"},{"$f":"kod!C14","v":"Slovakia Carp Team"},{"$f":"SUM(D92:D97)","v":69.924999999999997},{"$f":"SUM(E92:E97)","v":7},9.9892857142857139,{"$f":"MAX(G92:G97)","v":15.375},{"$f":"H95","v":0},"ÖSSZESEN",{"$f":"COUNTIFS($J92:$BB97,\">9,99\",$J92:$BB97,\"<20\")","v":3},{"$f":"COUNTIFS($J92:$BB97,\">19,99\")","v":0},{"$f":"COUNTIFS($J95:$BA95,\">4,99\",$J95:$BA95,\"<9,99\")","v":0},{"$f":"COUNTIFS($J95:$BB95,\">9,99\")","v":0}]
["B2",{"$f":"kod!B14","v":"Gát, közepes víz"},{"$f":"kod!C14","v":"Slovakia Carp Team"},{"$f":"SUM(J92:AZ92)","v":0},{"$f":"COUNT(J92:AZ92)","v":0},0,{"$f":"MAX(J92:BA92)","v":0},null,"tükörponty"]
["B2",{"$f":"kod!B14","v":"Gát, közepes víz"},{"$f":"kod!C14","v":"Slovakia Carp Team"},14.524999999999999,2,7.2624999999999993,{"$f":"MAX(J93:BA93)","v":8.2249999999999996},null,"tőponty",6.3,8.2249999999999996]
["B2",{"$f":"kod!B14","v":"Gát, közepes víz"},{"$f":"kod!C14","v":"Slovakia Carp Team"},45.6,4,11.4,{"$f":"MAX(J94:BA94)","v":15.375},null,"nyurgaponty",13.025,11.35,5.85,15.375]
["B2",{"$f":"kod!B14","v":"Gát, közepes víz"},{"$f":"kod!C14","v":"Slovakia Carp Team"},0,0,0,null,{"$f":"MAX(J95:AZ95)","v":0},"koi ponty"]
["B2",{"$f":"kod!B14","v":"Gát, közepes víz"},{"$f":"kod!C14","v":"Slovakia Carp Team"},9.8000000000000007,1,9.8000000000000007,{"$f":"MAX(J96:BA96)","v":9.8000000000000007},null,"amur",9.8000000000000007]
["B2",{"$f":"kod!B14","v":"Gát, közepes víz"},{"$f":"kod!C14","v":"Slovakia Carp Team"},0,0,0,{"$f":"MAX(J97:BA97)","v":0},null,"fekete amur"]
["B3",{"$f":"kod!B15","v":"Gát, közepes víz"},{"$f":"kod!C15","v":"WLC Hungary "},{"$f":"SUM(D99:D104)","v":54.625},{"$f":"SUM(E99:E104)","v":8},6.828125,{"$f":"MAX(G99:G104)","v":12.975},{"$f":"H102","v":0},"ÖSSZESEN",{"$f":"COUNTIFS($J99:$BB104,\">9,99\",$J99:$BB104,\"<20\")","v":1},{"$f":"COUNTIFS($J99:$BB104,\">19,99\")","v":0},{"$f":"COUNTIFS($J102:$BA102,\">4,99\",$J102:$BA102,\"<9,99\")","v":0},{"$f":"COUNTIFS($J102:$BB102,\">9,99\")","v":0}]
["B3",{"$f":"kod!B15","v":"Gát, közepes víz"},{"$f":"kod!C15","v":"WLC Hungary "},{"$f":"SUM(J99:AZ99)","v":0},{"$f":"COUNT(J99:AZ99)","v":0},0,{"$f":"MAX(J99:BA99)","v":0},null,"tükörponty"]
["B3",{"$f":"kod!B15","v":"Gát, közepes víz"},{"$f":"kod!C15","v":"WLC Hungary "},20.375,3,6.791666666666667,{"$f":"MAX(J100:BA100)","v":9.9250000000000007},null,"tőponty",9.9250000000000007,6.0250000000000004,4.4249999999999998]
["B3",{"$f":"kod!B15","v":"Gát, közepes víz"},{"$f":"kod!C15","v":"WLC Hungary "},25.5,3,8.5,{"$f":"MAX(J101:BA101)","v":12.975},null,"nyurgaponty",12.975,5.0250000000000004,7.5]
["B3",{"$f":"kod!B15","v":"Gát, közepes víz"},{"$f":"kod!C15","v":"WLC Hungary "},0,0,0,null,{"$f":"MAX(J102:AZ102)","v":0},"koi ponty"]
["B3",{"$f":"kod!B15","v":"Gát, közepes víz"},{"$f":"kod!C15","v":"WLC Hungary "},5.0250000000000004,1,5.0250000000000004,{"$f":"MAX(J103:BA103)","v":5.0250000000000004},null,"amur",5.0250000000000004]
["B3",{"$f":"kod!B15","v":"Gát, közepes víz"},{"$f":"kod!C15","v":"WLC Hungary "},3.7250000000000001,1,3.7250000000000001,{"$f":"MAX(J104:BA104)","v":3.7250000000000001},null,"fekete amur",3.7250000000000001]
["B4",{"$f":"kod!B16","v":"Gát, közepes víz"},{"$f":"kod!C16","v":"Barfin Line NSD Bulgaria"},{"$f":"SUM(D106:D111)","v":21.824999999999999},{"$f":"SUM(E106:E111)","v":2},10.9125,{"$f":"MAX(G106:G111)","v":15.625},{"$f":"H109","v":0},"ÖSSZESEN",{"$f":"COUNTIFS($J106:$BB111,\">9,99\",$J106:$BB111,\"<20\")","v":1},{"$f":"COUNTIFS($J106:$BB111,\">19,99\")","v":0},{"$f":"COUNTIFS($J109:$BA109,\">4,99\",$J109:$BA109,\"<9,99\")","v":0},{"$f":"COUNTIFS($J109:$BB109,\">9,99\")","v":0}]
["B4",{"$f":"kod!B16","v":"Gát, közepes víz"},{"$f":"kod!C16","v":"Barfin Line NSD Bulgaria"},{"$f":"SUM(J106:AZ106)","v":0},{"$f":"COUNT(J106:AZ106)","v":0},0,{"$f":"MAX(J106:BA106)","v":0},null,"tükörponty"]
["B4",{"$f":"kod!B16","v":"Gát, közepes víz"},{"$f":"kod!C16","v":"Barfin Line NSD Bulgaria"},6.2,1,6.2,6.2,null,"tőponty",6.2]
["B4",{"$f":"kod!B16","v":"Gát, közepes víz"},{"$f":"kod!C16","v":"Barfin Line NSD Bulgaria"},15.625,1,15.625,15.625,null,"nyurgaponty",15.625]
["B4",{"$f":"kod!B16","v":"Gát, közepes víz"},{"$f":"kod!C16","v":"Barfin Line NSD Bulgaria"},0,0,0,0,{"$f":"MAX(J109:AZ109)","v":0},"koi ponty"]
["B4",{"$f":"kod!B16","v":"Gát, közepes víz"},{"$f":"kod!C16","v":"Barfin Line NSD Bulgaria"},0,0,0,0,null,"amur"]
["B4",{"$f":"kod!B16","v":"Gát, közepes víz"},{"$f":"kod!C16","v":"Barfin Line NSD Bulgaria"},0,0,0,0,null,"fekete amur"]
["B5",{"$f":"kod!B17","v":"Gát, közepes víz"},{"$f":"kod!C17","v":"Lutra Carp Hunters"},{"$f":"SUM(D113:D118)","v":0},{"$f":"SUM(E113:E118)","v":0},0,{"$f":"MAX(G113:G118)","v":0},{"$f":"H116","v":0},"ÖSSZESEN",{"$f":"COUNTIFS($J113:$BB118,\">9,99\",$J113:$BB118,\"<20\")","v":0},{"$f":"COUNTIFS($J113:$BB118,\">19,99\")","v":0},{"$f":"COUNTIFS($J116:$BA116,\">4,99\",$J116:$BA116,\"<9,99\")","v":0},{"$f":"COUNTIFS($J116:$BB116,\">9,99\")","v":0}]
["B5",{"$f":"kod!B17","v":"Gát, közepes víz"},{"$f":"kod!C17","v":"Lutra Carp Hunters"},{"$f":"SUM(J113:AZ113)","v":0},{"$f":"COUNT(J113:AZ113)","v":0},0,{"$f":"MAX(J113:BA113)","v":0},null,"tükörponty"]
["B5",{"$f":"kod!B17","v":"Gát, közepes víz"},{"$f":"kod!C17","v":"Lutra Carp Hunters"},0,0,0,{"$f":"MAX(J114:BA114)","v":0},null,"tőponty"]
["B5",{"$f":"kod!B17","v":"Gát, közepes víz"},{"$f":"kod!C17","v":"Lutra Carp Hunters"},0,0,0,{"$f":"MAX(J115:BA115)","v":0},null,"nyurgaponty"]
["B5",{"$f":"kod!B17","v":"Gát, közepes víz"},{"$f":"kod!C17","v":"Lutra Carp Hunters"},0,0,0,null,{"$f":"MAX(J116:AZ116)","v":0},"koi ponty"]
["B5",{"$f":"kod!B17","v":"Gát, közepes víz"},{"$f":"kod!C17","v":"Lutra Carp Hunters"},0,0,0,{"$f":"MAX(J117:BA117)","v":0},null,"amur"]
["B5",{"$f":"kod!B17","v":"Gát, közepes víz"},{"$f":"kod!C17","v":"Lutra Carp Hunters"},0,0,0,{"$f":"MAX(J118:BA118)","v":0},null,"fekete amur"]
["B6",{"$f":"kod!B18","v":"Gát, közepes víz"},{"$f":"kod!C18","v":"Xtra Carp Team"},{"$f":"SUM(D120:D125)","v":111.97499999999999},{"$f":"SUM(E120:E125)","v":10},11.1975,{"$f":"MAX(G120:G125)","v":16.95},{"$f":"H123","v":0},"ÖSSZESEN",{"$f":"COUNTIFS($J120:$BB125,\">9,99\",$J120:$BB125,\"<20\")","v":6},{"$f":"COUNTIFS($J120:$BB125,\">19,99\")","v":0},{"$f":"COUNTIFS($J123:$BA123,\">4,99\",$J123:$BA123,\"<9,99\")","v":0},{"$f":"COUNTIFS($J123:$BB123,\">9,99\")","v":0}]
["B6",{"$f":"kod!B18","v":"Gát, közepes víz"},{"$f":"kod!C18","v":"Xtra Carp Team"},{"$f":"SUM(J120:AZ120)","v":22.574999999999999},{"$f":"COUNT(J120:AZ120)","v":2},11.2875,{"$f":"MAX(J120:BA120)","v":12.875},null,"tükörponty",9.6999999999999993,12.875]
["B6",{"$f":"kod!B18","v":"Gát, közepes víz"},{"$f":"kod!C18","v":"Xtra Carp Team"},18.649999999999999,2,9.3249999999999993,{"$f":"MAX(J121:BA121)","v":11.425000000000001},null,"tőponty",11.425000000000001,7.2249999999999996]
["B6",{"$f":"kod!B18","v":"Gát, közepes víz"},{"$f":"kod!C18","v":"Xtra Carp Team"},70.75,6,11.791666666666666,{"$f":"MAX(J122:BA122)","v":16.95},null,"nyurgaponty",12.4,7.8250000000000002,10.15,16.95,9.9749999999999996,13.45]
["B6",{"$f":"kod!B18","v":"Gát, közepes víz"},{"$f":"kod!C18","v":"Xtra Carp Team"},0,0,0,null,{"$f":"MAX(J123:AZ123)","v":0},"koi ponty"]
["B6",{"$f":"kod!B18","v":"Gát, közepes víz"},{"$f":"kod!C18","v":"Xtra Carp Team"},0,0,0,{"$f":"MAX(J124:BA124)","v":0},null,"amur"]
["B6",{"$f":"kod!B18","v":"Gát, közepes víz"},{"$f":"kod!C18","v":"Xtra Carp Team"},0,0,0,{"$f":"MAX(J125:BA125)","v":0},null,"fekete amur"]
["B7",{"$f":"kod!B19","v":"I. sziget, jobb közép"},{"$f":"kod!C19","v":"Elite Carp Team Brasov"},{"$f":"SUM(D127:D132)","v":66.7},{"$f":"SUM(E127:E132)","v":6},11.116666666666667,{"$f":"MAX(G127:G132)","v":25.875},{"$f":"H130","v":4.4249999999999998},"ÖSSZESEN",{"$f":"COUNTIFS($J127:$BB132,\">9,99\",$J127:$BB132,\"<20\")","v":1},{"$f":"COUNTIFS($J127:$BB132,\">19,99\")","v":1},{"$f":"COUNTIFS($J130:$BA130,\">4,99\",$J130:$BA130,\"<9,99\")","v":0},{"$f":"COUNTIFS($J130:$BB130,\">9,99\")","v":0}]
["B7",{"$f":"kod!B19","v":"I. sziget, jobb közép"},{"$f":"kod!C19","v":"Elite Carp Team Brasov"},{"$f":"SUM(J127:AZ127)","v":17.55},{"$f":"COUNT(J127:AZ127)","v":2},8.7750000000000004,{"$f":"MAX(J127:BA127)","v":9.0500000000000007},null,"tükörponty",8.5,9.0500000000000007]
["B7",{"$f":"kod!B19","v":"I. sziget, jobb közép"},{"$f":"kod!C19","v":"Elite Carp Team Brasov"},32.825000000000003,2,16.412500000000001,{"$f":"MAX(J128:BA128)","v":25.875},null,"tőponty",25.875,6.95]
["B7",{"$f":"kod!B19","v":"I. sziget, jobb közép"},{"$f":"kod!C19","v":"Elite Carp Team Brasov"},11.9,1,11.9,{"$f":"MAX(J129:BA129)","v":11.9},null,"nyurgaponty",11.9]
["B7",{"$f":"kod!B19","v":"I. sziget, jobb közép"},{"$f":"kod!C19","v":"Elite Carp Team Brasov"},4.4249999999999998,1,4.4249999999999998,null,{"$f":"MAX(J130:AZ130)","v":4.4249999999999998},"koi ponty",4.4249999999999998]
["B7",{"$f":"kod!B19","v":"I. sziget, jobb közép"},{"$f":"kod!C19","v":"Elite Carp Team Brasov"},0,0,0,{"$f":"MAX(J131:BA131)","v":0},null,"amur"]
["B7",{"$f":"kod!B19","v":"I. sziget, jobb közép"},{"$f":"kod!C19","v":"Elite Carp Team Brasov"},0,0,0,{"$f":"MAX(J132:BA132)","v":0},null,"fekete amur"]
["B8",{"$f":"kod!B20","v":"I. sziget, jobb "},{"$f":"kod!C20","v":"CT777 Varna Bulgaria"},{"$f":"SUM(D134:D139)","v":143.9},{"$f":"SUM(E134:E139)","v":15},9.5933333333333337,{"$f":"MAX(G134:G139)","v":13.65},{"$f":"H137","v":9.5250000000000004},"ÖSSZESEN",{"$f":"COUNTIFS($J134:$BB139,\">9,99\",$J134:$BB139,\"<20\")","v":8},{"$f":"COUNTIFS($J134:$BB139,\">19,99\")","v":0},{"$f":"COUNTIFS($J137:$BA137,\">4,99\",$J137:$BA137,\"<9,99\")","v":1},{"$f":"COUNTIFS($J137:$BB137,\">9,99\")","v":0}]
["B8",{"$f":"kod!B20","v":"I. sziget, jobb "},{"$f":"kod!C20","v":"CT777 Varna Bulgaria"},{"$f":"SUM(J134:AZ134)","v":27.35},{"$f":"COUNT(J134:AZ134)","v":3},9.1166666666666671,{"$f":"MAX(J134:BA134)","v":11.35},null,"tükörponty",6.9749999999999996,9.0250000000000004,11.35]
["B8",{"$f":"kod!B20","v":"I. sziget, jobb "},{"$f":"kod!C20","v":"CT777 Varna Bulgaria"},9.6,1,9.6,{"$f":"MAX(J135:BA135)","v":9.6},null,"tőponty",9.6]
["B8",{"$f":"kod!B20","v":"I. sziget, jobb "},{"$f":"kod!C20","v":"CT777 Varna Bulgaria"},12.75,1,12.75,{"$f":"MAX(J136:BA136)","v":12.75},null,"nyurgaponty",12.75]
["B8",{"$f":"kod!B20","v":"I. sziget, jobb "},{"$f":"kod!C20","v":"CT777 Varna Bulgaria"},9.5250000000000004,1,9.5250000000000004,null,{"$f":"MAX(J137:AZ137)","v":9.5250000000000004},"koi ponty",9.5250000000000004]
["B8",{"$f":"kod!B20","v":"I. sziget, jobb "},{"$f":"kod!C20","v":"CT777 Varna Bulgaria"},74.25,6,12.375,{"$f":"MAX(J138:BA138)","v":13.65},null,"amur",13.375,12.95,10.925000000000001,13.65,13.2,10.15]
["B8",{"$f":"kod!B20","v":"I. sziget, jobb "},{"$f":"kod!C20","v":"CT777 Varna Bulgaria"},10.425000000000001,3,3.4750000000000001,{"$f":"MAX(J139:BA139)","v":3.6},null,"fekete amur",3.6,3.375,3.45]
["B9",{"$f":"kod!B21","v":"I. sziget, jobb külső"},{"$f":"kod!C21","v":"Bait Maker Team"},{"$f":"SUM(D141:D146)","v":48.75},{"$f":"SUM(E141:E146)","v":5},9.75,{"$f":"MAX(G141:G146)","v":13.275},{"$f":"H144","v":10.6},"ÖSSZESEN",{"$f":"COUNTIFS($J141:$BB146,\">9,99\",$J141:$BB146,\"<20\")","v":2},{"$f":"COUNTIFS($J141:$BB146,\">19,99\")","v":0},{"$f":"COUNTIFS($J144:$BA144,\">4,99\",$J144:$BA144,\"<9,99\")","v":0},{"$f":"COUNTIFS($J144:$BB144,\">9,99\")","v":1}]
["B9",{"$f":"kod!B21","v":"I. sziget, jobb külső"},{"$f":"kod!C21","v":"Bait Maker Team"},{"$f":"SUM(J141:AZ141)","v":0},{"$f":"COUNT(J141:AZ141)","v":0},0,{"$f":"MAX(J141:BA141)","v":0},null,"tükörponty"]
["B9",{"$f":"kod!B21","v":"I. sziget, jobb külső"},{"$f":"kod!C21","v":"Bait Maker Team"},15.375,2,7.6875,{"$f":"MAX(J142:BA142)","v":7.7249999999999996},null,"tőponty",7.7249999999999996,7.65]
["B9",{"$f":"kod!B21","v":"I. sziget, jobb külső"},{"$f":"kod!C21","v":"Bait Maker Team"},0,0,0,{"$f":"MAX(J143:BA143)","v":0},null,"nyurgaponty"]
["B9",{"$f":"kod!B21","v":"I. sziget, jobb külső"},{"$f":"kod!C21","v":"Bait Maker Team"},10.6,1,10.6,null,{"$f":"MAX(J144:AZ144)","v":10.6},"koi ponty",10.6]
["B9",{"$f":"kod!B21","v":"I. sziget, jobb külső"},{"$f":"kod!C21","v":"Bait Maker Team"},22.774999999999999,2,11.387499999999999,{"$f":"MAX(J145:BA145)","v":13.275},null,"amur",9.5,13.275]
["B9",{"$f":"kod!B21","v":"I. sziget, jobb külső"},{"$f":"kod!C21","v":"Bait Maker Team"},0,0,0,{"$f":"MAX(J146:BA146)","v":0},null,"fekete amur"]
["B10",{"$f":"kod!B22","v":"Felező-spicc, bal"},{"$f":"kod!C22","v":"SBS - SziKo Team"},{"$f":"SUM(D148:D153)","v":51.099999999999994},{"$f":"SUM(E148:E153)","v":7},7.2999999999999989,{"$f":"MAX(G148:G153)","v":9.0250000000000004},{"$f":"H151","v":12.4},"ÖSSZESEN",{"$f":"COUNTIFS($J148:$BB153,\">9,99\",$J148:$BB153,\"<20\")","v":1},{"$f":"COUNTIFS($J148:$BB153,\">19,99\")","v":0},{"$f":"COUNTIFS($J151:$BA151,\">4,99\",$J151:$BA151,\"<9,99\")","v":0},{"$f":"COUNTIFS($J151:$BB151,\">9,99\")","v":1}]
["B10",{"$f":"kod!B22","v":"Felező-spicc, bal"},{"$f":"kod!C22","v":"SBS - SziKo Team"},{"$f":"SUM(J148:AZ148)","v":6.9},{"$f":"COUNT(J148:AZ148)","v":1},6.9,{"$f":"MAX(J148:BA148)","v":6.9},null,"tükörponty",6.9]
["B10",{"$f":"kod!B22","v":"Felező-spicc, bal"},{"$f":"kod!C22","v":"SBS - SziKo Team"},31.799999999999997,5,{"$f":"IF(E149=0,0,D149/E149)","v":6.3599999999999994},{"$f":"MAX(J149:BA149)","v":9.0250000000000004},null,"tőponty",5.35,6.2750000000000004,9.0250000000000004,6.3,4.8499999999999996]
["B10",{"$f":"kod!B22","v":"Felező-spicc, bal"},{"$f":"kod!C22","v":"SBS - SziKo Team"},0,0,0,{"$f":"MAX(J150:BA150)","v":0},null,"nyurgaponty"]
["B10",{"$f":"kod!B22","v":"Felező-spicc, bal"},{"$f":"kod!C22","v":"SBS - SziKo Team"},12.4,1,12.4,null,{"$f":"MAX(J151:AZ151)","v":12.4},"koi ponty",12.4]
["B10",{"$f":"kod!B22","v":"Felező-spicc, bal"},{"$f":"kod!C22","v":"SBS - SziKo Team"},0,0,0,{"$f":"MAX(J152:BA152)","v":0},null,"amur"]
["B10",{"$f":"kod!B22","v":"Felező-spicc, bal"},{"$f":"kod!C22","v":"SBS - SziKo Team"},0,0,0,{"$f":"MAX(J153:BA153)","v":0},null,"fekete amur"]
["B11",{"$f":"kod!B23","v":"Felező-spicc, közép"},{"$f":"kod!C23","v":"Síp Carp Team"},{"$f":"SUM(D155:D160)","v":30.324999999999999},{"$f":"SUM(E155:E160)","v":5},6.0649999999999995,{"$f":"MAX(G155:G160)","v":6.85},{"$f":"H158","v":0},"ÖSSZESEN",{"$f":"COUNTIFS($J155:$BB160,\">9,99\",$J155:$BB160,\"<20\")","v":0},{"$f":"COUNTIFS($J155:$BB160,\">19,99\")","v":0},{"$f":"COUNTIFS($J158:$BA158,\">4,99\",$J158:$BA158,\"<9,99\")","v":0},{"$f":"COUNTIFS($J158:$BB158,\">9,99\")","v":0}]
["B11",{"$f":"kod!B23","v":"Felező-spicc, közép"},{"$f":"kod!C23","v":"Síp Carp Team"},{"$f":"SUM(J155:AZ155)","v":13.149999999999999},2,6.5749999999999993,{"$f":"MAX(J155:BA155)","v":6.85},null,"tükörponty",6.85,6.3]
["B11",{"$f":"kod!B23","v":"Felező-spicc, közép"},{"$f":"kod!C23","v":"Síp Carp Team"},17.175000000000001,3,5.7250000000000005,6.1,null,"tőponty",5.75,6.1,5.3250000000000002]
["B11",{"$f":"kod!B23","v":"Felező-spicc, közép"},{"$f":"kod!C23","v":"Síp Carp Team"},0,0,0,0,null,"nyurgaponty"]
["B11",{"$f":"kod!B23","v":"Felező-spicc, közép"},{"$f":"kod!C23","v":"Síp Carp Team"},0,0,0,null,{"$f":"MAX(J158:AZ158)","v":0},"koi ponty"]
["B11",{"$f":"kod!B23","v":"Felező-spicc, közép"},{"$f":"kod!C23","v":"Síp Carp Team"},0,0,0,{"$f":"MAX(J159:BA159)","v":0},null,"amur"]
["B11",{"$f":"kod!B23","v":"Felező-spicc, közép"},{"$f":"kod!C23","v":"Síp Carp Team"},0,0,0,0,null,"fekete amur"]
["C1",{"$f":"kod!B24","v":"Gát, sekély víz"},{"$f":"kod!C24","v":"Carp Fever Bulgaria"},{"$f":"SUM(D162:D167)","v":26.424999999999997},{"$f":"SUM(E162:E167)","v":3},{"$f":"IF(E161=0,0,D161/E161)","v":8.8083333333333318},{"$f":"MAX(G162:G167)","v":11.025},{"$f":"H165","v":0},"ÖSSZESEN",{"$f":"COUNTIFS($J162:$BB167,\">9,99\",$J162:$BB167,\"<20\")","v":1},{"$f":"COUNTIFS($J162:$BB167,\">19,99\")","v":0},{"$f":"COUNTIFS($J165:$BA165,\">4,99\",$J165:$BA165,\"<9,99\")","v":0},{"$f":"COUNTIFS($J165:$BB165,\">9,99\")","v":0}]
["C1",{"$f":"kod!B24","v":"Gát, sekély víz"},{"$f":"kod!C24","v":"Carp Fever Bulgaria"},{"$f":"SUM(J162:AZ162)","v":0},{"$f":"COUNT(J162:AZ162)","v":0},{"$f":"IF(E162=0,0,D162/E162)","v":0},{"$f":"MAX(J162:BA162)","v":0},null,"tükörponty"]
["C1",{"$f":"kod!B24","v":"Gát, sekély víz"},{"$f":"kod!C24","v":"Carp Fever Bulgaria"},15.399999999999999,2,7.6999999999999993,{"$f":"MAX(J163:BA163)","v":9.1999999999999993},null,"tőponty",9.1999999999999993,6.2]
["C1",{"$f":"kod!B24","v":"Gát, sekély víz"},{"$f":"kod!C24","v":"Carp Fever Bulgaria"},11.025,1,11.025,{"$f":"MAX(J164:BA164)","v":11.025},null,"nyurgaponty",11.025]
["C1",{"$f":"kod!B24","v":"Gát, sekély víz"},{"$f":"kod!C24","v":"Carp Fever Bulgaria"},0,0,0,null,{"$f":"MAX(J165:AZ165)","v":0},"koi ponty"]
["C1",{"$f":"kod!B24","v":"Gát, sekély víz"},{"$f":"kod!C24","v":"Carp Fever Bulgaria"},0,0,0,{"$f":"MAX(J166:BA166)","v":0},null,"amur"]
["C1",{"$f":"kod!B24","v":"Gát, sekély víz"},{"$f":"kod!C24","v":"Carp Fever Bulgaria"},0,0,0,{"$f":"MAX(J167:BA167)","v":0},null,"fekete amur"]
["C2",{"$f":"kod!B25","v":"Gát, sekély víz"},{"$f":"kod!C25","v":"Carpfriends Ennstal-Austria"},{"$f":"SUM(D169:D174)","v":55.449999999999996},{"$f":"SUM(E169:E174)","v":7},7.9214285714285708,{"$f":"MAX(G169:G174)","v":14.2},{"$f":"H172","v":8.1},"ÖSSZESEN",{"$f":"COUNTIFS($J169:$BB174,\">9,99\",$J169:$BB174,\"<20\")","v":1},{"$f":"COUNTIFS($J169:$BB174,\">19,99\")","v":0},{"$f":"COUNTIFS($J172:$BA172,\">4,99\",$J172:$BA172,\"<9,99\")","v":1},{"$f":"COUNTIFS($J172:$BB172,\">9,99\")","v":0}]
["C2",{"$f":"kod!B25","v":"Gát, sekély víz"},{"$f":"kod!C25","v":"Carpfriends Ennstal-Austria"},{"$f":"SUM(J169:AZ169)","v":0},{"$f":"COUNT(J169:AZ169)","v":0},0,{"$f":"MAX(J169:BA169)","v":0},null,"tükörponty"]
["C2",{"$f":"kod!B25","v":"Gát, sekély víz"},{"$f":"kod!C25","v":"Carpfriends Ennstal-Austria"},17.774999999999999,2,8.8874999999999993,{"$f":"MAX(J170:BA170)","v":9.6},null,"tőponty",9.6,8.1750000000000007]
["C2",{"$f":"kod!B25","v":"Gát, sekély víz"},{"$f":"kod!C25","v":"Carpfriends Ennstal-Austria"},29.574999999999999,4,7.3937499999999998,{"$f":"MAX(J171:BA171)","v":14.2},null,"nyurgaponty",5.75,1.075,14.2,8.5500000000000007]
["C2",{"$f":"kod!B25","v":"Gát, sekély víz"},{"$f":"kod!C25","v":"Carpfriends Ennstal-Austria"},8.1,1,8.1,null,{"$f":"MAX(J172:AZ172)","v":8.1},"koi ponty",8.1]
["C2",{"$f":"kod!B25","v":"Gát, sekély víz"},{"$f":"kod!C25","v":"Carpfriends Ennstal-Austria"},0,0,0,{"$f":"MAX(J173:BA173)","v":0},null,"amur"]
["C2",{"$f":"kod!B25","v":"Gát, sekély víz"},{"$f":"kod!C25","v":"Carpfriends Ennstal-Austria"},0,0,0,{"$f":"MAX(J174:BA174)","v":0},null,"fekete amur"]
["C3",{"$f":"kod!B26","v":"Gát, sekély víz"},{"$f":"kod!C26","v":"Carp Team Brasov"},{"$f":"SUM(D176:D181)","v":35.875},{"$f":"SUM(E176:E181)","v":5},7.1749999999999998,{"$f":"MAX(G176:G181)","v":12.675000000000001},{"$f":"H179","v":0},"ÖSSZESEN",{"$f":"COUNTIFS($J176:$BB181,\">9,99\",$J176:$BB181,\"<20\")","v":1},{"$f":"COUNTIFS($J176:$BB181,\">19,99\")","v":0},{"$f":"COUNTIFS($J179:$BA179,\">4,99\",$J179:$BA179,\"<9,99\")","v":0},{"$f":"COUNTIFS($J179:$BB179,\">9,99\")","v":0}]
["C3",{"$f":"kod!B26","v":"Gát, sekély víz"},{"$f":"kod!C26","v":"Carp Team Brasov"},{"$f":"SUM(J176:AZ176)","v":7.65},{"$f":"COUNT(J176:AZ176)","v":1},7.65,{"$f":"MAX(J176:BA176)","v":7.65},null,"tükörponty",7.65]
["C3",{"$f":"kod!B26","v":"Gát, sekély víz"},{"$f":"kod!C26","v":"Carp Team Brasov"},15.55,3,5.1833333333333336,{"$f":"MAX(J177:BA177)","v":8.8000000000000007},null,"tőponty",8.8000000000000007,4.8499999999999996,1.9]
["C3",{"$f":"kod!B26","v":"Gát, sekély víz"},{"$f":"kod!C26","v":"Carp Team Brasov"},12.675000000000001,1,12.675000000000001,{"$f":"MAX(J178:BA178)","v":12.675000000000001},null,"nyurgaponty",12.675000000000001]
["C3",{"$f":"kod!B26","v":"Gát, sekély víz"},{"$f":"kod!C26","v":"Carp Team Brasov"},0,0,0,null,{"$f":"MAX(J179:AZ179)","v":0},"koi ponty"]
["C3",{"$f":"kod!B26","v":"Gát, sekély víz"},{"$f":"kod!C26","v":"Carp Team Brasov"},0,0,0,{"$f":"MAX(J180:BA180)","v":0},null,"amur"]
["C3",{"$f":"kod!B26","v":"Gát, sekély víz"},{"$f":"kod!C26","v":"Carp Team Brasov"},0,0,0,{"$f":"MAX(J181:BA181)","v":0},null,"fekete amur"]
["C4",{"$f":"kod!B27","v":"Gát, sekély víz"},{"$f":"kod!C27","v":"As La Carp Team"},{"$f":"SUM(D183:D188)","v":16.100000000000001},{"$f":"SUM(E183:E188)","v":3},5.3666666666666671,{"$f":"MAX(G183:G188)","v":8},{"$f":"H186","v":0},"ÖSSZESEN",{"$f":"COUNTIFS($J183:$BB188,\">9,99\",$J183:$BB188,\"<20\")","v":0},{"$f":"COUNTIFS($J183:$BB188,\">19,99\")","v":0},{"$f":"COUNTIFS($J186:$BA186,\">4,99\",$J186:$BA186,\"<9,99\")","v":0},{"$f":"COUNTIFS($J186:$BB186,\">9,99\")","v":0}]
["C4",{"$f":"kod!B27","v":"Gát, sekély víz"},{"$f":"kod!C27","v":"As La Carp Team"},{"$f":"SUM(J183:AZ183)","v":8},{"$f":"COUNT(J183:AZ183)","v":1},8,{"$f":"MAX(J183:BA183)","v":8},null,"tükörponty",8]
["C4",{"$f":"kod!B27","v":"Gát, sekély víz"},{"$f":"kod!C27","v":"As La Carp Team"},8.1,2,4.05,5.45,null,"tőponty",5.45,2.65]
["C4",{"$f":"kod!B27","v":"Gát, sekély víz"},{"$f":"kod!C27","v":"As La Carp Team"},0,0,0,0,null,"nyurgaponty"]
["C4",{"$f":"kod!B27","v":"Gát, sekély víz"},{"$f":"kod!C27","v":"As La Carp Team"},0,0,0,0,{"$f":"MAX(J186:AZ186)","v":0},"koi ponty"]
["C4",{"$f":"kod!B27","v":"Gát, sekély víz"},{"$f":"kod!C27","v":"As La Carp Team"},0,0,0,0,null,"amur"]
["C4",{"$f":"kod!B27","v":"Gát, sekély víz"},{"$f":"kod!C27","v":"As La Carp Team"},0,0,0,0,null,"fekete amur"]
["C5",{"$f":"kod!B28","v":"Gát, sekély víz"},{"$f":"kod!C28","v":"Bojlis Főnök - Bait Bait Carp Team"},{"$f":"SUM(D190:D195)","v":37.1},{"$f":"SUM(E190:E195)","v":5},7.42,{"$f":"MAX(G190:G195)","v":9.8000000000000007},{"$f":"H193","v":7.0750000000000002},"ÖSSZESEN",{"$f":"COUNTIFS($J190:$BB195,\">9,99\",$J190:$BB195,\"<20\")","v":0},{"$f":"COUNTIFS($J190:$BB195,\">19,99\")","v":0},{"$f":"COUNTIFS($J193:$BA193,\">4,99\",$J193:$BA193,\"<9,99\")","v":1},{"$f":"COUNTIFS($J193:$BB193,\">9,99\")","v":0}]
["C5",{"$f":"kod!B28","v":"Gát, sekély víz"},{"$f":"kod!C28","v":"Bojlis Főnök - Bait Bait Carp Team"},{"$f":"SUM(J190:AZ190)","v":0},{"$f":"COUNT(J190:AZ190)","v":0},0,{"$f":"MAX(J190:BA190)","v":0},null,"tükörponty"]
["C5",{"$f":"kod!B28","v":"Gát, sekély víz"},{"$f":"kod!C28","v":"Bojlis Főnök - Bait Bait Carp Team"},14.275,2,7.1375000000000002,{"$f":"MAX(J191:BA191)","v":9.75},null,"tőponty",4.5250000000000004,9.75]
["C5",{"$f":"kod!B28","v":"Gát, sekély víz"},{"$f":"kod!C28","v":"Bojlis Főnök - Bait Bait Carp Team"},15.75,2,7.875,{"$f":"MAX(J192:BA192)","v":9.8000000000000007},null,"nyurgaponty",9.8000000000000007,5.95]
["C5",{"$f":"kod!B28","v":"Gát, sekély víz"},{"$f":"kod!C28","v":"Bojlis Főnök - Bait Bait Carp Team"},7.0750000000000002,1,7.0750000000000002,null,{"$f":"MAX(J193:AZ193)","v":7.0750000000000002},"koi ponty",7.0750000000000002]
["C5",{"$f":"kod!B28","v":"Gát, sekély víz"},{"$f":"kod!C28","v":"Bojlis Főnök - Bait Bait Carp Team"},0,0,0,{"$f":"MAX(J194:BA194)","v":0},null,"amur"]
["C5",{"$f":"kod!B28","v":"Gát, sekély víz"},{"$f":"kod!C28","v":"Bojlis Főnök - Bait Bait Carp Team"},0,0,0,{"$f":"MAX(J195:BA195)","v":0},null,"fekete amur"]
["C6",{"$f":"kod!B29","v":"Felező-spicc, jobb"},{"$f":"kod!C29","v":"Secret Of The Carp"},{"$f":"SUM(D197:D202)","v":1.425},{"$f":"SUM(E197:E202)","v":1},1.425,{"$f":"MAX(G197:G202)","v":1.425},{"$f":"H200","v":0},"ÖSSZESEN",{"$f":"COUNTIFS($J197:$BB202,\">9,99\",$J197:$BB202,\"<20\")","v":0},{"$f":"COUNTIFS($J197:$BB202,\">19,99\")","v":0},{"$f":"COUNTIFS($J200:$BA200,\">4,99\",$J200:$BA200,\"<9,99\")","v":0},{"$f":"COUNTIFS($J200:$BB200,\">9,99\")","v":0}]
["C6",{"$f":"kod!B29","v":"Felező-spicc, jobb"},{"$f":"kod!C29","v":"Secret Of The Carp"},{"$f":"SUM(J197:AZ197)","v":0},{"$f":"COUNT(J197:AZ197)","v":0},0,{"$f":"MAX(J197:BA197)","v":0},null,"tükörponty"]
["C6",{"$f":"kod!B29","v":"Felező-spicc, jobb"},{"$f":"kod!C29","v":"Secret Of The Carp"},1.425,1,1.425,1.425,null,"tőponty",1.425]
["C6",{"$f":"kod!B29","v":"Felező-spicc, jobb"},{"$f":"kod!C29","v":"Secret Of The Carp"},0,0,0,0,null,"nyurgaponty"]
["C6",{"$f":"kod!B29","v":"Felező-spicc, jobb"},{"$f":"kod!C29","v":"Secret Of The Carp"},0,0,0,0,{"$f":"MAX(J200:AZ200)","v":0},"koi ponty"]
["C6",{"$f":"kod!B29","v":"Felező-spicc, jobb"},{"$f":"kod!C29","v":"Secret Of The Carp"},0,0,0,0,null,"amur"]
["C6",{"$f":"kod!B29","v":"Felező-spicc, jobb"},{"$f":"kod!C29","v":"Secret Of The Carp"},0,0,0,0,null,"fekete amur"]
["C7",{"$f":"kod!B30","v":"II. sziget, bal"},{"$f":"kod!C30","v":"Quick Baits"},{"$f":"SUM(D204:D209)","v":195.24999999999997},{"$f":"SUM(E204:E209)","v":19},10.276315789473683,{"$f":"MAX(G204:G209)","v":16.8},{"$f":"H207","v":11.85},"ÖSSZESEN",{"$f":"COUNTIFS($J204:$BB209,\">9,99\",$J204:$BB209,\"<20\")","v":9},{"$f":"COUNTIFS($J204:$BB209,\">19,99\")","v":0},{"$f":"COUNTIFS($J207:$BA207,\">4,99\",$J207:$BA207,\"<9,99\")","v":0},{"$f":"COUNTIFS($J207:$BB207,\">9,99\")","v":1}]
["C7",{"$f":"kod!B30","v":"II. sziget, bal"},{"$f":"kod!C30","v":"Quick Baits"},{"$f":"SUM(J204:AZ204)","v":40.924999999999997},{"$f":"COUNT(J204:AZ204)","v":4},10.231249999999999,{"$f":"MAX(J204:BA204)","v":12.65},null,"tükörponty",9.6,9.6999999999999993,12.65,8.9749999999999996]
["C7",{"$f":"kod!B30","v":"II. sziget, bal"},{"$f":"kod!C30","v":"Quick Baits"},86.674999999999997,10,8.6675000000000004,{"$f":"MAX(J205:BA205)","v":14.875},null,"tőponty",9.9250000000000007,1.825,4.4749999999999996,7.05,7.7249999999999996,9.6999999999999993,8.3249999999999993,10.675000000000001,12.1,14.875]
["C7",{"$f":"kod!B30","v":"II. sziget, bal"},{"$f":"kod!C30","v":"Quick Baits"},55.8,4,13.95,{"$f":"MAX(J206:BA206)","v":16.8},null,"nyurgaponty",12.35,16.8,15.25,11.4]
["C7",{"$f":"kod!B30","v":"II. sziget, bal"},{"$f":"kod!C30","v":"Quick Baits"},11.85,1,11.85,null,{"$f":"MAX(J207:AZ207)","v":11.85},"koi ponty",11.85]
["C7",{"$f":"kod!B30","v":"II. sziget, bal"},{"$f":"kod!C30","v":"Quick Baits"},0,0,0,{"$f":"MAX(J208:BA208)","v":0},null,"amur"]
["C7",{"$f":"kod!B30","v":"II. sziget, bal"},{"$f":"kod!C30","v":"Quick Baits"},0,0,0,{"$f":"MAX(J209:BA209)","v":0},null,"fekete amur"]
["C8",{"$f":"kod!B31","v":"II. sziget, bal közép"},{"$f":"kod!C31","v":"Carp Team Blankbrothers"},{"$f":"SUM(D211:D216)","v":14.95},{"$f":"SUM(E211:E216)","v":2},7.4749999999999996,{"$f":"MAX(G211:G216)","v":7.5250000000000004},{"$f":"H214","v":0},"ÖSSZESEN",{"$f":"COUNTIFS($J211:$BB216,\">9,99\",$J211:$BB216,\"<20\")","v":0},{"$f":"COUNTIFS($J211:$BB216,\">19,99\")","v":0},{"$f":"COUNTIFS($J214:$BA214,\">4,99\",$J214:$BA214,\"<9,99\")","v":0},{"$f":"COUNTIFS($J214:$BB214,\">9,99\")","v":0}]
["C8",{"$f":"kod!B31","v":"II. sziget, bal közép"},{"$f":"kod!C31","v":"Carp Team Blankbrothers"},{"$f":"SUM(J211:AZ211)","v":7.5250000000000004},{"$f":"COUNT(J211:AZ211)","v":1},7.5250000000000004,{"$f":"MAX(J211:BA211)","v":7.5250000000000004},null,"tükörponty",7.5250000000000004]
["C8",{"$f":"kod!B31","v":"II. sziget, bal közép"},{"$f":"kod!C31","v":"Carp Team Blankbrothers"},7.4249999999999998,1,7.4249999999999998,{"$f":"MAX(J212:BA212)","v":7.4249999999999998},null,"tőponty",7.4249999999999998]
["C8",{"$f":"kod!B31","v":"II. sziget, bal közép"},{"$f":"kod!C31","v":"Carp Team Blankbrothers"},0,0,0,{"$f":"MAX(J213:BA213)","v":0},null,"nyurgaponty"]
["C8",{"$f":"kod!B31","v":"II. sziget, bal közép"},{"$f":"kod!C31","v":"Carp Team Blankbrothers"},0,0,0,null,{"$f":"MAX(J214:AZ214)","v":0},"koi ponty"]
["C8",{"$f":"kod!B31","v":"II. sziget, bal közép"},{"$f":"kod!C31","v":"Carp Team Blankbrothers"},0,0,0,{"$f":"MAX(J215:BA215)","v":0},null,"amur"]
["C8",{"$f":"kod!B31","v":"II. sziget, bal közép"},{"$f":"kod!C31","v":"Carp Team Blankbrothers"},0,0,0,{"$f":"MAX(J216:BA216)","v":0},null,"fekete amur"]
["C9",{"$f":"kod!B32","v":"II. sziget, közép"},{"$f":"kod!C32","v":"Bait Bait Hungary"},{"$f":"SUM(D218:D223)","v":84.2},{"$f":"SUM(E218:E223)","v":9},9.3555555555555561,{"$f":"MAX(G218:G223)","v":14.375},{"$f":"H221","v":0},"ÖSSZESEN",{"$f":"COUNTIFS($J218:$BB223,\">9,99\",$J218:$BB223,\"<20\")","v":3},{"$f":"COUNTIFS($J218:$BB223,\">19,99\")","v":0},{"$f":"COUNTIFS($J221:$BA221,\">4,99\",$J221:$BA221,\"<9,99\")","v":0},{"$f":"COUNTIFS($J221:$BB221,\">9,99\")","v":0}]
["C9",{"$f":"kod!B32","v":"II. sziget, közép"},{"$f":"kod!C32","v":"Bait Bait Hungary"},{"$f":"SUM(J218:AZ218)","v":20.125},{"$f":"COUNT(J218:AZ218)","v":2},10.0625,{"$f":"MAX(J218:BA218)","v":11.475},null,"tükörponty",11.475,8.65]
["C9",{"$f":"kod!B32","v":"II. sziget, közép"},{"$f":"kod!C32","v":"Bait Bait Hungary"},49.7,6,8.2833333333333332,{"$f":"MAX(J219:BA219)","v":10.425000000000001},null,"tőponty",7.55,10.425000000000001,7.2249999999999996,7.75,7.5750000000000002,9.1750000000000007]
["C9",{"$f":"kod!B32","v":"II. sziget, közép"},{"$f":"kod!C32","v":"Bait Bait Hungary"},14.375,1,14.375,{"$f":"MAX(J220:BA220)","v":14.375},null,"nyurgaponty",14.375]
["C9",{"$f":"kod!B32","v":"II. sziget, közép"},{"$f":"kod!C32","v":"Bait Bait Hungary"},0,0,0,null,{"$f":"MAX(J221:AZ221)","v":0},"koi ponty"]
["C9",{"$f":"kod!B32","v":"II. sziget, közép"},{"$f":"kod!C32","v":"Bait Bait Hungary"},0,0,0,{"$f":"MAX(J222:BA222)","v":0},null,"amur"]
["C9",{"$f":"kod!B32","v":"II. sziget, közép"},{"$f":"kod!C32","v":"Bait Bait Hungary"},0,0,0,{"$f":"MAX(J223:BA223)","v":0},null,"fekete amur"]
["C10",{"$f":"kod!B33","v":"II. sziget, jobb közép"},{"$f":"kod!C33","v":"Acroft Illusive Bait Me"},{"$f":"SUM(D225:D230)","v":32.200000000000003},{"$f":"SUM(E225:E230)","v":3},10.733333333333334,{"$f":"MAX(G225:G230)","v":16.125},{"$f":"H228","v":0},"ÖSSZESEN",{"$f":"COUNTIFS($J225:$BB230,\">9,99\",$J225:$BB230,\"<20\")","v":1},{"$f":"COUNTIFS($J225:$BB230,\">19,99\")","v":0},{"$f":"COUNTIFS($J228:$BA228,\">4,99\",$J228:$BA228,\"<9,99\")","v":0},{"$f":"COUNTIFS($J228:$BB228,\">9,99\")","v":0}]
["C10",{"$f":"kod!B33","v":"II. sziget, jobb közép"},{"$f":"kod!C33","v":"Acroft Illusive Bait Me"},{"$f":"SUM(J225:AZ225)","v":16.125},{"$f":"COUNT(J225:AZ225)","v":1},16.125,{"$f":"MAX(J225:BA225)","v":16.125},null,"tükörponty",16.125]
["C10",{"$f":"kod!B33","v":"II. sziget, jobb közép"},{"$f":"kod!C33","v":"Acroft Illusive Bait Me"},16.074999999999999,2,{"$f":"IF(E226=0,0,D226/E226)","v":8.0374999999999996},{"$f":"MAX(J226:BA226)","v":8.5},null,"tőponty",8.5,7.5750000000000002]
["C10",{"$f":"kod!B33","v":"II. sziget, jobb közép"},{"$f":"kod!C33","v":"Acroft Illusive Bait Me"},0,0,0,{"$f":"MAX(J227:BA227)","v":0},null,"nyurgaponty"]
["C10",{"$f":"kod!B33","v":"II. sziget, jobb közép"},{"$f":"kod!C33","v":"Acroft Illusive Bait Me"},0,0,0,null,{"$f":"MAX(J228:AZ228)","v":0},"koi ponty"]
["C10",{"$f":"kod!B33","v":"II. sziget, jobb közép"},{"$f":"kod!C33","v":"Acroft Illusive Bait Me"},0,0,0,{"$f":"MAX(J229:BA229)","v":0},null,"amur"]
["C10",{"$f":"kod!B33","v":"II. sziget, jobb közép"},{"$f":"kod!C33","v":"Acroft Illusive Bait Me"},0,0,0,{"$f":"MAX(J230:BA230)","v":0},null,"fekete amur"]
["C11",{"$f":"kod!B34","v":"II. sziget, jobb"},{"$f":"kod!C34","v":"Vaslui Carp Team"},{"$f":"SUM(D232:D237)","v":91.674999999999997},{"$f":"SUM(E232:E237)","v":16},5.7296874999999998,{"$f":"MAX(G232:G237)","v":12.45},{"$f":"H235","v":0},"ÖSSZESEN",{"$f":"COUNTIFS($J232:$BB237,\">9,99\",$J232:$BB237,\"<20\")","v":1},{"$f":"COUNTIFS($J232:$BB237,\">19,99\")","v":0},{"$f":"COUNTIFS($J235:$BA235,\">4,99\",$J235:$BA235,\"<9,99\")","v":0},{"$f":"COUNTIFS($J235:$BB235,\">9,99\")","v":0}]
["C11",{"$f":"kod!B34","v":"II. sziget, jobb"},{"$f":"kod!C34","v":"Vaslui Carp Team"},{"$f":"SUM(J232:AZ232)","v":36.099999999999994},{"$f":"COUNT(J232:AZ232)","v":5},7.2199999999999989,{"$f":"MAX(J232:BA232)","v":8.25},null,"tükörponty",8.25,6.5250000000000004,5.8,7.45,8.0749999999999993]
["C11",{"$f":"kod!B34","v":"II. sziget, jobb"},{"$f":"kod!C34","v":"Vaslui Carp Team"},55.575000000000003,11,5.0522727272727277,{"$f":"MAX(J233:BA233)","v":12.45},null,"tőponty",9.9499999999999993,6.0750000000000002,1.05,1.075,1.1000000000000001,3.4249999999999998,8.875,2.4,12.45,5.75,3.4249999999999998]
["C11",{"$f":"kod!B34","v":"II. sziget, jobb"},{"$f":"kod!C34","v":"Vaslui Carp Team"},0,0,0,{"$f":"MAX(J234:BA234)","v":0},null,"nyurgaponty"]
["C11",{"$f":"kod!B34","v":"II. sziget, jobb"},{"$f":"kod!C34","v":"Vaslui Carp Team"},0,0,0,null,{"$f":"MAX(J235:AZ235)","v":0},"koi ponty"]
["C11",{"$f":"kod!B34","v":"II. sziget, jobb"},{"$f":"kod!C34","v":"Vaslui Carp Team"},0,0,0,{"$f":"MAX(J236:BA236)","v":0},null,"amur"]
["C11",{"$f":"kod!B34","v":"II. sziget, jobb"},{"$f":"kod!C34","v":"Vaslui Carp Team"},0,0,0,{"$f":"MAX(J237:BA237)","v":0},null,"fekete amur"]
[null,null,"Összesen:",{"$f":"SUM(D7,D14,D21,D28,D35,D42,D49,D56,D63,D70,D77,D84,D91,D98,D105,D112,D119,D126,D133,D140,D147,D154,D161,D168,D175,D182,D189,D196,D203,D210,D217,D224,D231)","v":1660.7749999999999},{"$f":"SUM(E7,E14,E21,E28,E35,E42,E49,E56,E63,E70,E77,E84,E91,E98,E105,E112,E119,E126,E133,E140,E147,E154,E161,E168,E175,E182,E189,E196,E203,E210,E217,E224,E231)","v":191},{"$f":"IF(E238=0,0,D238/E238)","v":8.6951570680628265},null,null,null,{"$f":"SUM(J7,J14,J21,J28,J35,J42,J49,J56,J63,J70,J77,J84,J91,J98,J105,J112,J119,J126,J133,J140,J147,J154,J161,J168,J175,J182,J189,J196,J203,J210,J217,J224,J231)","v":58},{"$f":"SUM(K7,K14,K21,K28,K35,K42,K49,K56,K63,K70,K77,K84,K91,K98,K105,K112,K119,K126,K133,K140,K147,K154,K161,K168,K175,K182,K189,K196,K203,K210,K217,K224,K231)","v":1},{"$f":"SUM(L7,L14,L21,L28,L35,L42,L49,L56,L63,L70,L77,L84,L91,L98,L105,L112,L119,L126,L133,L140,L147,L154,L161,L168,L175,L182,L189,L196,L203,L210,L217,L224,L231)","v":4},4]

{"sheet":"szakasz8","index":9,"n_rows":238,"n_cols":22,"rows_kept":238,"cut":false,"hidden":false,"merged":[[0,0,0,12],[1,0,1,12],[2,0,2,12],[3,0,3,12],[4,0,4,12]]}
[{"$f":"IF(kod!E2>0,kod!E2,\"\")","v":"XXI. PROFESSZIONÁLIS BOJLIS EURÓPA KUPA (EPBC)"}]
[{"$f":"IF(kod!E3>0,kod!E3,\"\")","v":"XXXVI. MACONKA NEMZETKÖZI BOJLIS KUPA"}]
[{"$f":"IF(kod!E4>0,kod!E4,\"\")","v":"Maconka, 2025.06.15. - 2025.06.20."}]
[{"$f":"IF(kod!E5>0,kod!E5,\"\")","v":""}]
[{"$f":"kod!E14","v":"8. szakasz:  2025.06.19. 06:00 - 2025.06.19. 18:00"}]
["Rajthely","Elhelyezés","Csapatnév","Kg","Db","Átlag","BC","BkC","Faj","10-20 kg","20+ kg","koi 5-10 kg","koi 10+ kg"]
["A1",{"$f":"kod!B2","v":"Gát, mélyvíz"},{"$f":"kod!C2","v":"SBS - Halcatraz - TiZo Team"},{"$f":"SUM(D8:D13)","v":104.19999999999999},{"$f":"SUM(E8:E13)","v":8},{"$f":"IF(E7=0,0,D7/E7)","v":13.024999999999999},{"$f":"MAX(G8:G13)","v":16.625},{"$f":"H11","v":0},"ÖSSZESEN",{"$f":"COUNTIFS($J8:$BB13,\">9,99\",$J8:$BB13,\"<20\")","v":7},{"$f":"COUNTIFS($J8:$BB13,\">19,99\")","v":0},{"$f":"COUNTIFS($J11:$BA11,\">4,99\",$J11:$BA11,\"<9,99\")","v":0},{"$f":"COUNTIFS($J11:$BB11,\">9,99\")","v":0}]
["A1",{"$f":"kod!B2","v":"Gát, mélyvíz"},{"$f":"kod!C2","v":"SBS - Halcatraz - TiZo Team"},{"$f":"SUM(J8:AZ8)","v":14.574999999999999},{"$f":"COUNT(J8:AZ8)","v":1},{"$f":"IF(E8=0,0,D8/E8)","v":14.574999999999999},{"$f":"MAX(J8:BA8)","v":14.574999999999999},null,"tükörponty",14.574999999999999]
["A1",{"$f":"kod!B2","v":"Gát, mélyvíz"},{"$f":"kod!C2","v":"SBS - Halcatraz - TiZo Team"},28.9,2,14.45,{"$f":"MAX(J9:BA9)","v":14.675000000000001},null,"tőponty",14.225,14.675000000000001]
["A1",{"$f":"kod!B2","v":"Gát, mélyvíz"},{"$f":"kod!C2","v":"SBS - Halcatraz - TiZo Team"},29.95,2,14.975,16.625,null,"nyurgaponty",16.625,13.324999999999999]
["A1",{"$f":"kod!B2","v":"Gát, mélyvíz"},{"$f":"kod!C2","v":"SBS - Halcatraz - TiZo Team"},0,0,0,null,{"$f":"MAX(J11:AZ11)","v":0},"koi ponty"]
["A1",{"$f":"kod!B2","v":"Gát, mélyvíz"},{"$f":"kod!C2","v":"SBS - Halcatraz - TiZo Team"},13.5,1,13.5,13.5,null,"amur",13.5]
["A1",{"$f":"kod!B2","v":"Gát, mélyvíz"},{"$f":"kod!C2","v":"SBS - Halcatraz - TiZo Team"},17.274999999999999,2,8.6374999999999993,11.85,null,"fekete amur",11.85,5.4249999999999998]
["A2",{"$f":"kod!B3","v":"Gát, mélyvíz"},{"$f":"kod!C3","v":"Altstadt Carp Team"},{"$f":"SUM(D15:D20)","v":19.649999999999999},{"$f":"SUM(E15:E20)","v":2},9.8249999999999993,{"$f":"MAX(G15:G20)","v":12.25},{"$f":"H18","v":0},"ÖSSZESEN",{"$f":"COUNTIFS($J15:$BB20,\">9,99\",$J15:$BB20,\"<20\")","v":1},{"$f":"COUNTIFS($J15:$BB20,\">19,99\")","v":0},{"$f":"COUNTIFS($J18:$BA18,\">4,99\",$J18:$BA18,\"<9,99\")","v":0},{"$f":"COUNTIFS($J18:$BB18,\">9,99\")","v":0}]
["A2",{"$f":"kod!B3","v":"Gát, mélyvíz"},{"$f":"kod!C3","v":"Altstadt Carp Team"},{"$f":"SUM(J15:AZ15)","v":0},{"$f":"COUNT(J15:AZ15)","v":0},0,{"$f":"MAX(J15:BA15)","v":0},null,"tükörponty"]
["A2",{"$f":"kod!B3","v":"Gát, mélyvíz"},{"$f":"kod!C3","v":"Altstadt Carp Team"},0,0,0,{"$f":"MAX(J16:BA16)","v":0},null,"tőponty"]
["A2",{"$f":"kod!B3","v":"Gát, mélyvíz"},{"$f":"kod!C3","v":"Altstadt Carp Team"},19.649999999999999,2,9.8249999999999993,{"$f":"MAX(J17:BA17)","v":12.25},null,"nyurgaponty",12.25,7.4]
["A2",{"$f":"kod!B3","v":"Gát, mélyvíz"},{"$f":"kod!C3","v":"Altstadt Carp Team"},0,0,0,null,{"$f":"MAX(J18:AZ18)","v":0},"koi ponty"]
["A2",{"$f":"kod!B3","v":"Gát, mélyvíz"},{"$f":"kod!C3","v":"Altstadt Carp Team"},0,0,0,{"$f":"MAX(J19:BA19)","v":0},null,"amur"]
["A2",{"$f":"kod!B3","v":"Gát, mélyvíz"},{"$f":"kod!C3","v":"Altstadt Carp Team"},0,0,0,{"$f":"MAX(J20:BA20)","v":0},null,"fekete amur"]
["A3",{"$f":"kod!B4","v":"Gát, mélyvíz"},{"$f":"kod!C4","v":"Ferma De Crap Diosig"},{"$f":"SUM(D22:D27)","v":94.274999999999991},{"$f":"SUM(E22:E27)","v":8},11.784374999999999,{"$f":"MAX(G22:G27)","v":18.675000000000001},{"$f":"H25","v":0},"ÖSSZESEN",{"$f":"COUNTIFS($J22:$BB27,\">9,99\",$J22:$BB27,\"<20\")","v":5},{"$f":"COUNTIFS($J22:$BB27,\">19,99\")","v":0},{"$f":"COUNTIFS($J25:$BA25,\">4,99\",$J25:$BA25,\"<9,99\")","v":0},{"$f":"COUNTIFS($J25:$BB25,\">9,99\")","v":0}]
["A3",{"$f":"kod!B4","v":"Gát, mélyvíz"},{"$f":"kod!C4","v":"Ferma De Crap Diosig"},{"$f":"SUM(J22:AZ22)","v":8.85},{"$f":"COUNT(J22:AZ22)","v":1},8.85,{"$f":"MAX(J22:BA22)","v":8.85},null,"tükörponty",8.85]
["A3",{"$f":"kod!B4","v":"Gát, mélyvíz"},{"$f":"kod!C4","v":"Ferma De Crap Diosig"},18.675000000000001,1,18.675000000000001,{"$f":"MAX(J23:BA23)","v":18.675000000000001},null,"tőponty",18.675000000000001]
["A3",{"$f":"kod!B4","v":"Gát, mélyvíz"},{"$f":"kod!C4","v":"Ferma De Crap Diosig"},48.324999999999996,4,12.081249999999999,{"$f":"MAX(J24:BA24)","v":13.775},null,"nyurgaponty",12.725,9.1999999999999993,13.775,12.625]
["A3",{"$f":"kod!B4","v":"Gát, mélyvíz"},{"$f":"kod!C4","v":"Ferma De Crap Diosig"},0,0,0,null,{"$f":"MAX(J25:AZ25)","v":0},"koi ponty"]
["A3",{"$f":"kod!B4","v":"Gát, mélyvíz"},{"$f":"kod!C4","v":"Ferma De Crap Diosig"},18.425000000000001,2,9.2125000000000004,{"$f":"MAX(J26:BA26)","v":10.85},null,"amur",10.85,7.5750000000000002]
["A3",{"$f":"kod!B4","v":"Gát, mélyvíz"},{"$f":"kod!C4","v":"Ferma De Crap Diosig"},0,0,0,{"$f":"MAX(J27:BA27)","v":0},null,"fekete amur"]
["A4",{"$f":"kod!B5","v":"Gát, mélyvíz"},{"$f":"kod!C5","v":"Bull Tackle"},{"$f":"SUM(D29:D34)","v":63.150000000000006},{"$f":"SUM(E29:E34)","v":5},12.63,{"$f":"MAX(G29:G34)","v":22.6},{"$f":"H32","v":0},"ÖSSZESEN",{"$f":"COUNTIFS($J29:$BB34,\">9,99\",$J29:$BB34,\"<20\")","v":1},{"$f":"COUNTIFS($J29:$BB34,\">19,99\")","v":1},{"$f":"COUNTIFS($J32:$BA32,\">4,99\",$J32:$BA32,\"<9,99\")","v":0},{"$f":"COUNTIFS($J32:$BB32,\">9,99\")","v":0}]
["A4",{"$f":"kod!B5","v":"Gát, mélyvíz"},{"$f":"kod!C5","v":"Bull Tackle"},{"$f":"SUM(J29:AZ29)","v":21.875},{"$f":"COUNT(J29:AZ29)","v":2},10.9375,{"$f":"MAX(J29:BA29)","v":12.95},null,"tükörponty",12.95,8.9250000000000007]
["A4",{"$f":"kod!B5","v":"Gát, mélyvíz"},{"$f":"kod!C5","v":"Bull Tackle"},0,0,0,{"$f":"MAX(J30:BA30)","v":0},null,"tőponty"]
["A4",{"$f":"kod!B5","v":"Gát, mélyvíz"},{"$f":"kod!C5","v":"Bull Tackle"},41.275000000000006,3,13.758333333333335,{"$f":"MAX(J31:BA31)","v":22.6},null,"nyurgaponty",9.875,8.8000000000000007,22.6]
["A4",{"$f":"kod!B5","v":"Gát, mélyvíz"},{"$f":"kod!C5","v":"Bull Tackle"},0,0,0,null,{"$f":"MAX(J32:AZ32)","v":0},"koi ponty"]
["A4",{"$f":"kod!B5","v":"Gát, mélyvíz"},{"$f":"kod!C5","v":"Bull Tackle"},0,0,0,{"$f":"MAX(J33:BA33)","v":0},null,"amur"]
["A4",{"$f":"kod!B5","v":"Gát, mélyvíz"},{"$f":"kod!C5","v":"Bull Tackle"},0,0,0,{"$f":"MAX(J34:BA34)","v":0},null,"fekete amur"]
["A5",{"$f":"kod!B6","v":"Gát, mélyvíz"},{"$f":"kod!C6","v":"AHFSZ Fishing Team"},{"$f":"SUM(D36:D41)","v":0},{"$f":"SUM(E36:E41)","v":0},0,{"$f":"MAX(G36:G41)","v":0},{"$f":"H39","v":0},"ÖSSZESEN",{"$f":"COUNTIFS($J36:$BB41,\">9,99\",$J36:$BB41,\"<20\")","v":0},{"$f":"COUNTIFS($J36:$BB41,\">19,99\")","v":0},{"$f":"COUNTIFS($J39:$BA39,\">4,99\",$J39:$BA39,\"<9,99\")","v":0},{"$f":"COUNTIFS($J39:$BB39,\">9,99\")","v":0}]
["A5",{"$f":"kod!B6","v":"Gát, mélyvíz"},{"$f":"kod!C6","v":"AHFSZ Fishing Team"},{"$f":"SUM(J36:AZ36)","v":0},{"$f":"COUNT(J36:AZ36)","v":0},0,{"$f":"MAX(J36:BA36)","v":0},null,"tükörponty"]
["A5",{"$f":"kod!B6","v":"Gát, mélyvíz"},{"$f":"kod!C6","v":"AHFSZ Fishing Team"},0,0,0,{"$f":"MAX(J37:BA37)","v":0},null,"tőponty"]
["A5",{"$f":"kod!B6","v":"Gát, mélyvíz"},{"$f":"kod!C6","v":"AHFSZ Fishing Team"},0,0,0,{"$f":"MAX(J38:BA38)","v":0},null,"nyurgaponty"]
["A5",{"$f":"kod!B6","v":"Gát, mélyvíz"},{"$f":"kod!C6","v":"AHFSZ Fishing Team"},0,0,0,null,{"$f":"MAX(J39:AZ39)","v":0},"koi ponty"]
["A5",{"$f":"kod!B6","v":"Gát, mélyvíz"},{"$f":"kod!C6","v":"AHFSZ Fishing Team"},0,0,0,{"$f":"MAX(J40:BA40)","v":0},null,"amur"]
["A5",{"$f":"kod!B6","v":"Gát, mélyvíz"},{"$f":"kod!C6","v":"AHFSZ Fishing Team"},0,0,0,{"$f":"MAX(J41:BA41)","v":0},null,"fekete amur"]
["A6",{"$f":"kod!B7","v":"Nyári kikötő, belső"},{"$f":"kod!C7","v":"Black Carp Team"},{"$f":"SUM(D43:D48)","v":42.125},{"$f":"SUM(E43:E48)","v":5},8.4250000000000007,{"$f":"MAX(G43:G48)","v":17.074999999999999},{"$f":"H46","v":0},"ÖSSZESEN",{"$f":"COUNTIFS($J43:$BB48,\">9,99\",$J43:$BB48,\"<20\")","v":1},{"$f":"COUNTIFS($J43:$BB48,\">19,99\")","v":0},{"$f":"COUNTIFS($J46:$BA46,\">4,99\",$J46:$BA46,\"<9,99\")","v":0},{"$f":"COUNTIFS($J46:$BB46,\">9,99\")","v":0}]
["A6",{"$f":"kod!B7","v":"Nyári kikötő, belső"},{"$f":"kod!C7","v":"Black Carp Team"},{"$f":"SUM(J43:AZ43)","v":0},{"$f":"COUNT(J43:AZ43)","v":0},0,{"$f":"MAX(J43:BA43)","v":0},null,"tükörponty"]
["A6",{"$f":"kod!B7","v":"Nyári kikötő, belső"},{"$f":"kod!C7","v":"Black Carp Team"},9.875,1,9.875,{"$f":"MAX(J44:BA44)","v":9.875},null,"tőponty",9.875]
["A6",{"$f":"kod!B7","v":"Nyári kikötő, belső"},{"$f":"kod!C7","v":"Black Carp Team"},25.475000000000001,2,12.737500000000001,{"$f":"MAX(J45:BA45)","v":17.074999999999999},null,"nyurgaponty",17.074999999999999,8.4]
["A6",{"$f":"kod!B7","v":"Nyári kikötő, belső"},{"$f":"kod!C7","v":"Black Carp Team"},0,0,0,null,{"$f":"MAX(J46:AZ46)","v":0},"koi ponty"]
["A6",{"$f":"kod!B7","v":"Nyári kikötő, belső"},{"$f":"kod!C7","v":"Black Carp Team"},0,0,0,{"$f":"MAX(J47:BA47)","v":0},null,"amur"]
["A6",{"$f":"kod!B7","v":"Nyári kikötő, belső"},{"$f":"kod!C7","v":"Black Carp Team"},6.7750000000000004,2,3.3875000000000002,{"$f":"MAX(J48:BA48)","v":3.55},null,"fekete amur",3.2250000000000001,3.55]
["A7",{"$f":"kod!B8","v":"Nyári kikötő, közép"},{"$f":"kod!C8","v":"USA & Mivado Carp Team"},{"$f":"SUM(D50:D55)","v":62.774999999999999},{"$f":"SUM(E50:E55)","v":6},10.4625,{"$f":"MAX(G50:G55)","v":17.925000000000001},{"$f":"H53","v":0},"ÖSSZESEN",{"$f":"COUNTIFS($J50:$BB55,\">9,99\",$J50:$BB55,\"<20\")","v":3},{"$f":"COUNTIFS($J50:$BB55,\">19,99\")","v":0},{"$f":"COUNTIFS($J53:$BA53,\">4,99\",$J53:$BA53,\"<9,99\")","v":0},{"$f":"COUNTIFS($J53:$BB53,\">9,99\")","v":0}]
["A7",{"$f":"kod!B8","v":"Nyári kikötő, közép"},{"$f":"kod!C8","v":"USA & Mivado Carp Team"},{"$f":"SUM(J50:AZ50)","v":0},{"$f":"COUNT(J50:AZ50)","v":0},0,{"$f":"MAX(J50:BA50)","v":0},null,"tükörponty"]
["A7",{"$f":"kod!B8","v":"Nyári kikötő, közép"},{"$f":"kod!C8","v":"USA & Mivado Carp Team"},0,0,0,{"$f":"MAX(J51:BA51)","v":0},null,"tőponty"]
["A7",{"$f":"kod!B8","v":"Nyári kikötő, közép"},{"$f":"kod!C8","v":"USA & Mivado Carp Team"},0,0,0,{"$f":"MAX(J52:BA52)","v":0},null,"nyurgaponty"]
["A7",{"$f":"kod!B8","v":"Nyári kikötő, közép"},{"$f":"kod!C8","v":"USA & Mivado Carp Team"},0,0,0,null,{"$f":"MAX(J53:AZ53)","v":0},"koi ponty"]
["A7",{"$f":"kod!B8","v":"Nyári kikötő, közép"},{"$f":"kod!C8","v":"USA & Mivado Carp Team"},35.5,3,11.833333333333334,{"$f":"MAX(J54:BA54)","v":17.25},null,"amur",17.25,10.525,7.7249999999999996]
["A7",{"$f":"kod!B8","v":"Nyári kikötő, közép"},{"$f":"kod!C8","v":"USA & Mivado Carp Team"},27.274999999999999,3,9.0916666666666668,{"$f":"MAX(J55:BA55)","v":17.925000000000001},null,"fekete amur",5.7,3.65,17.925000000000001]
["A8",{"$f":"kod!B9","v":"Nyári kikötő, külső"},{"$f":"kod!C9","v":"Ózdi Sporthorgász Egyesület"},{"$f":"SUM(D57:D62)","v":64.599999999999994},{"$f":"SUM(E57:E62)","v":8},8.0749999999999993,{"$f":"MAX(G57:G62)","v":15.75},{"$f":"H60","v":0},"ÖSSZESEN",{"$f":"COUNTIFS($J57:$BB62,\">9,99\",$J57:$BB62,\"<20\")","v":3},{"$f":"COUNTIFS($J57:$BB62,\">19,99\")","v":0},{"$f":"COUNTIFS($J60:$BA60,\">4,99\",$J60:$BA60,\"<9,99\")","v":0},{"$f":"COUNTIFS($J60:$BB60,\">9,99\")","v":0}]
["A8",{"$f":"kod!B9","v":"Nyári kikötő, külső"},{"$f":"kod!C9","v":"Ózdi Sporthorgász Egyesület"},{"$f":"SUM(J57:AZ57)","v":0},{"$f":"COUNT(J57:AZ57)","v":0},0,{"$f":"MAX(J57:BA57)","v":0},null,"tükörponty"]
["A8",{"$f":"kod!B9","v":"Nyári kikötő, külső"},{"$f":"kod!C9","v":"Ózdi Sporthorgász Egyesület"},23.299999999999997,4,5.8249999999999993,{"$f":"MAX(J58:BA58)","v":9.5250000000000004},null,"tőponty",8.2750000000000004,3.55,1.95,9.5250000000000004]
["A8",{"$f":"kod!B9","v":"Nyári kikötő, külső"},{"$f":"kod!C9","v":"Ózdi Sporthorgász Egyesület"},37.450000000000003,3,12.483333333333334,{"$f":"MAX(J59:BA59)","v":15.75},null,"nyurgaponty",15.75,11.35,10.35]
["A8",{"$f":"kod!B9","v":"Nyári kikötő, külső"},{"$f":"kod!C9","v":"Ózdi Sporthorgász Egyesület"},0,0,0,null,{"$f":"MAX(J60:AZ60)","v":0},"koi ponty"]
["A8",{"$f":"kod!B9","v":"Nyári kikötő, külső"},{"$f":"kod!C9","v":"Ózdi Sporthorgász Egyesület"},0,0,0,{"$f":"MAX(J61:BA61)","v":0},null,"amur"]
["A8",{"$f":"kod!B9","v":"Nyári kikötő, külső"},{"$f":"kod!C9","v":"Ózdi Sporthorgász Egyesület"},3.85,1,3.85,{"$f":"MAX(J62:BA62)","v":3.85},null,"fekete amur",3.85]
["A9",{"$f":"kod!B10","v":"I. sziget, bal külső"},{"$f":"kod!C10","v":"Kártékony Carp Team"},{"$f":"SUM(D64:D69)","v":66.349999999999994},{"$f":"SUM(E64:E69)","v":9},7.3722222222222218,{"$f":"MAX(G64:G69)","v":9.85},{"$f":"H67","v":9.8000000000000007},"ÖSSZESEN",{"$f":"COUNTIFS($J64:$BB69,\">9,99\",$J64:$BB69,\"<20\")","v":0},{"$f":"COUNTIFS($J64:$BB69,\">19,99\")","v":0},{"$f":"COUNTIFS($J67:$BA67,\">4,99\",$J67:$BA67,\"<9,99\")","v":2},{"$f":"COUNTIFS($J67:$BB67,\">9,99\")","v":0}]
["A9",{"$f":"kod!B10","v":"I. sziget, bal külső"},{"$f":"kod!C10","v":"Kártékony Carp Team"},{"$f":"SUM(J64:AZ64)","v":14.824999999999999},{"$f":"COUNT(J64:AZ64)","v":2},7.4124999999999996,{"$f":"MAX(J64:BA64)","v":8.85},null,"tükörponty",8.85,5.9749999999999996]
["A9",{"$f":"kod!B10","v":"I. sziget, bal külső"},{"$f":"kod!C10","v":"Kártékony Carp Team"},24.15,4,6.0374999999999996,{"$f":"MAX(J65:BA65)","v":7.9},null,"tőponty",4.1749999999999998,6.1749999999999998,7.9,5.9]
["A9",{"$f":"kod!B10","v":"I. sziget, bal külső"},{"$f":"kod!C10","v":"Kártékony Carp Team"},9.85,1,9.85,{"$f":"MAX(J66:BA66)","v":9.85},null,"nyurgaponty",9.85]
["A9",{"$f":"kod!B10","v":"I. sziget, bal külső"},{"$f":"kod!C10","v":"Kártékony Carp Team"},17.524999999999999,2,8.7624999999999993,null,{"$f":"MAX(J67:AZ67)","v":9.8000000000000007},"koi ponty",7.7249999999999996,9.8000000000000007]
["A9",{"$f":"kod!B10","v":"I. sziget, bal külső"},{"$f":"kod!C10","v":"Kártékony Carp Team"},0,0,0,{"$f":"MAX(J68:BA68)","v":0},null,"amur"]
["A9",{"$f":"kod!B10","v":"I. sziget, bal külső"},{"$f":"kod!C10","v":"Kártékony Carp Team"},0,0,0,{"$f":"MAX(J69:BA69)","v":0},null,"fekete amur"]
["A10",{"$f":"kod!B11","v":"I. sziget, bal"},{"$f":"kod!C11","v":"Team 5 Austria"},{"$f":"SUM(D71:D76)","v":13.45},{"$f":"SUM(E71:E76)","v":2},6.7249999999999996,{"$f":"MAX(G71:G76)","v":7.55},{"$f":"H74","v":0},"ÖSSZESEN",{"$f":"COUNTIFS($J71:$BB76,\">9,99\",$J71:$BB76,\"<20\")","v":0},{"$f":"COUNTIFS($J71:$BB76,\">19,99\")","v":0},{"$f":"COUNTIFS($J74:$BA74,\">4,99\",$J74:$BA74,\"<9,99\")","v":0},{"$f":"COUNTIFS($J74:$BB74,\">9,99\")","v":0}]
["A10",{"$f":"kod!B11","v":"I. sziget, bal"},{"$f":"kod!C11","v":"Team 5 Austria"},{"$f":"SUM(J71:AZ71)","v":7.55},{"$f":"COUNT(J71:AZ71)","v":1},7.55,{"$f":"MAX(J71:BA71)","v":7.55},null,"tükörponty",7.55]
["A10",{"$f":"kod!B11","v":"I. sziget, bal"},{"$f":"kod!C11","v":"Team 5 Austria"},5.9,1,{"$f":"IF(E72=0,0,D72/E72)","v":5.9},{"$f":"MAX(J72:BA72)","v":5.9},null,"tőponty",5.9]
["A10",{"$f":"kod!B11","v":"I. sziget, bal"},{"$f":"kod!C11","v":"Team 5 Austria"},0,0,0,{"$f":"MAX(J73:BA73)","v":0},null,"nyurgaponty"]
["A10",{"$f":"kod!B11","v":"I. sziget, bal"},{"$f":"kod!C11","v":"Team 5 Austria"},0,0,0,null,{"$f":"MAX(J74:AZ74)","v":0},"koi ponty"]
["A10",{"$f":"kod!B11","v":"I. sziget, bal"},{"$f":"kod!C11","v":"Team 5 Austria"},0,0,0,{"$f":"MAX(J75:BA75)","v":0},null,"amur"]
["A10",{"$f":"kod!B11","v":"I. sziget, bal"},{"$f":"kod!C11","v":"Team 5 Austria"},0,0,0,{"$f":"MAX(J76:BA76)","v":0},null,"fekete amur"]
["A11",{"$f":"kod!B12","v":"I. sziget, bal közép"},{"$f":"kod!C12","v":"Invader's Team Poland"},{"$f":"SUM(D78:D83)","v":37.75},{"$f":"SUM(E78:E83)","v":6},6.291666666666667,{"$f":"MAX(G78:G83)","v":15.65},{"$f":"H81","v":0},"ÖSSZESEN",{"$f":"COUNTIFS($J78:$BB83,\">9,99\",$J78:$BB83,\"<20\")","v":1},{"$f":"COUNTIFS($J78:$BB83,\">19,99\")","v":0},{"$f":"COUNTIFS($J81:$BA81,\">4,99\",$J81:$BA81,\"<9,99\")","v":0},{"$f":"COUNTIFS($J81:$BB81,\">9,99\")","v":0}]
["A11",{"$f":"kod!B12","v":"I. sziget, bal közép"},{"$f":"kod!C12","v":"Invader's Team Poland"},{"$f":"SUM(J78:AZ78)","v":0},{"$f":"COUNT(J78:AZ78)","v":0},0,{"$f":"MAX(J78:BA78)","v":0},null,"tükörponty"]
["A11",{"$f":"kod!B12","v":"I. sziget, bal közép"},{"$f":"kod!C12","v":"Invader's Team Poland"},15.75,3,5.25,{"$f":"MAX(J79:BA79)","v":6.5750000000000002},null,"tőponty",6.5750000000000002,3.375,5.8]
["A11",{"$f":"kod!B12","v":"I. sziget, bal közép"},{"$f":"kod!C12","v":"Invader's Team Poland"},15.65,1,15.65,{"$f":"MAX(J80:BA80)","v":15.65},null,"nyurgaponty",15.65]
["A11",{"$f":"kod!B12","v":"I. sziget, bal közép"},{"$f":"kod!C12","v":"Invader's Team Poland"},0,0,0,null,{"$f":"MAX(J81:AZ81)","v":0},"koi ponty"]
["A11",{"$f":"kod!B12","v":"I. sziget, bal közép"},{"$f":"kod!C12","v":"Invader's Team Poland"},0,0,0,{"$f":"MAX(J82:BA82)","v":0},null,"amur"]
["A11",{"$f":"kod!B12","v":"I. sziget, bal közép"},{"$f":"kod!C12","v":"Invader's Team Poland"},6.35,2,3.1749999999999998,{"$f":"MAX(J83:BA83)","v":3.35},null,"fekete amur",3,3.35]
["B1",{"$f":"kod!B13","v":"Gát, közepes víz"},{"$f":"kod!C13","v":"Tata Nitu Carp Team"},{"$f":"SUM(D85:D90)","v":30.4},{"$f":"SUM(E85:E90)","v":6},{"$f":"IF(E84=0,0,D84/E84)","v":5.0666666666666664},{"$f":"MAX(G85:G90)","v":11.324999999999999},{"$f":"H88","v":0},"ÖSSZESEN",{"$f":"COUNTIFS($J85:$BB90,\">9,99\",$J85:$BB90,\"<20\")","v":1},{"$f":"COUNTIFS($J85:$BB90,\">19,99\")","v":0},{"$f":"COUNTIFS($J88:$BA88,\">4,99\",$J88:$BA88,\"<9,99\")","v":0},{"$f":"COUNTIFS($J88:$BB88,\">9,99\")","v":0}]
["B1",{"$f":"kod!B13","v":"Gát, közepes víz"},{"$f":"kod!C13","v":"Tata Nitu Carp Team"},{"$f":"SUM(J85:AZ85)","v":11.324999999999999},{"$f":"COUNT(J85:AZ85)","v":1},{"$f":"IF(E85=0,0,D85/E85)","v":11.324999999999999},{"$f":"MAX(J85:BA85)","v":11.324999999999999},null,"tükörponty",11.324999999999999]
["B1",{"$f":"kod!B13","v":"Gát, közepes víz"},{"$f":"kod!C13","v":"Tata Nitu Carp Team"},10.25,3,3.4166666666666665,{"$f":"MAX(J86:BA86)","v":6.5250000000000004},null,"tőponty",6.5250000000000004,1.325,2.4]
["B1",{"$f":"kod!B13","v":"Gát, közepes víz"},{"$f":"kod!C13","v":"Tata Nitu Carp Team"},4.9749999999999996,1,4.9749999999999996,{"$f":"MAX(J87:BA87)","v":4.9749999999999996},null,"nyurgaponty",4.9749999999999996]
["B1",{"$f":"kod!B13","v":"Gát, közepes víz"},{"$f":"kod!C13","v":"Tata Nitu Carp Team"},0,0,0,null,{"$f":"MAX(J88:AZ88)","v":0},"koi ponty"]
["B1",{"$f":"kod!B13","v":"Gát, közepes víz"},{"$f":"kod!C13","v":"Tata Nitu Carp Team"},3.85,1,3.85,{"$f":"MAX(J89:BA89)","v":3.85},null,"amur",3.85]
["B1",{"$f":"kod!B13","v":"Gát, közepes víz"},{"$f":"kod!C13","v":"Tata Nitu Carp Team"},0,0,0,{"$f":"MAX(J90:BA90)","v":0},null,"fekete amur"]
["B2",{"$f":"kod!B14","v":"Gát, közepes víz"},{"$f":"kod!C14","v":"Slovakia Carp Team"},{"$f":"SUM(D92:D97)","v":63.025000000000006},{"$f":"SUM(E92:E97)","v":5},12.605,{"$f":"MAX(G92:G97)","v":20.425000000000001},{"$f":"H95","v":0},"ÖSSZESEN",{"$f":"COUNTIFS($J92:$BB97,\">9,99\",$J92:$BB97,\"<20\")","v":2},{"$f":"COUNTIFS($J92:$BB97,\">19,99\")","v":1},{"$f":"COUNTIFS($J95:$BA95,\">4,99\",$J95:$BA95,\"<9,99\")","v":0},{"$f":"COUNTIFS($J95:$BB95,\">9,99\")","v":0}]
["B2",{"$f":"kod!B14","v":"Gát, közepes víz"},{"$f":"kod!C14","v":"Slovakia Carp Team"},{"$f":"SUM(J92:AZ92)","v":6.85},{"$f":"COUNT(J92:AZ92)","v":1},6.85,{"$f":"MAX(J92:BA92)","v":6.85},null,"tükörponty",6.85]
["B2",{"$f":"kod!B14","v":"Gát, közepes víz"},{"$f":"kod!C14","v":"Slovakia Carp Team"},34.875,2,17.4375,{"$f":"MAX(J93:BA93)","v":20.425000000000001},null,"tőponty",20.425000000000001,14.45]
["B2",{"$f":"kod!B14","v":"Gát, közepes víz"},{"$f":"kod!C14","v":"Slovakia Carp Team"},9.5,1,9.5,{"$f":"MAX(J94:BA94)","v":9.5},null,"nyurgaponty",9.5]
["B2",{"$f":"kod!B14","v":"Gát, közepes víz"},{"$f":"kod!C14","v":"Slovakia Carp Team"},0,0,0,null,{"$f":"MAX(J95:AZ95)","v":0},"koi ponty"]
["B2",{"$f":"kod!B14","v":"Gát, közepes víz"},{"$f":"kod!C14","v":"Slovakia Carp Team"},11.8,1,11.8,{"$f":"MAX(J96:BA96)","v":11.8},null,"amur",11.8]
["B2",{"$f":"kod!B14","v":"Gát, közepes víz"},{"$f":"kod!C14","v":"Slovakia Carp Team"},0,0,0,{"$f":"MAX(J97:BA97)","v":0},null,"fekete amur"]
["B3",{"$f":"kod!B15","v":"Gát, közepes víz"},{"$f":"kod!C15","v":"WLC Hungary "},{"$f":"SUM(D99:D104)","v":161.85},{"$f":"SUM(E99:E104)","v":20},8.0924999999999994,{"$f":"MAX(G99:G104)","v":16.675000000000001},{"$f":"H102","v":0},"ÖSSZESEN",{"$f":"COUNTIFS($J99:$BB104,\">9,99\",$J99:$BB104,\"<20\")","v":3},{"$f":"COUNTIFS($J99:$BB104,\">19,99\")","v":0},{"$f":"COUNTIFS($J102:$BA102,\">4,99\",$J102:$BA102,\"<9,99\")","v":0},{"$f":"COUNTIFS($J102:$BB102,\">9,99\")","v":0}]
["B3",{"$f":"kod!B15","v":"Gát, közepes víz"},{"$f":"kod!C15","v":"WLC Hungary "},{"$f":"SUM(J99:AZ99)","v":34.75},{"$f":"COUNT(J99:AZ99)","v":5},6.95,{"$f":"MAX(J99:BA99)","v":12.15},null,"tükörponty",12.15,4,6.75,9.85,2]
["B3",{"$f":"kod!B15","v":"Gát, közepes víz"},{"$f":"kod!C15","v":"WLC Hungary "},10.275,2,5.1375000000000002,{"$f":"MAX(J100:BA100)","v":6.2750000000000004},null,"tőponty",4,6.2750000000000004]
["B3",{"$f":"kod!B15","v":"Gát, közepes víz"},{"$f":"kod!C15","v":"WLC Hungary "},90.3,10,9.0299999999999994,{"$f":"MAX(J101:BA101)","v":16.675000000000001},null,"nyurgaponty",9.0500000000000007,9.3249999999999993,7.5250000000000004,8.875,8.0500000000000007,8.4499999999999993,7.4,5.45,16.675000000000001,9.5]
["B3",{"$f":"kod!B15","v":"Gát, közepes víz"},{"$f":"kod!C15","v":"WLC Hungary "},0,0,0,null,{"$f":"MAX(J102:AZ102)","v":0},"koi ponty"]
["B3",{"$f":"kod!B15","v":"Gát, közepes víz"},{"$f":"kod!C15","v":"WLC Hungary "},22.975000000000001,2,11.487500000000001,{"$f":"MAX(J103:BA103)","v":15.45},null,"amur",7.5250000000000004,15.45]
["B3",{"$f":"kod!B15","v":"Gát, közepes víz"},{"$f":"kod!C15","v":"WLC Hungary "},3.55,1,3.55,{"$f":"MAX(J104:BA104)","v":3.55},null,"fekete amur",3.55]
["B4",{"$f":"kod!B16","v":"Gát, közepes víz"},{"$f":"kod!C16","v":"Barfin Line NSD Bulgaria"},{"$f":"SUM(D106:D111)","v":80.774999999999991},{"$f":"SUM(E106:E111)","v":8},10.096874999999999,{"$f":"MAX(G106:G111)","v":13.725},{"$f":"H109","v":0},"ÖSSZESEN",{"$f":"COUNTIFS($J106:$BB111,\">9,99\",$J106:$BB111,\"<20\")","v":4},{"$f":"COUNTIFS($J106:$BB111,\">19,99\")","v":0},{"$f":"COUNTIFS($J109:$BA109,\">4,99\",$J109:$BA109,\"<9,99\")","v":0},{"$f":"COUNTIFS($J109:$BB109,\">9,99\")","v":0}]
["B4",{"$f":"kod!B16","v":"Gát, közepes víz"},{"$f":"kod!C16","v":"Barfin Line NSD Bulgaria"},{"$f":"SUM(J106:AZ106)","v":32.049999999999997},{"$f":"COUNT(J106:AZ106)","v":3},10.683333333333332,{"$f":"MAX(J106:BA106)","v":12.425000000000001},null,"tükörponty",12.425000000000001,7.6,12.025]
["B4",{"$f":"kod!B16","v":"Gát, közepes víz"},{"$f":"kod!C16","v":"Barfin Line NSD Bulgaria"},9.85,1,9.85,9.85,null,"tőponty",9.85]
["B4",{"$f":"kod!B16","v":"Gát, közepes víz"},{"$f":"kod!C16","v":"Barfin Line NSD Bulgaria"},0,0,0,0,null,"nyurgaponty"]
["B4",{"$f":"kod!B16","v":"Gát, közepes víz"},{"$f":"kod!C16","v":"Barfin Line NSD Bulgaria"},0,0,0,0,{"$f":"MAX(J109:AZ109)","v":0},"koi ponty"]
["B4",{"$f":"kod!B16","v":"Gát, közepes víz"},{"$f":"kod!C16","v":"Barfin Line NSD Bulgaria"},20.924999999999997,2,10.462499999999999,12.725,null,"amur",12.725,8.1999999999999993]
["B4",{"$f":"kod!B16","v":"Gát, közepes víz"},{"$f":"kod!C16","v":"Barfin Line NSD Bulgaria"},17.95,2,8.9749999999999996,13.725,null,"fekete amur",4.2249999999999996,13.725]
["B5",{"$f":"kod!B17","v":"Gát, közepes víz"},{"$f":"kod!C17","v":"Lutra Carp Hunters"},{"$f":"SUM(D113:D118)","v":5.7},{"$f":"SUM(E113:E118)","v":1},5.7,{"$f":"MAX(G113:G118)","v":5.7},{"$f":"H116","v":0},"ÖSSZESEN",{"$f":"COUNTIFS($J113:$BB118,\">9,99\",$J113:$BB118,\"<20\")","v":0},{"$f":"COUNTIFS($J113:$BB118,\">19,99\")","v":0},{"$f":"COUNTIFS($J116:$BA116,\">4,99\",$J116:$BA116,\"<9,99\")","v":0},{"$f":"COUNTIFS($J116:$BB116,\">9,99\")","v":0}]
["B5",{"$f":"kod!B17","v":"Gát, közepes víz"},{"$f":"kod!C17","v":"Lutra Carp Hunters"},{"$f":"SUM(J113:AZ113)","v":5.7},{"$f":"COUNT(J113:AZ113)","v":1},5.7,{"$f":"MAX(J113:BA113)","v":5.7},null,"tükörponty",5.7]
["B5",{"$f":"kod!B17","v":"Gát, közepes víz"},{"$f":"kod!C17","v":"Lutra Carp Hunters"},0,0,0,{"$f":"MAX(J114:BA114)","v":0},null,"tőponty"]
["B5",{"$f":"kod!B17","v":"Gát, közepes víz"},{"$f":"kod!C17","v":"Lutra Carp Hunters"},0,0,0,{"$f":"MAX(J115:BA115)","v":0},null,"nyurgaponty"]
["B5",{"$f":"kod!B17","v":"Gát, közepes víz"},{"$f":"kod!C17","v":"Lutra Carp Hunters"},0,0,0,null,{"$f":"MAX(J116:AZ116)","v":0},"koi ponty"]
["B5",{"$f":"kod!B17","v":"Gát, közepes víz"},{"$f":"kod!C17","v":"Lutra Carp Hunters"},0,0,0,{"$f":"MAX(J117:BA117)","v":0},null,"amur"]
["B5",{"$f":"kod!B17","v":"Gát, közepes víz"},{"$f":"kod!C17","v":"Lutra Carp Hunters"},0,0,0,{"$f":"MAX(J118:BA118)","v":0},null,"fekete amur"]
["B6",{"$f":"kod!B18","v":"Gát, közepes víz"},{"$f":"kod!C18","v":"Xtra Carp Team"},{"$f":"SUM(D120:D125)","v":93.825000000000017},{"$f":"SUM(E120:E125)","v":7},13.40357142857143,{"$f":"MAX(G120:G125)","v":15.025},{"$f":"H123","v":16.100000000000001},"ÖSSZESEN",{"$f":"COUNTIFS($J120:$BB125,\">9,99\",$J120:$BB125,\"<20\")","v":7},{"$f":"COUNTIFS($J120:$BB125,\">19,99\")","v":0},{"$f":"COUNTIFS($J123:$BA123,\">4,99\",$J123:$BA123,\"<9,99\")","v":0},{"$f":"COUNTIFS($J123:$BB123,\">9,99\")","v":1}]
["B6",{"$f":"kod!B18","v":"Gát, közepes víz"},{"$f":"kod!C18","v":"Xtra Carp Team"},{"$f":"SUM(J120:AZ120)","v":0},{"$f":"COUNT(J120:AZ120)","v":0},0,{"$f":"MAX(J120:BA120)","v":0},null,"tükörponty"]
["B6",{"$f":"kod!B18","v":"Gát, közepes víz"},{"$f":"kod!C18","v":"Xtra Carp Team"},11.95,1,11.95,{"$f":"MAX(J121:BA121)","v":11.95},null,"tőponty",11.95]
["B6",{"$f":"kod!B18","v":"Gát, közepes víz"},{"$f":"kod!C18","v":"Xtra Carp Team"},65.775000000000006,5,13.155000000000001,{"$f":"MAX(J122:BA122)","v":15.025},null,"nyurgaponty",12.574999999999999,13.574999999999999,12.1,12.5,15.025]
["B6",{"$f":"kod!B18","v":"Gát, közepes víz"},{"$f":"kod!C18","v":"Xtra Carp Team"},16.100000000000001,1,16.100000000000001,null,{"$f":"MAX(J123:AZ123)","v":16.100000000000001},"koi ponty",16.100000000000001]
["B6",{"$f":"kod!B18","v":"Gát, közepes víz"},{"$f":"kod!C18","v":"Xtra Carp Team"},0,0,0,{"$f":"MAX(J124:BA124)","v":0},null,"amur"]
["B6",{"$f":"kod!B18","v":"Gát, közepes víz"},{"$f":"kod!C18","v":"Xtra Carp Team"},0,0,0,{"$f":"MAX(J125:BA125)","v":0},null,"fekete amur"]
["B7",{"$f":"kod!B19","v":"I. sziget, jobb közép"},{"$f":"kod!C19","v":"Elite Carp Team Brasov"},{"$f":"SUM(D127:D132)","v":142.82500000000005},{"$f":"SUM(E127:E132)","v":13},10.986538461538466,{"$f":"MAX(G127:G132)","v":18.274999999999999},{"$f":"H130","v":11.175000000000001},"ÖSSZESEN",{"$f":"COUNTIFS($J127:$BB132,\">9,99\",$J127:$BB132,\"<20\")","v":8},{"$f":"COUNTIFS($J127:$BB132,\">19,99\")","v":0},{"$f":"COUNTIFS($J130:$BA130,\">4,99\",$J130:$BA130,\"<9,99\")","v":0},{"$f":"COUNTIFS($J130:$BB130,\">9,99\")","v":1}]
["B7",{"$f":"kod!B19","v":"I. sziget, jobb közép"},{"$f":"kod!C19","v":"Elite Carp Team Brasov"},{"$f":"SUM(J127:AZ127)","v":46.3},{"$f":"COUNT(J127:AZ127)","v":3},15.433333333333332,{"$f":"MAX(J127:BA127)","v":18.274999999999999},null,"tükörponty",18.274999999999999,11.6,16.425000000000001]
["B7",{"$f":"kod!B19","v":"I. sziget, jobb közép"},{"$f":"kod!C19","v":"Elite Carp Team Brasov"},32.225000000000001,4,8.0562500000000004,{"$f":"MAX(J128:BA128)","v":16.7},null,"tőponty",4.3,3.9,16.7,7.3250000000000002]
["B7",{"$f":"kod!B19","v":"I. sziget, jobb közép"},{"$f":"kod!C19","v":"Elite Carp Team Brasov"},49.95,4,12.487500000000001,{"$f":"MAX(J129:BA129)","v":16.8},null,"nyurgaponty",14.925000000000001,7.85,10.375,16.8]
["B7",{"$f":"kod!B19","v":"I. sziget, jobb közép"},{"$f":"kod!C19","v":"Elite Carp Team Brasov"},11.175000000000001,1,11.175000000000001,null,{"$f":"MAX(J130:AZ130)","v":11.175000000000001},"koi ponty",11.175000000000001]
["B7",{"$f":"kod!B19","v":"I. sziget, jobb közép"},{"$f":"kod!C19","v":"Elite Carp Team Brasov"},0,0,0,{"$f":"MAX(J131:BA131)","v":0},null,"amur"]
["B7",{"$f":"kod!B19","v":"I. sziget, jobb közép"},{"$f":"kod!C19","v":"Elite Carp Team Brasov"},3.1749999999999998,1,3.1749999999999998,{"$f":"MAX(J132:BA132)","v":3.1749999999999998},null,"fekete amur",3.1749999999999998]
["B8",{"$f":"kod!B20","v":"I. sziget, jobb "},{"$f":"kod!C20","v":"CT777 Varna Bulgaria"},{"$f":"SUM(D134:D139)","v":333.815},{"$f":"SUM(E134:E139)","v":38},8.7846052631578946,{"$f":"MAX(G134:G139)","v":16.565000000000001},{"$f":"H137","v":11.925000000000001},"ÖSSZESEN",{"$f":"COUNTIFS($J134:$BB139,\">9,99\",$J134:$BB139,\"<20\")","v":13},{"$f":"COUNTIFS($J134:$BB139,\">19,99\")","v":0},{"$f":"COUNTIFS($J137:$BA137,\">4,99\",$J137:$BA137,\"<9,99\")","v":0},{"$f":"COUNTIFS($J137:$BB137,\">9,99\")","v":2}]
["B8",{"$f":"kod!B20","v":"I. sziget, jobb "},{"$f":"kod!C20","v":"CT777 Varna Bulgaria"},{"$f":"SUM(J134:AZ134)","v":91.899999999999991},{"$f":"COUNT(J134:AZ134)","v":9},10.21111111111111,{"$f":"MAX(J134:BA134)","v":13.125},null,"tükörponty",8.3000000000000007,12.9,11.15,10.4,13.125,10.175000000000001,9.9749999999999996,7.4749999999999996,8.4]
["B8",{"$f":"kod!B20","v":"I. sziget, jobb "},{"$f":"kod!C20","v":"CT777 Varna Bulgaria"},73.150000000000006,9,8.1277777777777782,{"$f":"MAX(J135:BA135)","v":10.9},null,"tőponty",7.4749999999999996,10.9,6.85,9.0500000000000007,8.85,5.15,7.6,9.75,7.5250000000000004]
["B8",{"$f":"kod!B20","v":"I. sziget, jobb "},{"$f":"kod!C20","v":"CT777 Varna Bulgaria"},124.61499999999999,13,9.5857692307692304,{"$f":"MAX(J136:BA136)","v":16.565000000000001},null,"nyurgaponty",9.375,7.95,7.5750000000000002,12.175000000000001,11.675000000000001,12.4,16.565000000000001,8.2249999999999996,6.625,9.125,10.25,9.1999999999999993,3.4750000000000001]
["B8",{"$f":"kod!B20","v":"I. sziget, jobb "},{"$f":"kod!C20","v":"CT777 Varna Bulgaria"},22.4,2,11.2,null,{"$f":"MAX(J137:AZ137)","v":11.925000000000001},"koi ponty",11.925000000000001,10.475]
["B8",{"$f":"kod!B20","v":"I. sziget, jobb "},{"$f":"kod!C20","v":"CT777 Varna Bulgaria"},8.9749999999999996,1,8.9749999999999996,{"$f":"MAX(J138:BA138)","v":8.9749999999999996},null,"amur",8.9749999999999996]
["B8",{"$f":"kod!B20","v":"I. sziget, jobb "},{"$f":"kod!C20","v":"CT777 Varna Bulgaria"},12.775,4,3.1937500000000001,{"$f":"MAX(J139:BA139)","v":3.7250000000000001},null,"fekete amur",2.95,2.7250000000000001,3.375,3.7250000000000001]
["B9",{"$f":"kod!B21","v":"I. sziget, jobb külső"},{"$f":"kod!C21","v":"Bait Maker Team"},{"$f":"SUM(D141:D146)","v":254.14999999999998},{"$f":"SUM(E141:E146)","v":30},8.4716666666666658,{"$f":"MAX(G141:G146)","v":15.55},{"$f":"H144","v":2.4500000000000002},"ÖSSZESEN",{"$f":"COUNTIFS($J141:$BB146,\">9,99\",$J141:$BB146,\"<20\")","v":7},{"$f":"COUNTIFS($J141:$BB146,\">19,99\")","v":0},{"$f":"COUNTIFS($J144:$BA144,\">4,99\",$J144:$BA144,\"<9,99\")","v":0},{"$f":"COUNTIFS($J144:$BB144,\">9,99\")","v":0}]
["B9",{"$f":"kod!B21","v":"I. sziget, jobb külső"},{"$f":"kod!C21","v":"Bait Maker Team"},{"$f":"SUM(J141:AZ141)","v":25.150000000000002},{"$f":"COUNT(J141:AZ141)","v":3},8.3833333333333346,{"$f":"MAX(J141:BA141)","v":11.8},null,"tükörponty",7.0750000000000002,6.2750000000000004,11.8]
["B9",{"$f":"kod!B21","v":"I. sziget, jobb külső"},{"$f":"kod!C21","v":"Bait Maker Team"},101.7,11,9.245454545454546,{"$f":"MAX(J142:BA142)","v":15.15},null,"tőponty",6.5750000000000002,11.3,7.4749999999999996,6.6,9.3249999999999993,7.75,6.9,8.9499999999999993,7.7,13.975,15.15]
["B9",{"$f":"kod!B21","v":"I. sziget, jobb külső"},{"$f":"kod!C21","v":"Bait Maker Team"},105.62499999999999,11,9.6022727272727266,{"$f":"MAX(J143:BA143)","v":15.55},null,"nyurgaponty",6.9749999999999996,6.75,9.9,15.55,9.85,12.324999999999999,6.9249999999999998,12.525,6.375,8.9749999999999996,9.4749999999999996]
["B9",{"$f":"kod!B21","v":"I. sziget, jobb külső"},{"$f":"kod!C21","v":"Bait Maker Team"},2.4500000000000002,1,2.4500000000000002,null,{"$f":"MAX(J144:AZ144)","v":2.4500000000000002},"koi ponty",2.4500000000000002]
["B9",{"$f":"kod!B21","v":"I. sziget, jobb külső"},{"$f":"kod!C21","v":"Bait Maker Team"},12.824999999999999,2,6.4124999999999996,{"$f":"MAX(J145:BA145)","v":7.15},null,"amur",7.15,5.6749999999999998]
["B9",{"$f":"kod!B21","v":"I. sziget, jobb külső"},{"$f":"kod!C21","v":"Bait Maker Team"},6.4,2,3.2,{"$f":"MAX(J146:BA146)","v":3.7749999999999999},null,"fekete amur",3.7749999999999999,2.625]
["B10",{"$f":"kod!B22","v":"Felező-spicc, bal"},{"$f":"kod!C22","v":"SBS - SziKo Team"},{"$f":"SUM(D148:D153)","v":73.674999999999997},{"$f":"SUM(E148:E153)","v":9},8.18611111111111,{"$f":"MAX(G148:G153)","v":11.275},{"$f":"H151","v":0},"ÖSSZESEN",{"$f":"COUNTIFS($J148:$BB153,\">9,99\",$J148:$BB153,\"<20\")","v":3},{"$f":"COUNTIFS($J148:$BB153,\">19,99\")","v":0},{"$f":"COUNTIFS($J151:$BA151,\">4,99\",$J151:$BA151,\"<9,99\")","v":0},{"$f":"COUNTIFS($J151:$BB151,\">9,99\")","v":0}]
["B10",{"$f":"kod!B22","v":"Felező-spicc, bal"},{"$f":"kod!C22","v":"SBS - SziKo Team"},{"$f":"SUM(J148:AZ148)","v":20.399999999999999},{"$f":"COUNT(J148:AZ148)","v":2},10.199999999999999,{"$f":"MAX(J148:BA148)","v":10.95},null,"tükörponty",10.95,9.4499999999999993]
["B10",{"$f":"kod!B22","v":"Felező-spicc, bal"},{"$f":"kod!C22","v":"SBS - SziKo Team"},6.1749999999999998,1,{"$f":"IF(E149=0,0,D149/E149)","v":6.1749999999999998},{"$f":"MAX(J149:BA149)","v":6.1749999999999998},null,"tőponty",6.1749999999999998]
["B10",{"$f":"kod!B22","v":"Felező-spicc, bal"},{"$f":"kod!C22","v":"SBS - SziKo Team"},38.25,4,9.5625,{"$f":"MAX(J150:BA150)","v":11.275},null,"nyurgaponty",10.9,7.2249999999999996,11.275,8.85]
["B10",{"$f":"kod!B22","v":"Felező-spicc, bal"},{"$f":"kod!C22","v":"SBS - SziKo Team"},0,0,0,null,{"$f":"MAX(J151:AZ151)","v":0},"koi ponty"]
["B10",{"$f":"kod!B22","v":"Felező-spicc, bal"},{"$f":"kod!C22","v":"SBS - SziKo Team"},8.85,2,4.4249999999999998,{"$f":"MAX(J152:BA152)","v":4.5999999999999996},null,"amur",4.5999999999999996,4.25]
["B10",{"$f":"kod!B22","v":"Felező-spicc, bal"},{"$f":"kod!C22","v":"SBS - SziKo Team"},0,0,0,{"$f":"MAX(J153:BA153)","v":0},null,"fekete amur"]
["B11",{"$f":"kod!B23","v":"Felező-spicc, közép"},{"$f":"kod!C23","v":"Síp Carp Team"},{"$f":"SUM(D155:D160)","v":17.05},{"$f":"SUM(E155:E160)","v":2},8.5250000000000004,{"$f":"MAX(G155:G160)","v":9.15},{"$f":"H158","v":0},"ÖSSZESEN",{"$f":"COUNTIFS($J155:$BB160,\">9,99\",$J155:$BB160,\"<20\")","v":0},{"$f":"COUNTIFS($J155:$BB160,\">19,99\")","v":0},{"$f":"COUNTIFS($J158:$BA158,\">4,99\",$J158:$BA158,\"<9,99\")","v":0},{"$f":"COUNTIFS($J158:$BB158,\">9,99\")","v":0}]
["B11",{"$f":"kod!B23","v":"Felező-spicc, közép"},{"$f":"kod!C23","v":"Síp Carp Team"},{"$f":"SUM(J155:AZ155)","v":7.9},1,7.9,{"$f":"MAX(J155:BA155)","v":7.9},null,"tükörponty",7.9]
["B11",{"$f":"kod!B23","v":"Felező-spicc, közép"},{"$f":"kod!C23","v":"Síp Carp Team"},9.15,1,9.15,9.15,null,"tőponty",9.15]
["B11",{"$f":"kod!B23","v":"Felező-spicc, közép"},{"$f":"kod!C23","v":"Síp Carp Team"},0,0,0,0,null,"nyurgaponty"]
["B11",{"$f":"kod!B23","v":"Felező-spicc, közép"},{"$f":"kod!C23","v":"Síp Carp Team"},0,0,0,null,{"$f":"MAX(J158:AZ158)","v":0},"koi ponty"]
["B11",{"$f":"kod!B23","v":"Felező-spicc, közép"},{"$f":"kod!C23","v":"Síp Carp Team"},0,0,0,{"$f":"MAX(J159:BA159)","v":0},null,"amur"]
["B11",{"$f":"kod!B23","v":"Felező-spicc, közép"},{"$f":"kod!C23","v":"Síp Carp Team"},0,0,0,0,null,"fekete amur"]
["C1",{"$f":"kod!B24","v":"Gát, sekély víz"},{"$f":"kod!C24","v":"Carp Fever Bulgaria"},{"$f":"SUM(D162:D167)","v":152.92500000000001},{"$f":"SUM(E162:E167)","v":21},{"$f":"IF(E161=0,0,D161/E161)","v":7.2821428571428575},{"$f":"MAX(G162:G167)","v":13},{"$f":"H165","v":4.1749999999999998},"ÖSSZESEN",{"$f":"COUNTIFS($J162:$BB167,\">9,99\",$J162:$BB167,\"<20\")","v":2},{"$f":"COUNTIFS($J162:$BB167,\">19,99\")","v":0},{"$f":"COUNTIFS($J165:$BA165,\">4,99\",$J165:$BA165,\"<9,99\")","v":0},{"$f":"COUNTIFS($J165:$BB165,\">9,99\")","v":0}]
["C1",{"$f":"kod!B24","v":"Gát, sekély víz"},{"$f":"kod!C24","v":"Carp Fever Bulgaria"},{"$f":"SUM(J162:AZ162)","v":35.125},{"$f":"COUNT(J162:AZ162)","v":4},{"$f":"IF(E162=0,0,D162/E162)","v":8.78125},{"$f":"MAX(J162:BA162)","v":13},null,"tükörponty",8.7249999999999996,7.7249999999999996,5.6749999999999998,13]
["C1",{"$f":"kod!B24","v":"Gát, sekély víz"},{"$f":"kod!C24","v":"Carp Fever Bulgaria"},29.575000000000003,4,7.3937500000000007,{"$f":"MAX(J163:BA163)","v":9.375},null,"tőponty",7.6,4.2,9.375,8.4]
["C1",{"$f":"kod!B24","v":"Gát, sekély víz"},{"$f":"kod!C24","v":"Carp Fever Bulgaria"},79.675000000000011,11,7.2431818181818191,{"$f":"MAX(J164:BA164)","v":10.775},null,"nyurgaponty",7.9749999999999996,10.775,7.3250000000000002,3.75,7.45,5.5750000000000002,7.15,6.35,7.9,6.9,8.5250000000000004]
["C1",{"$f":"kod!B24","v":"Gát, sekély víz"},{"$f":"kod!C24","v":"Carp Fever Bulgaria"},4.1749999999999998,1,4.1749999999999998,null,{"$f":"MAX(J165:AZ165)","v":4.1749999999999998},"koi ponty",4.1749999999999998]
["C1",{"$f":"kod!B24","v":"Gát, sekély víz"},{"$f":"kod!C24","v":"Carp Fever Bulgaria"},4.375,1,4.375,{"$f":"MAX(J166:BA166)","v":4.375},null,"amur",4.375]
["C1",{"$f":"kod!B24","v":"Gát, sekély víz"},{"$f":"kod!C24","v":"Carp Fever Bulgaria"},0,0,0,{"$f":"MAX(J167:BA167)","v":0},null,"fekete amur"]
["C2",{"$f":"kod!B25","v":"Gát, sekély víz"},{"$f":"kod!C25","v":"Carpfriends Ennstal-Austria"},{"$f":"SUM(D169:D174)","v":65.05},{"$f":"SUM(E169:E174)","v":10},6.5049999999999999,{"$f":"MAX(G169:G174)","v":7.7},{"$f":"H172","v":10.199999999999999},"ÖSSZESEN",{"$f":"COUNTIFS($J169:$BB174,\">9,99\",$J169:$BB174,\"<20\")","v":1},{"$f":"COUNTIFS($J169:$BB174,\">19,99\")","v":0},{"$f":"COUNTIFS($J172:$BA172,\">4,99\",$J172:$BA172,\"<9,99\")","v":0},{"$f":"COUNTIFS($J172:$BB172,\">9,99\")","v":1}]
["C2",{"$f":"kod!B25","v":"Gát, sekély víz"},{"$f":"kod!C25","v":"Carpfriends Ennstal-Austria"},{"$f":"SUM(J169:AZ169)","v":19.925000000000001},{"$f":"COUNT(J169:AZ169)","v":3},6.6416666666666666,{"$f":"MAX(J169:BA169)","v":7.7},null,"tükörponty",5.5750000000000002,6.65,7.7]
["C2",{"$f":"kod!B25","v":"Gát, sekély víz"},{"$f":"kod!C25","v":"Carpfriends Ennstal-Austria"},3.3250000000000002,1,3.3250000000000002,{"$f":"MAX(J170:BA170)","v":3.3250000000000002},null,"tőponty",3.3250000000000002]
["C2",{"$f":"kod!B25","v":"Gát, sekély víz"},{"$f":"kod!C25","v":"Carpfriends Ennstal-Austria"},31.599999999999998,5,6.3199999999999994,{"$f":"MAX(J171:BA171)","v":7.5},null,"nyurgaponty",7.5,5.9249999999999998,6.3250000000000002,6.4,5.45]
["C2",{"$f":"kod!B25","v":"Gát, sekély víz"},{"$f":"kod!C25","v":"Carpfriends Ennstal-Austria"},10.199999999999999,1,10.199999999999999,null,{"$f":"MAX(J172:AZ172)","v":10.199999999999999},"koi ponty",10.199999999999999]
["C2",{"$f":"kod!B25","v":"Gát, sekély víz"},{"$f":"kod!C25","v":"Carpfriends Ennstal-Austria"},0,0,0,{"$f":"MAX(J173:BA173)","v":0},null,"amur"]
["C2",{"$f":"kod!B25","v":"Gát, sekély víz"},{"$f":"kod!C25","v":"Carpfriends Ennstal-Austria"},0,0,0,{"$f":"MAX(J174:BA174)","v":0},null,"fekete amur"]
["C3",{"$f":"kod!B26","v":"Gát, sekély víz"},{"$f":"kod!C26","v":"Carp Team Brasov"},{"$f":"SUM(D176:D181)","v":65.900000000000006},{"$f":"SUM(E176:E181)","v":13},5.0692307692307699,{"$f":"MAX(G176:G181)","v":8.5749999999999993},{"$f":"H179","v":0},"ÖSSZESEN",{"$f":"COUNTIFS($J176:$BB181,\">9,99\",$J176:$BB181,\"<20\")","v":0},{"$f":"COUNTIFS($J176:$BB181,\">19,99\")","v":0},{"$f":"COUNTIFS($J179:$BA179,\">4,99\",$J179:$BA179,\"<9,99\")","v":0},{"$f":"COUNTIFS($J179:$BB179,\">9,99\")","v":0}]
["C3",{"$f":"kod!B26","v":"Gát, sekély víz"},{"$f":"kod!C26","v":"Carp Team Brasov"},{"$f":"SUM(J176:AZ176)","v":6.65},{"$f":"COUNT(J176:AZ176)","v":1},6.65,{"$f":"MAX(J176:BA176)","v":6.65},null,"tükörponty",6.65]
["C3",{"$f":"kod!B26","v":"Gát, sekély víz"},{"$f":"kod!C26","v":"Carp Team Brasov"},23.6,7,3.3714285714285714,{"$f":"MAX(J177:BA177)","v":7.4},null,"tőponty",2.125,2.2000000000000002,2.4249999999999998,2.75,1.7250000000000001,4.9749999999999996,7.4]
["C3",{"$f":"kod!B26","v":"Gát, sekély víz"},{"$f":"kod!C26","v":"Carp Team Brasov"},35.65,5,7.13,{"$f":"MAX(J178:BA178)","v":8.5749999999999993},null,"nyurgaponty",6.45,7.6,8.5749999999999993,5.4249999999999998,7.6]
["C3",{"$f":"kod!B26","v":"Gát, sekély víz"},{"$f":"kod!C26","v":"Carp Team Brasov"},0,0,0,null,{"$f":"MAX(J179:AZ179)","v":0},"koi ponty"]
["C3",{"$f":"kod!B26","v":"Gát, sekély víz"},{"$f":"kod!C26","v":"Carp Team Brasov"},0,0,0,{"$f":"MAX(J180:BA180)","v":0},null,"amur"]
["C3",{"$f":"kod!B26","v":"Gát, sekély víz"},{"$f":"kod!C26","v":"Carp Team Brasov"},0,0,0,{"$f":"MAX(J181:BA181)","v":0},null,"fekete amur"]
["C4",{"$f":"kod!B27","v":"Gát, sekély víz"},{"$f":"kod!C27","v":"As La Carp Team"},{"$f":"SUM(D183:D188)","v":0},{"$f":"SUM(E183:E188)","v":0},0,{"$f":"MAX(G183:G188)","v":0},{"$f":"H186","v":0},"ÖSSZESEN",{"$f":"COUNTIFS($J183:$BB188,\">9,99\",$J183:$BB188,\"<20\")","v":0},{"$f":"COUNTIFS($J183:$BB188,\">19,99\")","v":0},{"$f":"COUNTIFS($J186:$BA186,\">4,99\",$J186:$BA186,\"<9,99\")","v":0},{"$f":"COUNTIFS($J186:$BB186,\">9,99\")","v":0}]
["C4",{"$f":"kod!B27","v":"Gát, sekély víz"},{"$f":"kod!C27","v":"As La Carp Team"},{"$f":"SUM(J183:AZ183)","v":0},{"$f":"COUNT(J183:AZ183)","v":0},0,{"$f":"MAX(J183:BA183)","v":0},null,"tükörponty"]
["C4",{"$f":"kod!B27","v":"Gát, sekély víz"},{"$f":"kod!C27","v":"As La Carp Team"},0,0,0,0,null,"tőponty"]
["C4",{"$f":"kod!B27","v":"Gát, sekély víz"},{"$f":"kod!C27","v":"As La Carp Team"},0,0,0,0,null,"nyurgaponty"]
["C4",{"$f":"kod!B27","v":"Gát, sekély víz"},{"$f":"kod!C27","v":"As La Carp Team"},0,0,0,0,{"$f":"MAX(J186:AZ186)","v":0},"koi ponty"]
["C4",{"$f":"kod!B27","v":"Gát, sekély víz"},{"$f":"kod!C27","v":"As La Carp Team"},0,0,0,0,null,"amur"]
["C4",{"$f":"kod!B27","v":"Gát, sekély víz"},{"$f":"kod!C27","v":"As La Carp Team"},0,0,0,0,null,"fekete amur"]
["C5",{"$f":"kod!B28","v":"Gát, sekély víz"},{"$f":"kod!C28","v":"Bojlis Főnök - Bait Bait Carp Team"},{"$f":"SUM(D190:D195)","v":27.75},{"$f":"SUM(E190:E195)","v":6},4.625,{"$f":"MAX(G190:G195)","v":11.2},{"$f":"H193","v":0},"ÖSSZESEN",{"$f":"COUNTIFS($J190:$BB195,\">9,99\",$J190:$BB195,\"<20\")","v":1},{"$f":"COUNTIFS($J190:$BB195,\">19,99\")","v":0},{"$f":"COUNTIFS($J193:$BA193,\">4,99\",$J193:$BA193,\"<9,99\")","v":0},{"$f":"COUNTIFS($J193:$BB193,\">9,99\")","v":0}]
["C5",{"$f":"kod!B28","v":"Gát, sekély víz"},{"$f":"kod!C28","v":"Bojlis Főnök - Bait Bait Carp Team"},{"$f":"SUM(J190:AZ190)","v":3.4249999999999998},{"$f":"COUNT(J190:AZ190)","v":1},3.4249999999999998,{"$f":"MAX(J190:BA190)","v":3.4249999999999998},null,"tükörponty",3.4249999999999998]
["C5",{"$f":"kod!B28","v":"Gát, sekély víz"},{"$f":"kod!C28","v":"Bojlis Főnök - Bait Bait Carp Team"},6.4,3,2.1333333333333333,{"$f":"MAX(J191:BA191)","v":2.7},null,"tőponty",2.25,1.45,2.7]
["C5",{"$f":"kod!B28","v":"Gát, sekély víz"},{"$f":"kod!C28","v":"Bojlis Főnök - Bait Bait Carp Team"},11.2,1,11.2,{"$f":"MAX(J192:BA192)","v":11.2},null,"nyurgaponty",11.2]
["C5",{"$f":"kod!B28","v":"Gát, sekély víz"},{"$f":"kod!C28","v":"Bojlis Főnök - Bait Bait Carp Team"},0,0,0,null,{"$f":"MAX(J193:AZ193)","v":0},"koi ponty"]
["C5",{"$f":"kod!B28","v":"Gát, sekély víz"},{"$f":"kod!C28","v":"Bojlis Főnök - Bait Bait Carp Team"},6.7249999999999996,1,6.7249999999999996,{"$f":"MAX(J194:BA194)","v":6.7249999999999996},null,"amur",6.7249999999999996]
["C5",{"$f":"kod!B28","v":"Gát, sekély víz"},{"$f":"kod!C28","v":"Bojlis Főnök - Bait Bait Carp Team"},0,0,0,{"$f":"MAX(J195:BA195)","v":0},null,"fekete amur"]
["C6",{"$f":"kod!B29","v":"Felező-spicc, jobb"},{"$f":"kod!C29","v":"Secret Of The Carp"},{"$f":"SUM(D197:D202)","v":11.775},{"$f":"SUM(E197:E202)","v":5},2.355,{"$f":"MAX(G197:G202)","v":3.8},{"$f":"H200","v":0},"ÖSSZESEN",{"$f":"COUNTIFS($J197:$BB202,\">9,99\",$J197:$BB202,\"<20\")","v":0},{"$f":"COUNTIFS($J197:$BB202,\">19,99\")","v":0},{"$f":"COUNTIFS($J200:$BA200,\">4,99\",$J200:$BA200,\"<9,99\")","v":0},{"$f":"COUNTIFS($J200:$BB200,\">9,99\")","v":0}]
["C6",{"$f":"kod!B29","v":"Felező-spicc, jobb"},{"$f":"kod!C29","v":"Secret Of The Carp"},{"$f":"SUM(J197:AZ197)","v":0},{"$f":"COUNT(J197:AZ197)","v":0},0,{"$f":"MAX(J197:BA197)","v":0},null,"tükörponty"]
["C6",{"$f":"kod!B29","v":"Felező-spicc, jobb"},{"$f":"kod!C29","v":"Secret Of The Carp"},11.775,5,2.355,3.8,null,"tőponty",1.45,1.875,3.8,3.1749999999999998,1.4750000000000001]
["C6",{"$f":"kod!B29","v":"Felező-spicc, jobb"},{"$f":"kod!C29","v":"Secret Of The Carp"},0,0,0,0,null,"nyurgaponty"]
["C6",{"$f":"kod!B29","v":"Felező-spicc, jobb"},{"$f":"kod!C29","v":"Secret Of The Carp"},0,0,0,0,{"$f":"MAX(J200:AZ200)","v":0},"koi ponty"]
["C6",{"$f":"kod!B29","v":"Felező-spicc, jobb"},{"$f":"kod!C29","v":"Secret Of The Carp"},0,0,0,0,null,"amur"]
["C6",{"$f":"kod!B29","v":"Felező-spicc, jobb"},{"$f":"kod!C29","v":"Secret Of The Carp"},0,0,0,0,null,"fekete amur"]
["C7",{"$f":"kod!B30","v":"II. sziget, bal"},{"$f":"kod!C30","v":"Quick Baits"},{"$f":"SUM(D204:D209)","v":129.25},{"$f":"SUM(E204:E209)","v":13},9.9423076923076916,{"$f":"MAX(G204:G209)","v":13.375},{"$f":"H207","v":0},"ÖSSZESEN",{"$f":"COUNTIFS($J204:$BB209,\">9,99\",$J204:$BB209,\"<20\")","v":7},{"$f":"COUNTIFS($J204:$BB209,\">19,99\")","v":0},{"$f":"COUNTIFS($J207:$BA207,\">4,99\",$J207:$BA207,\"<9,99\")","v":0},{"$f":"COUNTIFS($J207:$BB207,\">9,99\")","v":0}]
["C7",{"$f":"kod!B30","v":"II. sziget, bal"},{"$f":"kod!C30","v":"Quick Baits"},{"$f":"SUM(J204:AZ204)","v":21.3},{"$f":"COUNT(J204:AZ204)","v":2},10.65,{"$f":"MAX(J204:BA204)","v":10.675000000000001},null,"tükörponty",10.625,10.675000000000001]
["C7",{"$f":"kod!B30","v":"II. sziget, bal"},{"$f":"kod!C30","v":"Quick Baits"},51.175000000000004,6,8.5291666666666668,{"$f":"MAX(J205:BA205)","v":12.675000000000001},null,"tőponty",7.7,9.8249999999999993,7.6749999999999998,8.0749999999999993,12.675000000000001,5.2249999999999996]
["C7",{"$f":"kod!B30","v":"II. sziget, bal"},{"$f":"kod!C30","v":"Quick Baits"},56.775000000000006,5,11.355,{"$f":"MAX(J206:BA206)","v":13.375},null,"nyurgaponty",12.25,13.375,7.7249999999999996,12.725,10.7]
["C7",{"$f":"kod!B30","v":"II. sziget, bal"},{"$f":"kod!C30","v":"Quick Baits"},0,0,0,null,{"$f":"MAX(J207:AZ207)","v":0},"koi ponty"]
["C7",{"$f":"kod!B30","v":"II. sziget, bal"},{"$f":"kod!C30","v":"Quick Baits"},0,0,0,{"$f":"MAX(J208:BA208)","v":0},null,"amur"]
["C7",{"$f":"kod!B30","v":"II. sziget, bal"},{"$f":"kod!C30","v":"Quick Baits"},0,0,0,{"$f":"MAX(J209:BA209)","v":0},null,"fekete amur"]
["C8",{"$f":"kod!B31","v":"II. sziget, bal közép"},{"$f":"kod!C31","v":"Carp Team Blankbrothers"},{"$f":"SUM(D211:D216)","v":41.150000000000006},{"$f":"SUM(E211:E216)","v":5},8.23,{"$f":"MAX(G211:G216)","v":14.4},{"$f":"H214","v":0},"ÖSSZESEN",{"$f":"COUNTIFS($J211:$BB216,\">9,99\",$J211:$BB216,\"<20\")","v":1},{"$f":"COUNTIFS($J211:$BB216,\">19,99\")","v":0},{"$f":"COUNTIFS($J214:$BA214,\">4,99\",$J214:$BA214,\"<9,99\")","v":0},{"$f":"COUNTIFS($J214:$BB214,\">9,99\")","v":0}]
["C8",{"$f":"kod!B31","v":"II. sziget, bal közép"},{"$f":"kod!C31","v":"Carp Team Blankbrothers"},{"$f":"SUM(J211:AZ211)","v":8.9250000000000007},{"$f":"COUNT(J211:AZ211)","v":1},8.9250000000000007,{"$f":"MAX(J211:BA211)","v":8.9250000000000007},null,"tükörponty",8.9250000000000007]
["C8",{"$f":"kod!B31","v":"II. sziget, bal közép"},{"$f":"kod!C31","v":"Carp Team Blankbrothers"},10.799999999999999,2,5.3999999999999995,{"$f":"MAX(J212:BA212)","v":9.35},null,"tőponty",1.45,9.35]
["C8",{"$f":"kod!B31","v":"II. sziget, bal közép"},{"$f":"kod!C31","v":"Carp Team Blankbrothers"},21.425000000000001,2,10.7125,{"$f":"MAX(J213:BA213)","v":14.4},null,"nyurgaponty",7.0250000000000004,14.4]
["C8",{"$f":"kod!B31","v":"II. sziget, bal közép"},{"$f":"kod!C31","v":"Carp Team Blankbrothers"},0,0,0,null,{"$f":"MAX(J214:AZ214)","v":0},"koi ponty"]
["C8",{"$f":"kod!B31","v":"II. sziget, bal közép"},{"$f":"kod!C31","v":"Carp Team Blankbrothers"},0,0,0,{"$f":"MAX(J215:BA215)","v":0},null,"amur"]
["C8",{"$f":"kod!B31","v":"II. sziget, bal közép"},{"$f":"kod!C31","v":"Carp Team Blankbrothers"},0,0,0,{"$f":"MAX(J216:BA216)","v":0},null,"fekete amur"]
["C9",{"$f":"kod!B32","v":"II. sziget, közép"},{"$f":"kod!C32","v":"Bait Bait Hungary"},{"$f":"SUM(D218:D223)","v":140.82499999999999},{"$f":"SUM(E218:E223)","v":18},7.8236111111111102,{"$f":"MAX(G218:G223)","v":15.7},{"$f":"H221","v":8.0500000000000007},"ÖSSZESEN",{"$f":"COUNTIFS($J218:$BB223,\">9,99\",$J218:$BB223,\"<20\")","v":4},{"$f":"COUNTIFS($J218:$BB223,\">19,99\")","v":0},{"$f":"COUNTIFS($J221:$BA221,\">4,99\",$J221:$BA221,\"<9,99\")","v":2},{"$f":"COUNTIFS($J221:$BB221,\">9,99\")","v":0}]
["C9",{"$f":"kod!B32","v":"II. sziget, közép"},{"$f":"kod!C32","v":"Bait Bait Hungary"},{"$f":"SUM(J218:AZ218)","v":45.974999999999994},{"$f":"COUNT(J218:AZ218)","v":4},11.493749999999999,{"$f":"MAX(J218:BA218)","v":15.7},null,"tükörponty",11.3,11.85,15.7,7.125]
["C9",{"$f":"kod!B32","v":"II. sziget, közép"},{"$f":"kod!C32","v":"Bait Bait Hungary"},30.450000000000003,5,6.0900000000000007,{"$f":"MAX(J219:BA219)","v":8.9749999999999996},null,"tőponty",8.9749999999999996,2.3250000000000002,7.8,6.6,4.75]
["C9",{"$f":"kod!B32","v":"II. sziget, közép"},{"$f":"kod!C32","v":"Bait Bait Hungary"},45.800000000000004,6,7.6333333333333337,{"$f":"MAX(J220:BA220)","v":11.4},null,"nyurgaponty",7.75,4.4000000000000004,8.5,6.4249999999999998,11.4,7.3250000000000002]
["C9",{"$f":"kod!B32","v":"II. sziget, közép"},{"$f":"kod!C32","v":"Bait Bait Hungary"},18.600000000000001,3,6.2,null,{"$f":"MAX(J221:AZ221)","v":8.0500000000000007},"koi ponty",8.0500000000000007,7.2249999999999996,3.3250000000000002]
["C9",{"$f":"kod!B32","v":"II. sziget, közép"},{"$f":"kod!C32","v":"Bait Bait Hungary"},0,0,0,{"$f":"MAX(J222:BA222)","v":0},null,"amur"]
["C9",{"$f":"kod!B32","v":"II. sziget, közép"},{"$f":"kod!C32","v":"Bait Bait Hungary"},0,0,0,{"$f":"MAX(J223:BA223)","v":0},null,"fekete amur"]
["C10",{"$f":"kod!B33","v":"II. sziget, jobb közép"},{"$f":"kod!C33","v":"Acroft Illusive Bait Me"},{"$f":"SUM(D225:D230)","v":65.2},{"$f":"SUM(E225:E230)","v":7},9.3142857142857149,{"$f":"MAX(G225:G230)","v":14.5},{"$f":"H228","v":0},"ÖSSZESEN",{"$f":"COUNTIFS($J225:$BB230,\">9,99\",$J225:$BB230,\"<20\")","v":2},{"$f":"COUNTIFS($J225:$BB230,\">19,99\")","v":0},{"$f":"COUNTIFS($J228:$BA228,\">4,99\",$J228:$BA228,\"<9,99\")","v":0},{"$f":"COUNTIFS($J228:$BB228,\">9,99\")","v":0}]
["C10",{"$f":"kod!B33","v":"II. sziget, jobb közép"},{"$f":"kod!C33","v":"Acroft Illusive Bait Me"},{"$f":"SUM(J225:AZ225)","v":23.35},{"$f":"COUNT(J225:AZ225)","v":2},11.675000000000001,{"$f":"MAX(J225:BA225)","v":14.5},null,"tükörponty",14.5,8.85]
["C10",{"$f":"kod!B33","v":"II. sziget, jobb közép"},{"$f":"kod!C33","v":"Acroft Illusive Bait Me"},7.15,1,{"$f":"IF(E226=0,0,D226/E226)","v":7.15},{"$f":"MAX(J226:BA226)","v":7.15},null,"tőponty",7.15]
["C10",{"$f":"kod!B33","v":"II. sziget, jobb közép"},{"$f":"kod!C33","v":"Acroft Illusive Bait Me"},34.700000000000003,4,8.6750000000000007,{"$f":"MAX(J227:BA227)","v":11.6},null,"nyurgaponty",11.6,7.25,8.0749999999999993,7.7750000000000004]
["C10",{"$f":"kod!B33","v":"II. sziget, jobb közép"},{"$f":"kod!C33","v":"Acroft Illusive Bait Me"},0,0,0,null,{"$f":"MAX(J228:AZ228)","v":0},"koi ponty"]
["C10",{"$f":"kod!B33","v":"II. sziget, jobb közép"},{"$f":"kod!C33","v":"Acroft Illusive Bait Me"},0,0,0,{"$f":"MAX(J229:BA229)","v":0},null,"amur"]
["C10",{"$f":"kod!B33","v":"II. sziget, jobb közép"},{"$f":"kod!C33","v":"Acroft Illusive Bait Me"},0,0,0,{"$f":"MAX(J230:BA230)","v":0},null,"fekete amur"]
["C11",{"$f":"kod!B34","v":"II. sziget, jobb"},{"$f":"kod!C34","v":"Vaslui Carp Team"},{"$f":"SUM(D232:D237)","v":161.52500000000001},{"$f":"SUM(E232:E237)","v":24},6.7302083333333336,{"$f":"MAX(G232:G237)","v":13.1},{"$f":"H235","v":0},"ÖSSZESEN",{"$f":"COUNTIFS($J232:$BB237,\">9,99\",$J232:$BB237,\"<20\")","v":2},{"$f":"COUNTIFS($J232:$BB237,\">19,99\")","v":0},{"$f":"COUNTIFS($J235:$BA235,\">4,99\",$J235:$BA235,\"<9,99\")","v":0},{"$f":"COUNTIFS($J235:$BB235,\">9,99\")","v":0}]
["C11",{"$f":"kod!B34","v":"II. sziget, jobb"},{"$f":"kod!C34","v":"Vaslui Carp Team"},{"$f":"SUM(J232:AZ232)","v":30.999999999999996},{"$f":"COUNT(J232:AZ232)","v":5},6.1999999999999993,{"$f":"MAX(J232:BA232)","v":7.0750000000000002},null,"tükörponty",6.25,7.0750000000000002,5.7249999999999996,6,5.95]
["C11",{"$f":"kod!B34","v":"II. sziget, jobb"},{"$f":"kod!C34","v":"Vaslui Carp Team"},72.95,12,6.0791666666666666,{"$f":"MAX(J233:BA233)","v":9.4250000000000007},null,"tőponty",6.9,9.1750000000000007,5.4249999999999998,2.3250000000000002,7.2750000000000004,2.875,7.5,4.7750000000000004,7,1.4750000000000001,9.4250000000000007,8.8000000000000007]
["C11",{"$f":"kod!B34","v":"II. sziget, jobb"},{"$f":"kod!C34","v":"Vaslui Carp Team"},49.574999999999996,6,8.2624999999999993,{"$f":"MAX(J234:BA234)","v":13.1},null,"nyurgaponty",8.2750000000000004,6.7249999999999996,12.675000000000001,3.25,13.1,5.55]
["C11",{"$f":"kod!B34","v":"II. sziget, jobb"},{"$f":"kod!C34","v":"Vaslui Carp Team"},0,0,0,null,{"$f":"MAX(J235:AZ235)","v":0},"koi ponty"]
["C11",{"$f":"kod!B34","v":"II. sziget, jobb"},{"$f":"kod!C34","v":"Vaslui Carp Team"},8,1,8,{"$f":"MAX(J236:BA236)","v":8},null,"amur",8]
["C11",{"$f":"kod!B34","v":"II. sziget, jobb"},{"$f":"kod!C34","v":"Vaslui Carp Team"},0,0,0,{"$f":"MAX(J237:BA237)","v":0},null,"fekete amur"]
[null,null,"Összesen:",{"$f":"SUM(D7,D14,D21,D28,D35,D42,D49,D56,D63,D70,D77,D84,D91,D98,D105,D112,D119,D126,D133,D140,D147,D154,D161,D168,D175,D182,D189,D196,D203,D210,D217,D224,D231)","v":2686.7649999999999},{"$f":"SUM(E7,E14,E21,E28,E35,E42,E49,E56,E63,E70,E77,E84,E91,E98,E105,E112,E119,E126,E133,E140,E147,E154,E161,E168,E175,E182,E189,E196,E203,E210,E217,E224,E231)","v":320},{"$f":"IF(E238=0,0,D238/E238)","v":8.3961406249999992},null,null,null,{"$f":"SUM(J7,J14,J21,J28,J35,J42,J49,J56,J63,J70,J77,J84,J91,J98,J105,J112,J119,J126,J133,J140,J147,J154,J161,J168,J175,J182,J189,J196,J203,J210,J217,J224,J231)","v":90},{"$f":"SUM(K7,K14,K21,K28,K35,K42,K49,K56,K63,K70,K77,K84,K91,K98,K105,K112,K119,K126,K133,K140,K147,K154,K161,K168,K175,K182,K189,K196,K203,K210,K217,K224,K231)","v":2},{"$f":"SUM(L7,L14,L21,L28,L35,L42,L49,L56,L63,L70,L77,L84,L91,L98,L105,L112,L119,L126,L133,L140,L147,L154,L161,L168,L175,L182,L189,L196,L203,L210,L217,L224,L231)","v":4},5]

{"sheet":"szakasz9","index":10,"n_rows":238,"n_cols":23,"rows_kept":238,"cut":false,"hidden":false,"merged":[[0,0,0,12],[1,0,1,12],[2,0,2,12],[3,0,3,12],[4,0,4,12]]}
[{"$f":"IF(kod!E2>0,kod!E2,\"\")","v":"XXI. PROFESSZIONÁLIS BOJLIS EURÓPA KUPA (EPBC)"}]
[{"$f":"IF(kod!E3>0,kod!E3,\"\")","v":"XXXVI. MACONKA NEMZETKÖZI BOJLIS KUPA"}]
[{"$f":"IF(kod!E4>0,kod!E4,\"\")","v":"Maconka, 2025.06.15. - 2025.06.20."}]
[{"$f":"IF(kod!E5>0,kod!E5,\"\")","v":""}]
[{"$f":"kod!E15","v":"9. szakasz:  2025.06.19. 18:00 - 2025.06.20. 06:00"}]
["Rajthely","Elhelyezés","Csapatnév","Kg","Db","Átlag","BC","BkC","Faj","10-20 kg","20+ kg","koi 5-10 kg","koi 10+ kg"]
["A1",{"$f":"kod!B2","v":"Gát, mélyvíz"},{"$f":"kod!C2","v":"SBS - Halcatraz - TiZo Team"},{"$f":"SUM(D8:D13)","v":94.850000000000009},{"$f":"SUM(E8:E13)","v":8},{"$f":"IF(E7=0,0,D7/E7)","v":11.856250000000001},{"$f":"MAX(G8:G13)","v":18.324999999999999},{"$f":"H11","v":0},"ÖSSZESEN",{"$f":"COUNTIFS($J8:$BB13,\">9,99\",$J8:$BB13,\"<20\")","v":5},{"$f":"COUNTIFS($J8:$BB13,\">19,99\")","v":0},{"$f":"COUNTIFS($J11:$BA11,\">4,99\",$J11:$BA11,\"<9,99\")","v":0},{"$f":"COUNTIFS($J11:$BB11,\">9,99\")","v":0}]
["A1",{"$f":"kod!B2","v":"Gát, mélyvíz"},{"$f":"kod!C2","v":"SBS - Halcatraz - TiZo Team"},{"$f":"SUM(J8:AZ8)","v":37.575000000000003},{"$f":"COUNT(J8:AZ8)","v":3},{"$f":"IF(E8=0,0,D8/E8)","v":12.525},{"$f":"MAX(J8:BA8)","v":15.725},null,"tükörponty",8.9499999999999993,12.9,15.725]
["A1",{"$f":"kod!B2","v":"Gát, mélyvíz"},{"$f":"kod!C2","v":"SBS - Halcatraz - TiZo Team"},4.45,1,4.45,{"$f":"MAX(J9:BA9)","v":4.45},null,"tőponty",4.45]
["A1",{"$f":"kod!B2","v":"Gát, mélyvíz"},{"$f":"kod!C2","v":"SBS - Halcatraz - TiZo Team"},52.825000000000003,4,13.206250000000001,18.324999999999999,null,"nyurgaponty",10.85,15.45,18.324999999999999,8.1999999999999993]
["A1",{"$f":"kod!B2","v":"Gát, mélyvíz"},{"$f":"kod!C2","v":"SBS - Halcatraz - TiZo Team"},0,0,0,null,{"$f":"MAX(J11:AZ11)","v":0},"koi ponty"]
["A1",{"$f":"kod!B2","v":"Gát, mélyvíz"},{"$f":"kod!C2","v":"SBS - Halcatraz - TiZo Team"},0,0,0,0,null,"amur"]
["A1",{"$f":"kod!B2","v":"Gát, mélyvíz"},{"$f":"kod!C2","v":"SBS - Halcatraz - TiZo Team"},0,0,0,0,null,"fekete amur"]
["A2",{"$f":"kod!B3","v":"Gát, mélyvíz"},{"$f":"kod!C3","v":"Altstadt Carp Team"},{"$f":"SUM(D15:D20)","v":32.075000000000003},{"$f":"SUM(E15:E20)","v":3},10.691666666666668,{"$f":"MAX(G15:G20)","v":12.35},{"$f":"H18","v":10.125},"ÖSSZESEN",{"$f":"COUNTIFS($J15:$BB20,\">9,99\",$J15:$BB20,\"<20\")","v":2},{"$f":"COUNTIFS($J15:$BB20,\">19,99\")","v":0},{"$f":"COUNTIFS($J18:$BA18,\">4,99\",$J18:$BA18,\"<9,99\")","v":1},{"$f":"COUNTIFS($J18:$BB18,\">9,99\")","v":1}]
["A2",{"$f":"kod!B3","v":"Gát, mélyvíz"},{"$f":"kod!C3","v":"Altstadt Carp Team"},{"$f":"SUM(J15:AZ15)","v":0},{"$f":"COUNT(J15:AZ15)","v":0},0,{"$f":"MAX(J15:BA15)","v":0},null,"tükörponty"]
["A2",{"$f":"kod!B3","v":"Gát, mélyvíz"},{"$f":"kod!C3","v":"Altstadt Carp Team"},0,0,0,{"$f":"MAX(J16:BA16)","v":0},null,"tőponty"]
["A2",{"$f":"kod!B3","v":"Gát, mélyvíz"},{"$f":"kod!C3","v":"Altstadt Carp Team"},12.35,1,12.35,{"$f":"MAX(J17:BA17)","v":12.35},null,"nyurgaponty",12.35]
["A2",{"$f":"kod!B3","v":"Gát, mélyvíz"},{"$f":"kod!C3","v":"Altstadt Carp Team"},19.725000000000001,2,9.8625000000000007,null,{"$f":"MAX(J18:AZ18)","v":10.125},"koi ponty",9.6,10.125]
["A2",{"$f":"kod!B3","v":"Gát, mélyvíz"},{"$f":"kod!C3","v":"Altstadt Carp Team"},0,0,0,{"$f":"MAX(J19:BA19)","v":0},null,"amur"]
["A2",{"$f":"kod!B3","v":"Gát, mélyvíz"},{"$f":"kod!C3","v":"Altstadt Carp Team"},0,0,0,{"$f":"MAX(J20:BA20)","v":0},null,"fekete amur"]
["A3",{"$f":"kod!B4","v":"Gát, mélyvíz"},{"$f":"kod!C4","v":"Ferma De Crap Diosig"},{"$f":"SUM(D22:D27)","v":63.150000000000006},{"$f":"SUM(E22:E27)","v":5},12.63,{"$f":"MAX(G22:G27)","v":16.399999999999999},{"$f":"H25","v":0},"ÖSSZESEN",{"$f":"COUNTIFS($J22:$BB27,\">9,99\",$J22:$BB27,\"<20\")","v":4},{"$f":"COUNTIFS($J22:$BB27,\">19,99\")","v":0},{"$f":"COUNTIFS($J25:$BA25,\">4,99\",$J25:$BA25,\"<9,99\")","v":0},{"$f":"COUNTIFS($J25:$BB25,\">9,99\")","v":0}]
["A3",{"$f":"kod!B4","v":"Gát, mélyvíz"},{"$f":"kod!C4","v":"Ferma De Crap Diosig"},{"$f":"SUM(J22:AZ22)","v":11},{"$f":"COUNT(J22:AZ22)","v":1},11,{"$f":"MAX(J22:BA22)","v":11},null,"tükörponty",11]
["A3",{"$f":"kod!B4","v":"Gát, mélyvíz"},{"$f":"kod!C4","v":"Ferma De Crap Diosig"},0,0,0,{"$f":"MAX(J23:BA23)","v":0},null,"tőponty"]
["A3",{"$f":"kod!B4","v":"Gát, mélyvíz"},{"$f":"kod!C4","v":"Ferma De Crap Diosig"},46.2,3,15.4,{"$f":"MAX(J24:BA24)","v":16.399999999999999},null,"nyurgaponty",14.425000000000001,15.375,16.399999999999999]
["A3",{"$f":"kod!B4","v":"Gát, mélyvíz"},{"$f":"kod!C4","v":"Ferma De Crap Diosig"},0,0,0,null,{"$f":"MAX(J25:AZ25)","v":0},"koi ponty"]
["A3",{"$f":"kod!B4","v":"Gát, mélyvíz"},{"$f":"kod!C4","v":"Ferma De Crap Diosig"},5.95,1,5.95,{"$f":"MAX(J26:BA26)","v":5.95},null,"amur",5.95]
["A3",{"$f":"kod!B4","v":"Gát, mélyvíz"},{"$f":"kod!C4","v":"Ferma De Crap Diosig"},0,0,0,{"$f":"MAX(J27:BA27)","v":0},null,"fekete amur"]
["A4",{"$f":"kod!B5","v":"Gát, mélyvíz"},{"$f":"kod!C5","v":"Bull Tackle"},{"$f":"SUM(D29:D34)","v":25.924999999999997},{"$f":"SUM(E29:E34)","v":2},12.962499999999999,{"$f":"MAX(G29:G34)","v":13.824999999999999},{"$f":"H32","v":0},"ÖSSZESEN",{"$f":"COUNTIFS($J29:$BB34,\">9,99\",$J29:$BB34,\"<20\")","v":2},{"$f":"COUNTIFS($J29:$BB34,\">19,99\")","v":0},{"$f":"COUNTIFS($J32:$BA32,\">4,99\",$J32:$BA32,\"<9,99\")","v":0},{"$f":"COUNTIFS($J32:$BB32,\">9,99\")","v":0}]
["A4",{"$f":"kod!B5","v":"Gát, mélyvíz"},{"$f":"kod!C5","v":"Bull Tackle"},{"$f":"SUM(J29:AZ29)","v":13.824999999999999},{"$f":"COUNT(J29:AZ29)","v":1},13.824999999999999,{"$f":"MAX(J29:BA29)","v":13.824999999999999},null,"tükörponty",13.824999999999999]
["A4",{"$f":"kod!B5","v":"Gát, mélyvíz"},{"$f":"kod!C5","v":"Bull Tackle"},0,0,0,{"$f":"MAX(J30:BA30)","v":0},null,"tőponty"]
["A4",{"$f":"kod!B5","v":"Gát, mélyvíz"},{"$f":"kod!C5","v":"Bull Tackle"},12.1,1,12.1,{"$f":"MAX(J31:BA31)","v":12.1},null,"nyurgaponty",12.1]
["A4",{"$f":"kod!B5","v":"Gát, mélyvíz"},{"$f":"kod!C5","v":"Bull Tackle"},0,0,0,null,{"$f":"MAX(J32:AZ32)","v":0},"koi ponty"]
["A4",{"$f":"kod!B5","v":"Gát, mélyvíz"},{"$f":"kod!C5","v":"Bull Tackle"},0,0,0,{"$f":"MAX(J33:BA33)","v":0},null,"amur"]
["A4",{"$f":"kod!B5","v":"Gát, mélyvíz"},{"$f":"kod!C5","v":"Bull Tackle"},0,0,0,{"$f":"MAX(J34:BA34)","v":0},null,"fekete amur"]
["A5",{"$f":"kod!B6","v":"Gát, mélyvíz"},{"$f":"kod!C6","v":"AHFSZ Fishing Team"},{"$f":"SUM(D36:D41)","v":0},{"$f":"SUM(E36:E41)","v":0},0,{"$f":"MAX(G36:G41)","v":0},{"$f":"H39","v":0},"ÖSSZESEN",{"$f":"COUNTIFS($J36:$BB41,\">9,99\",$J36:$BB41,\"<20\")","v":0},{"$f":"COUNTIFS($J36:$BB41,\">19,99\")","v":0},{"$f":"COUNTIFS($J39:$BA39,\">4,99\",$J39:$BA39,\"<9,99\")","v":0},{"$f":"COUNTIFS($J39:$BB39,\">9,99\")","v":0}]
["A5",{"$f":"kod!B6","v":"Gát, mélyvíz"},{"$f":"kod!C6","v":"AHFSZ Fishing Team"},{"$f":"SUM(J36:AZ36)","v":0},{"$f":"COUNT(J36:AZ36)","v":0},0,{"$f":"MAX(J36:BA36)","v":0},null,"tükörponty"]
["A5",{"$f":"kod!B6","v":"Gát, mélyvíz"},{"$f":"kod!C6","v":"AHFSZ Fishing Team"},0,0,0,{"$f":"MAX(J37:BA37)","v":0},null,"tőponty"]
["A5",{"$f":"kod!B6","v":"Gát, mélyvíz"},{"$f":"kod!C6","v":"AHFSZ Fishing Team"},0,0,0,{"$f":"MAX(J38:BA38)","v":0},null,"nyurgaponty"]
["A5",{"$f":"kod!B6","v":"Gát, mélyvíz"},{"$f":"kod!C6","v":"AHFSZ Fishing Team"},0,0,0,null,{"$f":"MAX(J39:AZ39)","v":0},"koi ponty"]
["A5",{"$f":"kod!B6","v":"Gát, mélyvíz"},{"$f":"kod!C6","v":"AHFSZ Fishing Team"},0,0,0,{"$f":"MAX(J40:BA40)","v":0},null,"amur"]
["A5",{"$f":"kod!B6","v":"Gát, mélyvíz"},{"$f":"kod!C6","v":"AHFSZ Fishing Team"},0,0,0,{"$f":"MAX(J41:BA41)","v":0},null,"fekete amur"]
["A6",{"$f":"kod!B7","v":"Nyári kikötő, belső"},{"$f":"kod!C7","v":"Black Carp Team"},{"$f":"SUM(D43:D48)","v":33.900000000000006},{"$f":"SUM(E43:E48)","v":4},8.4750000000000014,{"$f":"MAX(G43:G48)","v":9.65},{"$f":"H46","v":0},"ÖSSZESEN",{"$f":"COUNTIFS($J43:$BB48,\">9,99\",$J43:$BB48,\"<20\")","v":0},{"$f":"COUNTIFS($J43:$BB48,\">19,99\")","v":0},{"$f":"COUNTIFS($J46:$BA46,\">4,99\",$J46:$BA46,\"<9,99\")","v":0},{"$f":"COUNTIFS($J46:$BB46,\">9,99\")","v":0}]
["A6",{"$f":"kod!B7","v":"Nyári kikötő, belső"},{"$f":"kod!C7","v":"Black Carp Team"},{"$f":"SUM(J43:AZ43)","v":0},{"$f":"COUNT(J43:AZ43)","v":0},0,{"$f":"MAX(J43:BA43)","v":0},null,"tükörponty"]
["A6",{"$f":"kod!B7","v":"Nyári kikötő, belső"},{"$f":"kod!C7","v":"Black Carp Team"},7.375,1,7.375,{"$f":"MAX(J44:BA44)","v":7.375},null,"tőponty",7.375]
["A6",{"$f":"kod!B7","v":"Nyári kikötő, belső"},{"$f":"kod!C7","v":"Black Carp Team"},26.525000000000002,3,8.8416666666666668,{"$f":"MAX(J45:BA45)","v":9.65},null,"nyurgaponty",9.65,8.9250000000000007,7.95]
["A6",{"$f":"kod!B7","v":"Nyári kikötő, belső"},{"$f":"kod!C7","v":"Black Carp Team"},0,0,0,null,{"$f":"MAX(J46:AZ46)","v":0},"koi ponty"]
["A6",{"$f":"kod!B7","v":"Nyári kikötő, belső"},{"$f":"kod!C7","v":"Black Carp Team"},0,0,0,{"$f":"MAX(J47:BA47)","v":0},null,"amur"]
["A6",{"$f":"kod!B7","v":"Nyári kikötő, belső"},{"$f":"kod!C7","v":"Black Carp Team"},0,0,0,{"$f":"MAX(J48:BA48)","v":0},null,"fekete amur"]
["A7",{"$f":"kod!B8","v":"Nyári kikötő, közép"},{"$f":"kod!C8","v":"USA & Mivado Carp Team"},{"$f":"SUM(D50:D55)","v":66.224999999999994},{"$f":"SUM(E50:E55)","v":9},7.3583333333333325,{"$f":"MAX(G50:G55)","v":15.05},{"$f":"H53","v":14.574999999999999},"ÖSSZESEN",{"$f":"COUNTIFS($J50:$BB55,\">9,99\",$J50:$BB55,\"<20\")","v":2},{"$f":"COUNTIFS($J50:$BB55,\">19,99\")","v":0},{"$f":"COUNTIFS($J53:$BA53,\">4,99\",$J53:$BA53,\"<9,99\")","v":0},{"$f":"COUNTIFS($J53:$BB53,\">9,99\")","v":1}]
["A7",{"$f":"kod!B8","v":"Nyári kikötő, közép"},{"$f":"kod!C8","v":"USA & Mivado Carp Team"},{"$f":"SUM(J50:AZ50)","v":12.25},{"$f":"COUNT(J50:AZ50)","v":2},6.125,{"$f":"MAX(J50:BA50)","v":7.15},null,"tükörponty",5.0999999999999996,7.15]
["A7",{"$f":"kod!B8","v":"Nyári kikötő, közép"},{"$f":"kod!C8","v":"USA & Mivado Carp Team"},29.3,3,9.7666666666666675,{"$f":"MAX(J51:BA51)","v":15.05},null,"tőponty",8.7249999999999996,5.5250000000000004,15.05]
["A7",{"$f":"kod!B8","v":"Nyári kikötő, közép"},{"$f":"kod!C8","v":"USA & Mivado Carp Team"},0,0,0,{"$f":"MAX(J52:BA52)","v":0},null,"nyurgaponty"]
["A7",{"$f":"kod!B8","v":"Nyári kikötő, közép"},{"$f":"kod!C8","v":"USA & Mivado Carp Team"},18.099999999999998,2,9.0499999999999989,null,{"$f":"MAX(J53:AZ53)","v":14.574999999999999},"koi ponty",3.5249999999999999,14.574999999999999]
["A7",{"$f":"kod!B8","v":"Nyári kikötő, közép"},{"$f":"kod!C8","v":"USA & Mivado Carp Team"},0,0,0,{"$f":"MAX(J54:BA54)","v":0},null,"amur"]
["A7",{"$f":"kod!B8","v":"Nyári kikötő, közép"},{"$f":"kod!C8","v":"USA & Mivado Carp Team"},6.5749999999999993,2,3.2874999999999996,{"$f":"MAX(J55:BA55)","v":3.9},null,"fekete amur",3.9,2.6749999999999998]
["A8",{"$f":"kod!B9","v":"Nyári kikötő, külső"},{"$f":"kod!C9","v":"Ózdi Sporthorgász Egyesület"},{"$f":"SUM(D57:D62)","v":12.475000000000001},{"$f":"SUM(E57:E62)","v":2},6.2375000000000007,{"$f":"MAX(G57:G62)","v":9.1750000000000007},{"$f":"H60","v":0},"ÖSSZESEN",{"$f":"COUNTIFS($J57:$BB62,\">9,99\",$J57:$BB62,\"<20\")","v":0},{"$f":"COUNTIFS($J57:$BB62,\">19,99\")","v":0},{"$f":"COUNTIFS($J60:$BA60,\">4,99\",$J60:$BA60,\"<9,99\")","v":0},{"$f":"COUNTIFS($J60:$BB60,\">9,99\")","v":0}]
["A8",{"$f":"kod!B9","v":"Nyári kikötő, külső"},{"$f":"kod!C9","v":"Ózdi Sporthorgász Egyesület"},{"$f":"SUM(J57:AZ57)","v":0},{"$f":"COUNT(J57:AZ57)","v":0},0,{"$f":"MAX(J57:BA57)","v":0},null,"tükörponty"]
["A8",{"$f":"kod!B9","v":"Nyári kikötő, külső"},{"$f":"kod!C9","v":"Ózdi Sporthorgász Egyesület"},9.1750000000000007,1,9.1750000000000007,{"$f":"MAX(J58:BA58)","v":9.1750000000000007},null,"tőponty",9.1750000000000007]
["A8",{"$f":"kod!B9","v":"Nyári kikötő, külső"},{"$f":"kod!C9","v":"Ózdi Sporthorgász Egyesület"},0,0,0,{"$f":"MAX(J59:BA59)","v":0},null,"nyurgaponty"]
["A8",{"$f":"kod!B9","v":"Nyári kikötő, külső"},{"$f":"kod!C9","v":"Ózdi Sporthorgász Egyesület"},0,0,0,null,{"$f":"MAX(J60:AZ60)","v":0},"koi ponty"]
["A8",{"$f":"kod!B9","v":"Nyári kikötő, külső"},{"$f":"kod!C9","v":"Ózdi Sporthorgász Egyesület"},0,0,0,{"$f":"MAX(J61:BA61)","v":0},null,"amur"]
["A8",{"$f":"kod!B9","v":"Nyári kikötő, külső"},{"$f":"kod!C9","v":"Ózdi Sporthorgász Egyesület"},3.3,1,3.3,{"$f":"MAX(J62:BA62)","v":3.3},null,"fekete amur",3.3]
["A9",{"$f":"kod!B10","v":"I. sziget, bal külső"},{"$f":"kod!C10","v":"Kártékony Carp Team"},{"$f":"SUM(D64:D69)","v":66.05},{"$f":"SUM(E64:E69)","v":9},7.3388888888888886,{"$f":"MAX(G64:G69)","v":11.225},{"$f":"H67","v":0},"ÖSSZESEN",{"$f":"COUNTIFS($J64:$BB69,\">9,99\",$J64:$BB69,\"<20\")","v":1},{"$f":"COUNTIFS($J64:$BB69,\">19,99\")","v":0},{"$f":"COUNTIFS($J67:$BA67,\">4,99\",$J67:$BA67,\"<9,99\")","v":0},{"$f":"COUNTIFS($J67:$BB67,\">9,99\")","v":0}]
["A9",{"$f":"kod!B10","v":"I. sziget, bal külső"},{"$f":"kod!C10","v":"Kártékony Carp Team"},{"$f":"SUM(J64:AZ64)","v":16.324999999999999},{"$f":"COUNT(J64:AZ64)","v":2},8.1624999999999996,{"$f":"MAX(J64:BA64)","v":11.225},null,"tükörponty",5.0999999999999996,11.225]
["A9",{"$f":"kod!B10","v":"I. sziget, bal külső"},{"$f":"kod!C10","v":"Kártékony Carp Team"},49.724999999999994,7,7.1035714285714278,{"$f":"MAX(J65:BA65)","v":8.15},null,"tőponty",6.5,6.6,7.8250000000000002,6.35,8.15,6.5,7.8]
["A9",{"$f":"kod!B10","v":"I. sziget, bal külső"},{"$f":"kod!C10","v":"Kártékony Carp Team"},0,0,0,{"$f":"MAX(J66:BA66)","v":0},null,"nyurgaponty"]
["A9",{"$f":"kod!B10","v":"I. sziget, bal külső"},{"$f":"kod!C10","v":"Kártékony Carp Team"},0,0,0,null,{"$f":"MAX(J67:AZ67)","v":0},"koi ponty"]
["A9",{"$f":"kod!B10","v":"I. sziget, bal külső"},{"$f":"kod!C10","v":"Kártékony Carp Team"},0,0,0,{"$f":"MAX(J68:BA68)","v":0},null,"amur"]
["A9",{"$f":"kod!B10","v":"I. sziget, bal külső"},{"$f":"kod!C10","v":"Kártékony Carp Team"},0,0,0,{"$f":"MAX(J69:BA69)","v":0},null,"fekete amur"]
["A10",{"$f":"kod!B11","v":"I. sziget, bal"},{"$f":"kod!C11","v":"Team 5 Austria"},{"$f":"SUM(D71:D76)","v":26.475000000000001},{"$f":"SUM(E71:E76)","v":4},6.6187500000000004,{"$f":"MAX(G71:G76)","v":9.1},{"$f":"H74","v":0},"ÖSSZESEN",{"$f":"COUNTIFS($J71:$BB76,\">9,99\",$J71:$BB76,\"<20\")","v":0},{"$f":"COUNTIFS($J71:$BB76,\">19,99\")","v":0},{"$f":"COUNTIFS($J74:$BA74,\">4,99\",$J74:$BA74,\"<9,99\")","v":0},{"$f":"COUNTIFS($J74:$BB74,\">9,99\")","v":0}]
["A10",{"$f":"kod!B11","v":"I. sziget, bal"},{"$f":"kod!C11","v":"Team 5 Austria"},{"$f":"SUM(J71:AZ71)","v":19.600000000000001},{"$f":"COUNT(J71:AZ71)","v":3},6.5333333333333341,{"$f":"MAX(J71:BA71)","v":9.1},null,"tükörponty",5.2,5.3,9.1]
["A10",{"$f":"kod!B11","v":"I. sziget, bal"},{"$f":"kod!C11","v":"Team 5 Austria"},6.875,1,{"$f":"IF(E72=0,0,D72/E72)","v":6.875},{"$f":"MAX(J72:BA72)","v":6.875},null,"tőponty",6.875]
["A10",{"$f":"kod!B11","v":"I. sziget, bal"},{"$f":"kod!C11","v":"Team 5 Austria"},0,0,0,{"$f":"MAX(J73:BA73)","v":0},null,"nyurgaponty"]
["A10",{"$f":"kod!B11","v":"I. sziget, bal"},{"$f":"kod!C11","v":"Team 5 Austria"},0,0,0,null,{"$f":"MAX(J74:AZ74)","v":0},"koi ponty"]
["A10",{"$f":"kod!B11","v":"I. sziget, bal"},{"$f":"kod!C11","v":"Team 5 Austria"},0,0,0,{"$f":"MAX(J75:BA75)","v":0},null,"amur"]
["A10",{"$f":"kod!B11","v":"I. sziget, bal"},{"$f":"kod!C11","v":"Team 5 Austria"},0,0,0,{"$f":"MAX(J76:BA76)","v":0},null,"fekete amur"]
["A11",{"$f":"kod!B12","v":"I. sziget, bal közép"},{"$f":"kod!C12","v":"Invader's Team Poland"},{"$f":"SUM(D78:D83)","v":21.2},{"$f":"SUM(E78:E83)","v":3},7.0666666666666664,{"$f":"MAX(G78:G83)","v":8.9499999999999993},{"$f":"H81","v":0},"ÖSSZESEN",{"$f":"COUNTIFS($J78:$BB83,\">9,99\",$J78:$BB83,\"<20\")","v":0},{"$f":"COUNTIFS($J78:$BB83,\">19,99\")","v":0},{"$f":"COUNTIFS($J81:$BA81,\">4,99\",$J81:$BA81,\"<9,99\")","v":0},{"$f":"COUNTIFS($J81:$BB81,\">9,99\")","v":0}]
["A11",{"$f":"kod!B12","v":"I. sziget, bal közép"},{"$f":"kod!C12","v":"Invader's Team Poland"},{"$f":"SUM(J78:AZ78)","v":12.25},{"$f":"COUNT(J78:AZ78)","v":2},6.125,{"$f":"MAX(J78:BA78)","v":8.15},null,"tükörponty",8.15,4.0999999999999996]
["A11",{"$f":"kod!B12","v":"I. sziget, bal közép"},{"$f":"kod!C12","v":"Invader's Team Poland"},8.9499999999999993,1,8.9499999999999993,{"$f":"MAX(J79:BA79)","v":8.9499999999999993},null,"tőponty",8.9499999999999993]
["A11",{"$f":"kod!B12","v":"I. sziget, bal közép"},{"$f":"kod!C12","v":"Invader's Team Poland"},0,0,0,{"$f":"MAX(J80:BA80)","v":0},null,"nyurgaponty"]
["A11",{"$f":"kod!B12","v":"I. sziget, bal közép"},{"$f":"kod!C12","v":"Invader's Team Poland"},0,0,0,null,{"$f":"MAX(J81:AZ81)","v":0},"koi ponty"]
["A11",{"$f":"kod!B12","v":"I. sziget, bal közép"},{"$f":"kod!C12","v":"Invader's Team Poland"},0,0,0,{"$f":"MAX(J82:BA82)","v":0},null,"amur"]
["A11",{"$f":"kod!B12","v":"I. sziget, bal közép"},{"$f":"kod!C12","v":"Invader's Team Poland"},0,0,0,{"$f":"MAX(J83:BA83)","v":0},null,"fekete amur"]
["B1",{"$f":"kod!B13","v":"Gát, közepes víz"},{"$f":"kod!C13","v":"Tata Nitu Carp Team"},{"$f":"SUM(D85:D90)","v":28.475000000000001},{"$f":"SUM(E85:E90)","v":3},{"$f":"IF(E84=0,0,D84/E84)","v":9.4916666666666671},{"$f":"MAX(G85:G90)","v":12.25},{"$f":"H88","v":9.25},"ÖSSZESEN",{"$f":"COUNTIFS($J85:$BB90,\">9,99\",$J85:$BB90,\"<20\")","v":1},{"$f":"COUNTIFS($J85:$BB90,\">19,99\")","v":0},{"$f":"COUNTIFS($J88:$BA88,\">4,99\",$J88:$BA88,\"<9,99\")","v":1},{"$f":"COUNTIFS($J88:$BB88,\">9,99\")","v":0}]
["B1",{"$f":"kod!B13","v":"Gát, közepes víz"},{"$f":"kod!C13","v":"Tata Nitu Carp Team"},{"$f":"SUM(J85:AZ85)","v":0},{"$f":"COUNT(J85:AZ85)","v":0},{"$f":"IF(E85=0,0,D85/E85)","v":0},{"$f":"MAX(J85:BA85)","v":0},null,"tükörponty"]
["B1",{"$f":"kod!B13","v":"Gát, közepes víz"},{"$f":"kod!C13","v":"Tata Nitu Carp Team"},0,0,0,{"$f":"MAX(J86:BA86)","v":0},null,"tőponty"]
["B1",{"$f":"kod!B13","v":"Gát, közepes víz"},{"$f":"kod!C13","v":"Tata Nitu Carp Team"},12.25,1,12.25,{"$f":"MAX(J87:BA87)","v":12.25},null,"nyurgaponty",12.25]
["B1",{"$f":"kod!B13","v":"Gát, közepes víz"},{"$f":"kod!C13","v":"Tata Nitu Carp Team"},9.25,1,9.25,null,{"$f":"MAX(J88:AZ88)","v":9.25},"koi ponty",9.25]
["B1",{"$f":"kod!B13","v":"Gát, közepes víz"},{"$f":"kod!C13","v":"Tata Nitu Carp Team"},6.9749999999999996,1,6.9749999999999996,{"$f":"MAX(J89:BA89)","v":6.9749999999999996},null,"amur",6.9749999999999996]
["B1",{"$f":"kod!B13","v":"Gát, közepes víz"},{"$f":"kod!C13","v":"Tata Nitu Carp Team"},0,0,0,{"$f":"MAX(J90:BA90)","v":0},null,"fekete amur"]
["B2",{"$f":"kod!B14","v":"Gát, közepes víz"},{"$f":"kod!C14","v":"Slovakia Carp Team"},{"$f":"SUM(D92:D97)","v":25.650000000000002},{"$f":"SUM(E92:E97)","v":4},6.4125000000000005,{"$f":"MAX(G92:G97)","v":9.6},{"$f":"H95","v":0},"ÖSSZESEN",{"$f":"COUNTIFS($J92:$BB97,\">9,99\",$J92:$BB97,\"<20\")","v":0},{"$f":"COUNTIFS($J92:$BB97,\">19,99\")","v":0},{"$f":"COUNTIFS($J95:$BA95,\">4,99\",$J95:$BA95,\"<9,99\")","v":0},{"$f":"COUNTIFS($J95:$BB95,\">9,99\")","v":0}]
["B2",{"$f":"kod!B14","v":"Gát, közepes víz"},{"$f":"kod!C14","v":"Slovakia Carp Team"},{"$f":"SUM(J92:AZ92)","v":8.0500000000000007},{"$f":"COUNT(J92:AZ92)","v":2},4.0250000000000004,{"$f":"MAX(J92:BA92)","v":4.0999999999999996},null,"tükörponty",3.95,4.0999999999999996]
["B2",{"$f":"kod!B14","v":"Gát, közepes víz"},{"$f":"kod!C14","v":"Slovakia Carp Team"},17.600000000000001,2,8.8000000000000007,{"$f":"MAX(J93:BA93)","v":9.6},null,"tőponty",9.6,8]
["B2",{"$f":"kod!B14","v":"Gát, közepes víz"},{"$f":"kod!C14","v":"Slovakia Carp Team"},0,0,0,{"$f":"MAX(J94:BA94)","v":0},null,"nyurgaponty"]
["B2",{"$f":"kod!B14","v":"Gát, közepes víz"},{"$f":"kod!C14","v":"Slovakia Carp Team"},0,0,0,null,{"$f":"MAX(J95:AZ95)","v":0},"koi ponty"]
["B2",{"$f":"kod!B14","v":"Gát, közepes víz"},{"$f":"kod!C14","v":"Slovakia Carp Team"},0,0,0,{"$f":"MAX(J96:BA96)","v":0},null,"amur"]
["B2",{"$f":"kod!B14","v":"Gát, közepes víz"},{"$f":"kod!C14","v":"Slovakia Carp Team"},0,0,0,{"$f":"MAX(J97:BA97)","v":0},null,"fekete amur"]
["B3",{"$f":"kod!B15","v":"Gát, közepes víz"},{"$f":"kod!C15","v":"WLC Hungary "},{"$f":"SUM(D99:D104)","v":113.89999999999999},{"$f":"SUM(E99:E104)","v":14},8.1357142857142843,{"$f":"MAX(G99:G104)","v":17.024999999999999},{"$f":"H102","v":0},"ÖSSZESEN",{"$f":"COUNTIFS($J99:$BB104,\">9,99\",$J99:$BB104,\"<20\")","v":2},{"$f":"COUNTIFS($J99:$BB104,\">19,99\")","v":0},{"$f":"COUNTIFS($J102:$BA102,\">4,99\",$J102:$BA102,\"<9,99\")","v":0},{"$f":"COUNTIFS($J102:$BB102,\">9,99\")","v":0}]
["B3",{"$f":"kod!B15","v":"Gát, közepes víz"},{"$f":"kod!C15","v":"WLC Hungary "},{"$f":"SUM(J99:AZ99)","v":14.3},{"$f":"COUNT(J99:AZ99)","v":2},7.15,{"$f":"MAX(J99:BA99)","v":8.3000000000000007},null,"tükörponty",8.3000000000000007,6]
["B3",{"$f":"kod!B15","v":"Gát, közepes víz"},{"$f":"kod!C15","v":"WLC Hungary "},35.950000000000003,5,7.19,{"$f":"MAX(J100:BA100)","v":9.625},null,"tőponty",9.625,7.7,5.875,5.55,7.2]
["B3",{"$f":"kod!B15","v":"Gát, közepes víz"},{"$f":"kod!C15","v":"WLC Hungary "},59.424999999999997,6,9.9041666666666668,{"$f":"MAX(J101:BA101)","v":17.024999999999999},null,"nyurgaponty",8.15,17.024999999999999,7.35,5.0250000000000004,15.3,6.5750000000000002]
["B3",{"$f":"kod!B15","v":"Gát, közepes víz"},{"$f":"kod!C15","v":"WLC Hungary "},0,0,0,null,{"$f":"MAX(J102:AZ102)","v":0},"koi ponty"]
["B3",{"$f":"kod!B15","v":"Gát, közepes víz"},{"$f":"kod!C15","v":"WLC Hungary "},0,0,0,{"$f":"MAX(J103:BA103)","v":0},null,"amur"]
["B3",{"$f":"kod!B15","v":"Gát, közepes víz"},{"$f":"kod!C15","v":"WLC Hungary "},4.2249999999999996,1,4.2249999999999996,{"$f":"MAX(J104:BA104)","v":4.2249999999999996},null,"fekete amur",4.2249999999999996]
["B4",{"$f":"kod!B16","v":"Gát, közepes víz"},{"$f":"kod!C16","v":"Barfin Line NSD Bulgaria"},{"$f":"SUM(D106:D111)","v":90.2},{"$f":"SUM(E106:E111)","v":9},10.022222222222222,{"$f":"MAX(G106:G111)","v":17.225000000000001},{"$f":"H109","v":0},"ÖSSZESEN",{"$f":"COUNTIFS($J106:$BB111,\">9,99\",$J106:$BB111,\"<20\")","v":3},{"$f":"COUNTIFS($J106:$BB111,\">19,99\")","v":0},{"$f":"COUNTIFS($J109:$BA109,\">4,99\",$J109:$BA109,\"<9,99\")","v":0},{"$f":"COUNTIFS($J109:$BB109,\">9,99\")","v":0}]
["B4",{"$f":"kod!B16","v":"Gát, közepes víz"},{"$f":"kod!C16","v":"Barfin Line NSD Bulgaria"},{"$f":"SUM(J106:AZ106)","v":33.1},{"$f":"COUNT(J106:AZ106)","v":2},16.55,{"$f":"MAX(J106:BA106)","v":17.225000000000001},null,"tükörponty",17.225000000000001,15.875]
["B4",{"$f":"kod!B16","v":"Gát, közepes víz"},{"$f":"kod!C16","v":"Barfin Line NSD Bulgaria"},17.225000000000001,3,5.7416666666666671,6.15,null,"tőponty",6.15,5,6.0750000000000002]
["B4",{"$f":"kod!B16","v":"Gát, közepes víz"},{"$f":"kod!C16","v":"Barfin Line NSD Bulgaria"},34.299999999999997,3,11.433333333333332,16.350000000000001,null,"nyurgaponty",8.9749999999999996,8.9749999999999996,16.350000000000001]
["B4",{"$f":"kod!B16","v":"Gát, közepes víz"},{"$f":"kod!C16","v":"Barfin Line NSD Bulgaria"},0,0,0,0,{"$f":"MAX(J109:AZ109)","v":0},"koi ponty"]
["B4",{"$f":"kod!B16","v":"Gát, közepes víz"},{"$f":"kod!C16","v":"Barfin Line NSD Bulgaria"},5.5750000000000002,1,5.5750000000000002,5.5750000000000002,null,"amur",5.5750000000000002]
["B4",{"$f":"kod!B16","v":"Gát, közepes víz"},{"$f":"kod!C16","v":"Barfin Line NSD Bulgaria"},0,0,0,0,null,"fekete amur"]
["B5",{"$f":"kod!B17","v":"Gát, közepes víz"},{"$f":"kod!C17","v":"Lutra Carp Hunters"},{"$f":"SUM(D113:D118)","v":19.950000000000003},{"$f":"SUM(E113:E118)","v":2},9.9750000000000014,{"$f":"MAX(G113:G118)","v":9.15},{"$f":"H116","v":10.8},"ÖSSZESEN",{"$f":"COUNTIFS($J113:$BB118,\">9,99\",$J113:$BB118,\"<20\")","v":1},{"$f":"COUNTIFS($J113:$BB118,\">19,99\")","v":0},{"$f":"COUNTIFS($J116:$BA116,\">4,99\",$J116:$BA116,\"<9,99\")","v":0},{"$f":"COUNTIFS($J116:$BB116,\">9,99\")","v":1}]
["B5",{"$f":"kod!B17","v":"Gát, közepes víz"},{"$f":"kod!C17","v":"Lutra Carp Hunters"},{"$f":"SUM(J113:AZ113)","v":0},{"$f":"COUNT(J113:AZ113)","v":0},0,{"$f":"MAX(J113:BA113)","v":0},null,"tükörponty"]
["B5",{"$f":"kod!B17","v":"Gát, közepes víz"},{"$f":"kod!C17","v":"Lutra Carp Hunters"},9.15,1,9.15,{"$f":"MAX(J114:BA114)","v":9.15},null,"tőponty",9.15]
["B5",{"$f":"kod!B17","v":"Gát, közepes víz"},{"$f":"kod!C17","v":"Lutra Carp Hunters"},0,0,0,{"$f":"MAX(J115:BA115)","v":0},null,"nyurgaponty"]
["B5",{"$f":"kod!B17","v":"Gát, közepes víz"},{"$f":"kod!C17","v":"Lutra Carp Hunters"},10.8,1,10.8,null,{"$f":"MAX(J116:AZ116)","v":10.8},"koi ponty",10.8]
["B5",{"$f":"kod!B17","v":"Gát, közepes víz"},{"$f":"kod!C17","v":"Lutra Carp Hunters"},0,0,0,{"$f":"MAX(J117:BA117)","v":0},null,"amur"]
["B5",{"$f":"kod!B17","v":"Gát, közepes víz"},{"$f":"kod!C17","v":"Lutra Carp Hunters"},0,0,0,{"$f":"MAX(J118:BA118)","v":0},null,"fekete amur"]
["B6",{"$f":"kod!B18","v":"Gát, közepes víz"},{"$f":"kod!C18","v":"Xtra Carp Team"},{"$f":"SUM(D120:D125)","v":63.475000000000001},{"$f":"SUM(E120:E125)","v":5},12.695,{"$f":"MAX(G120:G125)","v":15.475},{"$f":"H123","v":0},"ÖSSZESEN",{"$f":"COUNTIFS($J120:$BB125,\">9,99\",$J120:$BB125,\"<20\")","v":5},{"$f":"COUNTIFS($J120:$BB125,\">19,99\")","v":0},{"$f":"COUNTIFS($J123:$BA123,\">4,99\",$J123:$BA123,\"<9,99\")","v":0},{"$f":"COUNTIFS($J123:$BB123,\">9,99\")","v":0}]
["B6",{"$f":"kod!B18","v":"Gát, közepes víz"},{"$f":"kod!C18","v":"Xtra Carp Team"},{"$f":"SUM(J120:AZ120)","v":0},{"$f":"COUNT(J120:AZ120)","v":0},0,{"$f":"MAX(J120:BA120)","v":0},null,"tükörponty"]
["B6",{"$f":"kod!B18","v":"Gát, közepes víz"},{"$f":"kod!C18","v":"Xtra Carp Team"},0,0,0,{"$f":"MAX(J121:BA121)","v":0},null,"tőponty"]
["B6",{"$f":"kod!B18","v":"Gát, közepes víz"},{"$f":"kod!C18","v":"Xtra Carp Team"},63.475000000000001,5,12.695,{"$f":"MAX(J122:BA122)","v":15.475},null,"nyurgaponty",14.125,11.425000000000001,11.45,11,15.475]
["B6",{"$f":"kod!B18","v":"Gát, közepes víz"},{"$f":"kod!C18","v":"Xtra Carp Team"},0,0,0,null,{"$f":"MAX(J123:AZ123)","v":0},"koi ponty"]
["B6",{"$f":"kod!B18","v":"Gát, közepes víz"},{"$f":"kod!C18","v":"Xtra Carp Team"},0,0,0,{"$f":"MAX(J124:BA124)","v":0},null,"amur"]
["B6",{"$f":"kod!B18","v":"Gát, közepes víz"},{"$f":"kod!C18","v":"Xtra Carp Team"},0,0,0,{"$f":"MAX(J125:BA125)","v":0},null,"fekete amur"]
["B7",{"$f":"kod!B19","v":"I. sziget, jobb közép"},{"$f":"kod!C19","v":"Elite Carp Team Brasov"},{"$f":"SUM(D127:D132)","v":50.400000000000006},{"$f":"SUM(E127:E132)","v":4},12.600000000000001,{"$f":"MAX(G127:G132)","v":15.675000000000001},{"$f":"H130","v":0},"ÖSSZESEN",{"$f":"COUNTIFS($J127:$BB132,\">9,99\",$J127:$BB132,\"<20\")","v":3},{"$f":"COUNTIFS($J127:$BB132,\">19,99\")","v":0},{"$f":"COUNTIFS($J130:$BA130,\">4,99\",$J130:$BA130,\"<9,99\")","v":0},{"$f":"COUNTIFS($J130:$BB130,\">9,99\")","v":0}]
["B7",{"$f":"kod!B19","v":"I. sziget, jobb közép"},{"$f":"kod!C19","v":"Elite Carp Team Brasov"},{"$f":"SUM(J127:AZ127)","v":13.85},{"$f":"COUNT(J127:AZ127)","v":1},13.85,{"$f":"MAX(J127:BA127)","v":13.85},null,"tükörponty",13.85]
["B7",{"$f":"kod!B19","v":"I. sziget, jobb közép"},{"$f":"kod!C19","v":"Elite Carp Team Brasov"},20.875,2,10.4375,{"$f":"MAX(J128:BA128)","v":13.3},null,"tőponty",13.3,7.5750000000000002]
["B7",{"$f":"kod!B19","v":"I. sziget, jobb közép"},{"$f":"kod!C19","v":"Elite Carp Team Brasov"},15.675000000000001,1,15.675000000000001,{"$f":"MAX(J129:BA129)","v":15.675000000000001},null,"nyurgaponty",15.675000000000001]
["B7",{"$f":"kod!B19","v":"I. sziget, jobb közép"},{"$f":"kod!C19","v":"Elite Carp Team Brasov"},0,0,0,null,{"$f":"MAX(J130:AZ130)","v":0},"koi ponty"]
["B7",{"$f":"kod!B19","v":"I. sziget, jobb közép"},{"$f":"kod!C19","v":"Elite Carp Team Brasov"},0,0,0,{"$f":"MAX(J131:BA131)","v":0},null,"amur"]
["B7",{"$f":"kod!B19","v":"I. sziget, jobb közép"},{"$f":"kod!C19","v":"Elite Carp Team Brasov"},0,0,0,{"$f":"MAX(J132:BA132)","v":0},null,"fekete amur"]
["B8",{"$f":"kod!B20","v":"I. sziget, jobb "},{"$f":"kod!C20","v":"CT777 Varna Bulgaria"},{"$f":"SUM(D134:D139)","v":60.8},{"$f":"SUM(E134:E139)","v":8},7.6,{"$f":"MAX(G134:G139)","v":10.675000000000001},{"$f":"H137","v":10.324999999999999},"ÖSSZESEN",{"$f":"COUNTIFS($J134:$BB139,\">9,99\",$J134:$BB139,\"<20\")","v":3},{"$f":"COUNTIFS($J134:$BB139,\">19,99\")","v":0},{"$f":"COUNTIFS($J137:$BA137,\">4,99\",$J137:$BA137,\"<9,99\")","v":0},{"$f":"COUNTIFS($J137:$BB137,\">9,99\")","v":1}]
["B8",{"$f":"kod!B20","v":"I. sziget, jobb "},{"$f":"kod!C20","v":"CT777 Varna Bulgaria"},{"$f":"SUM(J134:AZ134)","v":28.175000000000004},{"$f":"COUNT(J134:AZ134)","v":3},9.3916666666666675,{"$f":"MAX(J134:BA134)","v":10.675000000000001},null,"tükörponty",10.675000000000001,8.7750000000000004,8.7249999999999996]
["B8",{"$f":"kod!B20","v":"I. sziget, jobb "},{"$f":"kod!C20","v":"CT777 Varna Bulgaria"},5.75,1,5.75,{"$f":"MAX(J135:BA135)","v":5.75},null,"tőponty",5.75]
["B8",{"$f":"kod!B20","v":"I. sziget, jobb "},{"$f":"kod!C20","v":"CT777 Varna Bulgaria"},0,0,0,{"$f":"MAX(J136:BA136)","v":0},null,"nyurgaponty"]
["B8",{"$f":"kod!B20","v":"I. sziget, jobb "},{"$f":"kod!C20","v":"CT777 Varna Bulgaria"},10.324999999999999,1,10.324999999999999,null,{"$f":"MAX(J137:AZ137)","v":10.324999999999999},"koi ponty",10.324999999999999]
["B8",{"$f":"kod!B20","v":"I. sziget, jobb "},{"$f":"kod!C20","v":"CT777 Varna Bulgaria"},10.525,1,10.525,{"$f":"MAX(J138:BA138)","v":10.525},null,"amur",10.525]
["B8",{"$f":"kod!B20","v":"I. sziget, jobb "},{"$f":"kod!C20","v":"CT777 Varna Bulgaria"},6.0250000000000004,2,3.0125000000000002,{"$f":"MAX(J139:BA139)","v":3.25},null,"fekete amur",2.7749999999999999,3.25]
["B9",{"$f":"kod!B21","v":"I. sziget, jobb külső"},{"$f":"kod!C21","v":"Bait Maker Team"},{"$f":"SUM(D141:D146)","v":29.024999999999999},{"$f":"SUM(E141:E146)","v":4},7.2562499999999996,{"$f":"MAX(G141:G146)","v":8.9250000000000007},{"$f":"H144","v":0},"ÖSSZESEN",{"$f":"COUNTIFS($J141:$BB146,\">9,99\",$J141:$BB146,\"<20\")","v":0},{"$f":"COUNTIFS($J141:$BB146,\">19,99\")","v":0},{"$f":"COUNTIFS($J144:$BA144,\">4,99\",$J144:$BA144,\"<9,99\")","v":0},{"$f":"COUNTIFS($J144:$BB144,\">9,99\")","v":0}]
["B9",{"$f":"kod!B21","v":"I. sziget, jobb külső"},{"$f":"kod!C21","v":"Bait Maker Team"},{"$f":"SUM(J141:AZ141)","v":5.5},{"$f":"COUNT(J141:AZ141)","v":1},5.5,{"$f":"MAX(J141:BA141)","v":5.5},null,"tükörponty",5.5]
["B9",{"$f":"kod!B21","v":"I. sziget, jobb külső"},{"$f":"kod!C21","v":"Bait Maker Team"},23.524999999999999,3,7.8416666666666659,{"$f":"MAX(J142:BA142)","v":8.9250000000000007},null,"tőponty",8.1,6.5,8.9250000000000007]
["B9",{"$f":"kod!B21","v":"I. sziget, jobb külső"},{"$f":"kod!C21","v":"Bait Maker Team"},0,0,0,{"$f":"MAX(J143:BA143)","v":0},null,"nyurgaponty"]
["B9",{"$f":"kod!B21","v":"I. sziget, jobb külső"},{"$f":"kod!C21","v":"Bait Maker Team"},0,0,0,null,{"$f":"MAX(J144:AZ144)","v":0},"koi ponty"]
["B9",{"$f":"kod!B21","v":"I. sziget, jobb külső"},{"$f":"kod!C21","v":"Bait Maker Team"},0,0,0,{"$f":"MAX(J145:BA145)","v":0},null,"amur"]
["B9",{"$f":"kod!B21","v":"I. sziget, jobb külső"},{"$f":"kod!C21","v":"Bait Maker Team"},0,0,0,{"$f":"MAX(J146:BA146)","v":0},null,"fekete amur"]
["B10",{"$f":"kod!B22","v":"Felező-spicc, bal"},{"$f":"kod!C22","v":"SBS - SziKo Team"},{"$f":"SUM(D148:D153)","v":4.5},{"$f":"SUM(E148:E153)","v":1},4.5,{"$f":"MAX(G148:G153)","v":4.5},{"$f":"H151","v":0},"ÖSSZESEN",{"$f":"COUNTIFS($J148:$BB153,\">9,99\",$J148:$BB153,\"<20\")","v":0},{"$f":"COUNTIFS($J148:$BB153,\">19,99\")","v":0},{"$f":"COUNTIFS($J151:$BA151,\">4,99\",$J151:$BA151,\"<9,99\")","v":0},{"$f":"COUNTIFS($J151:$BB151,\">9,99\")","v":0}]
["B10",{"$f":"kod!B22","v":"Felező-spicc, bal"},{"$f":"kod!C22","v":"SBS - SziKo Team"},{"$f":"SUM(J148:AZ148)","v":4.5},{"$f":"COUNT(J148:AZ148)","v":1},4.5,{"$f":"MAX(J148:BA148)","v":4.5},null,"tükörponty",4.5]
["B10",{"$f":"kod!B22","v":"Felező-spicc, bal"},{"$f":"kod!C22","v":"SBS - SziKo Team"},0,0,{"$f":"IF(E149=0,0,D149/E149)","v":0},{"$f":"MAX(J149:BA149)","v":0},null,"tőponty"]
["B10",{"$f":"kod!B22","v":"Felező-spicc, bal"},{"$f":"kod!C22","v":"SBS - SziKo Team"},0,0,0,{"$f":"MAX(J150:BA150)","v":0},null,"nyurgaponty"]
["B10",{"$f":"kod!B22","v":"Felező-spicc, bal"},{"$f":"kod!C22","v":"SBS - SziKo Team"},0,0,0,null,{"$f":"MAX(J151:AZ151)","v":0},"koi ponty"]
["B10",{"$f":"kod!B22","v":"Felező-spicc, bal"},{"$f":"kod!C22","v":"SBS - SziKo Team"},0,0,0,{"$f":"MAX(J152:BA152)","v":0},null,"amur"]
["B10",{"$f":"kod!B22","v":"Felező-spicc, bal"},{"$f":"kod!C22","v":"SBS - SziKo Team"},0,0,0,{"$f":"MAX(J153:BA153)","v":0},null,"fekete amur"]
["B11",{"$f":"kod!B23","v":"Felező-spicc, közép"},{"$f":"kod!C23","v":"Síp Carp Team"},{"$f":"SUM(D155:D160)","v":11.025},{"$f":"SUM(E155:E160)","v":1},11.025,{"$f":"MAX(G155:G160)","v":11.025},{"$f":"H158","v":0},"ÖSSZESEN",{"$f":"COUNTIFS($J155:$BB160,\">9,99\",$J155:$BB160,\"<20\")","v":1},{"$f":"COUNTIFS($J155:$BB160,\">19,99\")","v":0},{"$f":"COUNTIFS($J158:$BA158,\">4,99\",$J158:$BA158,\"<9,99\")","v":0},{"$f":"COUNTIFS($J158:$BB158,\">9,99\")","v":0}]
["B11",{"$f":"kod!B23","v":"Felező-spicc, közép"},{"$f":"kod!C23","v":"Síp Carp Team"},{"$f":"SUM(J155:AZ155)","v":0},0,0,{"$f":"MAX(J155:BA155)","v":0},null,"tükörponty"]
["B11",{"$f":"kod!B23","v":"Felező-spicc, közép"},{"$f":"kod!C23","v":"Síp Carp Team"},0,0,0,0,null,"tőponty"]
["B11",{"$f":"kod!B23","v":"Felező-spicc, közép"},{"$f":"kod!C23","v":"Síp Carp Team"},0,0,0,0,null,"nyurgaponty"]
["B11",{"$f":"kod!B23","v":"Felező-spicc, közép"},{"$f":"kod!C23","v":"Síp Carp Team"},0,0,0,null,{"$f":"MAX(J158:AZ158)","v":0},"koi ponty"]
["B11",{"$f":"kod!B23","v":"Felező-spicc, közép"},{"$f":"kod!C23","v":"Síp Carp Team"},11.025,1,11.025,{"$f":"MAX(J159:BA159)","v":11.025},null,"amur",11.025]
["B11",{"$f":"kod!B23","v":"Felező-spicc, közép"},{"$f":"kod!C23","v":"Síp Carp Team"},0,0,0,0,null,"fekete amur"]
["C1",{"$f":"kod!B24","v":"Gát, sekély víz"},{"$f":"kod!C24","v":"Carp Fever Bulgaria"},{"$f":"SUM(D162:D167)","v":27.1},{"$f":"SUM(E162:E167)","v":5},{"$f":"IF(E161=0,0,D161/E161)","v":5.42},{"$f":"MAX(G162:G167)","v":6.65},{"$f":"H165","v":0},"ÖSSZESEN",{"$f":"COUNTIFS($J162:$BB167,\">9,99\",$J162:$BB167,\"<20\")","v":0},{"$f":"COUNTIFS($J162:$BB167,\">19,99\")","v":0},{"$f":"COUNTIFS($J165:$BA165,\">4,99\",$J165:$BA165,\"<9,99\")","v":0},{"$f":"COUNTIFS($J165:$BB165,\">9,99\")","v":0}]
["C1",{"$f":"kod!B24","v":"Gát, sekély víz"},{"$f":"kod!C24","v":"Carp Fever Bulgaria"},{"$f":"SUM(J162:AZ162)","v":0},{"$f":"COUNT(J162:AZ162)","v":0},{"$f":"IF(E162=0,0,D162/E162)","v":0},{"$f":"MAX(J162:BA162)","v":0},null,"tükörponty"]
["C1",{"$f":"kod!B24","v":"Gát, sekély víz"},{"$f":"kod!C24","v":"Carp Fever Bulgaria"},6.65,1,6.65,{"$f":"MAX(J163:BA163)","v":6.65},null,"tőponty",6.65]
["C1",{"$f":"kod!B24","v":"Gát, sekély víz"},{"$f":"kod!C24","v":"Carp Fever Bulgaria"},20.450000000000003,4,5.1125000000000007,{"$f":"MAX(J164:BA164)","v":5.3},null,"nyurgaponty",4.9000000000000004,5.2,5.3,5.05]
["C1",{"$f":"kod!B24","v":"Gát, sekély víz"},{"$f":"kod!C24","v":"Carp Fever Bulgaria"},0,0,0,null,{"$f":"MAX(J165:AZ165)","v":0},"koi ponty"]
["C1",{"$f":"kod!B24","v":"Gát, sekély víz"},{"$f":"kod!C24","v":"Carp Fever Bulgaria"},0,0,0,{"$f":"MAX(J166:BA166)","v":0},null,"amur"]
["C1",{"$f":"kod!B24","v":"Gát, sekély víz"},{"$f":"kod!C24","v":"Carp Fever Bulgaria"},0,0,0,{"$f":"MAX(J167:BA167)","v":0},null,"fekete amur"]
["C2",{"$f":"kod!B25","v":"Gát, sekély víz"},{"$f":"kod!C25","v":"Carpfriends Ennstal-Austria"},{"$f":"SUM(D169:D174)","v":0},{"$f":"SUM(E169:E174)","v":0},0,{"$f":"MAX(G169:G174)","v":0},{"$f":"H172","v":0},"ÖSSZESEN",{"$f":"COUNTIFS($J169:$BB174,\">9,99\",$J169:$BB174,\"<20\")","v":0},{"$f":"COUNTIFS($J169:$BB174,\">19,99\")","v":0},{"$f":"COUNTIFS($J172:$BA172,\">4,99\",$J172:$BA172,\"<9,99\")","v":0},{"$f":"COUNTIFS($J172:$BB172,\">9,99\")","v":0}]
["C2",{"$f":"kod!B25","v":"Gát, sekély víz"},{"$f":"kod!C25","v":"Carpfriends Ennstal-Austria"},{"$f":"SUM(J169:AZ169)","v":0},{"$f":"COUNT(J169:AZ169)","v":0},0,{"$f":"MAX(J169:BA169)","v":0},null,"tükörponty"]
["C2",{"$f":"kod!B25","v":"Gát, sekély víz"},{"$f":"kod!C25","v":"Carpfriends Ennstal-Austria"},0,0,0,{"$f":"MAX(J170:BA170)","v":0},null,"tőponty"]
["C2",{"$f":"kod!B25","v":"Gát, sekély víz"},{"$f":"kod!C25","v":"Carpfriends Ennstal-Austria"},0,0,0,{"$f":"MAX(J171:BA171)","v":0},null,"nyurgaponty"]
["C2",{"$f":"kod!B25","v":"Gát, sekély víz"},{"$f":"kod!C25","v":"Carpfriends Ennstal-Austria"},0,0,0,null,{"$f":"MAX(J172:AZ172)","v":0},"koi ponty"]
["C2",{"$f":"kod!B25","v":"Gát, sekély víz"},{"$f":"kod!C25","v":"Carpfriends Ennstal-Austria"},0,0,0,{"$f":"MAX(J173:BA173)","v":0},null,"amur"]
["C2",{"$f":"kod!B25","v":"Gát, sekély víz"},{"$f":"kod!C25","v":"Carpfriends Ennstal-Austria"},0,0,0,{"$f":"MAX(J174:BA174)","v":0},null,"fekete amur"]
["C3",{"$f":"kod!B26","v":"Gát, sekély víz"},{"$f":"kod!C26","v":"Carp Team Brasov"},{"$f":"SUM(D176:D181)","v":10.45},{"$f":"SUM(E176:E181)","v":2},5.2249999999999996,{"$f":"MAX(G176:G181)","v":7.3250000000000002},{"$f":"H179","v":0},"ÖSSZESEN",{"$f":"COUNTIFS($J176:$BB181,\">9,99\",$J176:$BB181,\"<20\")","v":0},{"$f":"COUNTIFS($J176:$BB181,\">19,99\")","v":0},{"$f":"COUNTIFS($J179:$BA179,\">4,99\",$J179:$BA179,\"<9,99\")","v":0},{"$f":"COUNTIFS($J179:$BB179,\">9,99\")","v":0}]
["C3",{"$f":"kod!B26","v":"Gát, sekély víz"},{"$f":"kod!C26","v":"Carp Team Brasov"},{"$f":"SUM(J176:AZ176)","v":0},{"$f":"COUNT(J176:AZ176)","v":0},0,{"$f":"MAX(J176:BA176)","v":0},null,"tükörponty"]
["C3",{"$f":"kod!B26","v":"Gát, sekély víz"},{"$f":"kod!C26","v":"Carp Team Brasov"},10.45,2,5.2249999999999996,{"$f":"MAX(J177:BA177)","v":7.3250000000000002},null,"tőponty",3.125,7.3250000000000002]
["C3",{"$f":"kod!B26","v":"Gát, sekély víz"},{"$f":"kod!C26","v":"Carp Team Brasov"},0,0,0,{"$f":"MAX(J178:BA178)","v":0},null,"nyurgaponty"]
["C3",{"$f":"kod!B26","v":"Gát, sekély víz"},{"$f":"kod!C26","v":"Carp Team Brasov"},0,0,0,null,{"$f":"MAX(J179:AZ179)","v":0},"koi ponty"]
["C3",{"$f":"kod!B26","v":"Gát, sekély víz"},{"$f":"kod!C26","v":"Carp Team Brasov"},0,0,0,{"$f":"MAX(J180:BA180)","v":0},null,"amur"]
["C3",{"$f":"kod!B26","v":"Gát, sekély víz"},{"$f":"kod!C26","v":"Carp Team Brasov"},0,0,0,{"$f":"MAX(J181:BA181)","v":0},null,"fekete amur"]
["C4",{"$f":"kod!B27","v":"Gát, sekély víz"},{"$f":"kod!C27","v":"As La Carp Team"},{"$f":"SUM(D183:D188)","v":0},{"$f":"SUM(E183:E188)","v":0},0,{"$f":"MAX(G183:G188)","v":0},{"$f":"H186","v":0},"ÖSSZESEN",{"$f":"COUNTIFS($J183:$BB188,\">9,99\",$J183:$BB188,\"<20\")","v":0},{"$f":"COUNTIFS($J183:$BB188,\">19,99\")","v":0},{"$f":"COUNTIFS($J186:$BA186,\">4,99\",$J186:$BA186,\"<9,99\")","v":0},{"$f":"COUNTIFS($J186:$BB186,\">9,99\")","v":0}]
["C4",{"$f":"kod!B27","v":"Gát, sekély víz"},{"$f":"kod!C27","v":"As La Carp Team"},{"$f":"SUM(J183:AZ183)","v":0},{"$f":"COUNT(J183:AZ183)","v":0},0,{"$f":"MAX(J183:BA183)","v":0},null,"tükörponty"]
["C4",{"$f":"kod!B27","v":"Gát, sekély víz"},{"$f":"kod!C27","v":"As La Carp Team"},0,0,0,0,null,"tőponty"]
["C4",{"$f":"kod!B27","v":"Gát, sekély víz"},{"$f":"kod!C27","v":"As La Carp Team"},0,0,0,0,null,"nyurgaponty"]
["C4",{"$f":"kod!B27","v":"Gát, sekély víz"},{"$f":"kod!C27","v":"As La Carp Team"},0,0,0,0,{"$f":"MAX(J186:AZ186)","v":0},"koi ponty"]
["C4",{"$f":"kod!B27","v":"Gát, sekély víz"},{"$f":"kod!C27","v":"As La Carp Team"},0,0,0,0,null,"amur"]
["C4",{"$f":"kod!B27","v":"Gát, sekély víz"},{"$f":"kod!C27","v":"As La Carp Team"},0,0,0,0,null,"fekete amur"]
["C5",{"$f":"kod!B28","v":"Gát, sekély víz"},{"$f":"kod!C28","v":"Bojlis Főnök - Bait Bait Carp Team"},{"$f":"SUM(D190:D195)","v":7.4249999999999998},{"$f":"SUM(E190:E195)","v":1},7.4249999999999998,{"$f":"MAX(G190:G195)","v":7.4249999999999998},{"$f":"H193","v":0},"ÖSSZESEN",{"$f":"COUNTIFS($J190:$BB195,\">9,99\",$J190:$BB195,\"<20\")","v":0},{"$f":"COUNTIFS($J190:$BB195,\">19,99\")","v":0},{"$f":"COUNTIFS($J193:$BA193,\">4,99\",$J193:$BA193,\"<9,99\")","v":0},{"$f":"COUNTIFS($J193:$BB193,\">9,99\")","v":0}]
["C5",{"$f":"kod!B28","v":"Gát, sekély víz"},{"$f":"kod!C28","v":"Bojlis Főnök - Bait Bait Carp Team"},{"$f":"SUM(J190:AZ190)","v":7.4249999999999998},{"$f":"COUNT(J190:AZ190)","v":1},7.4249999999999998,{"$f":"MAX(J190:BA190)","v":7.4249999999999998},null,"tükörponty",7.4249999999999998]
["C5",{"$f":"kod!B28","v":"Gát, sekély víz"},{"$f":"kod!C28","v":"Bojlis Főnök - Bait Bait Carp Team"},0,0,0,{"$f":"MAX(J191:BA191)","v":0},null,"tőponty"]
["C5",{"$f":"kod!B28","v":"Gát, sekély víz"},{"$f":"kod!C28","v":"Bojlis Főnök - Bait Bait Carp Team"},0,0,0,{"$f":"MAX(J192:BA192)","v":0},null,"nyurgaponty"]
["C5",{"$f":"kod!B28","v":"Gát, sekély víz"},{"$f":"kod!C28","v":"Bojlis Főnök - Bait Bait Carp Team"},0,0,0,null,{"$f":"MAX(J193:AZ193)","v":0},"koi ponty"]
["C5",{"$f":"kod!B28","v":"Gát, sekély víz"},{"$f":"kod!C28","v":"Bojlis Főnök - Bait Bait Carp Team"},0,0,0,{"$f":"MAX(J194:BA194)","v":0},null,"amur"]
["C5",{"$f":"kod!B28","v":"Gát, sekély víz"},{"$f":"kod!C28","v":"Bojlis Főnök - Bait Bait Carp Team"},0,0,0,{"$f":"MAX(J195:BA195)","v":0},null,"fekete amur"]
["C6",{"$f":"kod!B29","v":"Felező-spicc, jobb"},{"$f":"kod!C29","v":"Secret Of The Carp"},{"$f":"SUM(D197:D202)","v":0},{"$f":"SUM(E197:E202)","v":0},0,{"$f":"MAX(G197:G202)","v":0},{"$f":"H200","v":0},"ÖSSZESEN",{"$f":"COUNTIFS($J197:$BB202,\">9,99\",$J197:$BB202,\"<20\")","v":0},{"$f":"COUNTIFS($J197:$BB202,\">19,99\")","v":0},{"$f":"COUNTIFS($J200:$BA200,\">4,99\",$J200:$BA200,\"<9,99\")","v":0},{"$f":"COUNTIFS($J200:$BB200,\">9,99\")","v":0}]
["C6",{"$f":"kod!B29","v":"Felező-spicc, jobb"},{"$f":"kod!C29","v":"Secret Of The Carp"},{"$f":"SUM(J197:AZ197)","v":0},{"$f":"COUNT(J197:AZ197)","v":0},0,{"$f":"MAX(J197:BA197)","v":0},null,"tükörponty"]
["C6",{"$f":"kod!B29","v":"Felező-spicc, jobb"},{"$f":"kod!C29","v":"Secret Of The Carp"},0,0,0,0,null,"tőponty"]
["C6",{"$f":"kod!B29","v":"Felező-spicc, jobb"},{"$f":"kod!C29","v":"Secret Of The Carp"},0,0,0,0,null,"nyurgaponty"]
["C6",{"$f":"kod!B29","v":"Felező-spicc, jobb"},{"$f":"kod!C29","v":"Secret Of The Carp"},0,0,0,0,{"$f":"MAX(J200:AZ200)","v":0},"koi ponty"]
["C6",{"$f":"kod!B29","v":"Felező-spicc, jobb"},{"$f":"kod!C29","v":"Secret Of The Carp"},0,0,0,0,null,"amur"]
["C6",{"$f":"kod!B29","v":"Felező-spicc, jobb"},{"$f":"kod!C29","v":"Secret Of The Carp"},0,0,0,0,null,"fekete amur"]
["C7",{"$f":"kod!B30","v":"II. sziget, bal"},{"$f":"kod!C30","v":"Quick Baits"},{"$f":"SUM(D204:D209)","v":52.75},{"$f":"SUM(E204:E209)","v":8},6.59375,{"$f":"MAX(G204:G209)","v":7.9749999999999996},{"$f":"H207","v":0},"ÖSSZESEN",{"$f":"COUNTIFS($J204:$BB209,\">9,99\",$J204:$BB209,\"<20\")","v":0},{"$f":"COUNTIFS($J204:$BB209,\">19,99\")","v":0},{"$f":"COUNTIFS($J207:$BA207,\">4,99\",$J207:$BA207,\"<9,99\")","v":0},{"$f":"COUNTIFS($J207:$BB207,\">9,99\")","v":0}]
["C7",{"$f":"kod!B30","v":"II. sziget, bal"},{"$f":"kod!C30","v":"Quick Baits"},{"$f":"SUM(J204:AZ204)","v":9.9250000000000007},{"$f":"COUNT(J204:AZ204)","v":2},4.9625000000000004,{"$f":"MAX(J204:BA204)","v":7.6749999999999998},null,"tükörponty",7.6749999999999998,2.25]
["C7",{"$f":"kod!B30","v":"II. sziget, bal"},{"$f":"kod!C30","v":"Quick Baits"},36.074999999999996,5,7.214999999999999,{"$f":"MAX(J205:BA205)","v":7.9749999999999996},null,"tőponty",7.0750000000000002,7.75,7.9749999999999996,6.9249999999999998,6.35]
["C7",{"$f":"kod!B30","v":"II. sziget, bal"},{"$f":"kod!C30","v":"Quick Baits"},6.75,1,6.75,{"$f":"MAX(J206:BA206)","v":6.75},null,"nyurgaponty",6.75]
["C7",{"$f":"kod!B30","v":"II. sziget, bal"},{"$f":"kod!C30","v":"Quick Baits"},0,0,0,null,{"$f":"MAX(J207:AZ207)","v":0},"koi ponty"]
["C7",{"$f":"kod!B30","v":"II. sziget, bal"},{"$f":"kod!C30","v":"Quick Baits"},0,0,0,{"$f":"MAX(J208:BA208)","v":0},null,"amur"]
["C7",{"$f":"kod!B30","v":"II. sziget, bal"},{"$f":"kod!C30","v":"Quick Baits"},0,0,0,{"$f":"MAX(J209:BA209)","v":0},null,"fekete amur"]
["C8",{"$f":"kod!B31","v":"II. sziget, bal közép"},{"$f":"kod!C31","v":"Carp Team Blankbrothers"},{"$f":"SUM(D211:D216)","v":21.45},{"$f":"SUM(E211:E216)","v":3},7.1499999999999995,{"$f":"MAX(G211:G216)","v":7.5250000000000004},{"$f":"H214","v":0},"ÖSSZESEN",{"$f":"COUNTIFS($J211:$BB216,\">9,99\",$J211:$BB216,\"<20\")","v":0},{"$f":"COUNTIFS($J211:$BB216,\">19,99\")","v":0},{"$f":"COUNTIFS($J214:$BA214,\">4,99\",$J214:$BA214,\"<9,99\")","v":0},{"$f":"COUNTIFS($J214:$BB214,\">9,99\")","v":0}]
["C8",{"$f":"kod!B31","v":"II. sziget, bal közép"},{"$f":"kod!C31","v":"Carp Team Blankbrothers"},{"$f":"SUM(J211:AZ211)","v":0},{"$f":"COUNT(J211:AZ211)","v":0},0,{"$f":"MAX(J211:BA211)","v":0},null,"tükörponty"]
["C8",{"$f":"kod!B31","v":"II. sziget, bal közép"},{"$f":"kod!C31","v":"Carp Team Blankbrothers"},21.45,3,7.1499999999999995,{"$f":"MAX(J212:BA212)","v":7.5250000000000004},null,"tőponty",7.5250000000000004,7.25,6.6749999999999998]
["C8",{"$f":"kod!B31","v":"II. sziget, bal közép"},{"$f":"kod!C31","v":"Carp Team Blankbrothers"},0,0,0,{"$f":"MAX(J213:BA213)","v":0},null,"nyurgaponty"]
["C8",{"$f":"kod!B31","v":"II. sziget, bal közép"},{"$f":"kod!C31","v":"Carp Team Blankbrothers"},0,0,0,null,{"$f":"MAX(J214:AZ214)","v":0},"koi ponty"]
["C8",{"$f":"kod!B31","v":"II. sziget, bal közép"},{"$f":"kod!C31","v":"Carp Team Blankbrothers"},0,0,0,{"$f":"MAX(J215:BA215)","v":0},null,"amur"]
["C8",{"$f":"kod!B31","v":"II. sziget, bal közép"},{"$f":"kod!C31","v":"Carp Team Blankbrothers"},0,0,0,{"$f":"MAX(J216:BA216)","v":0},null,"fekete amur"]
["C9",{"$f":"kod!B32","v":"II. sziget, közép"},{"$f":"kod!C32","v":"Bait Bait Hungary"},{"$f":"SUM(D218:D223)","v":26.9},{"$f":"SUM(E218:E223)","v":4},6.7249999999999996,{"$f":"MAX(G218:G223)","v":11.75},{"$f":"H221","v":0},"ÖSSZESEN",{"$f":"COUNTIFS($J218:$BB223,\">9,99\",$J218:$BB223,\"<20\")","v":1},{"$f":"COUNTIFS($J218:$BB223,\">19,99\")","v":0},{"$f":"COUNTIFS($J221:$BA221,\">4,99\",$J221:$BA221,\"<9,99\")","v":0},{"$f":"COUNTIFS($J221:$BB221,\">9,99\")","v":0}]
["C9",{"$f":"kod!B32","v":"II. sziget, közép"},{"$f":"kod!C32","v":"Bait Bait Hungary"},{"$f":"SUM(J218:AZ218)","v":7.2},{"$f":"COUNT(J218:AZ218)","v":1},7.2,{"$f":"MAX(J218:BA218)","v":7.2},null,"tükörponty",7.2]
["C9",{"$f":"kod!B32","v":"II. sziget, közép"},{"$f":"kod!C32","v":"Bait Bait Hungary"},13.425000000000001,2,6.7125000000000004,{"$f":"MAX(J219:BA219)","v":11.75},null,"tőponty",1.675,11.75]
["C9",{"$f":"kod!B32","v":"II. sziget, közép"},{"$f":"kod!C32","v":"Bait Bait Hungary"},6.2750000000000004,1,6.2750000000000004,{"$f":"MAX(J220:BA220)","v":6.2750000000000004},null,"nyurgaponty",6.2750000000000004]
["C9",{"$f":"kod!B32","v":"II. sziget, közép"},{"$f":"kod!C32","v":"Bait Bait Hungary"},0,0,0,null,{"$f":"MAX(J221:AZ221)","v":0},"koi ponty"]
["C9",{"$f":"kod!B32","v":"II. sziget, közép"},{"$f":"kod!C32","v":"Bait Bait Hungary"},0,0,0,{"$f":"MAX(J222:BA222)","v":0},null,"amur"]
["C9",{"$f":"kod!B32","v":"II. sziget, közép"},{"$f":"kod!C32","v":"Bait Bait Hungary"},0,0,0,{"$f":"MAX(J223:BA223)","v":0},null,"fekete amur"]
["C10",{"$f":"kod!B33","v":"II. sziget, jobb közép"},{"$f":"kod!C33","v":"Acroft Illusive Bait Me"},{"$f":"SUM(D225:D230)","v":0},{"$f":"SUM(E225:E230)","v":0},0,{"$f":"MAX(G225:G230)","v":0},{"$f":"H228","v":0},"ÖSSZESEN",{"$f":"COUNTIFS($J225:$BB230,\">9,99\",$J225:$BB230,\"<20\")","v":0},{"$f":"COUNTIFS($J225:$BB230,\">19,99\")","v":0},{"$f":"COUNTIFS($J228:$BA228,\">4,99\",$J228:$BA228,\"<9,99\")","v":0},{"$f":"COUNTIFS($J228:$BB228,\">9,99\")","v":0}]
["C10",{"$f":"kod!B33","v":"II. sziget, jobb közép"},{"$f":"kod!C33","v":"Acroft Illusive Bait Me"},{"$f":"SUM(J225:AZ225)","v":0},{"$f":"COUNT(J225:AZ225)","v":0},0,{"$f":"MAX(J225:BA225)","v":0},null,"tükörponty"]
["C10",{"$f":"kod!B33","v":"II. sziget, jobb közép"},{"$f":"kod!C33","v":"Acroft Illusive Bait Me"},0,0,{"$f":"IF(E226=0,0,D226/E226)","v":0},{"$f":"MAX(J226:BA226)","v":0},null,"tőponty"]
["C10",{"$f":"kod!B33","v":"II. sziget, jobb közép"},{"$f":"kod!C33","v":"Acroft Illusive Bait Me"},0,0,0,{"$f":"MAX(J227:BA227)","v":0},null,"nyurgaponty"]
["C10",{"$f":"kod!B33","v":"II. sziget, jobb közép"},{"$f":"kod!C33","v":"Acroft Illusive Bait Me"},0,0,0,null,{"$f":"MAX(J228:AZ228)","v":0},"koi ponty"]
["C10",{"$f":"kod!B33","v":"II. sziget, jobb közép"},{"$f":"kod!C33","v":"Acroft Illusive Bait Me"},0,0,0,{"$f":"MAX(J229:BA229)","v":0},null,"amur"]
["C10",{"$f":"kod!B33","v":"II. sziget, jobb közép"},{"$f":"kod!C33","v":"Acroft Illusive Bait Me"},0,0,0,{"$f":"MAX(J230:BA230)","v":0},null,"fekete amur"]
["C11",{"$f":"kod!B34","v":"II. sziget, jobb"},{"$f":"kod!C34","v":"Vaslui Carp Team"},{"$f":"SUM(D232:D237)","v":166.9},{"$f":"SUM(E232:E237)","v":23},7.2565217391304353,{"$f":"MAX(G232:G237)","v":19.100000000000001},{"$f":"H235","v":0},"ÖSSZESEN",{"$f":"COUNTIFS($J232:$BB237,\">9,99\",$J232:$BB237,\"<20\")","v":2},{"$f":"COUNTIFS($J232:$BB237,\">19,99\")","v":0},{"$f":"COUNTIFS($J235:$BA235,\">4,99\",$J235:$BA235,\"<9,99\")","v":0},{"$f":"COUNTIFS($J235:$BB235,\">9,99\")","v":0}]
["C11",{"$f":"kod!B34","v":"II. sziget, jobb"},{"$f":"kod!C34","v":"Vaslui Carp Team"},{"$f":"SUM(J232:AZ232)","v":24.299999999999997},{"$f":"COUNT(J232:AZ232)","v":3},8.1,{"$f":"MAX(J232:BA232)","v":9.6750000000000007},null,"tükörponty",8.2249999999999996,9.6750000000000007,6.4]
["C11",{"$f":"kod!B34","v":"II. sziget, jobb"},{"$f":"kod!C34","v":"Vaslui Carp Team"},98.274999999999991,14,7.0196428571428564,{"$f":"MAX(J233:BA233)","v":19.100000000000001},null,"tőponty",19.100000000000001,8.1,2.4249999999999998,4.875,8.5500000000000007,8.9499999999999993,2.375,8.9749999999999996,8.1999999999999993,7.25,1.9750000000000001,7,3.55,6.95]
["C11",{"$f":"kod!B34","v":"II. sziget, jobb"},{"$f":"kod!C34","v":"Vaslui Carp Team"},41.400000000000006,5,8.2800000000000011,{"$f":"MAX(J234:BA234)","v":10.725},null,"nyurgaponty",4.7750000000000004,10.725,8.875,7.35,9.6750000000000007]
["C11",{"$f":"kod!B34","v":"II. sziget, jobb"},{"$f":"kod!C34","v":"Vaslui Carp Team"},0,0,0,null,{"$f":"MAX(J235:AZ235)","v":0},"koi ponty"]
["C11",{"$f":"kod!B34","v":"II. sziget, jobb"},{"$f":"kod!C34","v":"Vaslui Carp Team"},0,0,0,{"$f":"MAX(J236:BA236)","v":0},null,"amur"]
["C11",{"$f":"kod!B34","v":"II. sziget, jobb"},{"$f":"kod!C34","v":"Vaslui Carp Team"},2.9249999999999998,1,2.9249999999999998,{"$f":"MAX(J237:BA237)","v":2.9249999999999998},null,"fekete amur",2.9249999999999998]
[null,null,"Összesen:",{"$f":"SUM(D7,D14,D21,D28,D35,D42,D49,D56,D63,D70,D77,D84,D91,D98,D105,D112,D119,D126,D133,D140,D147,D154,D161,D168,D175,D182,D189,D196,D203,D210,D217,D224,D231)","v":1252.7000000000003},{"$f":"SUM(E7,E14,E21,E28,E35,E42,E49,E56,E63,E70,E77,E84,E91,E98,E105,E112,E119,E126,E133,E140,E147,E154,E161,E168,E175,E182,E189,E196,E203,E210,E217,E224,E231)","v":150},{"$f":"IF(E238=0,0,D238/E238)","v":8.3513333333333346},null,null,null,{"$f":"SUM(J7,J14,J21,J28,J35,J42,J49,J56,J63,J70,J77,J84,J91,J98,J105,J112,J119,J126,J133,J140,J147,J154,J161,J168,J175,J182,J189,J196,J203,J210,J217,J224,J231)","v":38},{"$f":"SUM(K7,K14,K21,K28,K35,K42,K49,K56,K63,K70,K77,K84,K91,K98,K105,K112,K119,K126,K133,K140,K147,K154,K161,K168,K175,K182,K189,K196,K203,K210,K217,K224,K231)","v":0},{"$f":"SUM(L7,L14,L21,L28,L35,L42,L49,L56,L63,L70,L77,L84,L91,L98,L105,L112,L119,L126,L133,L140,L147,L154,L161,L168,L175,L182,L189,L196,L203,L210,L217,L224,L231)","v":2},4]

{"sheet":"szakasz10","index":11,"n_rows":238,"n_cols":17,"rows_kept":238,"cut":false,"hidden":false,"merged":[[0,0,0,12],[1,0,1,12],[2,0,2,12],[3,0,3,12],[4,0,4,12]]}
[{"$f":"IF(kod!E2>0,kod!E2,\"\")","v":"XXI. PROFESSZIONÁLIS BOJLIS EURÓPA KUPA (EPBC)"}]
[{"$f":"IF(kod!E3>0,kod!E3,\"\")","v":"XXXVI. MACONKA NEMZETKÖZI BOJLIS KUPA"}]
[{"$f":"IF(kod!E4>0,kod!E4,\"\")","v":"Maconka, 2025.06.15. - 2025.06.20."}]
[{"$f":"IF(kod!E5>0,kod!E5,\"\")","v":""}]
[{"$f":"kod!E16","v":"10. szakasz:  2025.06.20. 06:00 - 2025.06.20. 15:00"}]
["Rajthely","Elhelyezés","Csapatnév","Kg","Db","Átlag","BC","BkC","Faj","10-20 kg","20+ kg","koi 5-10 kg","koi 10+ kg"]
["A1",{"$f":"kod!B2","v":"Gát, mélyvíz"},{"$f":"kod!C2","v":"SBS - Halcatraz - TiZo Team"},{"$f":"SUM(D8:D13)","v":129.375},{"$f":"SUM(E8:E13)","v":10},{"$f":"IF(E7=0,0,D7/E7)","v":12.9375},{"$f":"MAX(G8:G13)","v":20.324999999999999},{"$f":"H11","v":0},"ÖSSZESEN",{"$f":"COUNTIFS($J8:$BB13,\">9,99\",$J8:$BB13,\"<20\")","v":7},{"$f":"COUNTIFS($J8:$BB13,\">19,99\")","v":1},{"$f":"COUNTIFS($J11:$BA11,\">4,99\",$J11:$BA11,\"<9,99\")","v":0},{"$f":"COUNTIFS($J11:$BB11,\">9,99\")","v":0}]
["A1",{"$f":"kod!B2","v":"Gát, mélyvíz"},{"$f":"kod!C2","v":"SBS - Halcatraz - TiZo Team"},{"$f":"SUM(J8:AZ8)","v":32.975000000000001},{"$f":"COUNT(J8:AZ8)","v":3},{"$f":"IF(E8=0,0,D8/E8)","v":10.991666666666667},{"$f":"MAX(J8:BA8)","v":12.775},null,"tükörponty",12.1,12.775,8.1]
["A1",{"$f":"kod!B2","v":"Gát, mélyvíz"},{"$f":"kod!C2","v":"SBS - Halcatraz - TiZo Team"},14.55,1,14.55,{"$f":"MAX(J9:BA9)","v":14.55},null,"tőponty",14.55]
["A1",{"$f":"kod!B2","v":"Gát, mélyvíz"},{"$f":"kod!C2","v":"SBS - Halcatraz - TiZo Team"},81.850000000000009,6,13.641666666666667,20.324999999999999,null,"nyurgaponty",7.75,17.05,11.775,13.55,20.324999999999999,11.4]
["A1",{"$f":"kod!B2","v":"Gát, mélyvíz"},{"$f":"kod!C2","v":"SBS - Halcatraz - TiZo Team"},0,0,0,null,{"$f":"MAX(J11:AZ11)","v":0},"koi ponty"]
["A1",{"$f":"kod!B2","v":"Gát, mélyvíz"},{"$f":"kod!C2","v":"SBS - Halcatraz - TiZo Team"},0,0,0,0,null,"amur"]
["A1",{"$f":"kod!B2","v":"Gát, mélyvíz"},{"$f":"kod!C2","v":"SBS - Halcatraz - TiZo Team"},0,0,0,0,null,"fekete amur"]
["A2",{"$f":"kod!B3","v":"Gát, mélyvíz"},{"$f":"kod!C3","v":"Altstadt Carp Team"},{"$f":"SUM(D15:D20)","v":3.55},{"$f":"SUM(E15:E20)","v":1},3.55,{"$f":"MAX(G15:G20)","v":3.55},{"$f":"H18","v":0},"ÖSSZESEN",{"$f":"COUNTIFS($J15:$BB20,\">9,99\",$J15:$BB20,\"<20\")","v":0},{"$f":"COUNTIFS($J15:$BB20,\">19,99\")","v":0},{"$f":"COUNTIFS($J18:$BA18,\">4,99\",$J18:$BA18,\"<9,99\")","v":0},{"$f":"COUNTIFS($J18:$BB18,\">9,99\")","v":0}]
["A2",{"$f":"kod!B3","v":"Gát, mélyvíz"},{"$f":"kod!C3","v":"Altstadt Carp Team"},{"$f":"SUM(J15:AZ15)","v":0},{"$f":"COUNT(J15:AZ15)","v":0},0,{"$f":"MAX(J15:BA15)","v":0},null,"tükörponty"]
["A2",{"$f":"kod!B3","v":"Gát, mélyvíz"},{"$f":"kod!C3","v":"Altstadt Carp Team"},0,0,0,{"$f":"MAX(J16:BA16)","v":0},null,"tőponty"]
["A2",{"$f":"kod!B3","v":"Gát, mélyvíz"},{"$f":"kod!C3","v":"Altstadt Carp Team"},0,0,0,{"$f":"MAX(J17:BA17)","v":0},null,"nyurgaponty"]
["A2",{"$f":"kod!B3","v":"Gát, mélyvíz"},{"$f":"kod!C3","v":"Altstadt Carp Team"},0,0,0,null,{"$f":"MAX(J18:AZ18)","v":0},"koi ponty"]
["A2",{"$f":"kod!B3","v":"Gát, mélyvíz"},{"$f":"kod!C3","v":"Altstadt Carp Team"},0,0,0,{"$f":"MAX(J19:BA19)","v":0},null,"amur"]
["A2",{"$f":"kod!B3","v":"Gát, mélyvíz"},{"$f":"kod!C3","v":"Altstadt Carp Team"},3.55,1,3.55,{"$f":"MAX(J20:BA20)","v":3.55},null,"fekete amur",3.55]
["A3",{"$f":"kod!B4","v":"Gát, mélyvíz"},{"$f":"kod!C4","v":"Ferma De Crap Diosig"},{"$f":"SUM(D22:D27)","v":22},{"$f":"SUM(E22:E27)","v":2},11,{"$f":"MAX(G22:G27)","v":14.175000000000001},{"$f":"H25","v":0},"ÖSSZESEN",{"$f":"COUNTIFS($J22:$BB27,\">9,99\",$J22:$BB27,\"<20\")","v":1},{"$f":"COUNTIFS($J22:$BB27,\">19,99\")","v":0},{"$f":"COUNTIFS($J25:$BA25,\">4,99\",$J25:$BA25,\"<9,99\")","v":0},{"$f":"COUNTIFS($J25:$BB25,\">9,99\")","v":0}]
["A3",{"$f":"kod!B4","v":"Gát, mélyvíz"},{"$f":"kod!C4","v":"Ferma De Crap Diosig"},{"$f":"SUM(J22:AZ22)","v":22},{"$f":"COUNT(J22:AZ22)","v":2},11,{"$f":"MAX(J22:BA22)","v":14.175000000000001},null,"tükörponty",7.8250000000000002,14.175000000000001]
["A3",{"$f":"kod!B4","v":"Gát, mélyvíz"},{"$f":"kod!C4","v":"Ferma De Crap Diosig"},0,0,0,{"$f":"MAX(J23:BA23)","v":0},null,"tőponty"]
["A3",{"$f":"kod!B4","v":"Gát, mélyvíz"},{"$f":"kod!C4","v":"Ferma De Crap Diosig"},0,0,0,{"$f":"MAX(J24:BA24)","v":0},null,"nyurgaponty"]
["A3",{"$f":"kod!B4","v":"Gát, mélyvíz"},{"$f":"kod!C4","v":"Ferma De Crap Diosig"},0,0,0,null,{"$f":"MAX(J25:AZ25)","v":0},"koi ponty"]
["A3",{"$f":"kod!B4","v":"Gát, mélyvíz"},{"$f":"kod!C4","v":"Ferma De Crap Diosig"},0,0,0,{"$f":"MAX(J26:BA26)","v":0},null,"amur"]
["A3",{"$f":"kod!B4","v":"Gát, mélyvíz"},{"$f":"kod!C4","v":"Ferma De Crap Diosig"},0,0,0,{"$f":"MAX(J27:BA27)","v":0},null,"fekete amur"]
["A4",{"$f":"kod!B5","v":"Gát, mélyvíz"},{"$f":"kod!C5","v":"Bull Tackle"},{"$f":"SUM(D29:D34)","v":29.525000000000002},{"$f":"SUM(E29:E34)","v":3},9.8416666666666668,{"$f":"MAX(G29:G34)","v":16.5},{"$f":"H32","v":0},"ÖSSZESEN",{"$f":"COUNTIFS($J29:$BB34,\">9,99\",$J29:$BB34,\"<20\")","v":1},{"$f":"COUNTIFS($J29:$BB34,\">19,99\")","v":0},{"$f":"COUNTIFS($J32:$BA32,\">4,99\",$J32:$BA32,\"<9,99\")","v":0},{"$f":"COUNTIFS($J32:$BB32,\">9,99\")","v":0}]
["A4",{"$f":"kod!B5","v":"Gát, mélyvíz"},{"$f":"kod!C5","v":"Bull Tackle"},{"$f":"SUM(J29:AZ29)","v":8.35},{"$f":"COUNT(J29:AZ29)","v":1},8.35,{"$f":"MAX(J29:BA29)","v":8.35},null,"tükörponty",8.35]
["A4",{"$f":"kod!B5","v":"Gát, mélyvíz"},{"$f":"kod!C5","v":"Bull Tackle"},16.5,1,16.5,{"$f":"MAX(J30:BA30)","v":16.5},null,"tőponty",16.5]
["A4",{"$f":"kod!B5","v":"Gát, mélyvíz"},{"$f":"kod!C5","v":"Bull Tackle"},0,0,0,{"$f":"MAX(J31:BA31)","v":0},null,"nyurgaponty"]
["A4",{"$f":"kod!B5","v":"Gát, mélyvíz"},{"$f":"kod!C5","v":"Bull Tackle"},0,0,0,null,{"$f":"MAX(J32:AZ32)","v":0},"koi ponty"]
["A4",{"$f":"kod!B5","v":"Gát, mélyvíz"},{"$f":"kod!C5","v":"Bull Tackle"},4.6749999999999998,1,4.6749999999999998,{"$f":"MAX(J33:BA33)","v":4.6749999999999998},null,"amur",4.6749999999999998]
["A4",{"$f":"kod!B5","v":"Gát, mélyvíz"},{"$f":"kod!C5","v":"Bull Tackle"},0,0,0,{"$f":"MAX(J34:BA34)","v":0},null,"fekete amur"]
["A5",{"$f":"kod!B6","v":"Gát, mélyvíz"},{"$f":"kod!C6","v":"AHFSZ Fishing Team"},{"$f":"SUM(D36:D41)","v":0},{"$f":"SUM(E36:E41)","v":0},0,{"$f":"MAX(G36:G41)","v":0},{"$f":"H39","v":0},"ÖSSZESEN",{"$f":"COUNTIFS($J36:$BB41,\">9,99\",$J36:$BB41,\"<20\")","v":0},{"$f":"COUNTIFS($J36:$BB41,\">19,99\")","v":0},{"$f":"COUNTIFS($J39:$BA39,\">4,99\",$J39:$BA39,\"<9,99\")","v":0},{"$f":"COUNTIFS($J39:$BB39,\">9,99\")","v":0}]
["A5",{"$f":"kod!B6","v":"Gát, mélyvíz"},{"$f":"kod!C6","v":"AHFSZ Fishing Team"},{"$f":"SUM(J36:AZ36)","v":0},{"$f":"COUNT(J36:AZ36)","v":0},0,{"$f":"MAX(J36:BA36)","v":0},null,"tükörponty"]
["A5",{"$f":"kod!B6","v":"Gát, mélyvíz"},{"$f":"kod!C6","v":"AHFSZ Fishing Team"},0,0,0,{"$f":"MAX(J37:BA37)","v":0},null,"tőponty"]
["A5",{"$f":"kod!B6","v":"Gát, mélyvíz"},{"$f":"kod!C6","v":"AHFSZ Fishing Team"},0,0,0,{"$f":"MAX(J38:BA38)","v":0},null,"nyurgaponty"]
["A5",{"$f":"kod!B6","v":"Gát, mélyvíz"},{"$f":"kod!C6","v":"AHFSZ Fishing Team"},0,0,0,null,{"$f":"MAX(J39:AZ39)","v":0},"koi ponty"]
["A5",{"$f":"kod!B6","v":"Gát, mélyvíz"},{"$f":"kod!C6","v":"AHFSZ Fishing Team"},0,0,0,{"$f":"MAX(J40:BA40)","v":0},null,"amur"]
["A5",{"$f":"kod!B6","v":"Gát, mélyvíz"},{"$f":"kod!C6","v":"AHFSZ Fishing Team"},0,0,0,{"$f":"MAX(J41:BA41)","v":0},null,"fekete amur"]
["A6",{"$f":"kod!B7","v":"Nyári kikötő, belső"},{"$f":"kod!C7","v":"Black Carp Team"},{"$f":"SUM(D43:D48)","v":46.325000000000003},{"$f":"SUM(E43:E48)","v":6},7.7208333333333341,{"$f":"MAX(G43:G48)","v":12.025},{"$f":"H46","v":0},"ÖSSZESEN",{"$f":"COUNTIFS($J43:$BB48,\">9,99\",$J43:$BB48,\"<20\")","v":2},{"$f":"COUNTIFS($J43:$BB48,\">19,99\")","v":0},{"$f":"COUNTIFS($J46:$BA46,\">4,99\",$J46:$BA46,\"<9,99\")","v":0},{"$f":"COUNTIFS($J46:$BB46,\">9,99\")","v":0}]
["A6",{"$f":"kod!B7","v":"Nyári kikötő, belső"},{"$f":"kod!C7","v":"Black Carp Team"},{"$f":"SUM(J43:AZ43)","v":0},{"$f":"COUNT(J43:AZ43)","v":0},0,{"$f":"MAX(J43:BA43)","v":0},null,"tükörponty"]
["A6",{"$f":"kod!B7","v":"Nyári kikötő, belső"},{"$f":"kod!C7","v":"Black Carp Team"},6.4749999999999996,1,6.4749999999999996,{"$f":"MAX(J44:BA44)","v":6.4749999999999996},null,"tőponty",6.4749999999999996]
["A6",{"$f":"kod!B7","v":"Nyári kikötő, belső"},{"$f":"kod!C7","v":"Black Carp Team"},36.550000000000004,4,9.1375000000000011,{"$f":"MAX(J45:BA45)","v":12.025},null,"nyurgaponty",5.7,12.025,11.675000000000001,7.15]
["A6",{"$f":"kod!B7","v":"Nyári kikötő, belső"},{"$f":"kod!C7","v":"Black Carp Team"},0,0,0,null,{"$f":"MAX(J46:AZ46)","v":0},"koi ponty"]
["A6",{"$f":"kod!B7","v":"Nyári kikötő, belső"},{"$f":"kod!C7","v":"Black Carp Team"},0,0,0,{"$f":"MAX(J47:BA47)","v":0},null,"amur"]
["A6",{"$f":"kod!B7","v":"Nyári kikötő, belső"},{"$f":"kod!C7","v":"Black Carp Team"},3.3,1,3.3,{"$f":"MAX(J48:BA48)","v":3.3},null,"fekete amur",3.3]
["A7",{"$f":"kod!B8","v":"Nyári kikötő, közép"},{"$f":"kod!C8","v":"USA & Mivado Carp Team"},{"$f":"SUM(D50:D55)","v":34.25},{"$f":"SUM(E50:E55)","v":5},6.85,{"$f":"MAX(G50:G55)","v":9.5500000000000007},{"$f":"H53","v":0},"ÖSSZESEN",{"$f":"COUNTIFS($J50:$BB55,\">9,99\",$J50:$BB55,\"<20\")","v":0},{"$f":"COUNTIFS($J50:$BB55,\">19,99\")","v":0},{"$f":"COUNTIFS($J53:$BA53,\">4,99\",$J53:$BA53,\"<9,99\")","v":0},{"$f":"COUNTIFS($J53:$BB53,\">9,99\")","v":0}]
["A7",{"$f":"kod!B8","v":"Nyári kikötő, közép"},{"$f":"kod!C8","v":"USA & Mivado Carp Team"},{"$f":"SUM(J50:AZ50)","v":0},{"$f":"COUNT(J50:AZ50)","v":0},0,{"$f":"MAX(J50:BA50)","v":0},null,"tükörponty"]
["A7",{"$f":"kod!B8","v":"Nyári kikötő, közép"},{"$f":"kod!C8","v":"USA & Mivado Carp Team"},23.125,3,7.708333333333333,{"$f":"MAX(J51:BA51)","v":9.5500000000000007},null,"tőponty",6.1749999999999998,9.5500000000000007,7.4]
["A7",{"$f":"kod!B8","v":"Nyári kikötő, közép"},{"$f":"kod!C8","v":"USA & Mivado Carp Team"},7.8,1,7.8,{"$f":"MAX(J52:BA52)","v":7.8},null,"nyurgaponty",7.8]
["A7",{"$f":"kod!B8","v":"Nyári kikötő, közép"},{"$f":"kod!C8","v":"USA & Mivado Carp Team"},0,0,0,null,{"$f":"MAX(J53:AZ53)","v":0},"koi ponty"]
["A7",{"$f":"kod!B8","v":"Nyári kikötő, közép"},{"$f":"kod!C8","v":"USA & Mivado Carp Team"},0,0,0,{"$f":"MAX(J54:BA54)","v":0},null,"amur"]
["A7",{"$f":"kod!B8","v":"Nyári kikötő, közép"},{"$f":"kod!C8","v":"USA & Mivado Carp Team"},3.3250000000000002,1,3.3250000000000002,{"$f":"MAX(J55:BA55)","v":3.3250000000000002},null,"fekete amur",3.3250000000000002]
["A8",{"$f":"kod!B9","v":"Nyári kikötő, külső"},{"$f":"kod!C9","v":"Ózdi Sporthorgász Egyesület"},{"$f":"SUM(D57:D62)","v":111.02500000000001},{"$f":"SUM(E57:E62)","v":11},10.093181818181819,{"$f":"MAX(G57:G62)","v":13.574999999999999},{"$f":"H60","v":14.225},"ÖSSZESEN",{"$f":"COUNTIFS($J57:$BB62,\">9,99\",$J57:$BB62,\"<20\")","v":5},{"$f":"COUNTIFS($J57:$BB62,\">19,99\")","v":0},{"$f":"COUNTIFS($J60:$BA60,\">4,99\",$J60:$BA60,\"<9,99\")","v":0},{"$f":"COUNTIFS($J60:$BB60,\">9,99\")","v":2}]
["A8",{"$f":"kod!B9","v":"Nyári kikötő, külső"},{"$f":"kod!C9","v":"Ózdi Sporthorgász Egyesület"},{"$f":"SUM(J57:AZ57)","v":39},{"$f":"COUNT(J57:AZ57)","v":4},9.75,{"$f":"MAX(J57:BA57)","v":13.574999999999999},null,"tükörponty",13.574999999999999,9.6999999999999993,6.2249999999999996,9.5]
["A8",{"$f":"kod!B9","v":"Nyári kikötő, külső"},{"$f":"kod!C9","v":"Ózdi Sporthorgász Egyesület"},0,0,0,{"$f":"MAX(J58:BA58)","v":0},null,"tőponty"]
["A8",{"$f":"kod!B9","v":"Nyári kikötő, külső"},{"$f":"kod!C9","v":"Ózdi Sporthorgász Egyesület"},38.524999999999999,4,9.6312499999999996,{"$f":"MAX(J59:BA59)","v":13.3},null,"nyurgaponty",6.4749999999999996,11.3,7.45,13.3]
["A8",{"$f":"kod!B9","v":"Nyári kikötő, külső"},{"$f":"kod!C9","v":"Ózdi Sporthorgász Egyesület"},26.524999999999999,2,13.262499999999999,null,{"$f":"MAX(J60:AZ60)","v":14.225},"koi ponty",12.3,14.225]
["A8",{"$f":"kod!B9","v":"Nyári kikötő, külső"},{"$f":"kod!C9","v":"Ózdi Sporthorgász Egyesület"},6.9749999999999996,1,6.9749999999999996,{"$f":"MAX(J61:BA61)","v":6.9749999999999996},null,"amur",6.9749999999999996]
["A8",{"$f":"kod!B9","v":"Nyári kikötő, külső"},{"$f":"kod!C9","v":"Ózdi Sporthorgász Egyesület"},0,0,0,{"$f":"MAX(J62:BA62)","v":0},null,"fekete amur"]
["A9",{"$f":"kod!B10","v":"I. sziget, bal külső"},{"$f":"kod!C10","v":"Kártékony Carp Team"},{"$f":"SUM(D64:D69)","v":111.74999999999999},{"$f":"SUM(E64:E69)","v":12},9.3124999999999982,{"$f":"MAX(G64:G69)","v":16.524999999999999},{"$f":"H67","v":0},"ÖSSZESEN",{"$f":"COUNTIFS($J64:$BB69,\">9,99\",$J64:$BB69,\"<20\")","v":3},{"$f":"COUNTIFS($J64:$BB69,\">19,99\")","v":0},{"$f":"COUNTIFS($J67:$BA67,\">4,99\",$J67:$BA67,\"<9,99\")","v":0},{"$f":"COUNTIFS($J67:$BB67,\">9,99\")","v":0}]
["A9",{"$f":"kod!B10","v":"I. sziget, bal külső"},{"$f":"kod!C10","v":"Kártékony Carp Team"},{"$f":"SUM(J64:AZ64)","v":42.8},{"$f":"COUNT(J64:AZ64)","v":4},10.7,{"$f":"MAX(J64:BA64)","v":15.074999999999999},null,"tükörponty",8.4,8.3249999999999993,11,15.074999999999999]
["A9",{"$f":"kod!B10","v":"I. sziget, bal külső"},{"$f":"kod!C10","v":"Kártékony Carp Team"},35.474999999999994,5,7.0949999999999989,{"$f":"MAX(J65:BA65)","v":9.9749999999999996},null,"tőponty",3.5249999999999999,8.75,7.3,9.9749999999999996,5.9249999999999998]
["A9",{"$f":"kod!B10","v":"I. sziget, bal külső"},{"$f":"kod!C10","v":"Kártékony Carp Team"},33.474999999999994,3,11.158333333333331,{"$f":"MAX(J66:BA66)","v":16.524999999999999},null,"nyurgaponty",8.3249999999999993,8.625,16.524999999999999]
["A9",{"$f":"kod!B10","v":"I. sziget, bal külső"},{"$f":"kod!C10","v":"Kártékony Carp Team"},0,0,0,null,{"$f":"MAX(J67:AZ67)","v":0},"koi ponty"]
["A9",{"$f":"kod!B10","v":"I. sziget, bal külső"},{"$f":"kod!C10","v":"Kártékony Carp Team"},0,0,0,{"$f":"MAX(J68:BA68)","v":0},null,"amur"]
["A9",{"$f":"kod!B10","v":"I. sziget, bal külső"},{"$f":"kod!C10","v":"Kártékony Carp Team"},0,0,0,{"$f":"MAX(J69:BA69)","v":0},null,"fekete amur"]
["A10",{"$f":"kod!B11","v":"I. sziget, bal"},{"$f":"kod!C11","v":"Team 5 Austria"},{"$f":"SUM(D71:D76)","v":8.4749999999999996},{"$f":"SUM(E71:E76)","v":1},8.4749999999999996,{"$f":"MAX(G71:G76)","v":8.4749999999999996},{"$f":"H74","v":0},"ÖSSZESEN",{"$f":"COUNTIFS($J71:$BB76,\">9,99\",$J71:$BB76,\"<20\")","v":0},{"$f":"COUNTIFS($J71:$BB76,\">19,99\")","v":0},{"$f":"COUNTIFS($J74:$BA74,\">4,99\",$J74:$BA74,\"<9,99\")","v":0},{"$f":"COUNTIFS($J74:$BB74,\">9,99\")","v":0}]
["A10",{"$f":"kod!B11","v":"I. sziget, bal"},{"$f":"kod!C11","v":"Team 5 Austria"},{"$f":"SUM(J71:AZ71)","v":0},{"$f":"COUNT(J71:AZ71)","v":0},0,{"$f":"MAX(J71:BA71)","v":0},null,"tükörponty"]
["A10",{"$f":"kod!B11","v":"I. sziget, bal"},{"$f":"kod!C11","v":"Team 5 Austria"},0,0,{"$f":"IF(E72=0,0,D72/E72)","v":0},{"$f":"MAX(J72:BA72)","v":0},null,"tőponty"]
["A10",{"$f":"kod!B11","v":"I. sziget, bal"},{"$f":"kod!C11","v":"Team 5 Austria"},8.4749999999999996,1,8.4749999999999996,{"$f":"MAX(J73:BA73)","v":8.4749999999999996},null,"nyurgaponty",8.4749999999999996]
["A10",{"$f":"kod!B11","v":"I. sziget, bal"},{"$f":"kod!C11","v":"Team 5 Austria"},0,0,0,null,{"$f":"MAX(J74:AZ74)","v":0},"koi ponty"]
["A10",{"$f":"kod!B11","v":"I. sziget, bal"},{"$f":"kod!C11","v":"Team 5 Austria"},0,0,0,{"$f":"MAX(J75:BA75)","v":0},null,"amur"]
["A10",{"$f":"kod!B11","v":"I. sziget, bal"},{"$f":"kod!C11","v":"Team 5 Austria"},0,0,0,{"$f":"MAX(J76:BA76)","v":0},null,"fekete amur"]
["A11",{"$f":"kod!B12","v":"I. sziget, bal közép"},{"$f":"kod!C12","v":"Invader's Team Poland"},{"$f":"SUM(D78:D83)","v":56.900000000000006},{"$f":"SUM(E78:E83)","v":7},8.1285714285714299,{"$f":"MAX(G78:G83)","v":13.25},{"$f":"H81","v":2.8250000000000002},"ÖSSZESEN",{"$f":"COUNTIFS($J78:$BB83,\">9,99\",$J78:$BB83,\"<20\")","v":2},{"$f":"COUNTIFS($J78:$BB83,\">19,99\")","v":0},{"$f":"COUNTIFS($J81:$BA81,\">4,99\",$J81:$BA81,\"<9,99\")","v":0},{"$f":"COUNTIFS($J81:$BB81,\">9,99\")","v":0}]
["A11",{"$f":"kod!B12","v":"I. sziget, bal közép"},{"$f":"kod!C12","v":"Invader's Team Poland"},{"$f":"SUM(J78:AZ78)","v":6.9249999999999998},{"$f":"COUNT(J78:AZ78)","v":1},6.9249999999999998,{"$f":"MAX(J78:BA78)","v":6.9249999999999998},null,"tükörponty",6.9249999999999998]
["A11",{"$f":"kod!B12","v":"I. sziget, bal közép"},{"$f":"kod!C12","v":"Invader's Team Poland"},20.25,2,10.125,{"$f":"MAX(J79:BA79)","v":13.25},null,"tőponty",7,13.25]
["A11",{"$f":"kod!B12","v":"I. sziget, bal közép"},{"$f":"kod!C12","v":"Invader's Team Poland"},17.475000000000001,2,8.7375000000000007,{"$f":"MAX(J80:BA80)","v":10.675000000000001},null,"nyurgaponty",6.8,10.675000000000001]
["A11",{"$f":"kod!B12","v":"I. sziget, bal közép"},{"$f":"kod!C12","v":"Invader's Team Poland"},2.8250000000000002,1,2.8250000000000002,null,{"$f":"MAX(J81:AZ81)","v":2.8250000000000002},"koi ponty",2.8250000000000002]
["A11",{"$f":"kod!B12","v":"I. sziget, bal közép"},{"$f":"kod!C12","v":"Invader's Team Poland"},0,0,0,{"$f":"MAX(J82:BA82)","v":0},null,"amur"]
["A11",{"$f":"kod!B12","v":"I. sziget, bal közép"},{"$f":"kod!C12","v":"Invader's Team Poland"},9.4250000000000007,1,9.4250000000000007,{"$f":"MAX(J83:BA83)","v":9.4250000000000007},null,"fekete amur",9.4250000000000007]
["B1",{"$f":"kod!B13","v":"Gát, közepes víz"},{"$f":"kod!C13","v":"Tata Nitu Carp Team"},{"$f":"SUM(D85:D90)","v":24.924999999999997},{"$f":"SUM(E85:E90)","v":5},{"$f":"IF(E84=0,0,D84/E84)","v":4.9849999999999994},{"$f":"MAX(G85:G90)","v":10.074999999999999},{"$f":"H88","v":0},"ÖSSZESEN",{"$f":"COUNTIFS($J85:$BB90,\">9,99\",$J85:$BB90,\"<20\")","v":1},{"$f":"COUNTIFS($J85:$BB90,\">19,99\")","v":0},{"$f":"COUNTIFS($J88:$BA88,\">4,99\",$J88:$BA88,\"<9,99\")","v":0},{"$f":"COUNTIFS($J88:$BB88,\">9,99\")","v":0}]
["B1",{"$f":"kod!B13","v":"Gát, közepes víz"},{"$f":"kod!C13","v":"Tata Nitu Carp Team"},{"$f":"SUM(J85:AZ85)","v":7.4749999999999996},{"$f":"COUNT(J85:AZ85)","v":1},{"$f":"IF(E85=0,0,D85/E85)","v":7.4749999999999996},{"$f":"MAX(J85:BA85)","v":7.4749999999999996},null,"tükörponty",7.4749999999999996]
["B1",{"$f":"kod!B13","v":"Gát, közepes víz"},{"$f":"kod!C13","v":"Tata Nitu Carp Team"},7.375,3,2.4583333333333335,{"$f":"MAX(J86:BA86)","v":2.9249999999999998},null,"tőponty",2.25,2.9249999999999998,2.2000000000000002]
["B1",{"$f":"kod!B13","v":"Gát, közepes víz"},{"$f":"kod!C13","v":"Tata Nitu Carp Team"},10.074999999999999,1,10.074999999999999,{"$f":"MAX(J87:BA87)","v":10.074999999999999},null,"nyurgaponty",10.074999999999999]
["B1",{"$f":"kod!B13","v":"Gát, közepes víz"},{"$f":"kod!C13","v":"Tata Nitu Carp Team"},0,0,0,null,{"$f":"MAX(J88:AZ88)","v":0},"koi ponty"]
["B1",{"$f":"kod!B13","v":"Gát, közepes víz"},{"$f":"kod!C13","v":"Tata Nitu Carp Team"},0,0,0,{"$f":"MAX(J89:BA89)","v":0},null,"amur"]
["B1",{"$f":"kod!B13","v":"Gát, közepes víz"},{"$f":"kod!C13","v":"Tata Nitu Carp Team"},0,0,0,{"$f":"MAX(J90:BA90)","v":0},null,"fekete amur"]
["B2",{"$f":"kod!B14","v":"Gát, közepes víz"},{"$f":"kod!C14","v":"Slovakia Carp Team"},{"$f":"SUM(D92:D97)","v":67.2},{"$f":"SUM(E92:E97)","v":5},13.440000000000001,{"$f":"MAX(G92:G97)","v":22.225000000000001},{"$f":"H95","v":15.725},"ÖSSZESEN",{"$f":"COUNTIFS($J92:$BB97,\">9,99\",$J92:$BB97,\"<20\")","v":2},{"$f":"COUNTIFS($J92:$BB97,\">19,99\")","v":1},{"$f":"COUNTIFS($J95:$BA95,\">4,99\",$J95:$BA95,\"<9,99\")","v":0},{"$f":"COUNTIFS($J95:$BB95,\">9,99\")","v":1}]
["B2",{"$f":"kod!B14","v":"Gát, közepes víz"},{"$f":"kod!C14","v":"Slovakia Carp Team"},{"$f":"SUM(J92:AZ92)","v":29.25},{"$f":"COUNT(J92:AZ92)","v":3},9.75,{"$f":"MAX(J92:BA92)","v":10.199999999999999},null,"tükörponty",9.25,9.8000000000000007,10.199999999999999]
["B2",{"$f":"kod!B14","v":"Gát, közepes víz"},{"$f":"kod!C14","v":"Slovakia Carp Team"},22.225000000000001,1,22.225000000000001,{"$f":"MAX(J93:BA93)","v":22.225000000000001},null,"tőponty",22.225000000000001]
["B2",{"$f":"kod!B14","v":"Gát, közepes víz"},{"$f":"kod!C14","v":"Slovakia Carp Team"},0,0,0,{"$f":"MAX(J94:BA94)","v":0},null,"nyurgaponty"]
["B2",{"$f":"kod!B14","v":"Gát, közepes víz"},{"$f":"kod!C14","v":"Slovakia Carp Team"},15.725,1,15.725,null,{"$f":"MAX(J95:AZ95)","v":15.725},"koi ponty",15.725]
["B2",{"$f":"kod!B14","v":"Gát, közepes víz"},{"$f":"kod!C14","v":"Slovakia Carp Team"},0,0,0,{"$f":"MAX(J96:BA96)","v":0},null,"amur"]
["B2",{"$f":"kod!B14","v":"Gát, közepes víz"},{"$f":"kod!C14","v":"Slovakia Carp Team"},0,0,0,{"$f":"MAX(J97:BA97)","v":0},null,"fekete amur"]
["B3",{"$f":"kod!B15","v":"Gát, közepes víz"},{"$f":"kod!C15","v":"WLC Hungary "},{"$f":"SUM(D99:D104)","v":205.41999999999996},{"$f":"SUM(E99:E104)","v":19},10.811578947368419,{"$f":"MAX(G99:G104)","v":18.824999999999999},{"$f":"H102","v":0},"ÖSSZESEN",{"$f":"COUNTIFS($J99:$BB104,\">9,99\",$J99:$BB104,\"<20\")","v":8},{"$f":"COUNTIFS($J99:$BB104,\">19,99\")","v":0},{"$f":"COUNTIFS($J102:$BA102,\">4,99\",$J102:$BA102,\"<9,99\")","v":0},{"$f":"COUNTIFS($J102:$BB102,\">9,99\")","v":0}]
["B3",{"$f":"kod!B15","v":"Gát, közepes víz"},{"$f":"kod!C15","v":"WLC Hungary "},{"$f":"SUM(J99:AZ99)","v":28.344999999999999},{"$f":"COUNT(J99:AZ99)","v":3},9.4483333333333324,{"$f":"MAX(J99:BA99)","v":16.824999999999999},null,"tükörponty",4.7450000000000001,6.7750000000000004,16.824999999999999]
["B3",{"$f":"kod!B15","v":"Gát, közepes víz"},{"$f":"kod!C15","v":"WLC Hungary "},59.475000000000001,6,9.9124999999999996,{"$f":"MAX(J100:BA100)","v":13.525},null,"tőponty",9.4499999999999993,7.3,8.35,10.975,13.525,9.875]
["B3",{"$f":"kod!B15","v":"Gát, közepes víz"},{"$f":"kod!C15","v":"WLC Hungary "},70.825000000000003,7,10.117857142857144,{"$f":"MAX(J101:BA101)","v":15.574999999999999},null,"nyurgaponty",9.375,14.574999999999999,6.7,8.9250000000000007,6.4749999999999996,15.574999999999999,9.1999999999999993]
["B3",{"$f":"kod!B15","v":"Gát, közepes víz"},{"$f":"kod!C15","v":"WLC Hungary "},0,0,0,null,{"$f":"MAX(J102:AZ102)","v":0},"koi ponty"]
["B3",{"$f":"kod!B15","v":"Gát, közepes víz"},{"$f":"kod!C15","v":"WLC Hungary "},27.950000000000003,2,13.975000000000001,{"$f":"MAX(J103:BA103)","v":16.3},null,"amur",16.3,11.65]
["B3",{"$f":"kod!B15","v":"Gát, közepes víz"},{"$f":"kod!C15","v":"WLC Hungary "},18.824999999999999,1,18.824999999999999,{"$f":"MAX(J104:BA104)","v":18.824999999999999},null,"fekete amur",18.824999999999999]
["B4",{"$f":"kod!B16","v":"Gát, közepes víz"},{"$f":"kod!C16","v":"Barfin Line NSD Bulgaria"},{"$f":"SUM(D106:D111)","v":57.099999999999994},{"$f":"SUM(E106:E111)","v":5},11.419999999999998,{"$f":"MAX(G106:G111)","v":18.25},{"$f":"H109","v":0},"ÖSSZESEN",{"$f":"COUNTIFS($J106:$BB111,\">9,99\",$J106:$BB111,\"<20\")","v":2},{"$f":"COUNTIFS($J106:$BB111,\">19,99\")","v":0},{"$f":"COUNTIFS($J109:$BA109,\">4,99\",$J109:$BA109,\"<9,99\")","v":0},{"$f":"COUNTIFS($J109:$BB109,\">9,99\")","v":0}]
["B4",{"$f":"kod!B16","v":"Gát, közepes víz"},{"$f":"kod!C16","v":"Barfin Line NSD Bulgaria"},{"$f":"SUM(J106:AZ106)","v":9.15},{"$f":"COUNT(J106:AZ106)","v":1},9.15,{"$f":"MAX(J106:BA106)","v":9.15},null,"tükörponty",9.15]
["B4",{"$f":"kod!B16","v":"Gát, közepes víz"},{"$f":"kod!C16","v":"Barfin Line NSD Bulgaria"},0,0,0,0,null,"tőponty"]
["B4",{"$f":"kod!B16","v":"Gát, közepes víz"},{"$f":"kod!C16","v":"Barfin Line NSD Bulgaria"},29.699999999999996,3,9.8999999999999986,11.975,null,"nyurgaponty",8.6999999999999993,11.975,9.0250000000000004]
["B4",{"$f":"kod!B16","v":"Gát, közepes víz"},{"$f":"kod!C16","v":"Barfin Line NSD Bulgaria"},0,0,0,0,{"$f":"MAX(J109:AZ109)","v":0},"koi ponty"]
["B4",{"$f":"kod!B16","v":"Gát, közepes víz"},{"$f":"kod!C16","v":"Barfin Line NSD Bulgaria"},0,0,0,0,null,"amur"]
["B4",{"$f":"kod!B16","v":"Gát, közepes víz"},{"$f":"kod!C16","v":"Barfin Line NSD Bulgaria"},18.25,1,18.25,18.25,null,"fekete amur",18.25]
["B5",{"$f":"kod!B17","v":"Gát, közepes víz"},{"$f":"kod!C17","v":"Lutra Carp Hunters"},{"$f":"SUM(D113:D118)","v":11.55},{"$f":"SUM(E113:E118)","v":1},11.55,{"$f":"MAX(G113:G118)","v":11.55},{"$f":"H116","v":0},"ÖSSZESEN",{"$f":"COUNTIFS($J113:$BB118,\">9,99\",$J113:$BB118,\"<20\")","v":1},{"$f":"COUNTIFS($J113:$BB118,\">19,99\")","v":0},{"$f":"COUNTIFS($J116:$BA116,\">4,99\",$J116:$BA116,\"<9,99\")","v":0},{"$f":"COUNTIFS($J116:$BB116,\">9,99\")","v":0}]
["B5",{"$f":"kod!B17","v":"Gát, közepes víz"},{"$f":"kod!C17","v":"Lutra Carp Hunters"},{"$f":"SUM(J113:AZ113)","v":0},{"$f":"COUNT(J113:AZ113)","v":0},0,{"$f":"MAX(J113:BA113)","v":0},null,"tükörponty"]
["B5",{"$f":"kod!B17","v":"Gát, közepes víz"},{"$f":"kod!C17","v":"Lutra Carp Hunters"},0,0,0,{"$f":"MAX(J114:BA114)","v":0},null,"tőponty"]
["B5",{"$f":"kod!B17","v":"Gát, közepes víz"},{"$f":"kod!C17","v":"Lutra Carp Hunters"},11.55,1,11.55,{"$f":"MAX(J115:BA115)","v":11.55},null,"nyurgaponty",11.55]
["B5",{"$f":"kod!B17","v":"Gát, közepes víz"},{"$f":"kod!C17","v":"Lutra Carp Hunters"},0,0,0,null,{"$f":"MAX(J116:AZ116)","v":0},"koi ponty"]
["B5",{"$f":"kod!B17","v":"Gát, közepes víz"},{"$f":"kod!C17","v":"Lutra Carp Hunters"},0,0,0,{"$f":"MAX(J117:BA117)","v":0},null,"amur"]
["B5",{"$f":"kod!B17","v":"Gát, közepes víz"},{"$f":"kod!C17","v":"Lutra Carp Hunters"},0,0,0,{"$f":"MAX(J118:BA118)","v":0},null,"fekete amur"]
["B6",{"$f":"kod!B18","v":"Gát, közepes víz"},{"$f":"kod!C18","v":"Xtra Carp Team"},{"$f":"SUM(D120:D125)","v":42.275000000000006},{"$f":"SUM(E120:E125)","v":4},10.568750000000001,{"$f":"MAX(G120:G125)","v":11.425000000000001},{"$f":"H123","v":0},"ÖSSZESEN",{"$f":"COUNTIFS($J120:$BB125,\">9,99\",$J120:$BB125,\"<20\")","v":3},{"$f":"COUNTIFS($J120:$BB125,\">19,99\")","v":0},{"$f":"COUNTIFS($J123:$BA123,\">4,99\",$J123:$BA123,\"<9,99\")","v":0},{"$f":"COUNTIFS($J123:$BB123,\">9,99\")","v":0}]
["B6",{"$f":"kod!B18","v":"Gát, közepes víz"},{"$f":"kod!C18","v":"Xtra Carp Team"},{"$f":"SUM(J120:AZ120)","v":0},{"$f":"COUNT(J120:AZ120)","v":0},0,{"$f":"MAX(J120:BA120)","v":0},null,"tükörponty"]
["B6",{"$f":"kod!B18","v":"Gát, közepes víz"},{"$f":"kod!C18","v":"Xtra Carp Team"},21.75,2,10.875,{"$f":"MAX(J121:BA121)","v":11.425000000000001},null,"tőponty",10.324999999999999,11.425000000000001]
["B6",{"$f":"kod!B18","v":"Gát, közepes víz"},{"$f":"kod!C18","v":"Xtra Carp Team"},9.2249999999999996,1,9.2249999999999996,{"$f":"MAX(J122:BA122)","v":9.2249999999999996},null,"nyurgaponty",9.2249999999999996]
["B6",{"$f":"kod!B18","v":"Gát, közepes víz"},{"$f":"kod!C18","v":"Xtra Carp Team"},0,0,0,null,{"$f":"MAX(J123:AZ123)","v":0},"koi ponty"]
["B6",{"$f":"kod!B18","v":"Gát, közepes víz"},{"$f":"kod!C18","v":"Xtra Carp Team"},11.3,1,11.3,{"$f":"MAX(J124:BA124)","v":11.3},null,"amur",11.3]
["B6",{"$f":"kod!B18","v":"Gát, közepes víz"},{"$f":"kod!C18","v":"Xtra Carp Team"},0,0,0,{"$f":"MAX(J125:BA125)","v":0},null,"fekete amur"]
["B7",{"$f":"kod!B19","v":"I. sziget, jobb közép"},{"$f":"kod!C19","v":"Elite Carp Team Brasov"},{"$f":"SUM(D127:D132)","v":79.5},{"$f":"SUM(E127:E132)","v":9},8.8333333333333339,{"$f":"MAX(G127:G132)","v":17.25},{"$f":"H130","v":10.725},"ÖSSZESEN",{"$f":"COUNTIFS($J127:$BB132,\">9,99\",$J127:$BB132,\"<20\")","v":4},{"$f":"COUNTIFS($J127:$BB132,\">19,99\")","v":0},{"$f":"COUNTIFS($J130:$BA130,\">4,99\",$J130:$BA130,\"<9,99\")","v":0},{"$f":"COUNTIFS($J130:$BB130,\">9,99\")","v":1}]
["B7",{"$f":"kod!B19","v":"I. sziget, jobb közép"},{"$f":"kod!C19","v":"Elite Carp Team Brasov"},{"$f":"SUM(J127:AZ127)","v":8.7750000000000004},{"$f":"COUNT(J127:AZ127)","v":1},8.7750000000000004,{"$f":"MAX(J127:BA127)","v":8.7750000000000004},null,"tükörponty",8.7750000000000004]
["B7",{"$f":"kod!B19","v":"I. sziget, jobb közép"},{"$f":"kod!C19","v":"Elite Carp Team Brasov"},18.375,3,6.125,{"$f":"MAX(J128:BA128)","v":8.5},null,"tőponty",4.4749999999999996,8.5,5.4]
["B7",{"$f":"kod!B19","v":"I. sziget, jobb közép"},{"$f":"kod!C19","v":"Elite Carp Team Brasov"},38.274999999999999,3,12.758333333333333,{"$f":"MAX(J129:BA129)","v":17.25},null,"nyurgaponty",17.25,10.574999999999999,10.45]
["B7",{"$f":"kod!B19","v":"I. sziget, jobb közép"},{"$f":"kod!C19","v":"Elite Carp Team Brasov"},14.074999999999999,2,7.0374999999999996,null,{"$f":"MAX(J130:AZ130)","v":10.725},"koi ponty",10.725,3.35]
["B7",{"$f":"kod!B19","v":"I. sziget, jobb közép"},{"$f":"kod!C19","v":"Elite Carp Team Brasov"},0,0,0,{"$f":"MAX(J131:BA131)","v":0},null,"amur"]
["B7",{"$f":"kod!B19","v":"I. sziget, jobb közép"},{"$f":"kod!C19","v":"Elite Carp Team Brasov"},0,0,0,{"$f":"MAX(J132:BA132)","v":0},null,"fekete amur"]
["B8",{"$f":"kod!B20","v":"I. sziget, jobb "},{"$f":"kod!C20","v":"CT777 Varna Bulgaria"},{"$f":"SUM(D134:D139)","v":217.44999999999996},{"$f":"SUM(E134:E139)","v":23},9.4543478260869556,{"$f":"MAX(G134:G139)","v":24.1},{"$f":"H137","v":12.2},"ÖSSZESEN",{"$f":"COUNTIFS($J134:$BB139,\">9,99\",$J134:$BB139,\"<20\")","v":7},{"$f":"COUNTIFS($J134:$BB139,\">19,99\")","v":1},{"$f":"COUNTIFS($J137:$BA137,\">4,99\",$J137:$BA137,\"<9,99\")","v":0},{"$f":"COUNTIFS($J137:$BB137,\">9,99\")","v":1}]
["B8",{"$f":"kod!B20","v":"I. sziget, jobb "},{"$f":"kod!C20","v":"CT777 Varna Bulgaria"},{"$f":"SUM(J134:AZ134)","v":62},{"$f":"COUNT(J134:AZ134)","v":7},8.8571428571428577,{"$f":"MAX(J134:BA134)","v":12.15},null,"tükörponty",8.15,6.8,6.2750000000000004,9.125,12.15,9.6,9.9]
["B8",{"$f":"kod!B20","v":"I. sziget, jobb "},{"$f":"kod!C20","v":"CT777 Varna Bulgaria"},42.274999999999991,7,6.0392857142857128,{"$f":"MAX(J135:BA135)","v":8.9749999999999996},null,"tőponty",6.55,8.9749999999999996,3.65,6.4249999999999998,1.5,8.375,6.8]
["B8",{"$f":"kod!B20","v":"I. sziget, jobb "},{"$f":"kod!C20","v":"CT777 Varna Bulgaria"},64.25,6,10.708333333333334,{"$f":"MAX(J136:BA136)","v":14.725},null,"nyurgaponty",8.8249999999999993,6.3,10.050000000000001,11.574999999999999,14.725,12.775]
["B8",{"$f":"kod!B20","v":"I. sziget, jobb "},{"$f":"kod!C20","v":"CT777 Varna Bulgaria"},12.2,1,12.2,null,{"$f":"MAX(J137:AZ137)","v":12.2},"koi ponty",12.2]
["B8",{"$f":"kod!B20","v":"I. sziget, jobb "},{"$f":"kod!C20","v":"CT777 Varna Bulgaria"},12.625,1,12.625,{"$f":"MAX(J138:BA138)","v":12.625},null,"amur",12.625]
["B8",{"$f":"kod!B20","v":"I. sziget, jobb "},{"$f":"kod!C20","v":"CT777 Varna Bulgaria"},24.1,1,24.1,{"$f":"MAX(J139:BA139)","v":24.1},null,"fekete amur",24.1]
["B9",{"$f":"kod!B21","v":"I. sziget, jobb külső"},{"$f":"kod!C21","v":"Bait Maker Team"},{"$f":"SUM(D141:D146)","v":163.25},{"$f":"SUM(E141:E146)","v":18},9.0694444444444446,{"$f":"MAX(G141:G146)","v":17.324999999999999},{"$f":"H144","v":0},"ÖSSZESEN",{"$f":"COUNTIFS($J141:$BB146,\">9,99\",$J141:$BB146,\"<20\")","v":6},{"$f":"COUNTIFS($J141:$BB146,\">19,99\")","v":0},{"$f":"COUNTIFS($J144:$BA144,\">4,99\",$J144:$BA144,\"<9,99\")","v":0},{"$f":"COUNTIFS($J144:$BB144,\">9,99\")","v":0}]
["B9",{"$f":"kod!B21","v":"I. sziget, jobb külső"},{"$f":"kod!C21","v":"Bait Maker Team"},{"$f":"SUM(J141:AZ141)","v":34.275000000000006},{"$f":"COUNT(J141:AZ141)","v":3},11.425000000000002,{"$f":"MAX(J141:BA141)","v":13.525},null,"tükörponty",13.525,11.2,9.5500000000000007]
["B9",{"$f":"kod!B21","v":"I. sziget, jobb külső"},{"$f":"kod!C21","v":"Bait Maker Team"},46.099999999999994,6,7.6833333333333327,{"$f":"MAX(J142:BA142)","v":17.324999999999999},null,"tőponty",4.8,7.05,7.15,8.0250000000000004,1.75,17.324999999999999]
["B9",{"$f":"kod!B21","v":"I. sziget, jobb külső"},{"$f":"kod!C21","v":"Bait Maker Team"},70.424999999999997,7,10.060714285714285,{"$f":"MAX(J143:BA143)","v":15.2},null,"nyurgaponty",7.05,9.6,5.85,13.525,8.5749999999999993,10.625,15.2]
["B9",{"$f":"kod!B21","v":"I. sziget, jobb külső"},{"$f":"kod!C21","v":"Bait Maker Team"},0,0,0,null,{"$f":"MAX(J144:AZ144)","v":0},"koi ponty"]
["B9",{"$f":"kod!B21","v":"I. sziget, jobb külső"},{"$f":"kod!C21","v":"Bait Maker Team"},8.2249999999999996,1,8.2249999999999996,{"$f":"MAX(J145:BA145)","v":8.2249999999999996},null,"amur",8.2249999999999996]
["B9",{"$f":"kod!B21","v":"I. sziget, jobb külső"},{"$f":"kod!C21","v":"Bait Maker Team"},4.2249999999999996,1,4.2249999999999996,{"$f":"MAX(J146:BA146)","v":4.2249999999999996},null,"fekete amur",4.2249999999999996]
["B10",{"$f":"kod!B22","v":"Felező-spicc, bal"},{"$f":"kod!C22","v":"SBS - SziKo Team"},{"$f":"SUM(D148:D153)","v":12.425000000000001},{"$f":"SUM(E148:E153)","v":2},6.2125000000000004,{"$f":"MAX(G148:G153)","v":6.9249999999999998},{"$f":"H151","v":5.5},"ÖSSZESEN",{"$f":"COUNTIFS($J148:$BB153,\">9,99\",$J148:$BB153,\"<20\")","v":0},{"$f":"COUNTIFS($J148:$BB153,\">19,99\")","v":0},{"$f":"COUNTIFS($J151:$BA151,\">4,99\",$J151:$BA151,\"<9,99\")","v":1},{"$f":"COUNTIFS($J151:$BB151,\">9,99\")","v":0}]
["B10",{"$f":"kod!B22","v":"Felező-spicc, bal"},{"$f":"kod!C22","v":"SBS - SziKo Team"},{"$f":"SUM(J148:AZ148)","v":6.9249999999999998},{"$f":"COUNT(J148:AZ148)","v":1},6.9249999999999998,{"$f":"MAX(J148:BA148)","v":6.9249999999999998},null,"tükörponty",6.9249999999999998]
["B10",{"$f":"kod!B22","v":"Felező-spicc, bal"},{"$f":"kod!C22","v":"SBS - SziKo Team"},0,0,{"$f":"IF(E149=0,0,D149/E149)","v":0},{"$f":"MAX(J149:BA149)","v":0},null,"tőponty"]
["B10",{"$f":"kod!B22","v":"Felező-spicc, bal"},{"$f":"kod!C22","v":"SBS - SziKo Team"},0,0,0,{"$f":"MAX(J150:BA150)","v":0},null,"nyurgaponty"]
["B10",{"$f":"kod!B22","v":"Felező-spicc, bal"},{"$f":"kod!C22","v":"SBS - SziKo Team"},5.5,1,5.5,null,{"$f":"MAX(J151:AZ151)","v":5.5},"koi ponty",5.5]
["B10",{"$f":"kod!B22","v":"Felező-spicc, bal"},{"$f":"kod!C22","v":"SBS - SziKo Team"},0,0,0,{"$f":"MAX(J152:BA152)","v":0},null,"amur"]
["B10",{"$f":"kod!B22","v":"Felező-spicc, bal"},{"$f":"kod!C22","v":"SBS - SziKo Team"},0,0,0,{"$f":"MAX(J153:BA153)","v":0},null,"fekete amur"]
["B11",{"$f":"kod!B23","v":"Felező-spicc, közép"},{"$f":"kod!C23","v":"Síp Carp Team"},{"$f":"SUM(D155:D160)","v":0},{"$f":"SUM(E155:E160)","v":0},0,{"$f":"MAX(G155:G160)","v":0},{"$f":"H158","v":0},"ÖSSZESEN",{"$f":"COUNTIFS($J155:$BB160,\">9,99\",$J155:$BB160,\"<20\")","v":0},{"$f":"COUNTIFS($J155:$BB160,\">19,99\")","v":0},{"$f":"COUNTIFS($J158:$BA158,\">4,99\",$J158:$BA158,\"<9,99\")","v":0},{"$f":"COUNTIFS($J158:$BB158,\">9,99\")","v":0}]
["B11",{"$f":"kod!B23","v":"Felező-spicc, közép"},{"$f":"kod!C23","v":"Síp Carp Team"},{"$f":"SUM(J155:AZ155)","v":0},0,0,{"$f":"MAX(J155:BA155)","v":0},null,"tükörponty"]
["B11",{"$f":"kod!B23","v":"Felező-spicc, közép"},{"$f":"kod!C23","v":"Síp Carp Team"},0,0,0,0,null,"tőponty"]
["B11",{"$f":"kod!B23","v":"Felező-spicc, közép"},{"$f":"kod!C23","v":"Síp Carp Team"},0,0,0,0,null,"nyurgaponty"]
["B11",{"$f":"kod!B23","v":"Felező-spicc, közép"},{"$f":"kod!C23","v":"Síp Carp Team"},0,0,0,null,{"$f":"MAX(J158:AZ158)","v":0},"koi ponty"]
["B11",{"$f":"kod!B23","v":"Felező-spicc, közép"},{"$f":"kod!C23","v":"Síp Carp Team"},0,0,0,{"$f":"MAX(J159:BA159)","v":0},null,"amur"]
["B11",{"$f":"kod!B23","v":"Felező-spicc, közép"},{"$f":"kod!C23","v":"Síp Carp Team"},0,0,0,0,null,"fekete amur"]
["C1",{"$f":"kod!B24","v":"Gát, sekély víz"},{"$f":"kod!C24","v":"Carp Fever Bulgaria"},{"$f":"SUM(D162:D167)","v":33.075000000000003},{"$f":"SUM(E162:E167)","v":8},{"$f":"IF(E161=0,0,D161/E161)","v":4.1343750000000004},{"$f":"MAX(G162:G167)","v":7.15},{"$f":"H165","v":0},"ÖSSZESEN",{"$f":"COUNTIFS($J162:$BB167,\">9,99\",$J162:$BB167,\"<20\")","v":0},{"$f":"COUNTIFS($J162:$BB167,\">19,99\")","v":0},{"$f":"COUNTIFS($J165:$BA165,\">4,99\",$J165:$BA165,\"<9,99\")","v":0},{"$f":"COUNTIFS($J165:$BB165,\">9,99\")","v":0}]
["C1",{"$f":"kod!B24","v":"Gát, sekély víz"},{"$f":"kod!C24","v":"Carp Fever Bulgaria"},{"$f":"SUM(J162:AZ162)","v":0},{"$f":"COUNT(J162:AZ162)","v":0},{"$f":"IF(E162=0,0,D162/E162)","v":0},{"$f":"MAX(J162:BA162)","v":0},null,"tükörponty"]
["C1",{"$f":"kod!B24","v":"Gát, sekély víz"},{"$f":"kod!C24","v":"Carp Fever Bulgaria"},9.85,3,3.2833333333333332,{"$f":"MAX(J163:BA163)","v":5.1749999999999998},null,"tőponty",2.5249999999999999,2.15,5.1749999999999998]
["C1",{"$f":"kod!B24","v":"Gát, sekély víz"},{"$f":"kod!C24","v":"Carp Fever Bulgaria"},23.225000000000001,5,4.6450000000000005,{"$f":"MAX(J164:BA164)","v":7.15},null,"nyurgaponty",4.5750000000000002,6.35,2.5,2.65,7.15]
["C1",{"$f":"kod!B24","v":"Gát, sekély víz"},{"$f":"kod!C24","v":"Carp Fever Bulgaria"},0,0,0,null,{"$f":"MAX(J165:AZ165)","v":0},"koi ponty"]
["C1",{"$f":"kod!B24","v":"Gát, sekély víz"},{"$f":"kod!C24","v":"Carp Fever Bulgaria"},0,0,0,{"$f":"MAX(J166:BA166)","v":0},null,"amur"]
["C1",{"$f":"kod!B24","v":"Gát, sekély víz"},{"$f":"kod!C24","v":"Carp Fever Bulgaria"},0,0,0,{"$f":"MAX(J167:BA167)","v":0},null,"fekete amur"]
["C2",{"$f":"kod!B25","v":"Gát, sekély víz"},{"$f":"kod!C25","v":"Carpfriends Ennstal-Austria"},{"$f":"SUM(D169:D174)","v":67.699999999999989},{"$f":"SUM(E169:E174)","v":8},8.4624999999999986,{"$f":"MAX(G169:G174)","v":14.525},{"$f":"H172","v":8.2249999999999996},"ÖSSZESEN",{"$f":"COUNTIFS($J169:$BB174,\">9,99\",$J169:$BB174,\"<20\")","v":2},{"$f":"COUNTIFS($J169:$BB174,\">19,99\")","v":0},{"$f":"COUNTIFS($J172:$BA172,\">4,99\",$J172:$BA172,\"<9,99\")","v":1},{"$f":"COUNTIFS($J172:$BB172,\">9,99\")","v":0}]
["C2",{"$f":"kod!B25","v":"Gát, sekély víz"},{"$f":"kod!C25","v":"Carpfriends Ennstal-Austria"},{"$f":"SUM(J169:AZ169)","v":11.1},{"$f":"COUNT(J169:AZ169)","v":1},11.1,{"$f":"MAX(J169:BA169)","v":11.1},null,"tükörponty",11.1]
["C2",{"$f":"kod!B25","v":"Gát, sekély víz"},{"$f":"kod!C25","v":"Carpfriends Ennstal-Austria"},25.175000000000001,3,8.3916666666666675,{"$f":"MAX(J170:BA170)","v":14.525},null,"tőponty",7.125,3.5249999999999999,14.525]
["C2",{"$f":"kod!B25","v":"Gát, sekély víz"},{"$f":"kod!C25","v":"Carpfriends Ennstal-Austria"},23.2,3,7.7333333333333334,{"$f":"MAX(J171:BA171)","v":8},null,"nyurgaponty",8,7.45,7.75]
["C2",{"$f":"kod!B25","v":"Gát, sekély víz"},{"$f":"kod!C25","v":"Carpfriends Ennstal-Austria"},8.2249999999999996,1,8.2249999999999996,null,{"$f":"MAX(J172:AZ172)","v":8.2249999999999996},"koi ponty",8.2249999999999996]
["C2",{"$f":"kod!B25","v":"Gát, sekély víz"},{"$f":"kod!C25","v":"Carpfriends Ennstal-Austria"},0,0,0,{"$f":"MAX(J173:BA173)","v":0},null,"amur"]
["C2",{"$f":"kod!B25","v":"Gát, sekély víz"},{"$f":"kod!C25","v":"Carpfriends Ennstal-Austria"},0,0,0,{"$f":"MAX(J174:BA174)","v":0},null,"fekete amur"]
["C3",{"$f":"kod!B26","v":"Gát, sekély víz"},{"$f":"kod!C26","v":"Carp Team Brasov"},{"$f":"SUM(D176:D181)","v":28.625},{"$f":"SUM(E176:E181)","v":6},4.770833333333333,{"$f":"MAX(G176:G181)","v":9.35},{"$f":"H179","v":0},"ÖSSZESEN",{"$f":"COUNTIFS($J176:$BB181,\">9,99\",$J176:$BB181,\"<20\")","v":0},{"$f":"COUNTIFS($J176:$BB181,\">19,99\")","v":0},{"$f":"COUNTIFS($J179:$BA179,\">4,99\",$J179:$BA179,\"<9,99\")","v":0},{"$f":"COUNTIFS($J179:$BB179,\">9,99\")","v":0}]
["C3",{"$f":"kod!B26","v":"Gát, sekély víz"},{"$f":"kod!C26","v":"Carp Team Brasov"},{"$f":"SUM(J176:AZ176)","v":9.35},{"$f":"COUNT(J176:AZ176)","v":1},9.35,{"$f":"MAX(J176:BA176)","v":9.35},null,"tükörponty",9.35]
["C3",{"$f":"kod!B26","v":"Gát, sekély víz"},{"$f":"kod!C26","v":"Carp Team Brasov"},14,4,3.5,{"$f":"MAX(J177:BA177)","v":7.875},null,"tőponty",2.35,2,7.875,1.7749999999999999]
["C3",{"$f":"kod!B26","v":"Gát, sekély víz"},{"$f":"kod!C26","v":"Carp Team Brasov"},5.2750000000000004,1,5.2750000000000004,{"$f":"MAX(J178:BA178)","v":5.2750000000000004},null,"nyurgaponty",5.2750000000000004]
["C3",{"$f":"kod!B26","v":"Gát, sekély víz"},{"$f":"kod!C26","v":"Carp Team Brasov"},0,0,0,null,{"$f":"MAX(J179:AZ179)","v":0},"koi ponty"]
["C3",{"$f":"kod!B26","v":"Gát, sekély víz"},{"$f":"kod!C26","v":"Carp Team Brasov"},0,0,0,{"$f":"MAX(J180:BA180)","v":0},null,"amur"]
["C3",{"$f":"kod!B26","v":"Gát, sekély víz"},{"$f":"kod!C26","v":"Carp Team Brasov"},0,0,0,{"$f":"MAX(J181:BA181)","v":0},null,"fekete amur"]
["C4",{"$f":"kod!B27","v":"Gát, sekély víz"},{"$f":"kod!C27","v":"As La Carp Team"},{"$f":"SUM(D183:D188)","v":0},{"$f":"SUM(E183:E188)","v":0},0,{"$f":"MAX(G183:G188)","v":0},{"$f":"H186","v":0},"ÖSSZESEN",{"$f":"COUNTIFS($J183:$BB188,\">9,99\",$J183:$BB188,\"<20\")","v":0},{"$f":"COUNTIFS($J183:$BB188,\">19,99\")","v":0},{"$f":"COUNTIFS($J186:$BA186,\">4,99\",$J186:$BA186,\"<9,99\")","v":0},{"$f":"COUNTIFS($J186:$BB186,\">9,99\")","v":0}]
["C4",{"$f":"kod!B27","v":"Gát, sekély víz"},{"$f":"kod!C27","v":"As La Carp Team"},{"$f":"SUM(J183:AZ183)","v":0},{"$f":"COUNT(J183:AZ183)","v":0},0,{"$f":"MAX(J183:BA183)","v":0},null,"tükörponty"]
["C4",{"$f":"kod!B27","v":"Gát, sekély víz"},{"$f":"kod!C27","v":"As La Carp Team"},0,0,0,0,null,"tőponty"]
["C4",{"$f":"kod!B27","v":"Gát, sekély víz"},{"$f":"kod!C27","v":"As La Carp Team"},0,0,0,0,null,"nyurgaponty"]
["C4",{"$f":"kod!B27","v":"Gát, sekély víz"},{"$f":"kod!C27","v":"As La Carp Team"},0,0,0,0,{"$f":"MAX(J186:AZ186)","v":0},"koi ponty"]
["C4",{"$f":"kod!B27","v":"Gát, sekély víz"},{"$f":"kod!C27","v":"As La Carp Team"},0,0,0,0,null,"amur"]
["C4",{"$f":"kod!B27","v":"Gát, sekély víz"},{"$f":"kod!C27","v":"As La Carp Team"},0,0,0,0,null,"fekete amur"]
["C5",{"$f":"kod!B28","v":"Gát, sekély víz"},{"$f":"kod!C28","v":"Bojlis Főnök - Bait Bait Carp Team"},{"$f":"SUM(D190:D195)","v":36.725000000000001},{"$f":"SUM(E190:E195)","v":8},4.5906250000000002,{"$f":"MAX(G190:G195)","v":7.45},{"$f":"H193","v":5.625},"ÖSSZESEN",{"$f":"COUNTIFS($J190:$BB195,\">9,99\",$J190:$BB195,\"<20\")","v":0},{"$f":"COUNTIFS($J190:$BB195,\">19,99\")","v":0},{"$f":"COUNTIFS($J193:$BA193,\">4,99\",$J193:$BA193,\"<9,99\")","v":1},{"$f":"COUNTIFS($J193:$BB193,\">9,99\")","v":0}]
["C5",{"$f":"kod!B28","v":"Gát, sekély víz"},{"$f":"kod!C28","v":"Bojlis Főnök - Bait Bait Carp Team"},{"$f":"SUM(J190:AZ190)","v":6.3},{"$f":"COUNT(J190:AZ190)","v":1},6.3,{"$f":"MAX(J190:BA190)","v":6.3},null,"tükörponty",6.3]
["C5",{"$f":"kod!B28","v":"Gát, sekély víz"},{"$f":"kod!C28","v":"Bojlis Főnök - Bait Bait Carp Team"},19.125,5,3.8250000000000002,{"$f":"MAX(J191:BA191)","v":7.45},null,"tőponty",7.45,3.9249999999999998,2.1749999999999998,3.375,2.2000000000000002]
["C5",{"$f":"kod!B28","v":"Gát, sekély víz"},{"$f":"kod!C28","v":"Bojlis Főnök - Bait Bait Carp Team"},5.6749999999999998,1,5.6749999999999998,{"$f":"MAX(J192:BA192)","v":5.6749999999999998},null,"nyurgaponty",5.6749999999999998]
["C5",{"$f":"kod!B28","v":"Gát, sekély víz"},{"$f":"kod!C28","v":"Bojlis Főnök - Bait Bait Carp Team"},5.625,1,5.625,null,{"$f":"MAX(J193:AZ193)","v":5.625},"koi ponty",5.625]
["C5",{"$f":"kod!B28","v":"Gát, sekély víz"},{"$f":"kod!C28","v":"Bojlis Főnök - Bait Bait Carp Team"},0,0,0,{"$f":"MAX(J194:BA194)","v":0},null,"amur"]
["C5",{"$f":"kod!B28","v":"Gát, sekély víz"},{"$f":"kod!C28","v":"Bojlis Főnök - Bait Bait Carp Team"},0,0,0,{"$f":"MAX(J195:BA195)","v":0},null,"fekete amur"]
["C6",{"$f":"kod!B29","v":"Felező-spicc, jobb"},{"$f":"kod!C29","v":"Secret Of The Carp"},{"$f":"SUM(D197:D202)","v":0},{"$f":"SUM(E197:E202)","v":0},0,{"$f":"MAX(G197:G202)","v":0},{"$f":"H200","v":0},"ÖSSZESEN",{"$f":"COUNTIFS($J197:$BB202,\">9,99\",$J197:$BB202,\"<20\")","v":0},{"$f":"COUNTIFS($J197:$BB202,\">19,99\")","v":0},{"$f":"COUNTIFS($J200:$BA200,\">4,99\",$J200:$BA200,\"<9,99\")","v":0},{"$f":"COUNTIFS($J200:$BB200,\">9,99\")","v":0}]
["C6",{"$f":"kod!B29","v":"Felező-spicc, jobb"},{"$f":"kod!C29","v":"Secret Of The Carp"},{"$f":"SUM(J197:AZ197)","v":0},{"$f":"COUNT(J197:AZ197)","v":0},0,{"$f":"MAX(J197:BA197)","v":0},null,"tükörponty"]
["C6",{"$f":"kod!B29","v":"Felező-spicc, jobb"},{"$f":"kod!C29","v":"Secret Of The Carp"},0,0,0,0,null,"tőponty"]
["C6",{"$f":"kod!B29","v":"Felező-spicc, jobb"},{"$f":"kod!C29","v":"Secret Of The Carp"},0,0,0,0,null,"nyurgaponty"]
["C6",{"$f":"kod!B29","v":"Felező-spicc, jobb"},{"$f":"kod!C29","v":"Secret Of The Carp"},0,0,0,0,{"$f":"MAX(J200:AZ200)","v":0},"koi ponty"]
["C6",{"$f":"kod!B29","v":"Felező-spicc, jobb"},{"$f":"kod!C29","v":"Secret Of The Carp"},0,0,0,0,null,"amur"]
["C6",{"$f":"kod!B29","v":"Felező-spicc, jobb"},{"$f":"kod!C29","v":"Secret Of The Carp"},0,0,0,0,null,"fekete amur"]
["C7",{"$f":"kod!B30","v":"II. sziget, bal"},{"$f":"kod!C30","v":"Quick Baits"},{"$f":"SUM(D204:D209)","v":40.575000000000003},{"$f":"SUM(E204:E209)","v":5},8.1150000000000002,{"$f":"MAX(G204:G209)","v":11.775},{"$f":"H207","v":0},"ÖSSZESEN",{"$f":"COUNTIFS($J204:$BB209,\">9,99\",$J204:$BB209,\"<20\")","v":2},{"$f":"COUNTIFS($J204:$BB209,\">19,99\")","v":0},{"$f":"COUNTIFS($J207:$BA207,\">4,99\",$J207:$BA207,\"<9,99\")","v":0},{"$f":"COUNTIFS($J207:$BB207,\">9,99\")","v":0}]
["C7",{"$f":"kod!B30","v":"II. sziget, bal"},{"$f":"kod!C30","v":"Quick Baits"},{"$f":"SUM(J204:AZ204)","v":23.175000000000001},{"$f":"COUNT(J204:AZ204)","v":2},11.5875,{"$f":"MAX(J204:BA204)","v":11.775},null,"tükörponty",11.4,11.775]
["C7",{"$f":"kod!B30","v":"II. sziget, bal"},{"$f":"kod!C30","v":"Quick Baits"},17.399999999999999,3,5.8,{"$f":"MAX(J205:BA205)","v":7.3250000000000002},null,"tőponty",4.1749999999999998,5.9,7.3250000000000002]
["C7",{"$f":"kod!B30","v":"II. sziget, bal"},{"$f":"kod!C30","v":"Quick Baits"},0,0,0,{"$f":"MAX(J206:BA206)","v":0},null,"nyurgaponty"]
["C7",{"$f":"kod!B30","v":"II. sziget, bal"},{"$f":"kod!C30","v":"Quick Baits"},0,0,0,null,{"$f":"MAX(J207:AZ207)","v":0},"koi ponty"]
["C7",{"$f":"kod!B30","v":"II. sziget, bal"},{"$f":"kod!C30","v":"Quick Baits"},0,0,0,{"$f":"MAX(J208:BA208)","v":0},null,"amur"]
["C7",{"$f":"kod!B30","v":"II. sziget, bal"},{"$f":"kod!C30","v":"Quick Baits"},0,0,0,{"$f":"MAX(J209:BA209)","v":0},null,"fekete amur"]
["C8",{"$f":"kod!B31","v":"II. sziget, bal közép"},{"$f":"kod!C31","v":"Carp Team Blankbrothers"},{"$f":"SUM(D211:D216)","v":20.125},{"$f":"SUM(E211:E216)","v":3},6.708333333333333,{"$f":"MAX(G211:G216)","v":7},{"$f":"H214","v":0},"ÖSSZESEN",{"$f":"COUNTIFS($J211:$BB216,\">9,99\",$J211:$BB216,\"<20\")","v":0},{"$f":"COUNTIFS($J211:$BB216,\">19,99\")","v":0},{"$f":"COUNTIFS($J214:$BA214,\">4,99\",$J214:$BA214,\"<9,99\")","v":0},{"$f":"COUNTIFS($J214:$BB214,\">9,99\")","v":0}]
["C8",{"$f":"kod!B31","v":"II. sziget, bal közép"},{"$f":"kod!C31","v":"Carp Team Blankbrothers"},{"$f":"SUM(J211:AZ211)","v":6.9249999999999998},{"$f":"COUNT(J211:AZ211)","v":1},6.9249999999999998,{"$f":"MAX(J211:BA211)","v":6.9249999999999998},null,"tükörponty",6.9249999999999998]
["C8",{"$f":"kod!B31","v":"II. sziget, bal közép"},{"$f":"kod!C31","v":"Carp Team Blankbrothers"},13.2,2,6.6,{"$f":"MAX(J212:BA212)","v":7},null,"tőponty",6.2,7]
["C8",{"$f":"kod!B31","v":"II. sziget, bal közép"},{"$f":"kod!C31","v":"Carp Team Blankbrothers"},0,0,0,{"$f":"MAX(J213:BA213)","v":0},null,"nyurgaponty"]
["C8",{"$f":"kod!B31","v":"II. sziget, bal közép"},{"$f":"kod!C31","v":"Carp Team Blankbrothers"},0,0,0,null,{"$f":"MAX(J214:AZ214)","v":0},"koi ponty"]
["C8",{"$f":"kod!B31","v":"II. sziget, bal közép"},{"$f":"kod!C31","v":"Carp Team Blankbrothers"},0,0,0,{"$f":"MAX(J215:BA215)","v":0},null,"amur"]
["C8",{"$f":"kod!B31","v":"II. sziget, bal közép"},{"$f":"kod!C31","v":"Carp Team Blankbrothers"},0,0,0,{"$f":"MAX(J216:BA216)","v":0},null,"fekete amur"]
["C9",{"$f":"kod!B32","v":"II. sziget, közép"},{"$f":"kod!C32","v":"Bait Bait Hungary"},{"$f":"SUM(D218:D223)","v":43.5},{"$f":"SUM(E218:E223)","v":8},5.4375,{"$f":"MAX(G218:G223)","v":8.0250000000000004},{"$f":"H221","v":0},"ÖSSZESEN",{"$f":"COUNTIFS($J218:$BB223,\">9,99\",$J218:$BB223,\"<20\")","v":0},{"$f":"COUNTIFS($J218:$BB223,\">19,99\")","v":0},{"$f":"COUNTIFS($J221:$BA221,\">4,99\",$J221:$BA221,\"<9,99\")","v":0},{"$f":"COUNTIFS($J221:$BB221,\">9,99\")","v":0}]
["C9",{"$f":"kod!B32","v":"II. sziget, közép"},{"$f":"kod!C32","v":"Bait Bait Hungary"},{"$f":"SUM(J218:AZ218)","v":0},{"$f":"COUNT(J218:AZ218)","v":0},0,{"$f":"MAX(J218:BA218)","v":0},null,"tükörponty"]
["C9",{"$f":"kod!B32","v":"II. sziget, közép"},{"$f":"kod!C32","v":"Bait Bait Hungary"},43.5,8,5.4375,{"$f":"MAX(J219:BA219)","v":8.0250000000000004},null,"tőponty",7.5750000000000002,1.45,8.0250000000000004,5.75,2.875,7,5,5.8250000000000002]
["C9",{"$f":"kod!B32","v":"II. sziget, közép"},{"$f":"kod!C32","v":"Bait Bait Hungary"},0,0,0,{"$f":"MAX(J220:BA220)","v":0},null,"nyurgaponty"]
["C9",{"$f":"kod!B32","v":"II. sziget, közép"},{"$f":"kod!C32","v":"Bait Bait Hungary"},0,0,0,null,{"$f":"MAX(J221:AZ221)","v":0},"koi ponty"]
["C9",{"$f":"kod!B32","v":"II. sziget, közép"},{"$f":"kod!C32","v":"Bait Bait Hungary"},0,0,0,{"$f":"MAX(J222:BA222)","v":0},null,"amur"]
["C9",{"$f":"kod!B32","v":"II. sziget, közép"},{"$f":"kod!C32","v":"Bait Bait Hungary"},0,0,0,{"$f":"MAX(J223:BA223)","v":0},null,"fekete amur"]
["C10",{"$f":"kod!B33","v":"II. sziget, jobb közép"},{"$f":"kod!C33","v":"Acroft Illusive Bait Me"},{"$f":"SUM(D225:D230)","v":4.8250000000000002},{"$f":"SUM(E225:E230)","v":1},4.8250000000000002,{"$f":"MAX(G225:G230)","v":0},{"$f":"H228","v":4.8250000000000002},"ÖSSZESEN",{"$f":"COUNTIFS($J225:$BB230,\">9,99\",$J225:$BB230,\"<20\")","v":0},{"$f":"COUNTIFS($J225:$BB230,\">19,99\")","v":0},{"$f":"COUNTIFS($J228:$BA228,\">4,99\",$J228:$BA228,\"<9,99\")","v":0},{"$f":"COUNTIFS($J228:$BB228,\">9,99\")","v":0}]
["C10",{"$f":"kod!B33","v":"II. sziget, jobb közép"},{"$f":"kod!C33","v":"Acroft Illusive Bait Me"},{"$f":"SUM(J225:AZ225)","v":0},{"$f":"COUNT(J225:AZ225)","v":0},0,{"$f":"MAX(J225:BA225)","v":0},null,"tükörponty"]
["C10",{"$f":"kod!B33","v":"II. sziget, jobb közép"},{"$f":"kod!C33","v":"Acroft Illusive Bait Me"},0,0,{"$f":"IF(E226=0,0,D226/E226)","v":0},{"$f":"MAX(J226:BA226)","v":0},null,"tőponty"]
["C10",{"$f":"kod!B33","v":"II. sziget, jobb közép"},{"$f":"kod!C33","v":"Acroft Illusive Bait Me"},0,0,0,{"$f":"MAX(J227:BA227)","v":0},null,"nyurgaponty"]
["C10",{"$f":"kod!B33","v":"II. sziget, jobb közép"},{"$f":"kod!C33","v":"Acroft Illusive Bait Me"},4.8250000000000002,1,4.8250000000000002,null,{"$f":"MAX(J228:AZ228)","v":4.8250000000000002},"koi ponty",4.8250000000000002]
["C10",{"$f":"kod!B33","v":"II. sziget, jobb közép"},{"$f":"kod!C33","v":"Acroft Illusive Bait Me"},0,0,0,{"$f":"MAX(J229:BA229)","v":0},null,"amur"]
["C10",{"$f":"kod!B33","v":"II. sziget, jobb közép"},{"$f":"kod!C33","v":"Acroft Illusive Bait Me"},0,0,0,{"$f":"MAX(J230:BA230)","v":0},null,"fekete amur"]
["C11",{"$f":"kod!B34","v":"II. sziget, jobb"},{"$f":"kod!C34","v":"Vaslui Carp Team"},{"$f":"SUM(D232:D237)","v":39.024999999999999},{"$f":"SUM(E232:E237)","v":8},4.8781249999999998,{"$f":"MAX(G232:G237)","v":8.3249999999999993},{"$f":"H235","v":0},"ÖSSZESEN",{"$f":"COUNTIFS($J232:$BB237,\">9,99\",$J232:$BB237,\"<20\")","v":0},{"$f":"COUNTIFS($J232:$BB237,\">19,99\")","v":0},{"$f":"COUNTIFS($J235:$BA235,\">4,99\",$J235:$BA235,\"<9,99\")","v":0},{"$f":"COUNTIFS($J235:$BB235,\">9,99\")","v":0}]
["C11",{"$f":"kod!B34","v":"II. sziget, jobb"},{"$f":"kod!C34","v":"Vaslui Carp Team"},{"$f":"SUM(J232:AZ232)","v":8.3249999999999993},{"$f":"COUNT(J232:AZ232)","v":1},8.3249999999999993,{"$f":"MAX(J232:BA232)","v":8.3249999999999993},null,"tükörponty",8.3249999999999993]
["C11",{"$f":"kod!B34","v":"II. sziget, jobb"},{"$f":"kod!C34","v":"Vaslui Carp Team"},7.9749999999999996,2,3.9874999999999998,{"$f":"MAX(J233:BA233)","v":6.5},null,"tőponty",6.5,1.4750000000000001]
["C11",{"$f":"kod!B34","v":"II. sziget, jobb"},{"$f":"kod!C34","v":"Vaslui Carp Team"},16.375,3,5.458333333333333,{"$f":"MAX(J234:BA234)","v":6.85},null,"nyurgaponty",3.7749999999999999,5.75,6.85]
["C11",{"$f":"kod!B34","v":"II. sziget, jobb"},{"$f":"kod!C34","v":"Vaslui Carp Team"},0,0,0,null,{"$f":"MAX(J235:AZ235)","v":0},"koi ponty"]
["C11",{"$f":"kod!B34","v":"II. sziget, jobb"},{"$f":"kod!C34","v":"Vaslui Carp Team"},0,0,0,{"$f":"MAX(J236:BA236)","v":0},null,"amur"]
["C11",{"$f":"kod!B34","v":"II. sziget, jobb"},{"$f":"kod!C34","v":"Vaslui Carp Team"},6.35,2,3.1749999999999998,{"$f":"MAX(J237:BA237)","v":3.35},null,"fekete amur",3.35,3]
[null,null,"Összesen:",{"$f":"SUM(D7,D14,D21,D28,D35,D42,D49,D56,D63,D70,D77,D84,D91,D98,D105,D112,D119,D126,D133,D140,D147,D154,D161,D168,D175,D182,D189,D196,D203,D210,D217,D224,D231)","v":1748.4450000000002},{"$f":"SUM(E7,E14,E21,E28,E35,E42,E49,E56,E63,E70,E77,E84,E91,E98,E105,E112,E119,E126,E133,E140,E147,E154,E161,E168,E175,E182,E189,E196,E203,E210,E217,E224,E231)","v":204},{"$f":"IF(E238=0,0,D238/E238)","v":8.5708088235294131},null,null,null,{"$f":"SUM(J7,J14,J21,J28,J35,J42,J49,J56,J63,J70,J77,J84,J91,J98,J105,J112,J119,J126,J133,J140,J147,J154,J161,J168,J175,J182,J189,J196,J203,J210,J217,J224,J231)","v":59},{"$f":"SUM(K7,K14,K21,K28,K35,K42,K49,K56,K63,K70,K77,K84,K91,K98,K105,K112,K119,K126,K133,K140,K147,K154,K161,K168,K175,K182,K189,K196,K203,K210,K217,K224,K231)","v":3},{"$f":"SUM(L7,L14,L21,L28,L35,L42,L49,L56,L63,L70,L77,L84,L91,L98,L105,L112,L119,L126,L133,L140,L147,L154,L161,L168,L175,L182,L189,L196,L203,L210,L217,L224,L231)","v":3},5]

{"sheet":"Összesen","index":12,"n_rows":40,"n_cols":7,"rows_kept":40,"cut":false,"hidden":false,"merged":[[4,0,4,6],[0,0,0,6],[1,0,1,6],[2,0,2,6],[3,1,3,6]]}
[{"$f":"IF(kod!E2>0,kod!E2,\"\")","v":"XXI. PROFESSZIONÁLIS BOJLIS EURÓPA KUPA (EPBC)"}]
[{"$f":"IF(kod!E3>0,kod!E3,\"\")","v":"XXXVI. MACONKA NEMZETKÖZI BOJLIS KUPA"}]
[{"$f":"IF(kod!E4>0,kod!E4,\"\")","v":"Maconka, 2025.06.15. - 2025.06.20."}]
[null,{"$f":"IF(kod!E5>0,kod!E5,\"\")","v":""}]
["10/10. VÉGEREDMÉNY (118/118 óra, 2025.06.20. 15:00)"]
["Helyezés","Rajthely","Elhelyezés","Csapatnév","Súly (Kg)","Darab","Átlag"]
["①",{"$f":"kod!A34","v":"C11"},{"$f":"kod!B34","v":"II. sziget, jobb"},{"$f":"kod!C34","v":"Vaslui Carp Team"},{"$f":"SUM(szakasz1:szakasz10!D231)","v":1435.5750000000005},{"$f":"SUM(szakasz1:szakasz10!E231)","v":207},{"$f":"IF(F7=0,0,E7/F7)","v":6.9351449275362347}]
["②",{"$f":"kod!A20","v":"B08"},{"$f":"kod!B20","v":"I. sziget, jobb "},{"$f":"kod!C20","v":"CT777 Varna Bulgaria"},{"$f":"SUM(szakasz1:szakasz10!D133)","v":1178.2649999999999},{"$f":"SUM(szakasz1:szakasz10!E133)","v":134},{"$f":"IF(F8=0,0,E8/F8)","v":8.7930223880597005}]
["③",{"$f":"kod!A15","v":"B03"},{"$f":"kod!B15","v":"Gát, közepes víz"},{"$f":"kod!C15","v":"WLC Hungary "},{"$f":"SUM(szakasz1:szakasz10!D98)","v":1171.875},{"$f":"SUM(szakasz1:szakasz10!E98)","v":130},{"$f":"IF(F9=0,0,E9/F9)","v":9.0144230769230766}]
["4.",{"$f":"kod!A10","v":"A09"},{"$f":"kod!B10","v":"I. sziget, bal külső"},{"$f":"kod!C10","v":"Kártékony Carp Team"},{"$f":"SUM(szakasz1:szakasz10!D63)","v":1163.675},{"$f":"SUM(szakasz1:szakasz10!E63)","v":139},{"$f":"IF(F10=0,0,E10/F10)","v":8.371762589928057}]
["5.",{"$f":"kod!A30","v":"C07"},{"$f":"kod!B30","v":"II. sziget, bal"},{"$f":"kod!C30","v":"Quick Baits"},{"$f":"SUM(szakasz1:szakasz10!D203)","v":1030.165},{"$f":"SUM(szakasz1:szakasz10!E203)","v":110},{"$f":"IF(F11=0,0,E11/F11)","v":9.3651363636363634}]
["6.",{"$f":"kod!A21","v":"B09"},{"$f":"kod!B21","v":"I. sziget, jobb külső"},{"$f":"kod!C21","v":"Bait Maker Team"},{"$f":"SUM(szakasz1:szakasz10!D140)","v":926.05},{"$f":"SUM(szakasz1:szakasz10!E140)","v":112},{"$f":"IF(F12=0,0,E12/F12)","v":8.2683035714285715}]
["7.",{"$f":"kod!A32","v":"C09"},{"$f":"kod!B32","v":"II. sziget, közép"},{"$f":"kod!C32","v":"Bait Bait Hungary"},{"$f":"SUM(szakasz1:szakasz10!D217)","v":925.87499999999989},{"$f":"SUM(szakasz1:szakasz10!E217)","v":121},{"$f":"IF(F13=0,0,E13/F13)","v":7.6518595041322301}]
["8.",{"$f":"kod!A19","v":"B07"},{"$f":"kod!B19","v":"I. sziget, jobb közép"},{"$f":"kod!C19","v":"Elite Carp Team Brasov"},{"$f":"SUM(szakasz1:szakasz10!D126)","v":896.10000000000014},{"$f":"SUM(szakasz1:szakasz10!E126)","v":89},{"$f":"IF(F14=0,0,E14/F14)","v":10.068539325842698}]
["9.",{"$f":"kod!A18","v":"B06"},{"$f":"kod!B18","v":"Gát, közepes víz"},{"$f":"kod!C18","v":"Xtra Carp Team"},{"$f":"SUM(szakasz1:szakasz10!D119)","v":752.6},{"$f":"SUM(szakasz1:szakasz10!E119)","v":66},{"$f":"IF(F15=0,0,E15/F15)","v":11.403030303030304}]
["10.",{"$f":"kod!A2","v":"A01"},{"$f":"kod!B2","v":"Gát, mélyvíz"},{"$f":"kod!C2","v":"SBS - Halcatraz - TiZo Team"},{"$f":"SUM(szakasz1:szakasz10!D7)","v":690.5},{"$f":"SUM(szakasz1:szakasz10!E7)","v":57},{"$f":"IF(F16=0,0,E16/F16)","v":12.114035087719298}]
["11.",{"$f":"kod!A24","v":"C01"},{"$f":"kod!B24","v":"Gát, sekély víz"},{"$f":"kod!C24","v":"Carp Fever Bulgaria"},{"$f":"SUM(szakasz1:szakasz10!D161)","v":671.60000000000014},{"$f":"SUM(szakasz1:szakasz10!E161)","v":108},{"$f":"IF(F17=0,0,E17/F17)","v":6.2185185185185201}]
["12.",{"$f":"kod!A25","v":"C02"},{"$f":"kod!B25","v":"Gát, sekély víz"},{"$f":"kod!C25","v":"Carpfriends Ennstal-Austria"},{"$f":"SUM(szakasz1:szakasz10!D168)","v":572.4},{"$f":"SUM(szakasz1:szakasz10!E168)","v":72},{"$f":"IF(F18=0,0,E18/F18)","v":7.9499999999999993}]
["13.",{"$f":"kod!A16","v":"B04"},{"$f":"kod!B16","v":"Gát, közepes víz"},{"$f":"kod!C16","v":"Barfin Line NSD Bulgaria"},{"$f":"SUM(szakasz1:szakasz10!D105)","v":555.65},{"$f":"SUM(szakasz1:szakasz10!E105)","v":57},{"$f":"IF(F19=0,0,E19/F19)","v":9.7482456140350866}]
["14.",{"$f":"kod!A7","v":"A06"},{"$f":"kod!B7","v":"Nyári kikötő, belső"},{"$f":"kod!C7","v":"Black Carp Team"},{"$f":"SUM(szakasz1:szakasz10!D42)","v":535.02499999999998},{"$f":"SUM(szakasz1:szakasz10!E42)","v":77},{"$f":"IF(F20=0,0,E20/F20)","v":6.9483766233766229}]
["15.",{"$f":"kod!A33","v":"C10"},{"$f":"kod!B33","v":"II. sziget, jobb közép"},{"$f":"kod!C33","v":"Acroft Illusive Bait Me"},{"$f":"SUM(szakasz1:szakasz10!D224)","v":454.42500000000001},{"$f":"SUM(szakasz1:szakasz10!E224)","v":54},{"$f":"IF(F21=0,0,E21/F21)","v":8.4152777777777779}]
["16.",{"$f":"kod!A9","v":"A08"},{"$f":"kod!B9","v":"Nyári kikötő, külső"},{"$f":"kod!C9","v":"Ózdi Sporthorgász Egyesület"},{"$f":"SUM(szakasz1:szakasz10!D56)","v":420.125},{"$f":"SUM(szakasz1:szakasz10!E56)","v":48},{"$f":"IF(F22=0,0,E22/F22)","v":8.7526041666666661}]
["17.",{"$f":"kod!A5","v":"A04"},{"$f":"kod!B5","v":"Gát, mélyvíz"},{"$f":"kod!C5","v":"Bull Tackle"},{"$f":"SUM(szakasz1:szakasz10!D28)","v":350.14000000000004},{"$f":"SUM(szakasz1:szakasz10!E28)","v":29},{"$f":"IF(F23=0,0,E23/F23)","v":12.073793103448278}]
["18.",{"$f":"kod!A13","v":"B01"},{"$f":"kod!B13","v":"Gát, közepes víz"},{"$f":"kod!C13","v":"Tata Nitu Carp Team"},{"$f":"SUM(szakasz1:szakasz10!D84)","v":338.64500000000004},{"$f":"SUM(szakasz1:szakasz10!E84)","v":57},{"$f":"IF(F24=0,0,E24/F24)","v":5.9411403508771938}]
["19.",{"$f":"kod!A31","v":"C08"},{"$f":"kod!B31","v":"II. sziget, bal közép"},{"$f":"kod!C31","v":"Carp Team Blankbrothers"},{"$f":"SUM(szakasz1:szakasz10!D210)","v":324.62499999999994},{"$f":"SUM(szakasz1:szakasz10!E210)","v":41},{"$f":"IF(F25=0,0,E25/F25)","v":7.9176829268292668}]
["20.",{"$f":"kod!A3","v":"A02"},{"$f":"kod!B3","v":"Gát, mélyvíz"},{"$f":"kod!C3","v":"Altstadt Carp Team"},{"$f":"SUM(szakasz1:szakasz10!D14)","v":319.04999999999995},{"$f":"SUM(szakasz1:szakasz10!E14)","v":35},{"$f":"IF(F26=0,0,E26/F26)","v":9.1157142857142848}]
["21.",{"$f":"kod!A8","v":"A07"},{"$f":"kod!B8","v":"Nyári kikötő, közép"},{"$f":"kod!C8","v":"USA & Mivado Carp Team"},{"$f":"SUM(szakasz1:szakasz10!D49)","v":318.80500000000001},{"$f":"SUM(szakasz1:szakasz10!E49)","v":41},{"$f":"IF(F27=0,0,E27/F27)","v":7.7757317073170737}]
["22.",{"$f":"kod!A12","v":"A11"},{"$f":"kod!B12","v":"I. sziget, bal közép"},{"$f":"kod!C12","v":"Invader's Team Poland"},{"$f":"SUM(szakasz1:szakasz10!D77)","v":311.84000000000003},{"$f":"SUM(szakasz1:szakasz10!E77)","v":42},{"$f":"IF(F28=0,0,E28/F28)","v":7.4247619047619056}]
["23.",{"$f":"kod!A26","v":"C03"},{"$f":"kod!B26","v":"Gát, sekély víz"},{"$f":"kod!C26","v":"Carp Team Brasov"},{"$f":"SUM(szakasz1:szakasz10!D175)","v":307.125},{"$f":"SUM(szakasz1:szakasz10!E175)","v":50},{"$f":"IF(F29=0,0,E29/F29)","v":6.1425000000000001}]
["24.",{"$f":"kod!A28","v":"C05"},{"$f":"kod!B28","v":"Gát, sekély víz"},{"$f":"kod!C28","v":"Bojlis Főnök - Bait Bait Carp Team"},{"$f":"SUM(szakasz1:szakasz10!D189)","v":289.92500000000007},{"$f":"SUM(szakasz1:szakasz10!E189)","v":50},{"$f":"IF(F30=0,0,E30/F30)","v":5.7985000000000015}]
["25.",{"$f":"kod!A4","v":"A03"},{"$f":"kod!B4","v":"Gát, mélyvíz"},{"$f":"kod!C4","v":"Ferma De Crap Diosig"},{"$f":"SUM(szakasz1:szakasz10!D21)","v":278.745},{"$f":"SUM(szakasz1:szakasz10!E21)","v":26},{"$f":"IF(F31=0,0,E31/F31)","v":10.720961538461539}]
["26.",{"$f":"kod!A22","v":"B10"},{"$f":"kod!B22","v":"Felező-spicc, bal"},{"$f":"kod!C22","v":"SBS - SziKo Team"},{"$f":"SUM(szakasz1:szakasz10!D147)","v":274.875},{"$f":"SUM(szakasz1:szakasz10!E147)","v":40},{"$f":"IF(F32=0,0,E32/F32)","v":6.8718750000000002}]
["27.",{"$f":"kod!A14","v":"B02"},{"$f":"kod!B14","v":"Gát, közepes víz"},{"$f":"kod!C14","v":"Slovakia Carp Team"},{"$f":"SUM(szakasz1:szakasz10!D91)","v":270.27500000000003},{"$f":"SUM(szakasz1:szakasz10!E91)","v":31},{"$f":"IF(F33=0,0,E33/F33)","v":8.7185483870967762}]
["28.",{"$f":"kod!A27","v":"C04"},{"$f":"kod!B27","v":"Gát, sekély víz"},{"$f":"kod!C27","v":"As La Carp Team"},{"$f":"SUM(szakasz1:szakasz10!D182)","v":237.85},{"$f":"SUM(szakasz1:szakasz10!E182)","v":35},{"$f":"IF(F34=0,0,E34/F34)","v":6.7957142857142854}]
["29.",{"$f":"kod!A29","v":"C06"},{"$f":"kod!B29","v":"Felező-spicc, jobb"},{"$f":"kod!C29","v":"Secret Of The Carp"},{"$f":"SUM(szakasz1:szakasz10!D196)","v":165.125},{"$f":"SUM(szakasz1:szakasz10!E196)","v":25},{"$f":"IF(F35=0,0,E35/F35)","v":6.6050000000000004}]
["30.",{"$f":"kod!A23","v":"B11"},{"$f":"kod!B23","v":"Felező-spicc, közép"},{"$f":"kod!C23","v":"Síp Carp Team"},{"$f":"SUM(szakasz1:szakasz10!D154)","v":163.30000000000001},{"$f":"SUM(szakasz1:szakasz10!E154)","v":23},{"$f":"IF(F36=0,0,E36/F36)","v":7.1000000000000005}]
["31.",{"$f":"kod!A11","v":"A10"},{"$f":"kod!B11","v":"I. sziget, bal"},{"$f":"kod!C11","v":"Team 5 Austria"},{"$f":"SUM(szakasz1:szakasz10!D70)","v":146.17500000000001},{"$f":"SUM(szakasz1:szakasz10!E70)","v":16},{"$f":"IF(F37=0,0,E37/F37)","v":9.1359375000000007}]
["32.",{"$f":"kod!A17","v":"B05"},{"$f":"kod!B17","v":"Gát, közepes víz"},{"$f":"kod!C17","v":"Lutra Carp Hunters"},{"$f":"SUM(szakasz1:szakasz10!D112)","v":140.95000000000002},{"$f":"SUM(szakasz1:szakasz10!E112)","v":15},{"$f":"IF(F38=0,0,E38/F38)","v":9.3966666666666683}]
["33.",{"$f":"kod!A6","v":"A05"},{"$f":"kod!B6","v":"Gát, mélyvíz"},{"$f":"kod!C6","v":"AHFSZ Fishing Team"},{"$f":"SUM(szakasz1:szakasz10!D35)","v":53.55},{"$f":"SUM(szakasz1:szakasz10!E35)","v":5},{"$f":"IF(F39=0,0,E39/F39)","v":10.709999999999999}]
[null,null,null,"Összesen:",{"$f":"SUM(E7:E39)","v":17670.904999999999},{"$f":"SUM(F7:F39)","v":2142},{"$f":"IF(F40=0,0,E40/F40)","v":8.2497222222222213}]

{"sheet":"Sorrend_szektoronként","index":13,"n_rows":44,"n_cols":6,"rows_kept":44,"cut":false,"hidden":false,"merged":[[5,0,5,5],[1,0,1,5],[2,0,2,5],[3,0,3,5]]}
[]
[{"$f":"kod!E2","v":"XXI. PROFESSZIONÁLIS BOJLIS EURÓPA KUPA (EPBC)"}]
[{"$f":"kod!E3","v":"XXXVI. MACONKA NEMZETKÖZI BOJLIS KUPA"}]
[{"$f":"kod!E4","v":"Maconka, 2025.06.15. - 2025.06.20."}]
[]
["Szektoronkénti sorrend súly szerint"]
["Rajthely","Elhelyezés","Csapatnév","Kg","Db","Átlag"]
[]
["A09",{"$f":"kod!B10","v":"I. sziget, bal külső"},{"$f":"kod!C10","v":"Kártékony Carp Team"},{"$f":"Össz_részletes!D63","v":1163.675},{"$f":"Össz_részletes!E63","v":139},{"$f":"IF(E9=0,0,D9/E9)","v":8.371762589928057}]
["A08",{"$f":"kod!B9","v":"Nyári kikötő, külső"},{"$f":"kod!C9","v":"Ózdi Sporthorgász Egyesület"},{"$f":"Össz_részletes!D56","v":420.125},{"$f":"Össz_részletes!E56","v":48},8.7526041666666661]
["A01",{"$f":"kod!B2","v":"Gát, mélyvíz"},{"$f":"kod!C2","v":"SBS - Halcatraz - TiZo Team"},{"$f":"Össz_részletes!D7","v":690.5},{"$f":"Össz_részletes!E7","v":57},12.114035087719298]
["A06",{"$f":"kod!B7","v":"Nyári kikötő, belső"},{"$f":"kod!C7","v":"Black Carp Team"},{"$f":"Össz_részletes!D42","v":535.02499999999998},{"$f":"Össz_részletes!E42","v":77},6.9483766233766229]
["A05",{"$f":"kod!B6","v":"Gát, mélyvíz"},{"$f":"kod!C6","v":"AHFSZ Fishing Team"},{"$f":"Össz_részletes!D35","v":53.55},{"$f":"Össz_részletes!E35","v":5},10.709999999999999]
["A07",{"$f":"kod!B8","v":"Nyári kikötő, közép"},{"$f":"kod!C8","v":"USA & Mivado Carp Team"},{"$f":"Össz_részletes!D49","v":318.80500000000001},{"$f":"Össz_részletes!E49","v":41},7.7757317073170737]
["A03",{"$f":"kod!B4","v":"Gát, mélyvíz"},{"$f":"kod!C4","v":"Ferma De Crap Diosig"},{"$f":"Össz_részletes!D21","v":278.745},{"$f":"Össz_részletes!E21","v":26},10.720961538461539]
["A02",{"$f":"kod!B3","v":"Gát, mélyvíz"},{"$f":"kod!C3","v":"Altstadt Carp Team"},{"$f":"Össz_részletes!D14","v":319.04999999999995},{"$f":"Össz_részletes!E14","v":35},9.1157142857142848]
["A04",{"$f":"kod!B5","v":"Gát, mélyvíz"},{"$f":"kod!C5","v":"Bull Tackle"},{"$f":"Össz_részletes!D28","v":350.14000000000004},{"$f":"Össz_részletes!E28","v":29},12.073793103448278]
["A10",{"$f":"kod!B11","v":"I. sziget, bal"},{"$f":"kod!C11","v":"Team 5 Austria"},{"$f":"Össz_részletes!D70","v":146.17500000000001},{"$f":"Össz_részletes!E70","v":16},9.1359375000000007]
["A11",{"$f":"kod!B12","v":"I. sziget, bal közép"},{"$f":"kod!C12","v":"Invader's Team Poland"},{"$f":"Össz_részletes!D77","v":311.84000000000003},{"$f":"Össz_részletes!E77","v":42},7.4247619047619056]
[null,null,"\"A\" szektor:",{"$f":"SUM(D9:D19)","v":4587.630000000001},{"$f":"SUM(E9:E19)","v":515},{"$f":"IF(E20=0,0,D20/E20)","v":8.9080194174757299}]
["B07",{"$f":"kod!B19","v":"I. sziget, jobb közép"},{"$f":"kod!C19","v":"Elite Carp Team Brasov"},{"$f":"Össz_részletes!D126","v":896.10000000000014},{"$f":"Össz_részletes!E126","v":89},{"$f":"IF(E21=0,0,D21/E21)","v":10.068539325842698}]
["B01",{"$f":"kod!B13","v":"Gát, közepes víz"},{"$f":"kod!C13","v":"Tata Nitu Carp Team"},{"$f":"Össz_részletes!D84","v":338.64500000000004},{"$f":"Össz_részletes!E84","v":57},5.9411403508771938]
["B09",{"$f":"kod!B21","v":"I. sziget, jobb külső"},{"$f":"kod!C21","v":"Bait Maker Team"},{"$f":"Össz_részletes!D140","v":926.05},{"$f":"Össz_részletes!E140","v":112},8.2683035714285715]
["B08",{"$f":"kod!B20","v":"I. sziget, jobb "},{"$f":"kod!C20","v":"CT777 Varna Bulgaria"},{"$f":"Össz_részletes!D133","v":1178.2649999999999},{"$f":"Össz_részletes!E133","v":134},8.7930223880597005]
["B10",{"$f":"kod!B22","v":"Felező-spicc, bal"},{"$f":"kod!C22","v":"SBS - SziKo Team"},{"$f":"Össz_részletes!D147","v":274.875},{"$f":"Össz_részletes!E147","v":40},6.8718750000000002]
["B05",{"$f":"kod!B17","v":"Gát, közepes víz"},{"$f":"kod!C17","v":"Lutra Carp Hunters"},{"$f":"Össz_részletes!D112","v":140.95000000000002},{"$f":"Össz_részletes!E112","v":15},9.3966666666666683]
["B03",{"$f":"kod!B15","v":"Gát, közepes víz"},{"$f":"kod!C15","v":"WLC Hungary "},{"$f":"Össz_részletes!D98","v":1171.875},{"$f":"Össz_részletes!E98","v":130},9.0144230769230766]
["B04",{"$f":"kod!B16","v":"Gát, közepes víz"},{"$f":"kod!C16","v":"Barfin Line NSD Bulgaria"},{"$f":"Össz_részletes!D105","v":555.65},{"$f":"Össz_részletes!E105","v":57},9.7482456140350866]
["B06",{"$f":"kod!B18","v":"Gát, közepes víz"},{"$f":"kod!C18","v":"Xtra Carp Team"},{"$f":"Össz_részletes!D119","v":752.6},{"$f":"Össz_részletes!E119","v":66},11.403030303030304]
["B02",{"$f":"kod!B14","v":"Gát, közepes víz"},{"$f":"kod!C14","v":"Slovakia Carp Team"},{"$f":"Össz_részletes!D91","v":270.27500000000003},{"$f":"Össz_részletes!E91","v":31},8.7185483870967762]
["B11",{"$f":"kod!B23","v":"Felező-spicc, közép"},{"$f":"kod!C23","v":"Síp Carp Team"},{"$f":"Össz_részletes!D154","v":163.30000000000001},{"$f":"Össz_részletes!E154","v":23},7.1000000000000005]
[null,null,"\"B\" szektor:",{"$f":"SUM(D21:D31)","v":6668.585},{"$f":"SUM(E21:E31)","v":754},8.8442771883289133]
["C11",{"$f":"kod!B34","v":"II. sziget, jobb"},{"$f":"kod!C34","v":"Vaslui Carp Team"},{"$f":"Össz_részletes!D231","v":1435.5750000000005},{"$f":"Össz_részletes!E231","v":207},{"$f":"IF(E33=0,0,D33/E33)","v":6.9351449275362347}]
["C09",{"$f":"kod!B31","v":"II. sziget, bal közép"},{"$f":"kod!C32","v":"Bait Bait Hungary"},{"$f":"Össz_részletes!D217","v":925.87499999999989},{"$f":"Össz_részletes!E217","v":121},7.6518595041322301]
["C10",{"$f":"kod!B33","v":"II. sziget, jobb közép"},{"$f":"kod!C33","v":"Acroft Illusive Bait Me"},{"$f":"Össz_részletes!D224","v":454.42500000000001},{"$f":"Össz_részletes!E224","v":54},8.4152777777777779]
["C05",{"$f":"kod!B28","v":"Gát, sekély víz"},{"$f":"kod!C28","v":"Bojlis Főnök - Bait Bait Carp Team"},{"$f":"Össz_részletes!D189","v":289.92500000000007},{"$f":"Össz_részletes!E189","v":50},5.7985000000000015]
["C04",{"$f":"kod!B27","v":"Gát, sekély víz"},{"$f":"kod!C27","v":"As La Carp Team"},{"$f":"Össz_részletes!D182","v":237.85},{"$f":"Össz_részletes!E182","v":35},6.7957142857142854]
["C07",{"$f":"kod!B30","v":"II. sziget, bal"},{"$f":"kod!C30","v":"Quick Baits"},{"$f":"Össz_részletes!D203","v":1030.165},{"$f":"Össz_részletes!E203","v":110},9.3651363636363634]
["C01",{"$f":"kod!B24","v":"Gát, sekély víz"},{"$f":"kod!C24","v":"Carp Fever Bulgaria"},{"$f":"Össz_részletes!D161","v":671.60000000000014},{"$f":"Össz_részletes!E161","v":108},6.2185185185185201]
["C02",{"$f":"kod!B25","v":"Gát, sekély víz"},{"$f":"kod!C25","v":"Carpfriends Ennstal-Austria"},{"$f":"Össz_részletes!D168","v":572.4},{"$f":"Össz_részletes!E168","v":72},7.9499999999999993]
["C08",{"$f":"kod!B31","v":"II. sziget, bal közép"},{"$f":"kod!C31","v":"Carp Team Blankbrothers"},{"$f":"Össz_részletes!D210","v":324.62499999999994},{"$f":"Össz_részletes!E210","v":41},7.9176829268292668]
["C03",{"$f":"kod!B26","v":"Gát, sekély víz"},{"$f":"kod!C26","v":"Carp Team Brasov"},{"$f":"Össz_részletes!D175","v":307.125},{"$f":"Össz_részletes!E175","v":50},6.1425000000000001]
["C06",{"$f":"kod!B29","v":"Felező-spicc, jobb"},{"$f":"kod!C29","v":"Secret Of The Carp"},{"$f":"Össz_részletes!D196","v":165.125},{"$f":"Össz_részletes!E196","v":25},6.6050000000000004]
[null,null,"\"C\" szektor:",{"$f":"SUM(D33:D43)","v":6414.6900000000005},{"$f":"SUM(E33:E43)","v":873},7.347869415807561]

{"sheet":"Fajonkénti","index":14,"n_rows":41,"n_cols":21,"rows_kept":41,"cut":false,"hidden":false,"merged":[[0,0,0,20],[5,12,5,14],[5,15,5,17],[5,18,5,20],[1,0,1,20],[2,0,2,20],[4,0,4,20],[5,0,6,0],[5,1,6,1],[5,2,6,2],[5,3,5,5],[5,6,5,8],[5,9,5,11]]}
[{"$f":"kod!E2","v":"XXI. PROFESSZIONÁLIS BOJLIS EURÓPA KUPA (EPBC)"}]
[{"$f":"kod!E3","v":"XXXVI. MACONKA NEMZETKÖZI BOJLIS KUPA"}]
[{"$f":"kod!E4","v":"Maconka, 2025.06.15. - 2025.06.20."}]
[]
[" "]
["Rajthely","Elhelyezés","Csapatnév","Tükörponty",null,null,"Tőponty",null,null,"Nyurgaponty",null,null,"Koi ponty",null,null,"Amur",null,null,"Fekete amur"]
[null,null,null,"Kg","Db","Átlag","Kg","Db","Átlag","Kg","Db","Átlag","Kg","Db","Átlag","Kg","Db","Átlag","Kg","Db","Átlag"]
["A01",{"$f":"kod!B2","v":"Gát, mélyvíz"},{"$f":"kod!C2","v":"SBS - Halcatraz - TiZo Team"},{"$f":"Össz_részletes!D8","v":164.32500000000002},{"$f":"Össz_részletes!E8","v":13},{"$f":"IF(E8=0,0,D8/E8)","v":12.640384615384617},{"$f":"Össz_részletes!D9","v":78.825000000000003},{"$f":"Össz_részletes!E9","v":7},{"$f":"IF(H8=0,0,G8/H8)","v":11.260714285714286},{"$f":"Össz_részletes!D10","v":372.32499999999999},{"$f":"Össz_részletes!E10","v":29},{"$f":"IF(K8=0,0,J8/K8)","v":12.838793103448275},{"$f":"Össz_részletes!D11","v":23.4},{"$f":"Össz_részletes!E11","v":2},{"$f":"IF(N8=0,0,M8/N8)","v":11.7},{"$f":"Össz_részletes!D12","v":13.5},{"$f":"Össz_részletes!E12","v":1},{"$f":"IF(Q8=0,0,P8/Q8)","v":13.5},{"$f":"Össz_részletes!D13","v":38.125},{"$f":"Össz_részletes!E13","v":5},{"$f":"IF(T8=0,0,S8/T8)","v":7.625}]
["A02",{"$f":"kod!B3","v":"Gát, mélyvíz"},{"$f":"kod!C3","v":"Altstadt Carp Team"},{"$f":"Össz_részletes!D15","v":47.224999999999994},{"$f":"Össz_részletes!E15","v":4},11.806249999999999,{"$f":"Össz_részletes!D16","v":44.625},{"$f":"Össz_részletes!E16","v":5},8.9250000000000007,{"$f":"Össz_részletes!D17","v":139.5},{"$f":"Össz_részletes!E17","v":14},9.9642857142857135,{"$f":"Össz_részletes!D18","v":44.95},{"$f":"Össz_részletes!E18","v":4},11.237500000000001,{"$f":"Össz_részletes!D19","v":17.5},{"$f":"Össz_részletes!E19","v":2},8.75,{"$f":"Össz_részletes!D20","v":25.250000000000004},{"$f":"Össz_részletes!E20","v":6},4.2083333333333339]
["A03",{"$f":"kod!B4","v":"Gát, mélyvíz"},{"$f":"kod!C4","v":"Ferma De Crap Diosig"},{"$f":"Össz_részletes!D22","v":49.575000000000003},{"$f":"Össz_részletes!E22","v":5},9.9150000000000009,{"$f":"Össz_részletes!D23","v":71.975000000000009},{"$f":"Össz_részletes!E23","v":7},10.282142857142858,{"$f":"Össz_részletes!D24","v":107.65},{"$f":"Össz_részletes!E24","v":8},13.456250000000001,{"$f":"Össz_részletes!D25","v":13.324999999999999},{"$f":"Össz_részletes!E25","v":1},13.324999999999999,{"$f":"Össz_részletes!D26","v":32.295000000000002},{"$f":"Össz_részletes!E26","v":4},8.0737500000000004,{"$f":"Össz_részletes!D27","v":3.9249999999999998},{"$f":"Össz_részletes!E27","v":1},3.9249999999999998]
["A04",{"$f":"kod!B5","v":"Gát, mélyvíz"},{"$f":"kod!C5","v":"Bull Tackle"},{"$f":"Össz_részletes!D29","v":60.714999999999996},{"$f":"Össz_részletes!E29","v":5},12.142999999999999,{"$f":"Össz_részletes!D30","v":64.625},{"$f":"Össz_részletes!E30","v":4},16.15625,{"$f":"Össz_részletes!D31","v":161.72499999999999},{"$f":"Össz_részletes!E31","v":13},12.440384615384614,{"$f":"Össz_részletes!D32","v":13.25},{"$f":"Össz_részletes!E32","v":1},13.25,{"$f":"Össz_részletes!D33","v":19.125},{"$f":"Össz_részletes!E33","v":2},9.5625,{"$f":"Össz_részletes!D34","v":30.7},{"$f":"Össz_részletes!E34","v":4},7.6749999999999998]
["A05",{"$f":"kod!B6","v":"Gát, mélyvíz"},{"$f":"kod!C6","v":"AHFSZ Fishing Team"},{"$f":"Össz_részletes!D36","v":0},{"$f":"Össz_részletes!E36","v":0},0,{"$f":"Össz_részletes!D37","v":0},{"$f":"Össz_részletes!E37","v":0},0,{"$f":"Össz_részletes!D38","v":39.75},{"$f":"Össz_részletes!E38","v":3},13.25,{"$f":"Össz_részletes!D39","v":0},{"$f":"Össz_részletes!E39","v":0},0,{"$f":"Össz_részletes!D40","v":10.85},{"$f":"Össz_részletes!E40","v":1},10.85,{"$f":"Össz_részletes!D41","v":2.95},{"$f":"Össz_részletes!E41","v":1},2.95]
["A06",{"$f":"kod!B7","v":"Nyári kikötő, belső"},{"$f":"kod!C7","v":"Black Carp Team"},{"$f":"Össz_részletes!D43","v":14.05},{"$f":"Össz_részletes!E43","v":1},14.05,{"$f":"Össz_részletes!D44","v":109.72499999999999},{"$f":"Össz_részletes!E44","v":14},7.8374999999999995,{"$f":"Össz_részletes!D45","v":162.70000000000002},{"$f":"Össz_részletes!E45","v":18},9.0388888888888896,{"$f":"Össz_részletes!D46","v":7.75},{"$f":"Össz_részletes!E46","v":1},7.75,{"$f":"Össz_részletes!D47","v":32.375},{"$f":"Össz_részletes!E47","v":3},10.791666666666666,{"$f":"Össz_részletes!D48","v":208.42500000000004},{"$f":"Össz_részletes!E48","v":40},5.2106250000000012]
["A07",{"$f":"kod!B8","v":"Nyári kikötő, közép"},{"$f":"kod!C8","v":"USA & Mivado Carp Team"},{"$f":"Össz_részletes!D50","v":38.65},{"$f":"Össz_részletes!E50","v":4},9.6624999999999996,{"$f":"Össz_részletes!D51","v":96.15},{"$f":"Össz_részletes!E51","v":12},8.0125000000000011,{"$f":"Össz_részletes!D52","v":29.5},{"$f":"Össz_részletes!E52","v":3},9.8333333333333339,{"$f":"Össz_részletes!D53","v":18.099999999999998},{"$f":"Össz_részletes!E53","v":2},9.0499999999999989,{"$f":"Össz_részletes!D54","v":42.45},{"$f":"Össz_részletes!E54","v":4},10.612500000000001,{"$f":"Össz_részletes!D55","v":93.954999999999998},{"$f":"Össz_részletes!E55","v":16},5.8721874999999999]
["A08",{"$f":"kod!B9","v":"Nyári kikötő, külső"},{"$f":"kod!C9","v":"Ózdi Sporthorgász Egyesület"},{"$f":"Össz_részletes!D57","v":57.575000000000003},{"$f":"Össz_részletes!E57","v":6},9.5958333333333332,{"$f":"Össz_részletes!D58","v":133.77500000000001},{"$f":"Össz_részletes!E58","v":17},7.8691176470588236,{"$f":"Össz_részletes!D59","v":163},{"$f":"Össz_részletes!E59","v":15},10.866666666666667,{"$f":"Össz_részletes!D60","v":26.524999999999999},{"$f":"Össz_részletes!E60","v":2},13.262499999999999,{"$f":"Össz_részletes!D61","v":23.049999999999997},{"$f":"Össz_részletes!E61","v":3},7.6833333333333327,{"$f":"Össz_részletes!D62","v":16.2},{"$f":"Össz_részletes!E62","v":5},3.2399999999999998]
["A09",{"$f":"kod!B10","v":"I. sziget, bal külső"},{"$f":"kod!C10","v":"Kártékony Carp Team"},{"$f":"Össz_részletes!D64","v":265.79999999999995},{"$f":"Össz_részletes!E64","v":30},8.8599999999999977,{"$f":"Össz_részletes!D65","v":541.22500000000002},{"$f":"Össz_részletes!E65","v":73},7.4140410958904113,{"$f":"Össz_részletes!D66","v":308.72500000000002},{"$f":"Össz_részletes!E66","v":30},10.290833333333333,{"$f":"Össz_részletes!D67","v":47.924999999999997},{"$f":"Össz_részletes!E67","v":6},7.9874999999999998,{"$f":"Össz_részletes!D68","v":0},{"$f":"Össz_részletes!E68","v":0},0,{"$f":"Össz_részletes!D69","v":0},{"$f":"Össz_részletes!E69","v":0},0]
["A10",{"$f":"kod!B11","v":"I. sziget, bal"},{"$f":"kod!C11","v":"Team 5 Austria"},{"$f":"Össz_részletes!D71","v":45.05},{"$f":"Össz_részletes!E71","v":6},7.5083333333333329,{"$f":"Össz_részletes!D72","v":44.699999999999996},{"$f":"Össz_részletes!E72","v":5},8.94,{"$f":"Össz_részletes!D73","v":31.024999999999999},{"$f":"Össz_részletes!E73","v":2},15.512499999999999,{"$f":"Össz_részletes!D74","v":0},{"$f":"Össz_részletes!E74","v":0},0,{"$f":"Össz_részletes!D75","v":25.4},{"$f":"Össz_részletes!E75","v":3},8.4666666666666668,{"$f":"Össz_részletes!D76","v":0},{"$f":"Össz_részletes!E76","v":0},0]
["A11",{"$f":"kod!B12","v":"I. sziget, bal közép"},{"$f":"kod!C12","v":"Invader's Team Poland"},{"$f":"Össz_részletes!D78","v":47.875},{"$f":"Össz_részletes!E78","v":7},6.8392857142857144,{"$f":"Össz_részletes!D79","v":64.795000000000002},{"$f":"Össz_részletes!E79","v":12},5.3995833333333332,{"$f":"Össz_részletes!D80","v":76.474999999999994},{"$f":"Össz_részletes!E80","v":7},10.924999999999999,{"$f":"Össz_részletes!D81","v":13.625},{"$f":"Össz_részletes!E81","v":2},6.8125,{"$f":"Össz_részletes!D82","v":72.194999999999993},{"$f":"Össz_részletes!E82","v":7},10.313571428571427,{"$f":"Össz_részletes!D83","v":36.875},{"$f":"Össz_részletes!E83","v":7},5.2678571428571432]
["B01",{"$f":"kod!B13","v":"Gát, közepes víz"},{"$f":"kod!C13","v":"Tata Nitu Carp Team"},{"$f":"Össz_részletes!D85","v":31.875},{"$f":"Össz_részletes!E85","v":5},6.375,{"$f":"Össz_részletes!D86","v":155.57},{"$f":"Össz_részletes!E86","v":32},4.8615624999999998,{"$f":"Össz_részletes!D87","v":83.475000000000009},{"$f":"Össz_részletes!E87","v":11},7.5886363636363647,{"$f":"Össz_részletes!D88","v":9.25},{"$f":"Össz_részletes!E88","v":1},9.25,{"$f":"Össz_részletes!D89","v":46.174999999999997},{"$f":"Össz_részletes!E89","v":5},9.2349999999999994,{"$f":"Össz_részletes!D90","v":12.3},{"$f":"Össz_részletes!E90","v":3},4.1000000000000005]
["B02",{"$f":"kod!B14","v":"Gát, közepes víz"},{"$f":"kod!C14","v":"Slovakia Carp Team"},{"$f":"Össz_részletes!D92","v":59.7},{"$f":"Össz_részletes!E92","v":7},8.5285714285714285,{"$f":"Össz_részletes!D93","v":100.55000000000001},{"$f":"Össz_részletes!E93","v":11},9.1409090909090924,{"$f":"Össz_részletes!D94","v":59.9},{"$f":"Össz_részletes!E94","v":6},9.9833333333333325,{"$f":"Össz_részletes!D95","v":15.725},{"$f":"Össz_részletes!E95","v":1},15.725,{"$f":"Össz_részletes!D96","v":21.6},{"$f":"Össz_részletes!E96","v":2},10.8,{"$f":"Össz_részletes!D97","v":12.8},{"$f":"Össz_részletes!E97","v":4},3.2]
["B03",{"$f":"kod!B15","v":"Gát, közepes víz"},{"$f":"kod!C15","v":"WLC Hungary "},{"$f":"Össz_részletes!D99","v":203.37500000000003},{"$f":"Össz_részletes!E99","v":21},9.6845238095238102,{"$f":"Össz_részletes!D100","v":220.4},{"$f":"Össz_részletes!E100","v":27},8.162962962962963,{"$f":"Össz_részletes!D101","v":562.125},{"$f":"Össz_részletes!E101","v":55},10.220454545454546,{"$f":"Össz_részletes!D102","v":42.625},{"$f":"Össz_részletes!E102","v":4},10.65625,{"$f":"Össz_részletes!D103","v":67.25},{"$f":"Össz_részletes!E103","v":7},9.6071428571428577,{"$f":"Össz_részletes!D104","v":76.099999999999994},{"$f":"Össz_részletes!E104","v":16},4.7562499999999996]
["B04",{"$f":"kod!B16","v":"Gát, közepes víz"},{"$f":"kod!C16","v":"Barfin Line NSD Bulgaria"},{"$f":"Össz_részletes!D106","v":125.75},{"$f":"Össz_részletes!E106","v":10},12.574999999999999,{"$f":"Össz_részletes!D107","v":98.174999999999983},{"$f":"Össz_részletes!E107","v":14},7.0124999999999984,{"$f":"Össz_részletes!D108","v":205.92500000000001},{"$f":"Össz_részletes!E108","v":19},10.838157894736844,{"$f":"Össz_részletes!D109","v":30.35},{"$f":"Össz_részletes!E109","v":3},10.116666666666667,{"$f":"Össz_részletes!D110","v":33.9},{"$f":"Össz_részletes!E110","v":4},8.4749999999999996,{"$f":"Össz_részletes!D111","v":61.55},{"$f":"Össz_részletes!E111","v":7},8.7928571428571427]
["B05",{"$f":"kod!B17","v":"Gát, közepes víz"},{"$f":"kod!C17","v":"Lutra Carp Hunters"},{"$f":"Össz_részletes!D113","v":43.825000000000003},{"$f":"Össz_részletes!E113","v":4},10.956250000000001,{"$f":"Össz_részletes!D114","v":17.125},{"$f":"Össz_részletes!E114","v":2},8.5625,{"$f":"Össz_részletes!D115","v":60.525000000000006},{"$f":"Össz_részletes!E115","v":6},10.0875,{"$f":"Össz_részletes!D116","v":10.8},{"$f":"Össz_részletes!E116","v":1},10.8,{"$f":"Össz_részletes!D117","v":0},{"$f":"Össz_részletes!E117","v":0},0,{"$f":"Össz_részletes!D118","v":8.6750000000000007},{"$f":"Össz_részletes!E118","v":2},4.3375000000000004]
["B06",{"$f":"kod!B18","v":"Gát, közepes víz"},{"$f":"kod!C18","v":"Xtra Carp Team"},{"$f":"Össz_részletes!D120","v":137.19999999999999},{"$f":"Össz_részletes!E120","v":11},12.472727272727271,{"$f":"Össz_részletes!D121","v":152},{"$f":"Össz_részletes!E121","v":11},13.818181818181818,{"$f":"Össz_részletes!D122","v":374.57500000000005},{"$f":"Össz_részletes!E122","v":33},11.350757575757576,{"$f":"Össz_részletes!D123","v":26.35},{"$f":"Össz_részletes!E123","v":2},13.175000000000001,{"$f":"Össz_részletes!D124","v":49.849999999999994},{"$f":"Össz_részletes!E124","v":5},9.9699999999999989,{"$f":"Össz_részletes!D125","v":12.625},{"$f":"Össz_részletes!E125","v":4},3.15625]
["B07",{"$f":"kod!B19","v":"I. sziget, jobb közép"},{"$f":"kod!C19","v":"Elite Carp Team Brasov"},{"$f":"Össz_részletes!D127","v":164.3},{"$f":"Össz_részletes!E127","v":15},10.953333333333335,{"$f":"Össz_részletes!D128","v":263.30000000000007},{"$f":"Össz_részletes!E128","v":31},8.4935483870967765,{"$f":"Össz_részletes!D129","v":387.44999999999993},{"$f":"Össz_részletes!E129","v":32},12.107812499999998,{"$f":"Össz_részletes!D130","v":60.8},{"$f":"Össz_részletes!E130","v":9},6.7555555555555555,{"$f":"Össz_részletes!D131","v":0},{"$f":"Össz_részletes!E131","v":0},0,{"$f":"Össz_részletes!D132","v":20.25},{"$f":"Össz_részletes!E132","v":2},10.125]
["B08",{"$f":"kod!B20","v":"I. sziget, jobb "},{"$f":"kod!C20","v":"CT777 Varna Bulgaria"},{"$f":"Össz_részletes!D134","v":268.92500000000001},{"$f":"Össz_részletes!E134","v":29},9.2732758620689655,{"$f":"Össz_részletes!D135","v":298.52499999999998},{"$f":"Össz_részletes!E135","v":38},7.8559210526315786,{"$f":"Össz_részletes!D136","v":336.51499999999999},{"$f":"Össz_részletes!E136","v":33},10.197424242424242,{"$f":"Össz_részletes!D137","v":80.025000000000006},{"$f":"Össz_részletes!E137","v":8},10.003125000000001,{"$f":"Össz_részletes!D138","v":123.27500000000001},{"$f":"Össz_részletes!E138","v":11},11.206818181818182,{"$f":"Össz_részletes!D139","v":71},{"$f":"Össz_részletes!E139","v":15},4.7333333333333334]
["B09",{"$f":"kod!B21","v":"I. sziget, jobb külső"},{"$f":"kod!C21","v":"Bait Maker Team"},{"$f":"Össz_részletes!D141","v":185.67500000000001},{"$f":"Össz_részletes!E141","v":21},8.8416666666666668,{"$f":"Össz_részletes!D142","v":380.44999999999993},{"$f":"Össz_részletes!E142","v":48},7.9260416666666655,{"$f":"Össz_részletes!D143","v":276.27499999999998},{"$f":"Össz_részletes!E143","v":29},9.5267241379310335,{"$f":"Össz_részletes!D144","v":13.05},{"$f":"Össz_részletes!E144","v":2},6.5250000000000004,{"$f":"Össz_részletes!D145","v":51.199999999999996},{"$f":"Össz_részletes!E145","v":6},8.5333333333333332,{"$f":"Össz_részletes!D146","v":19.399999999999999},{"$f":"Össz_részletes!E146","v":6},3.2333333333333329]
["B10",{"$f":"kod!B22","v":"Felező-spicc, bal"},{"$f":"kod!C22","v":"SBS - SziKo Team"},{"$f":"Össz_részletes!D148","v":82.325000000000003},{"$f":"Össz_részletes!E148","v":11},7.4840909090909093,{"$f":"Össz_részletes!D149","v":119.65},{"$f":"Össz_részletes!E149","v":20},5.9824999999999999,{"$f":"Össz_részletes!D150","v":38.25},{"$f":"Össz_részletes!E150","v":4},9.5625,{"$f":"Össz_részletes!D151","v":25.8},{"$f":"Össz_részletes!E151","v":3},8.6,{"$f":"Össz_részletes!D152","v":8.85},{"$f":"Össz_részletes!E152","v":2},4.4249999999999998,{"$f":"Össz_részletes!D153","v":0},{"$f":"Össz_részletes!E153","v":0},0]
["B11",{"$f":"kod!B23","v":"Felező-spicc, közép"},{"$f":"kod!C23","v":"Síp Carp Team"},{"$f":"Össz_részletes!D155","v":50.774999999999999},{"$f":"Össz_részletes!E155","v":6},8.4625000000000004,{"$f":"Össz_részletes!D156","v":82.550000000000011},{"$f":"Össz_részletes!E156","v":13},6.3500000000000005,{"$f":"Össz_részletes!D157","v":7.6},{"$f":"Össz_részletes!E157","v":1},7.6,{"$f":"Össz_részletes!D158","v":0},{"$f":"Össz_részletes!E158","v":0},0,{"$f":"Össz_részletes!D159","v":17.524999999999999},{"$f":"Össz_részletes!E159","v":2},8.7624999999999993,{"$f":"Össz_részletes!D160","v":4.8499999999999996},{"$f":"Össz_részletes!E160","v":1},4.8499999999999996]
["C01",{"$f":"kod!B24","v":"Gát, sekély víz"},{"$f":"kod!C24","v":"Carp Fever Bulgaria"},{"$f":"Össz_részletes!D162","v":148.22499999999999},{"$f":"Össz_részletes!E162","v":21},7.0583333333333327,{"$f":"Össz_részletes!D163","v":177.47500000000002},{"$f":"Össz_részletes!E163","v":37},4.7966216216216226,{"$f":"Össz_részletes!D164","v":290.35000000000002},{"$f":"Össz_részletes!E164","v":42},6.9130952380952388,{"$f":"Össz_részletes!D165","v":41.174999999999997},{"$f":"Össz_részletes!E165","v":6},6.8624999999999998,{"$f":"Össz_részletes!D166","v":14.375},{"$f":"Össz_részletes!E166","v":2},7.1875,{"$f":"Össz_részletes!D167","v":0},{"$f":"Össz_részletes!E167","v":0},0]
["C02",{"$f":"kod!B25","v":"Gát, sekély víz"},{"$f":"kod!C25","v":"Carpfriends Ennstal-Austria"},{"$f":"Össz_részletes!D169","v":151.07500000000002},{"$f":"Össz_részletes!E169","v":20},7.5537500000000009,{"$f":"Össz_részletes!D170","v":88},{"$f":"Össz_részletes!E170","v":12},7.333333333333333,{"$f":"Össz_részletes!D171","v":284.5},{"$f":"Össz_részletes!E171","v":33},8.6212121212121211,{"$f":"Össz_részletes!D172","v":48.824999999999996},{"$f":"Össz_részletes!E172","v":7},6.9749999999999996,{"$f":"Össz_részletes!D173","v":0},{"$f":"Össz_részletes!E173","v":0},0,{"$f":"Össz_részletes!D174","v":0},{"$f":"Össz_részletes!E174","v":0},0]
["C03",{"$f":"kod!B26","v":"Gát, sekély víz"},{"$f":"kod!C26","v":"Carp Team Brasov"},{"$f":"Össz_részletes!D176","v":25.075000000000003},{"$f":"Össz_részletes!E176","v":4},6.2687500000000007,{"$f":"Össz_részletes!D177","v":157.54999999999998},{"$f":"Össz_részletes!E177","v":30},5.251666666666666,{"$f":"Össz_részletes!D178","v":98.224999999999994},{"$f":"Össz_részletes!E178","v":13},7.5557692307692301,{"$f":"Össz_részletes!D179","v":26.274999999999999},{"$f":"Össz_részletes!E179","v":3},8.7583333333333329,{"$f":"Össz_részletes!D180","v":0},{"$f":"Össz_részletes!E180","v":0},0,{"$f":"Össz_részletes!D181","v":0},{"$f":"Össz_részletes!E181","v":0},0]
["C04",{"$f":"kod!B27","v":"Gát, sekély víz"},{"$f":"kod!C27","v":"As La Carp Team"},{"$f":"Össz_részletes!D183","v":55.424999999999997},{"$f":"Össz_részletes!E183","v":6},9.2374999999999989,{"$f":"Össz_részletes!D184","v":97.124999999999986},{"$f":"Össz_részletes!E184","v":19},5.1118421052631575,{"$f":"Össz_részletes!D185","v":42.7},{"$f":"Össz_részletes!E185","v":6},7.1166666666666671,{"$f":"Össz_részletes!D186","v":42.6},{"$f":"Össz_részletes!E186","v":4},10.65,{"$f":"Össz_részletes!D187","v":0},{"$f":"Össz_részletes!E187","v":0},0,{"$f":"Össz_részletes!D188","v":0},{"$f":"Össz_részletes!E188","v":0},0]
["C05",{"$f":"kod!B28","v":"Gát, sekély víz"},{"$f":"kod!C28","v":"Bojlis Főnök - Bait Bait Carp Team"},{"$f":"Össz_részletes!D190","v":53.349999999999994},{"$f":"Össz_részletes!E190","v":9},5.9277777777777771,{"$f":"Össz_részletes!D191","v":120.17500000000001},{"$f":"Össz_részletes!E191","v":26},4.6221153846153848,{"$f":"Össz_részletes!D192","v":83.975000000000009},{"$f":"Össz_részletes!E192","v":10},8.3975000000000009,{"$f":"Össz_részletes!D193","v":17.024999999999999},{"$f":"Össz_részletes!E193","v":3},5.6749999999999998,{"$f":"Össz_részletes!D194","v":15.4},{"$f":"Össz_részletes!E194","v":2},7.7,{"$f":"Össz_részletes!D195","v":0},{"$f":"Össz_részletes!E195","v":0},0]
["C06",{"$f":"kod!B29","v":"Felező-spicc, jobb"},{"$f":"kod!C29","v":"Secret Of The Carp"},{"$f":"Össz_részletes!D197","v":29.125},{"$f":"Össz_részletes!E197","v":3},9.7083333333333339,{"$f":"Össz_részletes!D198","v":78.525000000000006},{"$f":"Össz_részletes!E198","v":15},5.2350000000000003,{"$f":"Össz_részletes!D199","v":54.45},{"$f":"Össz_részletes!E199","v":6},9.0750000000000011,{"$f":"Össz_részletes!D200","v":3.0249999999999999},{"$f":"Össz_részletes!E200","v":1},3.0249999999999999,{"$f":"Össz_részletes!D201","v":0},{"$f":"Össz_részletes!E201","v":0},0,{"$f":"Össz_részletes!D202","v":0},{"$f":"Össz_részletes!E202","v":0},0]
["C07",{"$f":"kod!B30","v":"II. sziget, bal"},{"$f":"kod!C30","v":"Quick Baits"},{"$f":"Össz_részletes!D204","v":240.64000000000004},{"$f":"Össz_részletes!E204","v":23},10.462608695652175,{"$f":"Össz_részletes!D205","v":380.125},{"$f":"Össz_részletes!E205","v":49},7.7576530612244898,{"$f":"Össz_részletes!D206","v":373.80000000000007},{"$f":"Össz_részletes!E206","v":33},11.32727272727273,{"$f":"Össz_részletes!D207","v":27.35},{"$f":"Össz_részletes!E207","v":3},9.1166666666666671,{"$f":"Össz_részletes!D208","v":4.9249999999999998},{"$f":"Össz_részletes!E208","v":1},4.9249999999999998,{"$f":"Össz_részletes!D209","v":3.3250000000000002},{"$f":"Össz_részletes!E209","v":1},3.3250000000000002]
["C08",{"$f":"kod!B31","v":"II. sziget, bal közép"},{"$f":"kod!C31","v":"Carp Team Blankbrothers"},{"$f":"Össz_részletes!D211","v":67.25},{"$f":"Össz_részletes!E211","v":8},8.40625,{"$f":"Össz_részletes!D212","v":169.69999999999996},{"$f":"Össz_részletes!E212","v":23},7.3782608695652154,{"$f":"Össz_részletes!D213","v":73.524999999999991},{"$f":"Össz_részletes!E213","v":8},9.1906249999999989,{"$f":"Össz_részletes!D214","v":4.7750000000000004},{"$f":"Össz_részletes!E214","v":1},4.7750000000000004,{"$f":"Össz_részletes!D215","v":9.375},{"$f":"Össz_részletes!E215","v":1},9.375,{"$f":"Össz_részletes!D216","v":0},{"$f":"Össz_részletes!E216","v":0},0]
["C09",{"$f":"kod!B32","v":"II. sziget, közép"},{"$f":"kod!C32","v":"Bait Bait Hungary"},{"$f":"Össz_részletes!D218","v":229.52499999999998},{"$f":"Össz_részletes!E218","v":25},9.1809999999999992,{"$f":"Össz_részletes!D219","v":468.47499999999997},{"$f":"Össz_részletes!E219","v":67},6.9921641791044769,{"$f":"Össz_részletes!D220","v":180.1},{"$f":"Össz_részletes!E220","v":21},8.5761904761904759,{"$f":"Össz_részletes!D221","v":40.174999999999997},{"$f":"Össz_részletes!E221","v":6},6.6958333333333329,{"$f":"Össz_részletes!D222","v":0},{"$f":"Össz_részletes!E222","v":0},0,{"$f":"Össz_részletes!D223","v":7.6},{"$f":"Össz_részletes!E223","v":2},3.8]
["C10",{"$f":"kod!B33","v":"II. sziget, jobb közép"},{"$f":"kod!C33","v":"Acroft Illusive Bait Me"},{"$f":"Össz_részletes!D225","v":128.02500000000001},{"$f":"Össz_részletes!E225","v":14},9.1446428571428573,{"$f":"Össz_részletes!D226","v":166},{"$f":"Össz_részletes!E226","v":20},8.3000000000000007,{"$f":"Össz_részletes!D227","v":117.875},{"$f":"Össz_részletes!E227","v":14},8.4196428571428577,{"$f":"Össz_részletes!D228","v":37.65},{"$f":"Össz_részletes!E228","v":5},7.5299999999999994,{"$f":"Össz_részletes!D229","v":0},{"$f":"Össz_részletes!E229","v":0},0,{"$f":"Össz_részletes!D230","v":4.875},{"$f":"Össz_részletes!E230","v":1},4.875]
["C11",{"$f":"kod!B34","v":"II. sziget, jobb"},{"$f":"kod!C34","v":"Vaslui Carp Team"},{"$f":"Össz_részletes!D232","v":240.79999999999995},{"$f":"Össz_részletes!E232","v":32},7.5249999999999986,{"$f":"Össz_részletes!D233","v":658.25000000000011},{"$f":"Össz_részletes!E233","v":102},6.4534313725490211,{"$f":"Össz_részletes!D234","v":322.47500000000002},{"$f":"Össz_részletes!E234","v":38},8.4861842105263161,{"$f":"Össz_részletes!D235","v":58.174999999999997},{"$f":"Össz_részletes!E235","v":8},7.2718749999999996,{"$f":"Össz_részletes!D236","v":103.77500000000001},{"$f":"Össz_részletes!E236","v":13},7.9826923076923082,{"$f":"Össz_részletes!D237","v":52.1},{"$f":"Össz_részletes!E237","v":14},3.7214285714285715]
[null,null,"Összesen:",{"$f":"SUM(D8:D40)","v":3513.08},{"$f":"SUM(E8:E40)","v":386},{"$f":"IF(E41=0,0,D41/E41)","v":9.1012435233160627},{"$f":"SUM(G8:G40)","v":5700.1150000000007},{"$f":"SUM(H8:H40)","v":803},{"$f":"IF(H41=0,0,G41/H41)","v":7.0985242839352436},{"$f":"SUM(J8:J40)","v":5906.9650000000011},{"$f":"SUM(K8:K40)","v":595},{"$f":"IF(K41=0,0,J41/K41)","v":9.927672268907564},{"$f":"SUM(M8:M40)","v":870.67499999999984},{"$f":"SUM(N8:N40)","v":102},{"$f":"IF(N41=0,0,M41/N41)","v":8.5360294117647051},{"$f":"SUM(P8:P40)","v":856.21499999999992},{"$f":"SUM(Q8:Q40)","v":93},{"$f":"IF(Q41=0,0,P41/Q41)","v":9.2066129032258051},{"$f":"SUM(S8:S40)","v":823.85500000000002},{"$f":"SUM(T8:T40)","v":163},{"$f":"IF(T41=0,0,S41/T41)","v":5.0543251533742328}]

{"sheet":"Statisztika","index":15,"n_rows":28,"n_cols":23,"rows_kept":28,"cut":false,"hidden":false,"merged":[[22,1,22,2],[22,3,22,4],[22,5,22,6],[22,7,22,8],[22,9,22,10],[22,11,22,12],[7,9,7,10],[7,3,7,4],[7,5,7,6],[10,11,10,12],[7,11,7,12],[11,11,11,12],[12,11,12,12],[11,1,11,2],[12,1,12,2],[13,1,13,2],[11,3,11,4],[12,3,12,4],[13,3,13,4],[21,1,21,2],[21,3,21,4],[21,21,21,22],[23,21,23,22],[25,21,25,22],[12,21,12,22],[13,21,13,22],[6,21,6,22],[8,21,8,22],[9,21,9,22],[10,21,10,22],[11,21,11,22],[22,21,22,22],[24,21,24,22],[6,11,6,12],[8,11,8,12],[9,11,9,12],[21,7,21,8],[11,5,11,6],[12,5,12,6],[13,5,13,6],[11,7,11,8],[12,7,12,8],[13,7,13,8],[21,5,21,6],[8,7,8,8],[9,7,9,8],[10,7,10,8],[21,9,21,10],[7,7,7,8],[23,11,23,12],[24,1,24,2],[24,3,24,4],[24,5,24,6],[24,7,24,8],[24,9,24,10],[24,11,24,12],[26,1,26,2],[23,3,23,4],[23,9,23,10],[25,3,25,4],[26,3,26,4],[25,5,25,6],[26,5,26,6],[23,7,23,8],[25,7,25,8],[26,7,26,8],[23,5,23,6],[0,0,0,22],[1,0,1,22],[2,0,2,22],[4,0,4,22],[27,11,27,12],[5,3,5,4],[5,5,5,6],[5,7,5,8],[5,9,5,10],[5,11,5,12],[27,1,27,2],[27,3,27,4],[27,5,27,6],[27,7,27,8],[27,9,27,10],[11,9,11,10],[12,9,12,10],[13,9,13,10],[25,9,25,10],[26,9,26,10],[6,7,6,8],[6,1,6,2],[7,1,7,2],[7,21,7,22],[26,0,27,0],[5,21,5,22],[5,1,5,2],[8,1,8,2],[9,1,9,2],[10,1,10,2],[6,5,6,6],[8,5,8,6],[9,5,9,6],[10,5,10,6],[6,9,6,10],[8,9,8,10],[9,9,9,10],[10,9,10,10],[6,3,6,4],[8,3,8,4],[9,3,9,4],[10,3,10,4],[23,1,23,2],[25,1,25,2],[25,11,25,12],[26,11,26,12],[13,11,13,12],[21,11,21,12],[26,13,26,14],[5,13,5,14],[5,15,5,16],[5,17,5,18],[5,19,5,20],[6,13,6,14],[7,13,7,14],[8,13,8,14],[9,13,9,14],[10,13,10,14],[6,17,6,18],[7,17,7,18],[8,17,8,18],[9,17,9,18],[10,17,10,18],[26,17,26,18],[24,17,24,18],[25,17,25,18],[27,13,27,14],[6,15,6,16],[7,15,7,16],[8,15,8,16],[9,15,9,16],[10,15,10,16],[11,15,11,16],[12,15,12,16],[13,15,13,16],[21,15,21,16],[22,15,22,16],[23,15,23,16],[24,15,24,16],[25,15,25,16],[26,15,26,16],[27,15,27,16],[11,13,11,14],[12,13,12,14],[13,13,13,14],[21,13,21,14],[22,13,22,14],[23,13,23,14],[24,13,24,14],[25,13,25,14],[26,21,26,22],[27,21,27,22],[27,17,27,18],[6,19,6,20],[7,19,7,20],[8,19,8,20],[9,19,9,20],[10,19,10,20],[11,19,11,20],[12,19,12,20],[13,19,13,20],[21,19,21,20],[22,19,22,20],[23,19,23,20],[24,19,24,20],[25,19,25,20],[26,19,26,20],[27,19,27,20],[11,17,11,18],[12,17,12,18],[13,17,13,18],[21,17,21,18],[22,17,22,18],[23,17,23,18]]}
[{"$f":"kod!E2","v":"XXI. PROFESSZIONÁLIS BOJLIS EURÓPA KUPA (EPBC)"}]
[{"$f":"kod!E3","v":"XXXVI. MACONKA NEMZETKÖZI BOJLIS KUPA"}]
[{"$f":"kod!E4","v":"Maconka, 2025.06.15. - 2025.06.20."}]
[]
["STATISZTIKA"]
["Megnevezés","szakasz\n1\n06.15  1700\n06.16  0600",null,"szakasz\n2\n06.16  0600\n06.16  1800",null,"szakasz\n3\n06.16  1800\n06.17  0600",null,"szakasz\n4\n06.17  0600\n06.17  1800",null,"szakasz\n5\n06.17  1800\n06.18  0600",null,"szakasz\n6\n06.18  0600\n06.18  1800",null,"szakasz\n7\n06.18  1800\n06.19  0600",null,"szakasz\n8\n06.19  0600\n06.19  1800",null,"szakasz\n9\n06.19  1800\n06.20  0600",null,"szakasz\n10\n06.20  0600\n06.20  1500",null,"TELJES\nVERSENY"]
["Legnagyobb hal (Biggest fish) (kg)",{"$f":"MAX(szakasz1!J8:AZ13,szakasz1!J15:AZ20,szakasz1!J22:AZ27,szakasz1!J29:AZ34,szakasz1!J36:AZ41,szakasz1!J43:AZ48,szakasz1!J50:AZ55,szakasz1!J57:AZ62,szakasz1!J64:AZ69,szakasz1!J71:AZ76,szakasz1!J78:AZ83,szakasz1!J85:AZ90,szakasz1!J92:AZ97,szakasz1!J99:AZ104,szakasz1!J106:AZ111,szakasz1!J113:AZ118,szakasz1!J120:AZ125,szakasz1!J127:AZ132,szakasz1!J134:AZ139,szakasz1!J141:AZ146,szakasz1!J148:AZ153,szakasz1!J155:AZ160,szakasz1!J162:AZ167,szakasz1!J169:AZ174,szakasz1!J176:AZ181,szakasz1!J183:AZ188,szakasz1!J190:AZ195,szakasz1!J197:AZ202,szakasz1!J204:AZ209,szakasz1!J211:AZ216,szakasz1!J218:AZ223,szakasz1!J225:AZ230,szakasz1!J232:AZ237)","v":17.850000000000001},null,{"$f":"MAX(szakasz2!J8:AZ13,szakasz2!J15:AZ20,szakasz2!J22:AZ27,szakasz2!J29:AZ34,szakasz2!J36:AZ41,szakasz2!J43:AZ48,szakasz2!J50:AZ55,szakasz2!J57:AZ62,szakasz2!J64:AZ69,szakasz2!J71:AZ76,szakasz2!J78:AZ83,szakasz2!J85:AZ90,szakasz2!J92:AZ97,szakasz2!J99:AZ104,szakasz2!J106:AZ111,szakasz2!J113:AZ118,szakasz2!J120:AZ125,szakasz2!J127:AZ132,szakasz2!J134:AZ139,szakasz2!J141:AZ146,szakasz2!J148:AZ153,szakasz2!J155:AZ160,szakasz2!J162:AZ167,szakasz2!J169:AZ174,szakasz2!J176:AZ181,szakasz2!J183:AZ188,szakasz2!J190:AZ195,szakasz2!J197:AZ202,szakasz2!J204:AZ209,szakasz2!J211:AZ216,szakasz2!J218:AZ223,szakasz2!J225:AZ230,szakasz2!J232:AZ237)","v":23.175000000000001},null,{"$f":"MAX(szakasz3!J8:AZ13,szakasz3!J15:AZ20,szakasz3!J22:AZ27,szakasz3!J29:AZ34,szakasz3!J36:AZ41,szakasz3!J43:AZ48,szakasz3!J50:AZ55,szakasz3!J57:AZ62,szakasz3!J64:AZ69,szakasz3!J71:AZ76,szakasz3!J78:AZ83,szakasz3!J85:AZ90,szakasz3!J92:AZ97,szakasz3!J99:AZ104,szakasz3!J106:AZ111,szakasz3!J113:AZ118,szakasz3!J120:AZ125,szakasz3!J127:AZ132,szakasz3!J134:AZ139,szakasz3!J141:AZ146,szakasz3!J148:AZ153,szakasz3!J155:AZ160,szakasz3!J162:AZ167,szakasz3!J169:AZ174,szakasz3!J176:AZ181,szakasz3!J183:AZ188,szakasz3!J190:AZ195,szakasz3!J197:AZ202,szakasz3!J204:AZ209,szakasz3!J211:AZ216,szakasz3!J218:AZ223,szakasz3!J225:AZ230,szakasz3!J232:AZ237)","v":19.45},null,{"$f":"MAX(szakasz4!J8:AZ13,szakasz4!J15:AZ20,szakasz4!J22:AZ27,szakasz4!J29:AZ34,szakasz4!J36:AZ41,szakasz4!J43:AZ48,szakasz4!J50:AZ55,szakasz4!J57:AZ62,szakasz4!J64:AZ69,szakasz4!J71:AZ76,szakasz4!J78:AZ83,szakasz4!J85:AZ90,szakasz4!J92:AZ97,szakasz4!J99:AZ104,szakasz4!J106:AZ111,szakasz4!J113:AZ118,szakasz4!J120:AZ125,szakasz4!J127:AZ132,szakasz4!J134:AZ139,szakasz4!J141:AZ146,szakasz4!J148:AZ153,szakasz4!J155:AZ160,szakasz4!J162:AZ167,szakasz4!J169:AZ174,szakasz4!J176:AZ181,szakasz4!J183:AZ188,szakasz4!J190:AZ195,szakasz4!J197:AZ202,szakasz4!J204:AZ209,szakasz4!J211:AZ216,szakasz4!J218:AZ223,szakasz4!J225:AZ230,szakasz4!J232:AZ237)","v":21.7},null,{"$f":"MAX(szakasz5!J8:AZ13,szakasz5!J15:AZ20,szakasz5!J22:AZ27,szakasz5!J29:AZ34,szakasz5!J36:AZ41,szakasz5!J43:AZ48,szakasz5!J50:AZ55,szakasz5!J57:AZ62,szakasz5!J64:AZ69,szakasz5!J71:AZ76,szakasz5!J78:AZ83,szakasz5!J85:AZ90,szakasz5!J92:AZ97,szakasz5!J99:AZ104,szakasz5!J106:AZ111,szakasz5!J113:AZ118,szakasz5!J120:AZ125,szakasz5!J127:AZ132,szakasz5!J134:AZ139,szakasz5!J141:AZ146,szakasz5!J148:AZ153,szakasz5!J155:AZ160,szakasz5!J162:AZ167,szakasz5!J169:AZ174,szakasz5!J176:AZ181,szakasz5!J183:AZ188,szakasz5!J190:AZ195,szakasz5!J197:AZ202,szakasz5!J204:AZ209,szakasz5!J211:AZ216,szakasz5!J218:AZ223,szakasz5!J225:AZ230,szakasz5!J232:AZ237)","v":22.55},null,{"$f":"MAX(szakasz6!J8:AZ13,szakasz6!J15:AZ20,szakasz6!J22:AZ27,szakasz6!J29:AZ34,szakasz6!J36:AZ41,szakasz6!J43:AZ48,szakasz6!J50:AZ55,szakasz6!J57:AZ62,szakasz6!J64:AZ69,szakasz6!J71:AZ76,szakasz6!J78:AZ83,szakasz6!J85:AZ90,szakasz6!J92:AZ97,szakasz6!J99:AZ104,szakasz6!J106:AZ111,szakasz6!J113:AZ118,szakasz6!J120:AZ125,szakasz6!J127:AZ132,szakasz6!J134:AZ139,szakasz6!J141:AZ146,szakasz6!J148:AZ153,szakasz6!J155:AZ160,szakasz6!J162:AZ167,szakasz6!J169:AZ174,szakasz6!J176:AZ181,szakasz6!J183:AZ188,szakasz6!J190:AZ195,szakasz6!J197:AZ202,szakasz6!J204:AZ209,szakasz6!J211:AZ216,szakasz6!J218:AZ223,szakasz6!J225:AZ230,szakasz6!J232:AZ237)","v":22.975000000000001},null,{"$f":"MAX(szakasz7!J8:AZ13,szakasz7!J15:AZ20,szakasz7!J22:AZ27,szakasz7!J29:AZ34,szakasz7!J36:AZ41,szakasz7!J43:AZ48,szakasz7!J50:AZ55,szakasz7!J57:AZ62,szakasz7!J64:AZ69,szakasz7!J71:AZ76,szakasz7!J78:AZ83,szakasz7!J85:AZ90,szakasz7!J92:AZ97,szakasz7!J99:AZ104,szakasz7!J106:AZ111,szakasz7!J113:AZ118,szakasz7!J120:AZ125,szakasz7!J127:AZ132,szakasz7!J134:AZ139,szakasz7!J141:AZ146,szakasz7!J148:AZ153,szakasz7!J155:AZ160,szakasz7!J162:AZ167,szakasz7!J169:AZ174,szakasz7!J176:AZ181,szakasz7!J183:AZ188,szakasz7!J190:AZ195,szakasz7!J197:AZ202,szakasz7!J204:AZ209,szakasz7!J211:AZ216,szakasz7!J218:AZ223,szakasz7!J225:AZ230,szakasz7!J232:AZ237)","v":25.875},null,{"$f":"MAX(szakasz8!J8:AZ13,szakasz8!J15:AZ20,szakasz8!J22:AZ27,szakasz8!J29:AZ34,szakasz8!J36:AZ41,szakasz8!J43:AZ48,szakasz8!J50:AZ55,szakasz8!J57:AZ62,szakasz8!J64:AZ69,szakasz8!J71:AZ76,szakasz8!J78:AZ83,szakasz8!J85:AZ90,szakasz8!J92:AZ97,szakasz8!J99:AZ104,szakasz8!J106:AZ111,szakasz8!J113:AZ118,szakasz8!J120:AZ125,szakasz8!J127:AZ132,szakasz8!J134:AZ139,szakasz8!J141:AZ146,szakasz8!J148:AZ153,szakasz8!J155:AZ160,szakasz8!J162:AZ167,szakasz8!J169:AZ174,szakasz8!J176:AZ181,szakasz8!J183:AZ188,szakasz8!J190:AZ195,szakasz8!J197:AZ202,szakasz8!J204:AZ209,szakasz8!J211:AZ216,szakasz8!J218:AZ223,szakasz8!J225:AZ230,szakasz8!J232:AZ237)","v":22.6},null,{"$f":"MAX(szakasz9!J8:AZ13,szakasz9!J15:AZ20,szakasz9!J22:AZ27,szakasz9!J29:AZ34,szakasz9!J36:AZ41,szakasz9!J43:AZ48,szakasz9!J50:AZ55,szakasz9!J57:AZ62,szakasz9!J64:AZ69,szakasz9!J71:AZ76,szakasz9!J78:AZ83,szakasz9!J85:AZ90,szakasz9!J92:AZ97,szakasz9!J99:AZ104,szakasz9!J106:AZ111,szakasz9!J113:AZ118,szakasz9!J120:AZ125,szakasz9!J127:AZ132,szakasz9!J134:AZ139,szakasz9!J141:AZ146,szakasz9!J148:AZ153,szakasz9!J155:AZ160,szakasz9!J162:AZ167,szakasz9!J169:AZ174,szakasz9!J176:AZ181,szakasz9!J183:AZ188,szakasz9!J190:AZ195,szakasz9!J197:AZ202,szakasz9!J204:AZ209,szakasz9!J211:AZ216,szakasz9!J218:AZ223,szakasz9!J225:AZ230,szakasz9!J232:AZ237)","v":19.100000000000001},null,{"$f":"MAX(szakasz10!J8:AZ13,szakasz10!J15:AZ20,szakasz10!J22:AZ27,szakasz10!J29:AZ34,szakasz10!J36:AZ41,szakasz10!J43:AZ48,szakasz10!J50:AZ55,szakasz10!J57:AZ62,szakasz10!J64:AZ69,szakasz10!J71:AZ76,szakasz10!J78:AZ83,szakasz10!J85:AZ90,szakasz10!J92:AZ97,szakasz10!J99:AZ104,szakasz10!J106:AZ111,szakasz10!J113:AZ118,szakasz10!J120:AZ125,szakasz10!J127:AZ132,szakasz10!J134:AZ139,szakasz10!J141:AZ146,szakasz10!J148:AZ153,szakasz10!J155:AZ160,szakasz10!J162:AZ167,szakasz10!J169:AZ174,szakasz10!J176:AZ181,szakasz10!J183:AZ188,szakasz10!J190:AZ195,szakasz10!J197:AZ202,szakasz10!J204:AZ209,szakasz10!J211:AZ216,szakasz10!J218:AZ223,szakasz10!J225:AZ230,szakasz10!J232:AZ237)","v":24.1},null,{"$f":"MAX(B7:U7)","v":25.875}]
["Csapat (Team):  ",{"$f":"IF(B7=0,\"\",INDEX(szakasz1!C7:C231,MATCH(B7,szakasz1!G7:G231,0)))","v":"SBS - Halcatraz - TiZo Team"},{"$f":"IF(#REF!=\"\",\"\",INDEX(#REF!,MATCH(#REF!,#REF!,0)))","v":{"$error":"#REF!"}},{"$f":"IF(D7=0,\"\",INDEX(szakasz2!C7:C231,MATCH(D7,szakasz2!G7:G231,0)))","v":"Bait Bait Hungary"},{"$f":"IF(A8=\"\",\"\",INDEX(#REF!,MATCH(A8,#REF!,0)))","v":{"$error":"#REF!"}},{"$f":"IF(F7=0,\"\",INDEX(szakasz3!C7:C231,MATCH(F7,szakasz3!G7:G231,0)))","v":"Xtra Carp Team"},{"$f":"IF(C8=\"\",\"\",INDEX(#REF!,MATCH(C8,#REF!,0)))","v":{"$error":"#REF!"}},{"$f":"IF(H7=0,\"\",INDEX(szakasz4!C7:C231,MATCH(H7,szakasz4!G7:G231,0)))","v":"WLC Hungary "},{"$f":"IF(E8=\"\",\"\",INDEX(#REF!,MATCH(E8,#REF!,0)))","v":{"$error":"#REF!"}},{"$f":"IF(J7=0,\"\",INDEX(szakasz5!C7:C231,MATCH(J7,szakasz5!G7:G231,0)))","v":"Team 5 Austria"},{"$f":"IF(G8=\"\",\"\",INDEX(#REF!,MATCH(G8,#REF!,0)))","v":{"$error":"#REF!"}},{"$f":"IF(L7=0,\"\",INDEX(szakasz6!C7:C231,MATCH(L7,szakasz6!G7:G231,0)))","v":"Barfin Line NSD Bulgaria"},{"$f":"IF(I8=\"\",\"\",INDEX(#REF!,MATCH(I8,#REF!,0)))","v":{"$error":"#REF!"}},{"$f":"IF(N7=0,\"\",INDEX(szakasz7!C7:C231,MATCH(N7,szakasz7!G7:G231,0)))","v":"Elite Carp Team Brasov"},{"$f":"IF(K8=\"\",\"\",INDEX(#REF!,MATCH(K8,#REF!,0)))","v":{"$error":"#REF!"}},{"$f":"IF(P7=0,\"\",INDEX(szakasz8!C7:C231,MATCH(P7,szakasz8!G7:G231,0)))","v":"Bull Tackle"},{"$f":"IF(M8=\"\",\"\",INDEX(#REF!,MATCH(M8,#REF!,0)))","v":{"$error":"#REF!"}},{"$f":"IF(R7=0,\"\",INDEX(szakasz9!C7:C231,MATCH(R7,szakasz9!G7:G231,0)))","v":"Vaslui Carp Team"},{"$f":"IF(O8=\"\",\"\",INDEX(#REF!,MATCH(O8,#REF!,0)))","v":{"$error":"#REF!"}},{"$f":"IF(T7=0,\"\",INDEX(szakasz10!C7:C231,MATCH(T7,szakasz10!G7:G231,0)))","v":"CT777 Varna Bulgaria"},{"$f":"IF(Q8=\"\",\"\",INDEX(#REF!,MATCH(Q8,#REF!,0)))","v":{"$error":"#REF!"}},{"$f":"IF(V7=0,\"\",INDEX(B8:U8,MATCH(V7,B7:U7,0)))","v":"Elite Carp Team Brasov"},{"$f":"IF(#REF!=\"\",\"\",INDEX(#REF!,MATCH(#REF!,#REF!,0)))","v":{"$error":"#REF!"}}]
["    - tükörponty (mirror carp)",{"$f":"MAX(szakasz1!J8:AZ8,szakasz1!J15:AZ15,szakasz1!J22:AZ22,szakasz1!J29:AZ29,szakasz1!J36:AZ36,szakasz1!J43:AZ43,szakasz1!J50:AZ50,szakasz1!J57:AZ57,szakasz1!J64:AZ64,szakasz1!J71:AZ71,szakasz1!J78:AZ78,szakasz1!J85:AZ85,szakasz1!J92:AZ92,szakasz1!J99:AZ99,szakasz1!J106:AZ106,szakasz1!J113:AZ113,szakasz1!J120:AZ120,szakasz1!J127:AZ127,szakasz1!J134:AZ134,szakasz1!J141:AZ141,szakasz1!J148:AZ148,szakasz1!J155:AZ155,szakasz1!J162:AZ162,szakasz1!J169:AZ169,szakasz1!J176:AZ176,szakasz1!J183:AZ183,szakasz1!J190:AZ190,szakasz1!J197:AZ197,szakasz1!J204:AZ204,szakasz1!J211:AZ211,szakasz1!J218:AZ218,szakasz1!J225:AZ225,szakasz1!J232:AZ232)","v":16.2},null,{"$f":"MAX(szakasz2!J8:AZ8,szakasz2!J15:AZ15,szakasz2!J22:AZ22,szakasz2!J29:AZ29,szakasz2!J36:AZ36,szakasz2!J43:AZ43,szakasz2!J50:AZ50,szakasz2!J57:AZ57,szakasz2!J64:AZ64,szakasz2!J71:AZ71,szakasz2!J78:AZ78,szakasz2!J85:AZ85,szakasz2!J92:AZ92,szakasz2!J99:AZ99,szakasz2!J106:AZ106,szakasz2!J113:AZ113,szakasz2!J120:AZ120,szakasz2!J127:AZ127,szakasz2!J134:AZ134,szakasz2!J141:AZ141,szakasz2!J148:AZ148,szakasz2!J155:AZ155,szakasz2!J162:AZ162,szakasz2!J169:AZ169,szakasz2!J176:AZ176,szakasz2!J183:AZ183,szakasz2!J190:AZ190,szakasz2!J197:AZ197,szakasz2!J204:AZ204,szakasz2!J211:AZ211,szakasz2!J218:AZ218,szakasz2!J225:AZ225,szakasz2!J232:AZ232)","v":23.175000000000001},null,{"$f":"MAX(szakasz3!J8:AZ8,szakasz3!J15:AZ15,szakasz3!J22:AZ22,szakasz3!J29:AZ29,szakasz3!J36:AZ36,szakasz3!J43:AZ43,szakasz3!J50:AZ50,szakasz3!J57:AZ57,szakasz3!J64:AZ64,szakasz3!J71:AZ71,szakasz3!J78:AZ78,szakasz3!J85:AZ85,szakasz3!J92:AZ92,szakasz3!J99:AZ99,szakasz3!J106:AZ106,szakasz3!J113:AZ113,szakasz3!J120:AZ120,szakasz3!J127:AZ127,szakasz3!J134:AZ134,szakasz3!J141:AZ141,szakasz3!J148:AZ148,szakasz3!J155:AZ155,szakasz3!J162:AZ162,szakasz3!J169:AZ169,szakasz3!J176:AZ176,szakasz3!J183:AZ183,szakasz3!J190:AZ190,szakasz3!J197:AZ197,szakasz3!J204:AZ204,szakasz3!J211:AZ211,szakasz3!J218:AZ218,szakasz3!J225:AZ225,szakasz3!J232:AZ232)","v":19.45},null,{"$f":"MAX(szakasz4!J8:AZ8,szakasz4!J15:AZ15,szakasz4!J22:AZ22,szakasz4!J29:AZ29,szakasz4!J36:AZ36,szakasz4!J43:AZ43,szakasz4!J50:AZ50,szakasz4!J57:AZ57,szakasz4!J64:AZ64,szakasz4!J71:AZ71,szakasz4!J78:AZ78,szakasz4!J85:AZ85,szakasz4!J92:AZ92,szakasz4!J99:AZ99,szakasz4!J106:AZ106,szakasz4!J113:AZ113,szakasz4!J120:AZ120,szakasz4!J127:AZ127,szakasz4!J134:AZ134,szakasz4!J141:AZ141,szakasz4!J148:AZ148,szakasz4!J155:AZ155,szakasz4!J162:AZ162,szakasz4!J169:AZ169,szakasz4!J176:AZ176,szakasz4!J183:AZ183,szakasz4!J190:AZ190,szakasz4!J197:AZ197,szakasz4!J204:AZ204,szakasz4!J211:AZ211,szakasz4!J218:AZ218,szakasz4!J225:AZ225,szakasz4!J232:AZ232)","v":21.7},null,{"$f":"MAX(szakasz5!J8:AZ8,szakasz5!J15:AZ15,szakasz5!J22:AZ22,szakasz5!J29:AZ29,szakasz5!J36:AZ36,szakasz5!J43:AZ43,szakasz5!J50:AZ50,szakasz5!J57:AZ57,szakasz5!J64:AZ64,szakasz5!J71:AZ71,szakasz5!J78:AZ78,szakasz5!J85:AZ85,szakasz5!J92:AZ92,szakasz5!J99:AZ99,szakasz5!J106:AZ106,szakasz5!J113:AZ113,szakasz5!J120:AZ120,szakasz5!J127:AZ127,szakasz5!J134:AZ134,szakasz5!J141:AZ141,szakasz5!J148:AZ148,szakasz5!J155:AZ155,szakasz5!J162:AZ162,szakasz5!J169:AZ169,szakasz5!J176:AZ176,szakasz5!J183:AZ183,szakasz5!J190:AZ190,szakasz5!J197:AZ197,szakasz5!J204:AZ204,szakasz5!J211:AZ211,szakasz5!J218:AZ218,szakasz5!J225:AZ225,szakasz5!J232:AZ232)","v":15.025},null,{"$f":"MAX(szakasz6!J8:AZ8,szakasz6!J15:AZ15,szakasz6!J22:AZ22,szakasz6!J29:AZ29,szakasz6!J36:AZ36,szakasz6!J43:AZ43,szakasz6!J50:AZ50,szakasz6!J57:AZ57,szakasz6!J64:AZ64,szakasz6!J71:AZ71,szakasz6!J78:AZ78,szakasz6!J85:AZ85,szakasz6!J92:AZ92,szakasz6!J99:AZ99,szakasz6!J106:AZ106,szakasz6!J113:AZ113,szakasz6!J120:AZ120,szakasz6!J127:AZ127,szakasz6!J134:AZ134,szakasz6!J141:AZ141,szakasz6!J148:AZ148,szakasz6!J155:AZ155,szakasz6!J162:AZ162,szakasz6!J169:AZ169,szakasz6!J176:AZ176,szakasz6!J183:AZ183,szakasz6!J190:AZ190,szakasz6!J197:AZ197,szakasz6!J204:AZ204,szakasz6!J211:AZ211,szakasz6!J218:AZ218,szakasz6!J225:AZ225,szakasz6!J232:AZ232)","v":22.975000000000001},null,{"$f":"MAX(szakasz7!J8:AZ8,szakasz7!J15:AZ15,szakasz7!J22:AZ22,szakasz7!J29:AZ29,szakasz7!J36:AZ36,szakasz7!J43:AZ43,szakasz7!J50:AZ50,szakasz7!J57:AZ57,szakasz7!J64:AZ64,szakasz7!J71:AZ71,szakasz7!J78:AZ78,szakasz7!J85:AZ85,szakasz7!J92:AZ92,szakasz7!J99:AZ99,szakasz7!J106:AZ106,szakasz7!J113:AZ113,szakasz7!J120:AZ120,szakasz7!J127:AZ127,szakasz7!J134:AZ134,szakasz7!J141:AZ141,szakasz7!J148:AZ148,szakasz7!J155:AZ155,szakasz7!J162:AZ162,szakasz7!J169:AZ169,szakasz7!J176:AZ176,szakasz7!J183:AZ183,szakasz7!J190:AZ190,szakasz7!J197:AZ197,szakasz7!J204:AZ204,szakasz7!J211:AZ211,szakasz7!J218:AZ218,szakasz7!J225:AZ225,szakasz7!J232:AZ232)","v":16.125},null,{"$f":"MAX(szakasz8!J8:AZ8,szakasz8!J15:AZ15,szakasz8!J22:AZ22,szakasz8!J29:AZ29,szakasz8!J36:AZ36,szakasz8!J43:AZ43,szakasz8!J50:AZ50,szakasz8!J57:AZ57,szakasz8!J64:AZ64,szakasz8!J71:AZ71,szakasz8!J78:AZ78,szakasz8!J85:AZ85,szakasz8!J92:AZ92,szakasz8!J99:AZ99,szakasz8!J106:AZ106,szakasz8!J113:AZ113,szakasz8!J120:AZ120,szakasz8!J127:AZ127,szakasz8!J134:AZ134,szakasz8!J141:AZ141,szakasz8!J148:AZ148,szakasz8!J155:AZ155,szakasz8!J162:AZ162,szakasz8!J169:AZ169,szakasz8!J176:AZ176,szakasz8!J183:AZ183,szakasz8!J190:AZ190,szakasz8!J197:AZ197,szakasz8!J204:AZ204,szakasz8!J211:AZ211,szakasz8!J218:AZ218,szakasz8!J225:AZ225,szakasz8!J232:AZ232)","v":18.274999999999999},null,{"$f":"MAX(szakasz9!J8:AZ8,szakasz9!J15:AZ15,szakasz9!J22:AZ22,szakasz9!J29:AZ29,szakasz9!J36:AZ36,szakasz9!J43:AZ43,szakasz9!J50:AZ50,szakasz9!J57:AZ57,szakasz9!J64:AZ64,szakasz9!J71:AZ71,szakasz9!J78:AZ78,szakasz9!J85:AZ85,szakasz9!J92:AZ92,szakasz9!J99:AZ99,szakasz9!J106:AZ106,szakasz9!J113:AZ113,szakasz9!J120:AZ120,szakasz9!J127:AZ127,szakasz9!J134:AZ134,szakasz9!J141:AZ141,szakasz9!J148:AZ148,szakasz9!J155:AZ155,szakasz9!J162:AZ162,szakasz9!J169:AZ169,szakasz9!J176:AZ176,szakasz9!J183:AZ183,szakasz9!J190:AZ190,szakasz9!J197:AZ197,szakasz9!J204:AZ204,szakasz9!J211:AZ211,szakasz9!J218:AZ218,szakasz9!J225:AZ225,szakasz9!J232:AZ232)","v":17.225000000000001},null,{"$f":"MAX(szakasz10!J8:AZ8,szakasz10!J15:AZ15,szakasz10!J22:AZ22,szakasz10!J29:AZ29,szakasz10!J36:AZ36,szakasz10!J43:AZ43,szakasz10!J50:AZ50,szakasz10!J57:AZ57,szakasz10!J64:AZ64,szakasz10!J71:AZ71,szakasz10!J78:AZ78,szakasz10!J85:AZ85,szakasz10!J92:AZ92,szakasz10!J99:AZ99,szakasz10!J106:AZ106,szakasz10!J113:AZ113,szakasz10!J120:AZ120,szakasz10!J127:AZ127,szakasz10!J134:AZ134,szakasz10!J141:AZ141,szakasz10!J148:AZ148,szakasz10!J155:AZ155,szakasz10!J162:AZ162,szakasz10!J169:AZ169,szakasz10!J176:AZ176,szakasz10!J183:AZ183,szakasz10!J190:AZ190,szakasz10!J197:AZ197,szakasz10!J204:AZ204,szakasz10!J211:AZ211,szakasz10!J218:AZ218,szakasz10!J225:AZ225,szakasz10!J232:AZ232)","v":16.824999999999999},null,{"$f":"MAX(B9:U9)","v":23.175000000000001}]
["    - tőponty (common carp)",{"$f":"MAX(szakasz1!J9:AZ9,szakasz1!J16:AZ16,szakasz1!J23:AZ23,szakasz1!J30:AZ30,szakasz1!J37:AZ37,szakasz1!J44:AZ44,szakasz1!J51:AZ51,szakasz1!J58:AZ58,szakasz1!J65:AZ65,szakasz1!J72:AZ72,szakasz1!J79:AZ79,szakasz1!J86:AZ86,szakasz1!J93:AZ93,szakasz1!J100:AZ100,szakasz1!J107:AZ107,szakasz1!J114:AZ114,szakasz1!J121:AZ121,szakasz1!J128:AZ128,szakasz1!J135:AZ135,szakasz1!J142:AZ142,szakasz1!J149:AZ149,szakasz1!J156:AZ156,szakasz1!J163:AZ163,szakasz1!J170:AZ170,szakasz1!J177:AZ177,szakasz1!J184:AZ184,szakasz1!J191:AZ191,szakasz1!J198:AZ198,szakasz1!J205:AZ205,szakasz1!J212:AZ212,szakasz1!J219:AZ219,szakasz1!J226:AZ226,szakasz1!J233:AZ233)","v":16.55},null,{"$f":"MAX(szakasz2!J9:AZ9,szakasz2!J16:AZ16,szakasz2!J23:AZ23,szakasz2!J30:AZ30,szakasz2!J37:AZ37,szakasz2!J44:AZ44,szakasz2!J51:AZ51,szakasz2!J58:AZ58,szakasz2!J65:AZ65,szakasz2!J72:AZ72,szakasz2!J79:AZ79,szakasz2!J86:AZ86,szakasz2!J93:AZ93,szakasz2!J100:AZ100,szakasz2!J107:AZ107,szakasz2!J114:AZ114,szakasz2!J121:AZ121,szakasz2!J128:AZ128,szakasz2!J135:AZ135,szakasz2!J142:AZ142,szakasz2!J149:AZ149,szakasz2!J156:AZ156,szakasz2!J163:AZ163,szakasz2!J170:AZ170,szakasz2!J177:AZ177,szakasz2!J184:AZ184,szakasz2!J191:AZ191,szakasz2!J198:AZ198,szakasz2!J205:AZ205,szakasz2!J212:AZ212,szakasz2!J219:AZ219,szakasz2!J226:AZ226,szakasz2!J233:AZ233)","v":14.074999999999999},null,{"$f":"MAX(szakasz3!J9:AZ9,szakasz3!J16:AZ16,szakasz3!J23:AZ23,szakasz3!J30:AZ30,szakasz3!J37:AZ37,szakasz3!J44:AZ44,szakasz3!J51:AZ51,szakasz3!J58:AZ58,szakasz3!J65:AZ65,szakasz3!J72:AZ72,szakasz3!J79:AZ79,szakasz3!J86:AZ86,szakasz3!J93:AZ93,szakasz3!J100:AZ100,szakasz3!J107:AZ107,szakasz3!J114:AZ114,szakasz3!J121:AZ121,szakasz3!J128:AZ128,szakasz3!J135:AZ135,szakasz3!J142:AZ142,szakasz3!J149:AZ149,szakasz3!J156:AZ156,szakasz3!J163:AZ163,szakasz3!J170:AZ170,szakasz3!J177:AZ177,szakasz3!J184:AZ184,szakasz3!J191:AZ191,szakasz3!J198:AZ198,szakasz3!J205:AZ205,szakasz3!J212:AZ212,szakasz3!J219:AZ219,szakasz3!J226:AZ226,szakasz3!J233:AZ233)","v":17.899999999999999},null,{"$f":"MAX(szakasz4!J9:AZ9,szakasz4!J16:AZ16,szakasz4!J23:AZ23,szakasz4!J30:AZ30,szakasz4!J37:AZ37,szakasz4!J44:AZ44,szakasz4!J51:AZ51,szakasz4!J58:AZ58,szakasz4!J65:AZ65,szakasz4!J72:AZ72,szakasz4!J79:AZ79,szakasz4!J86:AZ86,szakasz4!J93:AZ93,szakasz4!J100:AZ100,szakasz4!J107:AZ107,szakasz4!J114:AZ114,szakasz4!J121:AZ121,szakasz4!J128:AZ128,szakasz4!J135:AZ135,szakasz4!J142:AZ142,szakasz4!J149:AZ149,szakasz4!J156:AZ156,szakasz4!J163:AZ163,szakasz4!J170:AZ170,szakasz4!J177:AZ177,szakasz4!J184:AZ184,szakasz4!J191:AZ191,szakasz4!J198:AZ198,szakasz4!J205:AZ205,szakasz4!J212:AZ212,szakasz4!J219:AZ219,szakasz4!J226:AZ226,szakasz4!J233:AZ233)","v":18.225000000000001},null,{"$f":"MAX(szakasz5!J9:AZ9,szakasz5!J16:AZ16,szakasz5!J23:AZ23,szakasz5!J30:AZ30,szakasz5!J37:AZ37,szakasz5!J44:AZ44,szakasz5!J51:AZ51,szakasz5!J58:AZ58,szakasz5!J65:AZ65,szakasz5!J72:AZ72,szakasz5!J79:AZ79,szakasz5!J86:AZ86,szakasz5!J93:AZ93,szakasz5!J100:AZ100,szakasz5!J107:AZ107,szakasz5!J114:AZ114,szakasz5!J121:AZ121,szakasz5!J128:AZ128,szakasz5!J135:AZ135,szakasz5!J142:AZ142,szakasz5!J149:AZ149,szakasz5!J156:AZ156,szakasz5!J163:AZ163,szakasz5!J170:AZ170,szakasz5!J177:AZ177,szakasz5!J184:AZ184,szakasz5!J191:AZ191,szakasz5!J198:AZ198,szakasz5!J205:AZ205,szakasz5!J212:AZ212,szakasz5!J219:AZ219,szakasz5!J226:AZ226,szakasz5!J233:AZ233)","v":15.8},null,{"$f":"MAX(szakasz6!J9:AZ9,szakasz6!J16:AZ16,szakasz6!J23:AZ23,szakasz6!J30:AZ30,szakasz6!J37:AZ37,szakasz6!J44:AZ44,szakasz6!J51:AZ51,szakasz6!J58:AZ58,szakasz6!J65:AZ65,szakasz6!J72:AZ72,szakasz6!J79:AZ79,szakasz6!J86:AZ86,szakasz6!J93:AZ93,szakasz6!J100:AZ100,szakasz6!J107:AZ107,szakasz6!J114:AZ114,szakasz6!J121:AZ121,szakasz6!J128:AZ128,szakasz6!J135:AZ135,szakasz6!J142:AZ142,szakasz6!J149:AZ149,szakasz6!J156:AZ156,szakasz6!J163:AZ163,szakasz6!J170:AZ170,szakasz6!J177:AZ177,szakasz6!J184:AZ184,szakasz6!J191:AZ191,szakasz6!J198:AZ198,szakasz6!J205:AZ205,szakasz6!J212:AZ212,szakasz6!J219:AZ219,szakasz6!J226:AZ226,szakasz6!J233:AZ233)","v":20.324999999999999},null,{"$f":"MAX(szakasz7!J9:AZ9,szakasz7!J16:AZ16,szakasz7!J23:AZ23,szakasz7!J30:AZ30,szakasz7!J37:AZ37,szakasz7!J44:AZ44,szakasz7!J51:AZ51,szakasz7!J58:AZ58,szakasz7!J65:AZ65,szakasz7!J72:AZ72,szakasz7!J79:AZ79,szakasz7!J86:AZ86,szakasz7!J93:AZ93,szakasz7!J100:AZ100,szakasz7!J107:AZ107,szakasz7!J114:AZ114,szakasz7!J121:AZ121,szakasz7!J128:AZ128,szakasz7!J135:AZ135,szakasz7!J142:AZ142,szakasz7!J149:AZ149,szakasz7!J156:AZ156,szakasz7!J163:AZ163,szakasz7!J170:AZ170,szakasz7!J177:AZ177,szakasz7!J184:AZ184,szakasz7!J191:AZ191,szakasz7!J198:AZ198,szakasz7!J205:AZ205,szakasz7!J212:AZ212,szakasz7!J219:AZ219,szakasz7!J226:AZ226,szakasz7!J233:AZ233)","v":25.875},null,{"$f":"MAX(szakasz8!J9:AZ9,szakasz8!J16:AZ16,szakasz8!J23:AZ23,szakasz8!J30:AZ30,szakasz8!J37:AZ37,szakasz8!J44:AZ44,szakasz8!J51:AZ51,szakasz8!J58:AZ58,szakasz8!J65:AZ65,szakasz8!J72:AZ72,szakasz8!J79:AZ79,szakasz8!J86:AZ86,szakasz8!J93:AZ93,szakasz8!J100:AZ100,szakasz8!J107:AZ107,szakasz8!J114:AZ114,szakasz8!J121:AZ121,szakasz8!J128:AZ128,szakasz8!J135:AZ135,szakasz8!J142:AZ142,szakasz8!J149:AZ149,szakasz8!J156:AZ156,szakasz8!J163:AZ163,szakasz8!J170:AZ170,szakasz8!J177:AZ177,szakasz8!J184:AZ184,szakasz8!J191:AZ191,szakasz8!J198:AZ198,szakasz8!J205:AZ205,szakasz8!J212:AZ212,szakasz8!J219:AZ219,szakasz8!J226:AZ226,szakasz8!J233:AZ233)","v":20.425000000000001},null,{"$f":"MAX(szakasz9!J9:AZ9,szakasz9!J16:AZ16,szakasz9!J23:AZ23,szakasz9!J30:AZ30,szakasz9!J37:AZ37,szakasz9!J44:AZ44,szakasz9!J51:AZ51,szakasz9!J58:AZ58,szakasz9!J65:AZ65,szakasz9!J72:AZ72,szakasz9!J79:AZ79,szakasz9!J86:AZ86,szakasz9!J93:AZ93,szakasz9!J100:AZ100,szakasz9!J107:AZ107,szakasz9!J114:AZ114,szakasz9!J121:AZ121,szakasz9!J128:AZ128,szakasz9!J135:AZ135,szakasz9!J142:AZ142,szakasz9!J149:AZ149,szakasz9!J156:AZ156,szakasz9!J163:AZ163,szakasz9!J170:AZ170,szakasz9!J177:AZ177,szakasz9!J184:AZ184,szakasz9!J191:AZ191,szakasz9!J198:AZ198,szakasz9!J205:AZ205,szakasz9!J212:AZ212,szakasz9!J219:AZ219,szakasz9!J226:AZ226,szakasz9!J233:AZ233)","v":19.100000000000001},null,{"$f":"MAX(szakasz10!J9:AZ9,szakasz10!J16:AZ16,szakasz10!J23:AZ23,szakasz10!J30:AZ30,szakasz10!J37:AZ37,szakasz10!J44:AZ44,szakasz10!J51:AZ51,szakasz10!J58:AZ58,szakasz10!J65:AZ65,szakasz10!J72:AZ72,szakasz10!J79:AZ79,szakasz10!J86:AZ86,szakasz10!J93:AZ93,szakasz10!J100:AZ100,szakasz10!J107:AZ107,szakasz10!J114:AZ114,szakasz10!J121:AZ121,szakasz10!J128:AZ128,szakasz10!J135:AZ135,szakasz10!J142:AZ142,szakasz10!J149:AZ149,szakasz10!J156:AZ156,szakasz10!J163:AZ163,szakasz10!J170:AZ170,szakasz10!J177:AZ177,szakasz10!J184:AZ184,szakasz10!J191:AZ191,szakasz10!J198:AZ198,szakasz10!J205:AZ205,szakasz10!J212:AZ212,szakasz10!J219:AZ219,szakasz10!J226:AZ226,szakasz10!J233:AZ233)","v":22.225000000000001},null,25.875]
["    - nyurgaponty (wild carp)",{"$f":"MAX(szakasz1!J10:AZ10,szakasz1!J17:AZ17,szakasz1!J24:AZ24,szakasz1!J31:AZ31,szakasz1!J38:AZ38,szakasz1!J45:AZ45,szakasz1!J52:AZ52,szakasz1!J59:AZ59,szakasz1!J66:AZ66,szakasz1!J73:AZ73,szakasz1!J80:AZ80,szakasz1!J87:AZ87,szakasz1!J94:AZ94,szakasz1!J101:AZ101,szakasz1!J108:AZ108,szakasz1!J115:AZ115,szakasz1!J122:AZ122,szakasz1!J129:AZ129,szakasz1!J136:AZ136,szakasz1!J143:AZ143,szakasz1!J150:AZ150,szakasz1!J157:AZ157,szakasz1!J164:AZ164,szakasz1!J171:AZ171,szakasz1!J178:AZ178,szakasz1!J185:AZ185,szakasz1!J192:AZ192,szakasz1!J199:AZ199,szakasz1!J206:AZ206,szakasz1!J213:AZ213,szakasz1!J220:AZ220,szakasz1!J227:AZ227,szakasz1!J234:AZ234)","v":17.850000000000001},null,{"$f":"MAX(szakasz2!J10:AZ10,szakasz2!J17:AZ17,szakasz2!J24:AZ24,szakasz2!J31:AZ31,szakasz2!J38:AZ38,szakasz2!J45:AZ45,szakasz2!J52:AZ52,szakasz2!J59:AZ59,szakasz2!J66:AZ66,szakasz2!J73:AZ73,szakasz2!J80:AZ80,szakasz2!J87:AZ87,szakasz2!J94:AZ94,szakasz2!J101:AZ101,szakasz2!J108:AZ108,szakasz2!J115:AZ115,szakasz2!J122:AZ122,szakasz2!J129:AZ129,szakasz2!J136:AZ136,szakasz2!J143:AZ143,szakasz2!J150:AZ150,szakasz2!J157:AZ157,szakasz2!J164:AZ164,szakasz2!J171:AZ171,szakasz2!J178:AZ178,szakasz2!J185:AZ185,szakasz2!J192:AZ192,szakasz2!J199:AZ199,szakasz2!J206:AZ206,szakasz2!J213:AZ213,szakasz2!J220:AZ220,szakasz2!J227:AZ227,szakasz2!J234:AZ234)","v":18.875},null,{"$f":"MAX(szakasz3!J10:AZ10,szakasz3!J17:AZ17,szakasz3!J24:AZ24,szakasz3!J31:AZ31,szakasz3!J38:AZ38,szakasz3!J45:AZ45,szakasz3!J52:AZ52,szakasz3!J59:AZ59,szakasz3!J66:AZ66,szakasz3!J73:AZ73,szakasz3!J80:AZ80,szakasz3!J87:AZ87,szakasz3!J94:AZ94,szakasz3!J101:AZ101,szakasz3!J108:AZ108,szakasz3!J115:AZ115,szakasz3!J122:AZ122,szakasz3!J129:AZ129,szakasz3!J136:AZ136,szakasz3!J143:AZ143,szakasz3!J150:AZ150,szakasz3!J157:AZ157,szakasz3!J164:AZ164,szakasz3!J171:AZ171,szakasz3!J178:AZ178,szakasz3!J185:AZ185,szakasz3!J192:AZ192,szakasz3!J199:AZ199,szakasz3!J206:AZ206,szakasz3!J213:AZ213,szakasz3!J220:AZ220,szakasz3!J227:AZ227,szakasz3!J234:AZ234)","v":17.8},null,{"$f":"MAX(szakasz4!J10:AZ10,szakasz4!J17:AZ17,szakasz4!J24:AZ24,szakasz4!J31:AZ31,szakasz4!J38:AZ38,szakasz4!J45:AZ45,szakasz4!J52:AZ52,szakasz4!J59:AZ59,szakasz4!J66:AZ66,szakasz4!J73:AZ73,szakasz4!J80:AZ80,szakasz4!J87:AZ87,szakasz4!J94:AZ94,szakasz4!J101:AZ101,szakasz4!J108:AZ108,szakasz4!J115:AZ115,szakasz4!J122:AZ122,szakasz4!J129:AZ129,szakasz4!J136:AZ136,szakasz4!J143:AZ143,szakasz4!J150:AZ150,szakasz4!J157:AZ157,szakasz4!J164:AZ164,szakasz4!J171:AZ171,szakasz4!J178:AZ178,szakasz4!J185:AZ185,szakasz4!J192:AZ192,szakasz4!J199:AZ199,szakasz4!J206:AZ206,szakasz4!J213:AZ213,szakasz4!J220:AZ220,szakasz4!J227:AZ227,szakasz4!J234:AZ234)","v":16.3},null,{"$f":"MAX(szakasz5!J10:AZ10,szakasz5!J17:AZ17,szakasz5!J24:AZ24,szakasz5!J31:AZ31,szakasz5!J38:AZ38,szakasz5!J45:AZ45,szakasz5!J52:AZ52,szakasz5!J59:AZ59,szakasz5!J66:AZ66,szakasz5!J73:AZ73,szakasz5!J80:AZ80,szakasz5!J87:AZ87,szakasz5!J94:AZ94,szakasz5!J101:AZ101,szakasz5!J108:AZ108,szakasz5!J115:AZ115,szakasz5!J122:AZ122,szakasz5!J129:AZ129,szakasz5!J136:AZ136,szakasz5!J143:AZ143,szakasz5!J150:AZ150,szakasz5!J157:AZ157,szakasz5!J164:AZ164,szakasz5!J171:AZ171,szakasz5!J178:AZ178,szakasz5!J185:AZ185,szakasz5!J192:AZ192,szakasz5!J199:AZ199,szakasz5!J206:AZ206,szakasz5!J213:AZ213,szakasz5!J220:AZ220,szakasz5!J227:AZ227,szakasz5!J234:AZ234)","v":22.55},null,{"$f":"MAX(szakasz6!J10:AZ10,szakasz6!J17:AZ17,szakasz6!J24:AZ24,szakasz6!J31:AZ31,szakasz6!J38:AZ38,szakasz6!J45:AZ45,szakasz6!J52:AZ52,szakasz6!J59:AZ59,szakasz6!J66:AZ66,szakasz6!J73:AZ73,szakasz6!J80:AZ80,szakasz6!J87:AZ87,szakasz6!J94:AZ94,szakasz6!J101:AZ101,szakasz6!J108:AZ108,szakasz6!J115:AZ115,szakasz6!J122:AZ122,szakasz6!J129:AZ129,szakasz6!J136:AZ136,szakasz6!J143:AZ143,szakasz6!J150:AZ150,szakasz6!J157:AZ157,szakasz6!J164:AZ164,szakasz6!J171:AZ171,szakasz6!J178:AZ178,szakasz6!J185:AZ185,szakasz6!J192:AZ192,szakasz6!J199:AZ199,szakasz6!J206:AZ206,szakasz6!J213:AZ213,szakasz6!J220:AZ220,szakasz6!J227:AZ227,szakasz6!J234:AZ234)","v":18.475000000000001},null,{"$f":"MAX(szakasz7!J10:AZ10,szakasz7!J17:AZ17,szakasz7!J24:AZ24,szakasz7!J31:AZ31,szakasz7!J38:AZ38,szakasz7!J45:AZ45,szakasz7!J52:AZ52,szakasz7!J59:AZ59,szakasz7!J66:AZ66,szakasz7!J73:AZ73,szakasz7!J80:AZ80,szakasz7!J87:AZ87,szakasz7!J94:AZ94,szakasz7!J101:AZ101,szakasz7!J108:AZ108,szakasz7!J115:AZ115,szakasz7!J122:AZ122,szakasz7!J129:AZ129,szakasz7!J136:AZ136,szakasz7!J143:AZ143,szakasz7!J150:AZ150,szakasz7!J157:AZ157,szakasz7!J164:AZ164,szakasz7!J171:AZ171,szakasz7!J178:AZ178,szakasz7!J185:AZ185,szakasz7!J192:AZ192,szakasz7!J199:AZ199,szakasz7!J206:AZ206,szakasz7!J213:AZ213,szakasz7!J220:AZ220,szakasz7!J227:AZ227,szakasz7!J234:AZ234)","v":16.95},null,{"$f":"MAX(szakasz8!J10:AZ10,szakasz8!J17:AZ17,szakasz8!J24:AZ24,szakasz8!J31:AZ31,szakasz8!J38:AZ38,szakasz8!J45:AZ45,szakasz8!J52:AZ52,szakasz8!J59:AZ59,szakasz8!J66:AZ66,szakasz8!J73:AZ73,szakasz8!J80:AZ80,szakasz8!J87:AZ87,szakasz8!J94:AZ94,szakasz8!J101:AZ101,szakasz8!J108:AZ108,szakasz8!J115:AZ115,szakasz8!J122:AZ122,szakasz8!J129:AZ129,szakasz8!J136:AZ136,szakasz8!J143:AZ143,szakasz8!J150:AZ150,szakasz8!J157:AZ157,szakasz8!J164:AZ164,szakasz8!J171:AZ171,szakasz8!J178:AZ178,szakasz8!J185:AZ185,szakasz8!J192:AZ192,szakasz8!J199:AZ199,szakasz8!J206:AZ206,szakasz8!J213:AZ213,szakasz8!J220:AZ220,szakasz8!J227:AZ227,szakasz8!J234:AZ234)","v":22.6},null,{"$f":"MAX(szakasz9!J10:AZ10,szakasz9!J17:AZ17,szakasz9!J24:AZ24,szakasz9!J31:AZ31,szakasz9!J38:AZ38,szakasz9!J45:AZ45,szakasz9!J52:AZ52,szakasz9!J59:AZ59,szakasz9!J66:AZ66,szakasz9!J73:AZ73,szakasz9!J80:AZ80,szakasz9!J87:AZ87,szakasz9!J94:AZ94,szakasz9!J101:AZ101,szakasz9!J108:AZ108,szakasz9!J115:AZ115,szakasz9!J122:AZ122,szakasz9!J129:AZ129,szakasz9!J136:AZ136,szakasz9!J143:AZ143,szakasz9!J150:AZ150,szakasz9!J157:AZ157,szakasz9!J164:AZ164,szakasz9!J171:AZ171,szakasz9!J178:AZ178,szakasz9!J185:AZ185,szakasz9!J192:AZ192,szakasz9!J199:AZ199,szakasz9!J206:AZ206,szakasz9!J213:AZ213,szakasz9!J220:AZ220,szakasz9!J227:AZ227,szakasz9!J234:AZ234)","v":18.324999999999999},null,{"$f":"MAX(szakasz10!J10:AZ10,szakasz10!J17:AZ17,szakasz10!J24:AZ24,szakasz10!J31:AZ31,szakasz10!J38:AZ38,szakasz10!J45:AZ45,szakasz10!J52:AZ52,szakasz10!J59:AZ59,szakasz10!J66:AZ66,szakasz10!J73:AZ73,szakasz10!J80:AZ80,szakasz10!J87:AZ87,szakasz10!J94:AZ94,szakasz10!J101:AZ101,szakasz10!J108:AZ108,szakasz10!J115:AZ115,szakasz10!J122:AZ122,szakasz10!J129:AZ129,szakasz10!J136:AZ136,szakasz10!J143:AZ143,szakasz10!J150:AZ150,szakasz10!J157:AZ157,szakasz10!J164:AZ164,szakasz10!J171:AZ171,szakasz10!J178:AZ178,szakasz10!J185:AZ185,szakasz10!J192:AZ192,szakasz10!J199:AZ199,szakasz10!J206:AZ206,szakasz10!J213:AZ213,szakasz10!J220:AZ220,szakasz10!J227:AZ227,szakasz10!J234:AZ234)","v":20.324999999999999},null,22.6]
["    - koi ponty (koi carp)",{"$f":"MAX(szakasz1!J11:AZ11,szakasz1!J18:AZ18,szakasz1!J25:AZ25,szakasz1!J32:AZ32,szakasz1!J39:AZ39,szakasz1!J46:AZ46,szakasz1!J53:AZ53,szakasz1!J60:AZ60,szakasz1!J67:AZ67,szakasz1!J74:AZ74,szakasz1!J81:AZ81,szakasz1!J88:AZ88,szakasz1!J95:AZ95,szakasz1!J102:AZ102,szakasz1!J109:AZ109,szakasz1!J116:AZ116,szakasz1!J123:AZ123,szakasz1!J130:AZ130,szakasz1!J137:AZ137,szakasz1!J144:AZ144,szakasz1!J151:AZ151,szakasz1!J158:AZ158,szakasz1!J165:AZ165,szakasz1!J172:AZ172,szakasz1!J179:AZ179,szakasz1!J186:AZ186,szakasz1!J193:AZ193,szakasz1!J200:AZ200,szakasz1!J207:AZ207,szakasz1!J214:AZ214,szakasz1!J221:AZ221,szakasz1!J228:AZ228,szakasz1!J235:AZ235)","v":10.574999999999999},null,{"$f":"MAX(szakasz2!J11:AZ11,szakasz2!J18:AZ18,szakasz2!J25:AZ25,szakasz2!J32:AZ32,szakasz2!J39:AZ39,szakasz2!J46:AZ46,szakasz2!J53:AZ53,szakasz2!J60:AZ60,szakasz2!J67:AZ67,szakasz2!J74:AZ74,szakasz2!J81:AZ81,szakasz2!J88:AZ88,szakasz2!J95:AZ95,szakasz2!J102:AZ102,szakasz2!J109:AZ109,szakasz2!J116:AZ116,szakasz2!J123:AZ123,szakasz2!J130:AZ130,szakasz2!J137:AZ137,szakasz2!J144:AZ144,szakasz2!J151:AZ151,szakasz2!J158:AZ158,szakasz2!J165:AZ165,szakasz2!J172:AZ172,szakasz2!J179:AZ179,szakasz2!J186:AZ186,szakasz2!J193:AZ193,szakasz2!J200:AZ200,szakasz2!J207:AZ207,szakasz2!J214:AZ214,szakasz2!J221:AZ221,szakasz2!J228:AZ228,szakasz2!J235:AZ235)","v":13.95},null,{"$f":"MAX(szakasz3!J11:AZ11,szakasz3!J18:AZ18,szakasz3!J25:AZ25,szakasz3!J32:AZ32,szakasz3!J39:AZ39,szakasz3!J46:AZ46,szakasz3!J53:AZ53,szakasz3!J60:AZ60,szakasz3!J67:AZ67,szakasz3!J74:AZ74,szakasz3!J81:AZ81,szakasz3!J88:AZ88,szakasz3!J95:AZ95,szakasz3!J102:AZ102,szakasz3!J109:AZ109,szakasz3!J116:AZ116,szakasz3!J123:AZ123,szakasz3!J130:AZ130,szakasz3!J137:AZ137,szakasz3!J144:AZ144,szakasz3!J151:AZ151,szakasz3!J158:AZ158,szakasz3!J165:AZ165,szakasz3!J172:AZ172,szakasz3!J179:AZ179,szakasz3!J186:AZ186,szakasz3!J193:AZ193,szakasz3!J200:AZ200,szakasz3!J207:AZ207,szakasz3!J214:AZ214,szakasz3!J221:AZ221,szakasz3!J228:AZ228,szakasz3!J235:AZ235)","v":11.425000000000001},null,{"$f":"MAX(szakasz4!J11:AZ11,szakasz4!J18:AZ18,szakasz4!J25:AZ25,szakasz4!J32:AZ32,szakasz4!J39:AZ39,szakasz4!J46:AZ46,szakasz4!J53:AZ53,szakasz4!J60:AZ60,szakasz4!J67:AZ67,szakasz4!J74:AZ74,szakasz4!J81:AZ81,szakasz4!J88:AZ88,szakasz4!J95:AZ95,szakasz4!J102:AZ102,szakasz4!J109:AZ109,szakasz4!J116:AZ116,szakasz4!J123:AZ123,szakasz4!J130:AZ130,szakasz4!J137:AZ137,szakasz4!J144:AZ144,szakasz4!J151:AZ151,szakasz4!J158:AZ158,szakasz4!J165:AZ165,szakasz4!J172:AZ172,szakasz4!J179:AZ179,szakasz4!J186:AZ186,szakasz4!J193:AZ193,szakasz4!J200:AZ200,szakasz4!J207:AZ207,szakasz4!J214:AZ214,szakasz4!J221:AZ221,szakasz4!J228:AZ228,szakasz4!J235:AZ235)","v":12.7},null,{"$f":"MAX(szakasz5!J11:AZ11,szakasz5!J18:AZ18,szakasz5!J25:AZ25,szakasz5!J32:AZ32,szakasz5!J39:AZ39,szakasz5!J46:AZ46,szakasz5!J53:AZ53,szakasz5!J60:AZ60,szakasz5!J67:AZ67,szakasz5!J74:AZ74,szakasz5!J81:AZ81,szakasz5!J88:AZ88,szakasz5!J95:AZ95,szakasz5!J102:AZ102,szakasz5!J109:AZ109,szakasz5!J116:AZ116,szakasz5!J123:AZ123,szakasz5!J130:AZ130,szakasz5!J137:AZ137,szakasz5!J144:AZ144,szakasz5!J151:AZ151,szakasz5!J158:AZ158,szakasz5!J165:AZ165,szakasz5!J172:AZ172,szakasz5!J179:AZ179,szakasz5!J186:AZ186,szakasz5!J193:AZ193,szakasz5!J200:AZ200,szakasz5!J207:AZ207,szakasz5!J214:AZ214,szakasz5!J221:AZ221,szakasz5!J228:AZ228,szakasz5!J235:AZ235)","v":13.25},null,{"$f":"MAX(szakasz6!J11:AZ11,szakasz6!J18:AZ18,szakasz6!J25:AZ25,szakasz6!J32:AZ32,szakasz6!J39:AZ39,szakasz6!J46:AZ46,szakasz6!J53:AZ53,szakasz6!J60:AZ60,szakasz6!J67:AZ67,szakasz6!J74:AZ74,szakasz6!J81:AZ81,szakasz6!J88:AZ88,szakasz6!J95:AZ95,szakasz6!J102:AZ102,szakasz6!J109:AZ109,szakasz6!J116:AZ116,szakasz6!J123:AZ123,szakasz6!J130:AZ130,szakasz6!J137:AZ137,szakasz6!J144:AZ144,szakasz6!J151:AZ151,szakasz6!J158:AZ158,szakasz6!J165:AZ165,szakasz6!J172:AZ172,szakasz6!J179:AZ179,szakasz6!J186:AZ186,szakasz6!J193:AZ193,szakasz6!J200:AZ200,szakasz6!J207:AZ207,szakasz6!J214:AZ214,szakasz6!J221:AZ221,szakasz6!J228:AZ228,szakasz6!J235:AZ235)","v":16.225000000000001},null,{"$f":"MAX(szakasz7!J11:AZ11,szakasz7!J18:AZ18,szakasz7!J25:AZ25,szakasz7!J32:AZ32,szakasz7!J39:AZ39,szakasz7!J46:AZ46,szakasz7!J53:AZ53,szakasz7!J60:AZ60,szakasz7!J67:AZ67,szakasz7!J74:AZ74,szakasz7!J81:AZ81,szakasz7!J88:AZ88,szakasz7!J95:AZ95,szakasz7!J102:AZ102,szakasz7!J109:AZ109,szakasz7!J116:AZ116,szakasz7!J123:AZ123,szakasz7!J130:AZ130,szakasz7!J137:AZ137,szakasz7!J144:AZ144,szakasz7!J151:AZ151,szakasz7!J158:AZ158,szakasz7!J165:AZ165,szakasz7!J172:AZ172,szakasz7!J179:AZ179,szakasz7!J186:AZ186,szakasz7!J193:AZ193,szakasz7!J200:AZ200,szakasz7!J207:AZ207,szakasz7!J214:AZ214,szakasz7!J221:AZ221,szakasz7!J228:AZ228,szakasz7!J235:AZ235)","v":12.4},null,{"$f":"MAX(szakasz8!J11:AZ11,szakasz8!J18:AZ18,szakasz8!J25:AZ25,szakasz8!J32:AZ32,szakasz8!J39:AZ39,szakasz8!J46:AZ46,szakasz8!J53:AZ53,szakasz8!J60:AZ60,szakasz8!J67:AZ67,szakasz8!J74:AZ74,szakasz8!J81:AZ81,szakasz8!J88:AZ88,szakasz8!J95:AZ95,szakasz8!J102:AZ102,szakasz8!J109:AZ109,szakasz8!J116:AZ116,szakasz8!J123:AZ123,szakasz8!J130:AZ130,szakasz8!J137:AZ137,szakasz8!J144:AZ144,szakasz8!J151:AZ151,szakasz8!J158:AZ158,szakasz8!J165:AZ165,szakasz8!J172:AZ172,szakasz8!J179:AZ179,szakasz8!J186:AZ186,szakasz8!J193:AZ193,szakasz8!J200:AZ200,szakasz8!J207:AZ207,szakasz8!J214:AZ214,szakasz8!J221:AZ221,szakasz8!J228:AZ228,szakasz8!J235:AZ235)","v":16.100000000000001},null,{"$f":"MAX(szakasz9!J11:AZ11,szakasz9!J18:AZ18,szakasz9!J25:AZ25,szakasz9!J32:AZ32,szakasz9!J39:AZ39,szakasz9!J46:AZ46,szakasz9!J53:AZ53,szakasz9!J60:AZ60,szakasz9!J67:AZ67,szakasz9!J74:AZ74,szakasz9!J81:AZ81,szakasz9!J88:AZ88,szakasz9!J95:AZ95,szakasz9!J102:AZ102,szakasz9!J109:AZ109,szakasz9!J116:AZ116,szakasz9!J123:AZ123,szakasz9!J130:AZ130,szakasz9!J137:AZ137,szakasz9!J144:AZ144,szakasz9!J151:AZ151,szakasz9!J158:AZ158,szakasz9!J165:AZ165,szakasz9!J172:AZ172,szakasz9!J179:AZ179,szakasz9!J186:AZ186,szakasz9!J193:AZ193,szakasz9!J200:AZ200,szakasz9!J207:AZ207,szakasz9!J214:AZ214,szakasz9!J221:AZ221,szakasz9!J228:AZ228,szakasz9!J235:AZ235)","v":14.574999999999999},null,{"$f":"MAX(szakasz10!J11:AZ11,szakasz10!J18:AZ18,szakasz10!J25:AZ25,szakasz10!J32:AZ32,szakasz10!J39:AZ39,szakasz10!J46:AZ46,szakasz10!J53:AZ53,szakasz10!J60:AZ60,szakasz10!J67:AZ67,szakasz10!J74:AZ74,szakasz10!J81:AZ81,szakasz10!J88:AZ88,szakasz10!J95:AZ95,szakasz10!J102:AZ102,szakasz10!J109:AZ109,szakasz10!J116:AZ116,szakasz10!J123:AZ123,szakasz10!J130:AZ130,szakasz10!J137:AZ137,szakasz10!J144:AZ144,szakasz10!J151:AZ151,szakasz10!J158:AZ158,szakasz10!J165:AZ165,szakasz10!J172:AZ172,szakasz10!J179:AZ179,szakasz10!J186:AZ186,szakasz10!J193:AZ193,szakasz10!J200:AZ200,szakasz10!J207:AZ207,szakasz10!J214:AZ214,szakasz10!J221:AZ221,szakasz10!J228:AZ228,szakasz10!J235:AZ235)","v":15.725},null,16.225000000000001]
["    - amur (grass carp)",{"$f":"MAX(szakasz1!J12:AZ12,szakasz1!J19:AZ19,szakasz1!J26:AZ26,szakasz1!J33:AZ33,szakasz1!J40:AZ40,szakasz1!J47:AZ47,szakasz1!J54:AZ54,szakasz1!J61:AZ61,szakasz1!J68:AZ68,szakasz1!J75:AZ75,szakasz1!J82:AZ82,szakasz1!J89:AZ89,szakasz1!J96:AZ96,szakasz1!J103:AZ103,szakasz1!J110:AZ110,szakasz1!J117:AZ117,szakasz1!J124:AZ124,szakasz1!J131:AZ131,szakasz1!J138:AZ138,szakasz1!J145:AZ145,szakasz1!J152:AZ152,szakasz1!J159:AZ159,szakasz1!J166:AZ166,szakasz1!J173:AZ173,szakasz1!J180:AZ180,szakasz1!J187:AZ187,szakasz1!J194:AZ194,szakasz1!J201:AZ201,szakasz1!J208:AZ208,szakasz1!J215:AZ215,szakasz1!J222:AZ222,szakasz1!J229:AZ229,szakasz1!J236:AZ236)","v":8.6750000000000007},null,{"$f":"MAX(szakasz2!J12:AZ12,szakasz2!J19:AZ19,szakasz2!J26:AZ26,szakasz2!J33:AZ33,szakasz2!J40:AZ40,szakasz2!J47:AZ47,szakasz2!J54:AZ54,szakasz2!J61:AZ61,szakasz2!J68:AZ68,szakasz2!J75:AZ75,szakasz2!J82:AZ82,szakasz2!J89:AZ89,szakasz2!J96:AZ96,szakasz2!J103:AZ103,szakasz2!J110:AZ110,szakasz2!J117:AZ117,szakasz2!J124:AZ124,szakasz2!J131:AZ131,szakasz2!J138:AZ138,szakasz2!J145:AZ145,szakasz2!J152:AZ152,szakasz2!J159:AZ159,szakasz2!J166:AZ166,szakasz2!J173:AZ173,szakasz2!J180:AZ180,szakasz2!J187:AZ187,szakasz2!J194:AZ194,szakasz2!J201:AZ201,szakasz2!J208:AZ208,szakasz2!J215:AZ215,szakasz2!J222:AZ222,szakasz2!J229:AZ229,szakasz2!J236:AZ236)","v":10.875},null,{"$f":"MAX(szakasz3!J12:AZ12,szakasz3!J19:AZ19,szakasz3!J26:AZ26,szakasz3!J33:AZ33,szakasz3!J40:AZ40,szakasz3!J47:AZ47,szakasz3!J54:AZ54,szakasz3!J61:AZ61,szakasz3!J68:AZ68,szakasz3!J75:AZ75,szakasz3!J82:AZ82,szakasz3!J89:AZ89,szakasz3!J96:AZ96,szakasz3!J103:AZ103,szakasz3!J110:AZ110,szakasz3!J117:AZ117,szakasz3!J124:AZ124,szakasz3!J131:AZ131,szakasz3!J138:AZ138,szakasz3!J145:AZ145,szakasz3!J152:AZ152,szakasz3!J159:AZ159,szakasz3!J166:AZ166,szakasz3!J173:AZ173,szakasz3!J180:AZ180,szakasz3!J187:AZ187,szakasz3!J194:AZ194,szakasz3!J201:AZ201,szakasz3!J208:AZ208,szakasz3!J215:AZ215,szakasz3!J222:AZ222,szakasz3!J229:AZ229,szakasz3!J236:AZ236)","v":12.574999999999999},null,{"$f":"MAX(szakasz4!J12:AZ12,szakasz4!J19:AZ19,szakasz4!J26:AZ26,szakasz4!J33:AZ33,szakasz4!J40:AZ40,szakasz4!J47:AZ47,szakasz4!J54:AZ54,szakasz4!J61:AZ61,szakasz4!J68:AZ68,szakasz4!J75:AZ75,szakasz4!J82:AZ82,szakasz4!J89:AZ89,szakasz4!J96:AZ96,szakasz4!J103:AZ103,szakasz4!J110:AZ110,szakasz4!J117:AZ117,szakasz4!J124:AZ124,szakasz4!J131:AZ131,szakasz4!J138:AZ138,szakasz4!J145:AZ145,szakasz4!J152:AZ152,szakasz4!J159:AZ159,szakasz4!J166:AZ166,szakasz4!J173:AZ173,szakasz4!J180:AZ180,szakasz4!J187:AZ187,szakasz4!J194:AZ194,szakasz4!J201:AZ201,szakasz4!J208:AZ208,szakasz4!J215:AZ215,szakasz4!J222:AZ222,szakasz4!J229:AZ229,szakasz4!J236:AZ236)","v":13.074999999999999},null,{"$f":"MAX(szakasz5!J12:AZ12,szakasz5!J19:AZ19,szakasz5!J26:AZ26,szakasz5!J33:AZ33,szakasz5!J40:AZ40,szakasz5!J47:AZ47,szakasz5!J54:AZ54,szakasz5!J61:AZ61,szakasz5!J68:AZ68,szakasz5!J75:AZ75,szakasz5!J82:AZ82,szakasz5!J89:AZ89,szakasz5!J96:AZ96,szakasz5!J103:AZ103,szakasz5!J110:AZ110,szakasz5!J117:AZ117,szakasz5!J124:AZ124,szakasz5!J131:AZ131,szakasz5!J138:AZ138,szakasz5!J145:AZ145,szakasz5!J152:AZ152,szakasz5!J159:AZ159,szakasz5!J166:AZ166,szakasz5!J173:AZ173,szakasz5!J180:AZ180,szakasz5!J187:AZ187,szakasz5!J194:AZ194,szakasz5!J201:AZ201,szakasz5!J208:AZ208,szakasz5!J215:AZ215,szakasz5!J222:AZ222,szakasz5!J229:AZ229,szakasz5!J236:AZ236)","v":15},null,{"$f":"MAX(szakasz6!J12:AZ12,szakasz6!J19:AZ19,szakasz6!J26:AZ26,szakasz6!J33:AZ33,szakasz6!J40:AZ40,szakasz6!J47:AZ47,szakasz6!J54:AZ54,szakasz6!J61:AZ61,szakasz6!J68:AZ68,szakasz6!J75:AZ75,szakasz6!J82:AZ82,szakasz6!J89:AZ89,szakasz6!J96:AZ96,szakasz6!J103:AZ103,szakasz6!J110:AZ110,szakasz6!J117:AZ117,szakasz6!J124:AZ124,szakasz6!J131:AZ131,szakasz6!J138:AZ138,szakasz6!J145:AZ145,szakasz6!J152:AZ152,szakasz6!J159:AZ159,szakasz6!J166:AZ166,szakasz6!J173:AZ173,szakasz6!J180:AZ180,szakasz6!J187:AZ187,szakasz6!J194:AZ194,szakasz6!J201:AZ201,szakasz6!J208:AZ208,szakasz6!J215:AZ215,szakasz6!J222:AZ222,szakasz6!J229:AZ229,szakasz6!J236:AZ236)","v":18.850000000000001},null,{"$f":"MAX(szakasz7!J12:AZ12,szakasz7!J19:AZ19,szakasz7!J26:AZ26,szakasz7!J33:AZ33,szakasz7!J40:AZ40,szakasz7!J47:AZ47,szakasz7!J54:AZ54,szakasz7!J61:AZ61,szakasz7!J68:AZ68,szakasz7!J75:AZ75,szakasz7!J82:AZ82,szakasz7!J89:AZ89,szakasz7!J96:AZ96,szakasz7!J103:AZ103,szakasz7!J110:AZ110,szakasz7!J117:AZ117,szakasz7!J124:AZ124,szakasz7!J131:AZ131,szakasz7!J138:AZ138,szakasz7!J145:AZ145,szakasz7!J152:AZ152,szakasz7!J159:AZ159,szakasz7!J166:AZ166,szakasz7!J173:AZ173,szakasz7!J180:AZ180,szakasz7!J187:AZ187,szakasz7!J194:AZ194,szakasz7!J201:AZ201,szakasz7!J208:AZ208,szakasz7!J215:AZ215,szakasz7!J222:AZ222,szakasz7!J229:AZ229,szakasz7!J236:AZ236)","v":14.074999999999999},null,{"$f":"MAX(szakasz8!J12:AZ12,szakasz8!J19:AZ19,szakasz8!J26:AZ26,szakasz8!J33:AZ33,szakasz8!J40:AZ40,szakasz8!J47:AZ47,szakasz8!J54:AZ54,szakasz8!J61:AZ61,szakasz8!J68:AZ68,szakasz8!J75:AZ75,szakasz8!J82:AZ82,szakasz8!J89:AZ89,szakasz8!J96:AZ96,szakasz8!J103:AZ103,szakasz8!J110:AZ110,szakasz8!J117:AZ117,szakasz8!J124:AZ124,szakasz8!J131:AZ131,szakasz8!J138:AZ138,szakasz8!J145:AZ145,szakasz8!J152:AZ152,szakasz8!J159:AZ159,szakasz8!J166:AZ166,szakasz8!J173:AZ173,szakasz8!J180:AZ180,szakasz8!J187:AZ187,szakasz8!J194:AZ194,szakasz8!J201:AZ201,szakasz8!J208:AZ208,szakasz8!J215:AZ215,szakasz8!J222:AZ222,szakasz8!J229:AZ229,szakasz8!J236:AZ236)","v":17.25},null,{"$f":"MAX(szakasz9!J12:AZ12,szakasz9!J19:AZ19,szakasz9!J26:AZ26,szakasz9!J33:AZ33,szakasz9!J40:AZ40,szakasz9!J47:AZ47,szakasz9!J54:AZ54,szakasz9!J61:AZ61,szakasz9!J68:AZ68,szakasz9!J75:AZ75,szakasz9!J82:AZ82,szakasz9!J89:AZ89,szakasz9!J96:AZ96,szakasz9!J103:AZ103,szakasz9!J110:AZ110,szakasz9!J117:AZ117,szakasz9!J124:AZ124,szakasz9!J131:AZ131,szakasz9!J138:AZ138,szakasz9!J145:AZ145,szakasz9!J152:AZ152,szakasz9!J159:AZ159,szakasz9!J166:AZ166,szakasz9!J173:AZ173,szakasz9!J180:AZ180,szakasz9!J187:AZ187,szakasz9!J194:AZ194,szakasz9!J201:AZ201,szakasz9!J208:AZ208,szakasz9!J215:AZ215,szakasz9!J222:AZ222,szakasz9!J229:AZ229,szakasz9!J236:AZ236)","v":11.025},null,{"$f":"MAX(szakasz10!J12:AZ12,szakasz10!J19:AZ19,szakasz10!J26:AZ26,szakasz10!J33:AZ33,szakasz10!J40:AZ40,szakasz10!J47:AZ47,szakasz10!J54:AZ54,szakasz10!J61:AZ61,szakasz10!J68:AZ68,szakasz10!J75:AZ75,szakasz10!J82:AZ82,szakasz10!J89:AZ89,szakasz10!J96:AZ96,szakasz10!J103:AZ103,szakasz10!J110:AZ110,szakasz10!J117:AZ117,szakasz10!J124:AZ124,szakasz10!J131:AZ131,szakasz10!J138:AZ138,szakasz10!J145:AZ145,szakasz10!J152:AZ152,szakasz10!J159:AZ159,szakasz10!J166:AZ166,szakasz10!J173:AZ173,szakasz10!J180:AZ180,szakasz10!J187:AZ187,szakasz10!J194:AZ194,szakasz10!J201:AZ201,szakasz10!J208:AZ208,szakasz10!J215:AZ215,szakasz10!J222:AZ222,szakasz10!J229:AZ229,szakasz10!J236:AZ236)","v":16.3},null,18.850000000000001]
["    - fekete amur (black carp)",{"$f":"MAX(szakasz1!J13:AZ13,szakasz1!J20:AZ20,szakasz1!J27:AZ27,szakasz1!J34:AZ34,szakasz1!J41:AZ41,szakasz1!J48:AZ48,szakasz1!J55:AZ55,szakasz1!J62:AZ62,szakasz1!J69:AZ69,szakasz1!J76:AZ76,szakasz1!J83:AZ83,szakasz1!J90:AZ90,szakasz1!J97:AZ97,szakasz1!J104:AZ104,szakasz1!J111:AZ111,szakasz1!J118:AZ118,szakasz1!J125:AZ125,szakasz1!J132:AZ132,szakasz1!J139:AZ139,szakasz1!J146:AZ146,szakasz1!J153:AZ153,szakasz1!J160:AZ160,szakasz1!J167:AZ167,szakasz1!J174:AZ174,szakasz1!J181:AZ181,szakasz1!J188:AZ188,szakasz1!J195:AZ195,szakasz1!J202:AZ202,szakasz1!J209:AZ209,szakasz1!J216:AZ216,szakasz1!J223:AZ223,szakasz1!J230:AZ230,szakasz1!J237:AZ237)","v":11.2},null,{"$f":"MAX(szakasz2!J13:AZ13,szakasz2!J20:AZ20,szakasz2!J27:AZ27,szakasz2!J34:AZ34,szakasz2!J41:AZ41,szakasz2!J48:AZ48,szakasz2!J55:AZ55,szakasz2!J62:AZ62,szakasz2!J69:AZ69,szakasz2!J76:AZ76,szakasz2!J83:AZ83,szakasz2!J90:AZ90,szakasz2!J97:AZ97,szakasz2!J104:AZ104,szakasz2!J111:AZ111,szakasz2!J118:AZ118,szakasz2!J125:AZ125,szakasz2!J132:AZ132,szakasz2!J139:AZ139,szakasz2!J146:AZ146,szakasz2!J153:AZ153,szakasz2!J160:AZ160,szakasz2!J167:AZ167,szakasz2!J174:AZ174,szakasz2!J181:AZ181,szakasz2!J188:AZ188,szakasz2!J195:AZ195,szakasz2!J202:AZ202,szakasz2!J209:AZ209,szakasz2!J216:AZ216,szakasz2!J223:AZ223,szakasz2!J230:AZ230,szakasz2!J237:AZ237)","v":14.275},null,{"$f":"MAX(szakasz3!J13:AZ13,szakasz3!J20:AZ20,szakasz3!J27:AZ27,szakasz3!J34:AZ34,szakasz3!J41:AZ41,szakasz3!J48:AZ48,szakasz3!J55:AZ55,szakasz3!J62:AZ62,szakasz3!J69:AZ69,szakasz3!J76:AZ76,szakasz3!J83:AZ83,szakasz3!J90:AZ90,szakasz3!J97:AZ97,szakasz3!J104:AZ104,szakasz3!J111:AZ111,szakasz3!J118:AZ118,szakasz3!J125:AZ125,szakasz3!J132:AZ132,szakasz3!J139:AZ139,szakasz3!J146:AZ146,szakasz3!J153:AZ153,szakasz3!J160:AZ160,szakasz3!J167:AZ167,szakasz3!J174:AZ174,szakasz3!J181:AZ181,szakasz3!J188:AZ188,szakasz3!J195:AZ195,szakasz3!J202:AZ202,szakasz3!J209:AZ209,szakasz3!J216:AZ216,szakasz3!J223:AZ223,szakasz3!J230:AZ230,szakasz3!J237:AZ237)","v":4.9000000000000004},null,{"$f":"MAX(szakasz4!J13:AZ13,szakasz4!J20:AZ20,szakasz4!J27:AZ27,szakasz4!J34:AZ34,szakasz4!J41:AZ41,szakasz4!J48:AZ48,szakasz4!J55:AZ55,szakasz4!J62:AZ62,szakasz4!J69:AZ69,szakasz4!J76:AZ76,szakasz4!J83:AZ83,szakasz4!J90:AZ90,szakasz4!J97:AZ97,szakasz4!J104:AZ104,szakasz4!J111:AZ111,szakasz4!J118:AZ118,szakasz4!J125:AZ125,szakasz4!J132:AZ132,szakasz4!J139:AZ139,szakasz4!J146:AZ146,szakasz4!J153:AZ153,szakasz4!J160:AZ160,szakasz4!J167:AZ167,szakasz4!J174:AZ174,szakasz4!J181:AZ181,szakasz4!J188:AZ188,szakasz4!J195:AZ195,szakasz4!J202:AZ202,szakasz4!J209:AZ209,szakasz4!J216:AZ216,szakasz4!J223:AZ223,szakasz4!J230:AZ230,szakasz4!J237:AZ237)","v":17.074999999999999},null,{"$f":"MAX(szakasz5!J13:AZ13,szakasz5!J20:AZ20,szakasz5!J27:AZ27,szakasz5!J34:AZ34,szakasz5!J41:AZ41,szakasz5!J48:AZ48,szakasz5!J55:AZ55,szakasz5!J62:AZ62,szakasz5!J69:AZ69,szakasz5!J76:AZ76,szakasz5!J83:AZ83,szakasz5!J90:AZ90,szakasz5!J97:AZ97,szakasz5!J104:AZ104,szakasz5!J111:AZ111,szakasz5!J118:AZ118,szakasz5!J125:AZ125,szakasz5!J132:AZ132,szakasz5!J139:AZ139,szakasz5!J146:AZ146,szakasz5!J153:AZ153,szakasz5!J160:AZ160,szakasz5!J167:AZ167,szakasz5!J174:AZ174,szakasz5!J181:AZ181,szakasz5!J188:AZ188,szakasz5!J195:AZ195,szakasz5!J202:AZ202,szakasz5!J209:AZ209,szakasz5!J216:AZ216,szakasz5!J223:AZ223,szakasz5!J230:AZ230,szakasz5!J237:AZ237)","v":15.78},null,{"$f":"MAX(szakasz6!J13:AZ13,szakasz6!J20:AZ20,szakasz6!J27:AZ27,szakasz6!J34:AZ34,szakasz6!J41:AZ41,szakasz6!J48:AZ48,szakasz6!J55:AZ55,szakasz6!J62:AZ62,szakasz6!J69:AZ69,szakasz6!J76:AZ76,szakasz6!J83:AZ83,szakasz6!J90:AZ90,szakasz6!J97:AZ97,szakasz6!J104:AZ104,szakasz6!J111:AZ111,szakasz6!J118:AZ118,szakasz6!J125:AZ125,szakasz6!J132:AZ132,szakasz6!J139:AZ139,szakasz6!J146:AZ146,szakasz6!J153:AZ153,szakasz6!J160:AZ160,szakasz6!J167:AZ167,szakasz6!J174:AZ174,szakasz6!J181:AZ181,szakasz6!J188:AZ188,szakasz6!J195:AZ195,szakasz6!J202:AZ202,szakasz6!J209:AZ209,szakasz6!J216:AZ216,szakasz6!J223:AZ223,szakasz6!J230:AZ230,szakasz6!J237:AZ237)","v":11.775},null,{"$f":"MAX(szakasz7!J13:AZ13,szakasz7!J20:AZ20,szakasz7!J27:AZ27,szakasz7!J34:AZ34,szakasz7!J41:AZ41,szakasz7!J48:AZ48,szakasz7!J55:AZ55,szakasz7!J62:AZ62,szakasz7!J69:AZ69,szakasz7!J76:AZ76,szakasz7!J83:AZ83,szakasz7!J90:AZ90,szakasz7!J97:AZ97,szakasz7!J104:AZ104,szakasz7!J111:AZ111,szakasz7!J118:AZ118,szakasz7!J125:AZ125,szakasz7!J132:AZ132,szakasz7!J139:AZ139,szakasz7!J146:AZ146,szakasz7!J153:AZ153,szakasz7!J160:AZ160,szakasz7!J167:AZ167,szakasz7!J174:AZ174,szakasz7!J181:AZ181,szakasz7!J188:AZ188,szakasz7!J195:AZ195,szakasz7!J202:AZ202,szakasz7!J209:AZ209,szakasz7!J216:AZ216,szakasz7!J223:AZ223,szakasz7!J230:AZ230,szakasz7!J237:AZ237)","v":17.024999999999999},null,{"$f":"MAX(szakasz8!J13:AZ13,szakasz8!J20:AZ20,szakasz8!J27:AZ27,szakasz8!J34:AZ34,szakasz8!J41:AZ41,szakasz8!J48:AZ48,szakasz8!J55:AZ55,szakasz8!J62:AZ62,szakasz8!J69:AZ69,szakasz8!J76:AZ76,szakasz8!J83:AZ83,szakasz8!J90:AZ90,szakasz8!J97:AZ97,szakasz8!J104:AZ104,szakasz8!J111:AZ111,szakasz8!J118:AZ118,szakasz8!J125:AZ125,szakasz8!J132:AZ132,szakasz8!J139:AZ139,szakasz8!J146:AZ146,szakasz8!J153:AZ153,szakasz8!J160:AZ160,szakasz8!J167:AZ167,szakasz8!J174:AZ174,szakasz8!J181:AZ181,szakasz8!J188:AZ188,szakasz8!J195:AZ195,szakasz8!J202:AZ202,szakasz8!J209:AZ209,szakasz8!J216:AZ216,szakasz8!J223:AZ223,szakasz8!J230:AZ230,szakasz8!J237:AZ237)","v":17.925000000000001},null,{"$f":"MAX(szakasz9!J13:AZ13,szakasz9!J20:AZ20,szakasz9!J27:AZ27,szakasz9!J34:AZ34,szakasz9!J41:AZ41,szakasz9!J48:AZ48,szakasz9!J55:AZ55,szakasz9!J62:AZ62,szakasz9!J69:AZ69,szakasz9!J76:AZ76,szakasz9!J83:AZ83,szakasz9!J90:AZ90,szakasz9!J97:AZ97,szakasz9!J104:AZ104,szakasz9!J111:AZ111,szakasz9!J118:AZ118,szakasz9!J125:AZ125,szakasz9!J132:AZ132,szakasz9!J139:AZ139,szakasz9!J146:AZ146,szakasz9!J153:AZ153,szakasz9!J160:AZ160,szakasz9!J167:AZ167,szakasz9!J174:AZ174,szakasz9!J181:AZ181,szakasz9!J188:AZ188,szakasz9!J195:AZ195,szakasz9!J202:AZ202,szakasz9!J209:AZ209,szakasz9!J216:AZ216,szakasz9!J223:AZ223,szakasz9!J230:AZ230,szakasz9!J237:AZ237)","v":4.2249999999999996},null,{"$f":"MAX(szakasz10!J13:AZ13,szakasz10!J20:AZ20,szakasz10!J27:AZ27,szakasz10!J34:AZ34,szakasz10!J41:AZ41,szakasz10!J48:AZ48,szakasz10!J55:AZ55,szakasz10!J62:AZ62,szakasz10!J69:AZ69,szakasz10!J76:AZ76,szakasz10!J83:AZ83,szakasz10!J90:AZ90,szakasz10!J97:AZ97,szakasz10!J104:AZ104,szakasz10!J111:AZ111,szakasz10!J118:AZ118,szakasz10!J125:AZ125,szakasz10!J132:AZ132,szakasz10!J139:AZ139,szakasz10!J146:AZ146,szakasz10!J153:AZ153,szakasz10!J160:AZ160,szakasz10!J167:AZ167,szakasz10!J174:AZ174,szakasz10!J181:AZ181,szakasz10!J188:AZ188,szakasz10!J195:AZ195,szakasz10!J202:AZ202,szakasz10!J209:AZ209,szakasz10!J216:AZ216,szakasz10!J223:AZ223,szakasz10!J230:AZ230,szakasz10!J237:AZ237)","v":24.1},null,24.1]
["Összes hal  (kg) | (db) ",{"$f":"szakasz1!D238","v":1431.5900000000001},{"$f":"szakasz1!E238","v":180},{"$f":"szakasz2!D238","v":2223.9500000000003},{"$f":"szakasz2!E238","v":284},{"$f":"szakasz3!D238","v":1320.5699999999997},{"$f":"szakasz3!E238","v":155},{"$f":"szakasz4!D238","v":1690.3150000000001},{"$f":"szakasz4!E238","v":222},{"$f":"szakasz5!D238","v":1386.0249999999996},{"$f":"szakasz5!E238","v":165},{"$f":"szakasz6!D238","v":2269.7700000000004},{"$f":"szakasz6!E238","v":271},{"$f":"szakasz7!D238","v":1660.7749999999999},{"$f":"szakasz7!E238","v":191},{"$f":"szakasz8!D238","v":2686.7649999999999},{"$f":"szakasz8!E238","v":320},{"$f":"szakasz9!D238","v":1252.7000000000003},{"$f":"szakasz9!E238","v":150},{"$f":"szakasz10!D238","v":1748.4450000000002},{"$f":"szakasz10!E238","v":204},{"$f":"SUM(B15,D15,F15,H15,J15,L15,N15,P15,R15,T15)","v":17670.905000000002},{"$f":"SUM(C15,E15,G15,I15,K15,M15,O15,Q15,S15,U15)","v":2142}]
["    - tükörponty (mirror carp)",{"$f":"SUM(szakasz1!D8,szakasz1!D15,szakasz1!D22,szakasz1!D29,szakasz1!D36,szakasz1!D43,szakasz1!D50,szakasz1!D57,szakasz1!D64,szakasz1!D71,szakasz1!D78,szakasz1!D85,szakasz1!D92,szakasz1!D99,szakasz1!D106,szakasz1!D113,szakasz1!D120,szakasz1!D127,szakasz1!D134,szakasz1!D141,szakasz1!D148,szakasz1!D155,szakasz1!D162,szakasz1!D169,szakasz1!D176,szakasz1!D183,szakasz1!D190,szakasz1!D197,szakasz1!D204,szakasz1!D211,szakasz1!D218,szakasz1!D225,szakasz1!D232)","v":281.51499999999999},{"$f":"SUM(szakasz1!E8,szakasz1!E15,szakasz1!E22,szakasz1!E29,szakasz1!E36,szakasz1!E43,szakasz1!E50,szakasz1!E57,szakasz1!E64,szakasz1!E71,szakasz1!E78,szakasz1!E85,szakasz1!E92,szakasz1!E99,szakasz1!E106,szakasz1!E113,szakasz1!E120,szakasz1!E127,szakasz1!E134,szakasz1!E141,szakasz1!E148,szakasz1!E155,szakasz1!E162,szakasz1!E169,szakasz1!E176,szakasz1!E183,szakasz1!E190,szakasz1!E197,szakasz1!E204,szakasz1!E211,szakasz1!E218,szakasz1!E225,szakasz1!E232)","v":31},{"$f":"SUM(szakasz2!D8,szakasz2!D15,szakasz2!D22,szakasz2!D29,szakasz2!D36,szakasz2!D43,szakasz2!D50,szakasz2!D57,szakasz2!D64,szakasz2!D71,szakasz2!D78,szakasz2!D85,szakasz2!D92,szakasz2!D99,szakasz2!D106,szakasz2!D113,szakasz2!D120,szakasz2!D127,szakasz2!D134,szakasz2!D141,szakasz2!D148,szakasz2!D155,szakasz2!D162,szakasz2!D169,szakasz2!D176,szakasz2!D183,szakasz2!D190,szakasz2!D197,szakasz2!D204,szakasz2!D211,szakasz2!D218,szakasz2!D225,szakasz2!D232)","v":406.55000000000007},{"$f":"SUM(szakasz2!E8,szakasz2!E15,szakasz2!E22,szakasz2!E29,szakasz2!E36,szakasz2!E43,szakasz2!E50,szakasz2!E57,szakasz2!E64,szakasz2!E71,szakasz2!E78,szakasz2!E85,szakasz2!E92,szakasz2!E99,szakasz2!E106,szakasz2!E113,szakasz2!E120,szakasz2!E127,szakasz2!E134,szakasz2!E141,szakasz2!E148,szakasz2!E155,szakasz2!E162,szakasz2!E169,szakasz2!E176,szakasz2!E183,szakasz2!E190,szakasz2!E197,szakasz2!E204,szakasz2!E211,szakasz2!E218,szakasz2!E225,szakasz2!E232)","v":43},{"$f":"SUM(szakasz3!D8,szakasz3!D15,szakasz3!D22,szakasz3!D29,szakasz3!D36,szakasz3!D43,szakasz3!D50,szakasz3!D57,szakasz3!D64,szakasz3!D71,szakasz3!D78,szakasz3!D85,szakasz3!D92,szakasz3!D99,szakasz3!D106,szakasz3!D113,szakasz3!D120,szakasz3!D127,szakasz3!D134,szakasz3!D141,szakasz3!D148,szakasz3!D155,szakasz3!D162,szakasz3!D169,szakasz3!D176,szakasz3!D183,szakasz3!D190,szakasz3!D197,szakasz3!D204,szakasz3!D211,szakasz3!D218,szakasz3!D225,szakasz3!D232)","v":260.7},{"$f":"SUM(szakasz3!E8,szakasz3!E15,szakasz3!E22,szakasz3!E29,szakasz3!E36,szakasz3!E43,szakasz3!E50,szakasz3!E57,szakasz3!E64,szakasz3!E71,szakasz3!E78,szakasz3!E85,szakasz3!E92,szakasz3!E99,szakasz3!E106,szakasz3!E113,szakasz3!E120,szakasz3!E127,szakasz3!E134,szakasz3!E141,szakasz3!E148,szakasz3!E155,szakasz3!E162,szakasz3!E169,szakasz3!E176,szakasz3!E183,szakasz3!E190,szakasz3!E197,szakasz3!E204,szakasz3!E211,szakasz3!E218,szakasz3!E225,szakasz3!E232)","v":28},{"$f":"SUM(szakasz4!D8,szakasz4!D15,szakasz4!D22,szakasz4!D29,szakasz4!D36,szakasz4!D43,szakasz4!D50,szakasz4!D57,szakasz4!D64,szakasz4!D71,szakasz4!D78,szakasz4!D85,szakasz4!D92,szakasz4!D99,szakasz4!D106,szakasz4!D113,szakasz4!D120,szakasz4!D127,szakasz4!D134,szakasz4!D141,szakasz4!D148,szakasz4!D155,szakasz4!D162,szakasz4!D169,szakasz4!D176,szakasz4!D183,szakasz4!D190,szakasz4!D197,szakasz4!D204,szakasz4!D211,szakasz4!D218,szakasz4!D225,szakasz4!D232)","v":341.1149999999999},{"$f":"SUM(szakasz4!E8,szakasz4!E15,szakasz4!E22,szakasz4!E29,szakasz4!E36,szakasz4!E43,szakasz4!E50,szakasz4!E57,szakasz4!E64,szakasz4!E71,szakasz4!E78,szakasz4!E85,szakasz4!E92,szakasz4!E99,szakasz4!E106,szakasz4!E113,szakasz4!E120,szakasz4!E127,szakasz4!E134,szakasz4!E141,szakasz4!E148,szakasz4!E155,szakasz4!E162,szakasz4!E169,szakasz4!E176,szakasz4!E183,szakasz4!E190,szakasz4!E197,szakasz4!E204,szakasz4!E211,szakasz4!E218,szakasz4!E225,szakasz4!E232)","v":38},{"$f":"SUM(szakasz5!D8,szakasz5!D15,szakasz5!D22,szakasz5!D29,szakasz5!D36,szakasz5!D43,szakasz5!D50,szakasz5!D57,szakasz5!D64,szakasz5!D71,szakasz5!D78,szakasz5!D85,szakasz5!D92,szakasz5!D99,szakasz5!D106,szakasz5!D113,szakasz5!D120,szakasz5!D127,szakasz5!D134,szakasz5!D141,szakasz5!D148,szakasz5!D155,szakasz5!D162,szakasz5!D169,szakasz5!D176,szakasz5!D183,szakasz5!D190,szakasz5!D197,szakasz5!D204,szakasz5!D211,szakasz5!D218,szakasz5!D225,szakasz5!D232)","v":206.79999999999998},{"$f":"SUM(szakasz5!E8,szakasz5!E15,szakasz5!E22,szakasz5!E29,szakasz5!E36,szakasz5!E43,szakasz5!E50,szakasz5!E57,szakasz5!E64,szakasz5!E71,szakasz5!E78,szakasz5!E85,szakasz5!E92,szakasz5!E99,szakasz5!E106,szakasz5!E113,szakasz5!E120,szakasz5!E127,szakasz5!E134,szakasz5!E141,szakasz5!E148,szakasz5!E155,szakasz5!E162,szakasz5!E169,szakasz5!E176,szakasz5!E183,szakasz5!E190,szakasz5!E197,szakasz5!E204,szakasz5!E211,szakasz5!E218,szakasz5!E225,szakasz5!E232)","v":26},{"$f":"SUM(szakasz6!D8,szakasz6!D15,szakasz6!D22,szakasz6!D29,szakasz6!D36,szakasz6!D43,szakasz6!D50,szakasz6!D57,szakasz6!D64,szakasz6!D71,szakasz6!D78,szakasz6!D85,szakasz6!D92,szakasz6!D99,szakasz6!D106,szakasz6!D113,szakasz6!D120,szakasz6!D127,szakasz6!D134,szakasz6!D141,szakasz6!D148,szakasz6!D155,szakasz6!D162,szakasz6!D169,szakasz6!D176,szakasz6!D183,szakasz6!D190,szakasz6!D197,szakasz6!D204,szakasz6!D211,szakasz6!D218,szakasz6!D225,szakasz6!D232)","v":510.95500000000004},{"$f":"SUM(szakasz6!E8,szakasz6!E15,szakasz6!E22,szakasz6!E29,szakasz6!E36,szakasz6!E43,szakasz6!E50,szakasz6!E57,szakasz6!E64,szakasz6!E71,szakasz6!E78,szakasz6!E85,szakasz6!E92,szakasz6!E99,szakasz6!E106,szakasz6!E113,szakasz6!E120,szakasz6!E127,szakasz6!E134,szakasz6!E141,szakasz6!E148,szakasz6!E155,szakasz6!E162,szakasz6!E169,szakasz6!E176,szakasz6!E183,szakasz6!E190,szakasz6!E197,szakasz6!E204,szakasz6!E211,szakasz6!E218,szakasz6!E225,szakasz6!E232)","v":53},{"$f":"SUM(szakasz7!D8,szakasz7!D15,szakasz7!D22,szakasz7!D29,szakasz7!D36,szakasz7!D43,szakasz7!D50,szakasz7!D57,szakasz7!D64,szakasz7!D71,szakasz7!D78,szakasz7!D85,szakasz7!D92,szakasz7!D99,szakasz7!D106,szakasz7!D113,szakasz7!D120,szakasz7!D127,szakasz7!D134,szakasz7!D141,szakasz7!D148,szakasz7!D155,szakasz7!D162,szakasz7!D169,szakasz7!D176,szakasz7!D183,szakasz7!D190,szakasz7!D197,szakasz7!D204,szakasz7!D211,szakasz7!D218,szakasz7!D225,szakasz7!D232)","v":277.2},{"$f":"SUM(szakasz7!E8,szakasz7!E15,szakasz7!E22,szakasz7!E29,szakasz7!E36,szakasz7!E43,szakasz7!E50,szakasz7!E57,szakasz7!E64,szakasz7!E71,szakasz7!E78,szakasz7!E85,szakasz7!E92,szakasz7!E99,szakasz7!E106,szakasz7!E113,szakasz7!E120,szakasz7!E127,szakasz7!E134,szakasz7!E141,szakasz7!E148,szakasz7!E155,szakasz7!E162,szakasz7!E169,szakasz7!E176,szakasz7!E183,szakasz7!E190,szakasz7!E197,szakasz7!E204,szakasz7!E211,szakasz7!E218,szakasz7!E225,szakasz7!E232)","v":33},{"$f":"SUM(szakasz8!D8,szakasz8!D15,szakasz8!D22,szakasz8!D29,szakasz8!D36,szakasz8!D43,szakasz8!D50,szakasz8!D57,szakasz8!D64,szakasz8!D71,szakasz8!D78,szakasz8!D85,szakasz8!D92,szakasz8!D99,szakasz8!D106,szakasz8!D113,szakasz8!D120,szakasz8!D127,szakasz8!D134,szakasz8!D141,szakasz8!D148,szakasz8!D155,szakasz8!D162,szakasz8!D169,szakasz8!D176,szakasz8!D183,szakasz8!D190,szakasz8!D197,szakasz8!D204,szakasz8!D211,szakasz8!D218,szakasz8!D225,szakasz8!D232)","v":545.67499999999995},{"$f":"SUM(szakasz8!E8,szakasz8!E15,szakasz8!E22,szakasz8!E29,szakasz8!E36,szakasz8!E43,szakasz8!E50,szakasz8!E57,szakasz8!E64,szakasz8!E71,szakasz8!E78,szakasz8!E85,szakasz8!E92,szakasz8!E99,szakasz8!E106,szakasz8!E113,szakasz8!E120,szakasz8!E127,szakasz8!E134,szakasz8!E141,szakasz8!E148,szakasz8!E155,szakasz8!E162,szakasz8!E169,szakasz8!E176,szakasz8!E183,szakasz8!E190,szakasz8!E197,szakasz8!E204,szakasz8!E211,szakasz8!E218,szakasz8!E225,szakasz8!E232)","v":59},{"$f":"SUM(szakasz9!D8,szakasz9!D15,szakasz9!D22,szakasz9!D29,szakasz9!D36,szakasz9!D43,szakasz9!D50,szakasz9!D57,szakasz9!D64,szakasz9!D71,szakasz9!D78,szakasz9!D85,szakasz9!D92,szakasz9!D99,szakasz9!D106,szakasz9!D113,szakasz9!D120,szakasz9!D127,szakasz9!D134,szakasz9!D141,szakasz9!D148,szakasz9!D155,szakasz9!D162,szakasz9!D169,szakasz9!D176,szakasz9!D183,szakasz9!D190,szakasz9!D197,szakasz9!D204,szakasz9!D211,szakasz9!D218,szakasz9!D225,szakasz9!D232)","v":279.15000000000003},{"$f":"SUM(szakasz9!E8,szakasz9!E15,szakasz9!E22,szakasz9!E29,szakasz9!E36,szakasz9!E43,szakasz9!E50,szakasz9!E57,szakasz9!E64,szakasz9!E71,szakasz9!E78,szakasz9!E85,szakasz9!E92,szakasz9!E99,szakasz9!E106,szakasz9!E113,szakasz9!E120,szakasz9!E127,szakasz9!E134,szakasz9!E141,szakasz9!E148,szakasz9!E155,szakasz9!E162,szakasz9!E169,szakasz9!E176,szakasz9!E183,szakasz9!E190,szakasz9!E197,szakasz9!E204,szakasz9!E211,szakasz9!E218,szakasz9!E225,szakasz9!E232)","v":33},{"$f":"SUM(szakasz10!D8,szakasz10!D15,szakasz10!D22,szakasz10!D29,szakasz10!D36,szakasz10!D43,szakasz10!D50,szakasz10!D57,szakasz10!D64,szakasz10!D71,szakasz10!D78,szakasz10!D85,szakasz10!D92,szakasz10!D99,szakasz10!D106,szakasz10!D113,szakasz10!D120,szakasz10!D127,szakasz10!D134,szakasz10!D141,szakasz10!D148,szakasz10!D155,szakasz10!D162,szakasz10!D169,szakasz10!D176,szakasz10!D183,szakasz10!D190,szakasz10!D197,szakasz10!D204,szakasz10!D211,szakasz10!D218,szakasz10!D225,szakasz10!D232)","v":403.42000000000013},{"$f":"SUM(szakasz10!E8,szakasz10!E15,szakasz10!E22,szakasz10!E29,szakasz10!E36,szakasz10!E43,szakasz10!E50,szakasz10!E57,szakasz10!E64,szakasz10!E71,szakasz10!E78,szakasz10!E85,szakasz10!E92,szakasz10!E99,szakasz10!E106,szakasz10!E113,szakasz10!E120,szakasz10!E127,szakasz10!E134,szakasz10!E141,szakasz10!E148,szakasz10!E155,szakasz10!E162,szakasz10!E169,szakasz10!E176,szakasz10!E183,szakasz10!E190,szakasz10!E197,szakasz10!E204,szakasz10!E211,szakasz10!E218,szakasz10!E225,szakasz10!E232)","v":42},{"$f":"SUM(B16,D16,F16,H16,J16,L16,N16,P16,R16,T16)","v":3513.0800000000004},{"$f":"SUM(C16,E16,G16,I16,K16,M16,O16,Q16,S16,U16)","v":386}]
["    - tőponty (common carp)",{"$f":"SUM(szakasz1!D9,szakasz1!D16,szakasz1!D23,szakasz1!D30,szakasz1!D37,szakasz1!D44,szakasz1!D51,szakasz1!D58,szakasz1!D65,szakasz1!D72,szakasz1!D79,szakasz1!D86,szakasz1!D93,szakasz1!D100,szakasz1!D107,szakasz1!D114,szakasz1!D121,szakasz1!D128,szakasz1!D135,szakasz1!D142,szakasz1!D149,szakasz1!D156,szakasz1!D163,szakasz1!D170,szakasz1!D177,szakasz1!D184,szakasz1!D191,szakasz1!D198,szakasz1!D205,szakasz1!D212,szakasz1!D219,szakasz1!D226,szakasz1!D233)","v":737.95},{"$f":"SUM(szakasz1!E9,szakasz1!E16,szakasz1!E23,szakasz1!E30,szakasz1!E37,szakasz1!E44,szakasz1!E51,szakasz1!E58,szakasz1!E65,szakasz1!E72,szakasz1!E79,szakasz1!E86,szakasz1!E93,szakasz1!E100,szakasz1!E107,szakasz1!E114,szakasz1!E121,szakasz1!E128,szakasz1!E135,szakasz1!E142,szakasz1!E149,szakasz1!E156,szakasz1!E163,szakasz1!E170,szakasz1!E177,szakasz1!E184,szakasz1!E191,szakasz1!E198,szakasz1!E205,szakasz1!E212,szakasz1!E219,szakasz1!E226,szakasz1!E233)","v":103},{"$f":"SUM(szakasz2!D9,szakasz2!D16,szakasz2!D23,szakasz2!D30,szakasz2!D37,szakasz2!D44,szakasz2!D51,szakasz2!D58,szakasz2!D65,szakasz2!D72,szakasz2!D79,szakasz2!D86,szakasz2!D93,szakasz2!D100,szakasz2!D107,szakasz2!D114,szakasz2!D121,szakasz2!D128,szakasz2!D135,szakasz2!D142,szakasz2!D149,szakasz2!D156,szakasz2!D163,szakasz2!D170,szakasz2!D177,szakasz2!D184,szakasz2!D191,szakasz2!D198,szakasz2!D205,szakasz2!D212,szakasz2!D219,szakasz2!D226,szakasz2!D233)","v":630.85000000000014},{"$f":"SUM(szakasz2!E9,szakasz2!E16,szakasz2!E23,szakasz2!E30,szakasz2!E37,szakasz2!E44,szakasz2!E51,szakasz2!E58,szakasz2!E65,szakasz2!E72,szakasz2!E79,szakasz2!E86,szakasz2!E93,szakasz2!E100,szakasz2!E107,szakasz2!E114,szakasz2!E121,szakasz2!E128,szakasz2!E135,szakasz2!E142,szakasz2!E149,szakasz2!E156,szakasz2!E163,szakasz2!E170,szakasz2!E177,szakasz2!E184,szakasz2!E191,szakasz2!E198,szakasz2!E205,szakasz2!E212,szakasz2!E219,szakasz2!E226,szakasz2!E233)","v":100},{"$f":"SUM(szakasz3!D9,szakasz3!D16,szakasz3!D23,szakasz3!D30,szakasz3!D37,szakasz3!D44,szakasz3!D51,szakasz3!D58,szakasz3!D65,szakasz3!D72,szakasz3!D79,szakasz3!D86,szakasz3!D93,szakasz3!D100,szakasz3!D107,szakasz3!D114,szakasz3!D121,szakasz3!D128,szakasz3!D135,szakasz3!D142,szakasz3!D149,szakasz3!D156,szakasz3!D163,szakasz3!D170,szakasz3!D177,szakasz3!D184,szakasz3!D191,szakasz3!D198,szakasz3!D205,szakasz3!D212,szakasz3!D219,szakasz3!D226,szakasz3!D233)","v":636.6},{"$f":"SUM(szakasz3!E9,szakasz3!E16,szakasz3!E23,szakasz3!E30,szakasz3!E37,szakasz3!E44,szakasz3!E51,szakasz3!E58,szakasz3!E65,szakasz3!E72,szakasz3!E79,szakasz3!E86,szakasz3!E93,szakasz3!E100,szakasz3!E107,szakasz3!E114,szakasz3!E121,szakasz3!E128,szakasz3!E135,szakasz3!E142,szakasz3!E149,szakasz3!E156,szakasz3!E163,szakasz3!E170,szakasz3!E177,szakasz3!E184,szakasz3!E191,szakasz3!E198,szakasz3!E205,szakasz3!E212,szakasz3!E219,szakasz3!E226,szakasz3!E233)","v":78},{"$f":"SUM(szakasz4!D9,szakasz4!D16,szakasz4!D23,szakasz4!D30,szakasz4!D37,szakasz4!D44,szakasz4!D51,szakasz4!D58,szakasz4!D65,szakasz4!D72,szakasz4!D79,szakasz4!D86,szakasz4!D93,szakasz4!D100,szakasz4!D107,szakasz4!D114,szakasz4!D121,szakasz4!D128,szakasz4!D135,szakasz4!D142,szakasz4!D149,szakasz4!D156,szakasz4!D163,szakasz4!D170,szakasz4!D177,szakasz4!D184,szakasz4!D191,szakasz4!D198,szakasz4!D205,szakasz4!D212,szakasz4!D219,szakasz4!D226,szakasz4!D233)","v":470.57499999999999},{"$f":"SUM(szakasz4!E9,szakasz4!E16,szakasz4!E23,szakasz4!E30,szakasz4!E37,szakasz4!E44,szakasz4!E51,szakasz4!E58,szakasz4!E65,szakasz4!E72,szakasz4!E79,szakasz4!E86,szakasz4!E93,szakasz4!E100,szakasz4!E107,szakasz4!E114,szakasz4!E121,szakasz4!E128,szakasz4!E135,szakasz4!E142,szakasz4!E149,szakasz4!E156,szakasz4!E163,szakasz4!E170,szakasz4!E177,szakasz4!E184,szakasz4!E191,szakasz4!E198,szakasz4!E205,szakasz4!E212,szakasz4!E219,szakasz4!E226,szakasz4!E233)","v":69},{"$f":"SUM(szakasz5!D9,szakasz5!D16,szakasz5!D23,szakasz5!D30,szakasz5!D37,szakasz5!D44,szakasz5!D51,szakasz5!D58,szakasz5!D65,szakasz5!D72,szakasz5!D79,szakasz5!D86,szakasz5!D93,szakasz5!D100,szakasz5!D107,szakasz5!D114,szakasz5!D121,szakasz5!D128,szakasz5!D135,szakasz5!D142,szakasz5!D149,szakasz5!D156,szakasz5!D163,szakasz5!D170,szakasz5!D177,szakasz5!D184,szakasz5!D191,szakasz5!D198,szakasz5!D205,szakasz5!D212,szakasz5!D219,szakasz5!D226,szakasz5!D233)","v":559.87},{"$f":"SUM(szakasz5!E9,szakasz5!E16,szakasz5!E23,szakasz5!E30,szakasz5!E37,szakasz5!E44,szakasz5!E51,szakasz5!E58,szakasz5!E65,szakasz5!E72,szakasz5!E79,szakasz5!E86,szakasz5!E93,szakasz5!E100,szakasz5!E107,szakasz5!E114,szakasz5!E121,szakasz5!E128,szakasz5!E135,szakasz5!E142,szakasz5!E149,szakasz5!E156,szakasz5!E163,szakasz5!E170,szakasz5!E177,szakasz5!E184,szakasz5!E191,szakasz5!E198,szakasz5!E205,szakasz5!E212,szakasz5!E219,szakasz5!E226,szakasz5!E233)","v":79},{"$f":"SUM(szakasz6!D9,szakasz6!D16,szakasz6!D23,szakasz6!D30,szakasz6!D37,szakasz6!D44,szakasz6!D51,szakasz6!D58,szakasz6!D65,szakasz6!D72,szakasz6!D79,szakasz6!D86,szakasz6!D93,szakasz6!D100,szakasz6!D107,szakasz6!D114,szakasz6!D121,szakasz6!D128,szakasz6!D135,szakasz6!D142,szakasz6!D149,szakasz6!D156,szakasz6!D163,szakasz6!D170,szakasz6!D177,szakasz6!D184,szakasz6!D191,szakasz6!D198,szakasz6!D205,szakasz6!D212,szakasz6!D219,szakasz6!D226,szakasz6!D233)","v":476.5200000000001},{"$f":"SUM(szakasz6!E9,szakasz6!E16,szakasz6!E23,szakasz6!E30,szakasz6!E37,szakasz6!E44,szakasz6!E51,szakasz6!E58,szakasz6!E65,szakasz6!E72,szakasz6!E79,szakasz6!E86,szakasz6!E93,szakasz6!E100,szakasz6!E107,szakasz6!E114,szakasz6!E121,szakasz6!E128,szakasz6!E135,szakasz6!E142,szakasz6!E149,szakasz6!E156,szakasz6!E163,szakasz6!E170,szakasz6!E177,szakasz6!E184,szakasz6!E191,szakasz6!E198,szakasz6!E205,szakasz6!E212,szakasz6!E219,szakasz6!E226,szakasz6!E233)","v":66},{"$f":"SUM(szakasz7!D9,szakasz7!D16,szakasz7!D23,szakasz7!D30,szakasz7!D37,szakasz7!D44,szakasz7!D51,szakasz7!D58,szakasz7!D65,szakasz7!D72,szakasz7!D79,szakasz7!D86,szakasz7!D93,szakasz7!D100,szakasz7!D107,szakasz7!D114,szakasz7!D121,szakasz7!D128,szakasz7!D135,szakasz7!D142,szakasz7!D149,szakasz7!D156,szakasz7!D163,szakasz7!D170,szakasz7!D177,szakasz7!D184,szakasz7!D191,szakasz7!D198,szakasz7!D205,szakasz7!D212,szakasz7!D219,szakasz7!D226,szakasz7!D233)","v":597.97500000000014},{"$f":"SUM(szakasz7!E9,szakasz7!E16,szakasz7!E23,szakasz7!E30,szakasz7!E37,szakasz7!E44,szakasz7!E51,szakasz7!E58,szakasz7!E65,szakasz7!E72,szakasz7!E79,szakasz7!E86,szakasz7!E93,szakasz7!E100,szakasz7!E107,szakasz7!E114,szakasz7!E121,szakasz7!E128,szakasz7!E135,szakasz7!E142,szakasz7!E149,szakasz7!E156,szakasz7!E163,szakasz7!E170,szakasz7!E177,szakasz7!E184,szakasz7!E191,szakasz7!E198,szakasz7!E205,szakasz7!E212,szakasz7!E219,szakasz7!E226,szakasz7!E233)","v":81},{"$f":"SUM(szakasz8!D9,szakasz8!D16,szakasz8!D23,szakasz8!D30,szakasz8!D37,szakasz8!D44,szakasz8!D51,szakasz8!D58,szakasz8!D65,szakasz8!D72,szakasz8!D79,szakasz8!D86,szakasz8!D93,szakasz8!D100,szakasz8!D107,szakasz8!D114,szakasz8!D121,szakasz8!D128,szakasz8!D135,szakasz8!D142,szakasz8!D149,szakasz8!D156,szakasz8!D163,szakasz8!D170,szakasz8!D177,szakasz8!D184,szakasz8!D191,szakasz8!D198,szakasz8!D205,szakasz8!D212,szakasz8!D219,szakasz8!D226,szakasz8!D233)","v":673.34999999999991},{"$f":"SUM(szakasz8!E9,szakasz8!E16,szakasz8!E23,szakasz8!E30,szakasz8!E37,szakasz8!E44,szakasz8!E51,szakasz8!E58,szakasz8!E65,szakasz8!E72,szakasz8!E79,szakasz8!E86,szakasz8!E93,szakasz8!E100,szakasz8!E107,szakasz8!E114,szakasz8!E121,szakasz8!E128,szakasz8!E135,szakasz8!E142,szakasz8!E149,szakasz8!E156,szakasz8!E163,szakasz8!E170,szakasz8!E177,szakasz8!E184,szakasz8!E191,szakasz8!E198,szakasz8!E205,szakasz8!E212,szakasz8!E219,szakasz8!E226,szakasz8!E233)","v":97},{"$f":"SUM(szakasz9!D9,szakasz9!D16,szakasz9!D23,szakasz9!D30,szakasz9!D37,szakasz9!D44,szakasz9!D51,szakasz9!D58,szakasz9!D65,szakasz9!D72,szakasz9!D79,szakasz9!D86,szakasz9!D93,szakasz9!D100,szakasz9!D107,szakasz9!D114,szakasz9!D121,szakasz9!D128,szakasz9!D135,szakasz9!D142,szakasz9!D149,szakasz9!D156,szakasz9!D163,szakasz9!D170,szakasz9!D177,szakasz9!D184,szakasz9!D191,szakasz9!D198,szakasz9!D205,szakasz9!D212,szakasz9!D219,szakasz9!D226,szakasz9!D233)","v":432.24999999999994},{"$f":"SUM(szakasz9!E9,szakasz9!E16,szakasz9!E23,szakasz9!E30,szakasz9!E37,szakasz9!E44,szakasz9!E51,szakasz9!E58,szakasz9!E65,szakasz9!E72,szakasz9!E79,szakasz9!E86,szakasz9!E93,szakasz9!E100,szakasz9!E107,szakasz9!E114,szakasz9!E121,szakasz9!E128,szakasz9!E135,szakasz9!E142,szakasz9!E149,szakasz9!E156,szakasz9!E163,szakasz9!E170,szakasz9!E177,szakasz9!E184,szakasz9!E191,szakasz9!E198,szakasz9!E205,szakasz9!E212,szakasz9!E219,szakasz9!E226,szakasz9!E233)","v":59},{"$f":"SUM(szakasz10!D9,szakasz10!D16,szakasz10!D23,szakasz10!D30,szakasz10!D37,szakasz10!D44,szakasz10!D51,szakasz10!D58,szakasz10!D65,szakasz10!D72,szakasz10!D79,szakasz10!D86,szakasz10!D93,szakasz10!D100,szakasz10!D107,szakasz10!D114,szakasz10!D121,szakasz10!D128,szakasz10!D135,szakasz10!D142,szakasz10!D149,szakasz10!D156,szakasz10!D163,szakasz10!D170,szakasz10!D177,szakasz10!D184,szakasz10!D191,szakasz10!D198,szakasz10!D205,szakasz10!D212,szakasz10!D219,szakasz10!D226,szakasz10!D233)","v":484.17499999999995},{"$f":"SUM(szakasz10!E9,szakasz10!E16,szakasz10!E23,szakasz10!E30,szakasz10!E37,szakasz10!E44,szakasz10!E51,szakasz10!E58,szakasz10!E65,szakasz10!E72,szakasz10!E79,szakasz10!E86,szakasz10!E93,szakasz10!E100,szakasz10!E107,szakasz10!E114,szakasz10!E121,szakasz10!E128,szakasz10!E135,szakasz10!E142,szakasz10!E149,szakasz10!E156,szakasz10!E163,szakasz10!E170,szakasz10!E177,szakasz10!E184,szakasz10!E191,szakasz10!E198,szakasz10!E205,szakasz10!E212,szakasz10!E219,szakasz10!E226,szakasz10!E233)","v":71},5700.1150000000007,803]
["    - nyurgaponty (wild carp)",{"$f":"SUM(szakasz1!D10,szakasz1!D17,szakasz1!D24,szakasz1!D31,szakasz1!D38,szakasz1!D45,szakasz1!D52,szakasz1!D59,szakasz1!D66,szakasz1!D73,szakasz1!D80,szakasz1!D87,szakasz1!D94,szakasz1!D101,szakasz1!D108,szakasz1!D115,szakasz1!D122,szakasz1!D129,szakasz1!D136,szakasz1!D143,szakasz1!D150,szakasz1!D157,szakasz1!D164,szakasz1!D171,szakasz1!D178,szakasz1!D185,szakasz1!D192,szakasz1!D199,szakasz1!D206,szakasz1!D213,szakasz1!D220,szakasz1!D227,szakasz1!D234)","v":319.62499999999994},{"$f":"SUM(szakasz1!E10,szakasz1!E17,szakasz1!E24,szakasz1!E31,szakasz1!E38,szakasz1!E45,szakasz1!E52,szakasz1!E59,szakasz1!E66,szakasz1!E73,szakasz1!E80,szakasz1!E87,szakasz1!E94,szakasz1!E101,szakasz1!E108,szakasz1!E115,szakasz1!E122,szakasz1!E129,szakasz1!E136,szakasz1!E143,szakasz1!E150,szakasz1!E157,szakasz1!E164,szakasz1!E171,szakasz1!E178,szakasz1!E185,szakasz1!E192,szakasz1!E199,szakasz1!E206,szakasz1!E213,szakasz1!E220,szakasz1!E227,szakasz1!E234)","v":30},{"$f":"SUM(szakasz2!D10,szakasz2!D17,szakasz2!D24,szakasz2!D31,szakasz2!D38,szakasz2!D45,szakasz2!D52,szakasz2!D59,szakasz2!D66,szakasz2!D73,szakasz2!D80,szakasz2!D87,szakasz2!D94,szakasz2!D101,szakasz2!D108,szakasz2!D115,szakasz2!D122,szakasz2!D129,szakasz2!D136,szakasz2!D143,szakasz2!D150,szakasz2!D157,szakasz2!D164,szakasz2!D171,szakasz2!D178,szakasz2!D185,szakasz2!D192,szakasz2!D199,szakasz2!D206,szakasz2!D213,szakasz2!D220,szakasz2!D227,szakasz2!D234)","v":918.7},{"$f":"SUM(szakasz2!E10,szakasz2!E17,szakasz2!E24,szakasz2!E31,szakasz2!E38,szakasz2!E45,szakasz2!E52,szakasz2!E59,szakasz2!E66,szakasz2!E73,szakasz2!E80,szakasz2!E87,szakasz2!E94,szakasz2!E101,szakasz2!E108,szakasz2!E115,szakasz2!E122,szakasz2!E129,szakasz2!E136,szakasz2!E143,szakasz2!E150,szakasz2!E157,szakasz2!E164,szakasz2!E171,szakasz2!E178,szakasz2!E185,szakasz2!E192,szakasz2!E199,szakasz2!E206,szakasz2!E213,szakasz2!E220,szakasz2!E227,szakasz2!E234)","v":99},{"$f":"SUM(szakasz3!D10,szakasz3!D17,szakasz3!D24,szakasz3!D31,szakasz3!D38,szakasz3!D45,szakasz3!D52,szakasz3!D59,szakasz3!D66,szakasz3!D73,szakasz3!D80,szakasz3!D87,szakasz3!D94,szakasz3!D101,szakasz3!D108,szakasz3!D115,szakasz3!D122,szakasz3!D129,szakasz3!D136,szakasz3!D143,szakasz3!D150,szakasz3!D157,szakasz3!D164,szakasz3!D171,szakasz3!D178,szakasz3!D185,szakasz3!D192,szakasz3!D199,szakasz3!D206,szakasz3!D213,szakasz3!D220,szakasz3!D227,szakasz3!D234)","v":291.10000000000008},{"$f":"SUM(szakasz3!E10,szakasz3!E17,szakasz3!E24,szakasz3!E31,szakasz3!E38,szakasz3!E45,szakasz3!E52,szakasz3!E59,szakasz3!E66,szakasz3!E73,szakasz3!E80,szakasz3!E87,szakasz3!E94,szakasz3!E101,szakasz3!E108,szakasz3!E115,szakasz3!E122,szakasz3!E129,szakasz3!E136,szakasz3!E143,szakasz3!E150,szakasz3!E157,szakasz3!E164,szakasz3!E171,szakasz3!E178,szakasz3!E185,szakasz3!E192,szakasz3!E199,szakasz3!E206,szakasz3!E213,szakasz3!E220,szakasz3!E227,szakasz3!E234)","v":28},{"$f":"SUM(szakasz4!D10,szakasz4!D17,szakasz4!D24,szakasz4!D31,szakasz4!D38,szakasz4!D45,szakasz4!D52,szakasz4!D59,szakasz4!D66,szakasz4!D73,szakasz4!D80,szakasz4!D87,szakasz4!D94,szakasz4!D101,szakasz4!D108,szakasz4!D115,szakasz4!D122,szakasz4!D129,szakasz4!D136,szakasz4!D143,szakasz4!D150,szakasz4!D157,szakasz4!D164,szakasz4!D171,szakasz4!D178,szakasz4!D185,szakasz4!D192,szakasz4!D199,szakasz4!D206,szakasz4!D213,szakasz4!D220,szakasz4!D227,szakasz4!D234)","v":525.09999999999991},{"$f":"SUM(szakasz4!E10,szakasz4!E17,szakasz4!E24,szakasz4!E31,szakasz4!E38,szakasz4!E45,szakasz4!E52,szakasz4!E59,szakasz4!E66,szakasz4!E73,szakasz4!E80,szakasz4!E87,szakasz4!E94,szakasz4!E101,szakasz4!E108,szakasz4!E115,szakasz4!E122,szakasz4!E129,szakasz4!E136,szakasz4!E143,szakasz4!E150,szakasz4!E157,szakasz4!E164,szakasz4!E171,szakasz4!E178,szakasz4!E185,szakasz4!E192,szakasz4!E199,szakasz4!E206,szakasz4!E213,szakasz4!E220,szakasz4!E227,szakasz4!E234)","v":58},{"$f":"SUM(szakasz5!D10,szakasz5!D17,szakasz5!D24,szakasz5!D31,szakasz5!D38,szakasz5!D45,szakasz5!D52,szakasz5!D59,szakasz5!D66,szakasz5!D73,szakasz5!D80,szakasz5!D87,szakasz5!D94,szakasz5!D101,szakasz5!D108,szakasz5!D115,szakasz5!D122,szakasz5!D129,szakasz5!D136,szakasz5!D143,szakasz5!D150,szakasz5!D157,szakasz5!D164,szakasz5!D171,szakasz5!D178,szakasz5!D185,szakasz5!D192,szakasz5!D199,szakasz5!D206,szakasz5!D213,szakasz5!D220,szakasz5!D227,szakasz5!D234)","v":404.45},{"$f":"SUM(szakasz5!E10,szakasz5!E17,szakasz5!E24,szakasz5!E31,szakasz5!E38,szakasz5!E45,szakasz5!E52,szakasz5!E59,szakasz5!E66,szakasz5!E73,szakasz5!E80,szakasz5!E87,szakasz5!E94,szakasz5!E101,szakasz5!E108,szakasz5!E115,szakasz5!E122,szakasz5!E129,szakasz5!E136,szakasz5!E143,szakasz5!E150,szakasz5!E157,szakasz5!E164,szakasz5!E171,szakasz5!E178,szakasz5!E185,szakasz5!E192,szakasz5!E199,szakasz5!E206,szakasz5!E213,szakasz5!E220,szakasz5!E227,szakasz5!E234)","v":34},{"$f":"SUM(szakasz6!D10,szakasz6!D17,szakasz6!D24,szakasz6!D31,szakasz6!D38,szakasz6!D45,szakasz6!D52,szakasz6!D59,szakasz6!D66,szakasz6!D73,szakasz6!D80,szakasz6!D87,szakasz6!D94,szakasz6!D101,szakasz6!D108,szakasz6!D115,szakasz6!D122,szakasz6!D129,szakasz6!D136,szakasz6!D143,szakasz6!D150,szakasz6!D157,szakasz6!D164,szakasz6!D171,szakasz6!D178,szakasz6!D185,szakasz6!D192,szakasz6!D199,szakasz6!D206,szakasz6!D213,szakasz6!D220,szakasz6!D227,szakasz6!D234)","v":895.74999999999977},{"$f":"SUM(szakasz6!E10,szakasz6!E17,szakasz6!E24,szakasz6!E31,szakasz6!E38,szakasz6!E45,szakasz6!E52,szakasz6!E59,szakasz6!E66,szakasz6!E73,szakasz6!E80,szakasz6!E87,szakasz6!E94,szakasz6!E101,szakasz6!E108,szakasz6!E115,szakasz6!E122,szakasz6!E129,szakasz6!E136,szakasz6!E143,szakasz6!E150,szakasz6!E157,szakasz6!E164,szakasz6!E171,szakasz6!E178,szakasz6!E185,szakasz6!E192,szakasz6!E199,szakasz6!E206,szakasz6!E213,szakasz6!E220,szakasz6!E227,szakasz6!E234)","v":91},{"$f":"SUM(szakasz7!D10,szakasz7!D17,szakasz7!D24,szakasz7!D31,szakasz7!D38,szakasz7!D45,szakasz7!D52,szakasz7!D59,szakasz7!D66,szakasz7!D73,szakasz7!D80,szakasz7!D87,szakasz7!D94,szakasz7!D101,szakasz7!D108,szakasz7!D115,szakasz7!D122,szakasz7!D129,szakasz7!D136,szakasz7!D143,szakasz7!D150,szakasz7!D157,szakasz7!D164,szakasz7!D171,szakasz7!D178,szakasz7!D185,szakasz7!D192,szakasz7!D199,szakasz7!D206,szakasz7!D213,szakasz7!D220,szakasz7!D227,szakasz7!D234)","v":456.99999999999994},{"$f":"SUM(szakasz7!E10,szakasz7!E17,szakasz7!E24,szakasz7!E31,szakasz7!E38,szakasz7!E45,szakasz7!E52,szakasz7!E59,szakasz7!E66,szakasz7!E73,szakasz7!E80,szakasz7!E87,szakasz7!E94,szakasz7!E101,szakasz7!E108,szakasz7!E115,szakasz7!E122,szakasz7!E129,szakasz7!E136,szakasz7!E143,szakasz7!E150,szakasz7!E157,szakasz7!E164,szakasz7!E171,szakasz7!E178,szakasz7!E185,szakasz7!E192,szakasz7!E199,szakasz7!E206,szakasz7!E213,szakasz7!E220,szakasz7!E227,szakasz7!E234)","v":41},{"$f":"SUM(szakasz8!D10,szakasz8!D17,szakasz8!D24,szakasz8!D31,szakasz8!D38,szakasz8!D45,szakasz8!D52,szakasz8!D59,szakasz8!D66,szakasz8!D73,szakasz8!D80,szakasz8!D87,szakasz8!D94,szakasz8!D101,szakasz8!D108,szakasz8!D115,szakasz8!D122,szakasz8!D129,szakasz8!D136,szakasz8!D143,szakasz8!D150,szakasz8!D157,szakasz8!D164,szakasz8!D171,szakasz8!D178,szakasz8!D185,szakasz8!D192,szakasz8!D199,szakasz8!D206,szakasz8!D213,szakasz8!D220,szakasz8!D227,szakasz8!D234)","v":1083.0149999999999},{"$f":"SUM(szakasz8!E10,szakasz8!E17,szakasz8!E24,szakasz8!E31,szakasz8!E38,szakasz8!E45,szakasz8!E52,szakasz8!E59,szakasz8!E66,szakasz8!E73,szakasz8!E80,szakasz8!E87,szakasz8!E94,szakasz8!E101,szakasz8!E108,szakasz8!E115,szakasz8!E122,szakasz8!E129,szakasz8!E136,szakasz8!E143,szakasz8!E150,szakasz8!E157,szakasz8!E164,szakasz8!E171,szakasz8!E178,szakasz8!E185,szakasz8!E192,szakasz8!E199,szakasz8!E206,szakasz8!E213,szakasz8!E220,szakasz8!E227,szakasz8!E234)","v":112},{"$f":"SUM(szakasz9!D10,szakasz9!D17,szakasz9!D24,szakasz9!D31,szakasz9!D38,szakasz9!D45,szakasz9!D52,szakasz9!D59,szakasz9!D66,szakasz9!D73,szakasz9!D80,szakasz9!D87,szakasz9!D94,szakasz9!D101,szakasz9!D108,szakasz9!D115,szakasz9!D122,szakasz9!D129,szakasz9!D136,szakasz9!D143,szakasz9!D150,szakasz9!D157,szakasz9!D164,szakasz9!D171,szakasz9!D178,szakasz9!D185,szakasz9!D192,szakasz9!D199,szakasz9!D206,szakasz9!D213,szakasz9!D220,szakasz9!D227,szakasz9!D234)","v":410},{"$f":"SUM(szakasz9!E10,szakasz9!E17,szakasz9!E24,szakasz9!E31,szakasz9!E38,szakasz9!E45,szakasz9!E52,szakasz9!E59,szakasz9!E66,szakasz9!E73,szakasz9!E80,szakasz9!E87,szakasz9!E94,szakasz9!E101,szakasz9!E108,szakasz9!E115,szakasz9!E122,szakasz9!E129,szakasz9!E136,szakasz9!E143,szakasz9!E150,szakasz9!E157,szakasz9!E164,szakasz9!E171,szakasz9!E178,szakasz9!E185,szakasz9!E192,szakasz9!E199,szakasz9!E206,szakasz9!E213,szakasz9!E220,szakasz9!E227,szakasz9!E234)","v":39},{"$f":"SUM(szakasz10!D10,szakasz10!D17,szakasz10!D24,szakasz10!D31,szakasz10!D38,szakasz10!D45,szakasz10!D52,szakasz10!D59,szakasz10!D66,szakasz10!D73,szakasz10!D80,szakasz10!D87,szakasz10!D94,szakasz10!D101,szakasz10!D108,szakasz10!D115,szakasz10!D122,szakasz10!D129,szakasz10!D136,szakasz10!D143,szakasz10!D150,szakasz10!D157,szakasz10!D164,szakasz10!D171,szakasz10!D178,szakasz10!D185,szakasz10!D192,szakasz10!D199,szakasz10!D206,szakasz10!D213,szakasz10!D220,szakasz10!D227,szakasz10!D234)","v":602.22499999999991},{"$f":"SUM(szakasz10!E10,szakasz10!E17,szakasz10!E24,szakasz10!E31,szakasz10!E38,szakasz10!E45,szakasz10!E52,szakasz10!E59,szakasz10!E66,szakasz10!E73,szakasz10!E80,szakasz10!E87,szakasz10!E94,szakasz10!E101,szakasz10!E108,szakasz10!E115,szakasz10!E122,szakasz10!E129,szakasz10!E136,szakasz10!E143,szakasz10!E150,szakasz10!E157,szakasz10!E164,szakasz10!E171,szakasz10!E178,szakasz10!E185,szakasz10!E192,szakasz10!E199,szakasz10!E206,szakasz10!E213,szakasz10!E220,szakasz10!E227,szakasz10!E234)","v":63},5906.9650000000001,595]
["    - koi ponty (koi carp)",{"$f":"SUM(szakasz1!D11,szakasz1!D18,szakasz1!D25,szakasz1!D32,szakasz1!D39,szakasz1!D46,szakasz1!D53,szakasz1!D60,szakasz1!D67,szakasz1!D74,szakasz1!D81,szakasz1!D88,szakasz1!D95,szakasz1!D102,szakasz1!D109,szakasz1!D116,szakasz1!D123,szakasz1!D130,szakasz1!D137,szakasz1!D144,szakasz1!D151,szakasz1!D158,szakasz1!D165,szakasz1!D172,szakasz1!D179,szakasz1!D186,szakasz1!D193,szakasz1!D200,szakasz1!D207,szakasz1!D214,szakasz1!D221,szakasz1!D228,szakasz1!D235)","v":38.274999999999999},{"$f":"SUM(szakasz1!E11,szakasz1!E18,szakasz1!E25,szakasz1!E32,szakasz1!E39,szakasz1!E46,szakasz1!E53,szakasz1!E60,szakasz1!E67,szakasz1!E74,szakasz1!E81,szakasz1!E88,szakasz1!E95,szakasz1!E102,szakasz1!E109,szakasz1!E116,szakasz1!E123,szakasz1!E130,szakasz1!E137,szakasz1!E144,szakasz1!E151,szakasz1!E158,szakasz1!E165,szakasz1!E172,szakasz1!E179,szakasz1!E186,szakasz1!E193,szakasz1!E200,szakasz1!E207,szakasz1!E214,szakasz1!E221,szakasz1!E228,szakasz1!E235)","v":6},{"$f":"SUM(szakasz2!D11,szakasz2!D18,szakasz2!D25,szakasz2!D32,szakasz2!D39,szakasz2!D46,szakasz2!D53,szakasz2!D60,szakasz2!D67,szakasz2!D74,szakasz2!D81,szakasz2!D88,szakasz2!D95,szakasz2!D102,szakasz2!D109,szakasz2!D116,szakasz2!D123,szakasz2!D130,szakasz2!D137,szakasz2!D144,szakasz2!D151,szakasz2!D158,szakasz2!D165,szakasz2!D172,szakasz2!D179,szakasz2!D186,szakasz2!D193,szakasz2!D200,szakasz2!D207,szakasz2!D214,szakasz2!D221,szakasz2!D228,szakasz2!D235)","v":130.125},{"$f":"SUM(szakasz2!E11,szakasz2!E18,szakasz2!E25,szakasz2!E32,szakasz2!E39,szakasz2!E46,szakasz2!E53,szakasz2!E60,szakasz2!E67,szakasz2!E74,szakasz2!E81,szakasz2!E88,szakasz2!E95,szakasz2!E102,szakasz2!E109,szakasz2!E116,szakasz2!E123,szakasz2!E130,szakasz2!E137,szakasz2!E144,szakasz2!E151,szakasz2!E158,szakasz2!E165,szakasz2!E172,szakasz2!E179,szakasz2!E186,szakasz2!E193,szakasz2!E200,szakasz2!E207,szakasz2!E214,szakasz2!E221,szakasz2!E228,szakasz2!E235)","v":14},{"$f":"SUM(szakasz3!D11,szakasz3!D18,szakasz3!D25,szakasz3!D32,szakasz3!D39,szakasz3!D46,szakasz3!D53,szakasz3!D60,szakasz3!D67,szakasz3!D74,szakasz3!D81,szakasz3!D88,szakasz3!D95,szakasz3!D102,szakasz3!D109,szakasz3!D116,szakasz3!D123,szakasz3!D130,szakasz3!D137,szakasz3!D144,szakasz3!D151,szakasz3!D158,szakasz3!D165,szakasz3!D172,szakasz3!D179,szakasz3!D186,szakasz3!D193,szakasz3!D200,szakasz3!D207,szakasz3!D214,szakasz3!D221,szakasz3!D228,szakasz3!D235)","v":24.75},{"$f":"SUM(szakasz3!E11,szakasz3!E18,szakasz3!E25,szakasz3!E32,szakasz3!E39,szakasz3!E46,szakasz3!E53,szakasz3!E60,szakasz3!E67,szakasz3!E74,szakasz3!E81,szakasz3!E88,szakasz3!E95,szakasz3!E102,szakasz3!E109,szakasz3!E116,szakasz3!E123,szakasz3!E130,szakasz3!E137,szakasz3!E144,szakasz3!E151,szakasz3!E158,szakasz3!E165,szakasz3!E172,szakasz3!E179,szakasz3!E186,szakasz3!E193,szakasz3!E200,szakasz3!E207,szakasz3!E214,szakasz3!E221,szakasz3!E228,szakasz3!E235)","v":3},{"$f":"SUM(szakasz4!D11,szakasz4!D18,szakasz4!D25,szakasz4!D32,szakasz4!D39,szakasz4!D46,szakasz4!D53,szakasz4!D60,szakasz4!D67,szakasz4!D74,szakasz4!D81,szakasz4!D88,szakasz4!D95,szakasz4!D102,szakasz4!D109,szakasz4!D116,szakasz4!D123,szakasz4!D130,szakasz4!D137,szakasz4!D144,szakasz4!D151,szakasz4!D158,szakasz4!D165,szakasz4!D172,szakasz4!D179,szakasz4!D186,szakasz4!D193,szakasz4!D200,szakasz4!D207,szakasz4!D214,szakasz4!D221,szakasz4!D228,szakasz4!D235)","v":114.2},{"$f":"SUM(szakasz4!E11,szakasz4!E18,szakasz4!E25,szakasz4!E32,szakasz4!E39,szakasz4!E46,szakasz4!E53,szakasz4!E60,szakasz4!E67,szakasz4!E74,szakasz4!E81,szakasz4!E88,szakasz4!E95,szakasz4!E102,szakasz4!E109,szakasz4!E116,szakasz4!E123,szakasz4!E130,szakasz4!E137,szakasz4!E144,szakasz4!E151,szakasz4!E158,szakasz4!E165,szakasz4!E172,szakasz4!E179,szakasz4!E186,szakasz4!E193,szakasz4!E200,szakasz4!E207,szakasz4!E214,szakasz4!E221,szakasz4!E228,szakasz4!E235)","v":14},{"$f":"SUM(szakasz5!D11,szakasz5!D18,szakasz5!D25,szakasz5!D32,szakasz5!D39,szakasz5!D46,szakasz5!D53,szakasz5!D60,szakasz5!D67,szakasz5!D74,szakasz5!D81,szakasz5!D88,szakasz5!D95,szakasz5!D102,szakasz5!D109,szakasz5!D116,szakasz5!D123,szakasz5!D130,szakasz5!D137,szakasz5!D144,szakasz5!D151,szakasz5!D158,szakasz5!D165,szakasz5!D172,szakasz5!D179,szakasz5!D186,szakasz5!D193,szakasz5!D200,szakasz5!D207,szakasz5!D214,szakasz5!D221,szakasz5!D228,szakasz5!D235)","v":85.350000000000009},{"$f":"SUM(szakasz5!E11,szakasz5!E18,szakasz5!E25,szakasz5!E32,szakasz5!E39,szakasz5!E46,szakasz5!E53,szakasz5!E60,szakasz5!E67,szakasz5!E74,szakasz5!E81,szakasz5!E88,szakasz5!E95,szakasz5!E102,szakasz5!E109,szakasz5!E116,szakasz5!E123,szakasz5!E130,szakasz5!E137,szakasz5!E144,szakasz5!E151,szakasz5!E158,szakasz5!E165,szakasz5!E172,szakasz5!E179,szakasz5!E186,szakasz5!E193,szakasz5!E200,szakasz5!E207,szakasz5!E214,szakasz5!E221,szakasz5!E228,szakasz5!E235)","v":11},{"$f":"SUM(szakasz6!D11,szakasz6!D18,szakasz6!D25,szakasz6!D32,szakasz6!D39,szakasz6!D46,szakasz6!D53,szakasz6!D60,szakasz6!D67,szakasz6!D74,szakasz6!D81,szakasz6!D88,szakasz6!D95,szakasz6!D102,szakasz6!D109,szakasz6!D116,szakasz6!D123,szakasz6!D130,szakasz6!D137,szakasz6!D144,szakasz6!D151,szakasz6!D158,szakasz6!D165,szakasz6!D172,szakasz6!D179,szakasz6!D186,szakasz6!D193,szakasz6!D200,szakasz6!D207,szakasz6!D214,szakasz6!D221,szakasz6!D228,szakasz6!D235)","v":128.72500000000002},{"$f":"SUM(szakasz6!E11,szakasz6!E18,szakasz6!E25,szakasz6!E32,szakasz6!E39,szakasz6!E46,szakasz6!E53,szakasz6!E60,szakasz6!E67,szakasz6!E74,szakasz6!E81,szakasz6!E88,szakasz6!E95,szakasz6!E102,szakasz6!E109,szakasz6!E116,szakasz6!E123,szakasz6!E130,szakasz6!E137,szakasz6!E144,szakasz6!E151,szakasz6!E158,szakasz6!E165,szakasz6!E172,szakasz6!E179,szakasz6!E186,szakasz6!E193,szakasz6!E200,szakasz6!E207,szakasz6!E214,szakasz6!E221,szakasz6!E228,szakasz6!E235)","v":15},{"$f":"SUM(szakasz7!D11,szakasz7!D18,szakasz7!D25,szakasz7!D32,szakasz7!D39,szakasz7!D46,szakasz7!D53,szakasz7!D60,szakasz7!D67,szakasz7!D74,szakasz7!D81,szakasz7!D88,szakasz7!D95,szakasz7!D102,szakasz7!D109,szakasz7!D116,szakasz7!D123,szakasz7!D130,szakasz7!D137,szakasz7!D144,szakasz7!D151,szakasz7!D158,szakasz7!D165,szakasz7!D172,szakasz7!D179,szakasz7!D186,szakasz7!D193,szakasz7!D200,szakasz7!D207,szakasz7!D214,szakasz7!D221,szakasz7!D228,szakasz7!D235)","v":82.899999999999991},{"$f":"SUM(szakasz7!E11,szakasz7!E18,szakasz7!E25,szakasz7!E32,szakasz7!E39,szakasz7!E46,szakasz7!E53,szakasz7!E60,szakasz7!E67,szakasz7!E74,szakasz7!E81,szakasz7!E88,szakasz7!E95,szakasz7!E102,szakasz7!E109,szakasz7!E116,szakasz7!E123,szakasz7!E130,szakasz7!E137,szakasz7!E144,szakasz7!E151,szakasz7!E158,szakasz7!E165,szakasz7!E172,szakasz7!E179,szakasz7!E186,szakasz7!E193,szakasz7!E200,szakasz7!E207,szakasz7!E214,szakasz7!E221,szakasz7!E228,szakasz7!E235)","v":9},{"$f":"SUM(szakasz8!D11,szakasz8!D18,szakasz8!D25,szakasz8!D32,szakasz8!D39,szakasz8!D46,szakasz8!D53,szakasz8!D60,szakasz8!D67,szakasz8!D74,szakasz8!D81,szakasz8!D88,szakasz8!D95,szakasz8!D102,szakasz8!D109,szakasz8!D116,szakasz8!D123,szakasz8!D130,szakasz8!D137,szakasz8!D144,szakasz8!D151,szakasz8!D158,szakasz8!D165,szakasz8!D172,szakasz8!D179,szakasz8!D186,szakasz8!D193,szakasz8!D200,szakasz8!D207,szakasz8!D214,szakasz8!D221,szakasz8!D228,szakasz8!D235)","v":102.625},{"$f":"SUM(szakasz8!E11,szakasz8!E18,szakasz8!E25,szakasz8!E32,szakasz8!E39,szakasz8!E46,szakasz8!E53,szakasz8!E60,szakasz8!E67,szakasz8!E74,szakasz8!E81,szakasz8!E88,szakasz8!E95,szakasz8!E102,szakasz8!E109,szakasz8!E116,szakasz8!E123,szakasz8!E130,szakasz8!E137,szakasz8!E144,szakasz8!E151,szakasz8!E158,szakasz8!E165,szakasz8!E172,szakasz8!E179,szakasz8!E186,szakasz8!E193,szakasz8!E200,szakasz8!E207,szakasz8!E214,szakasz8!E221,szakasz8!E228,szakasz8!E235)","v":12},{"$f":"SUM(szakasz9!D11,szakasz9!D18,szakasz9!D25,szakasz9!D32,szakasz9!D39,szakasz9!D46,szakasz9!D53,szakasz9!D60,szakasz9!D67,szakasz9!D74,szakasz9!D81,szakasz9!D88,szakasz9!D95,szakasz9!D102,szakasz9!D109,szakasz9!D116,szakasz9!D123,szakasz9!D130,szakasz9!D137,szakasz9!D144,szakasz9!D151,szakasz9!D158,szakasz9!D165,szakasz9!D172,szakasz9!D179,szakasz9!D186,szakasz9!D193,szakasz9!D200,szakasz9!D207,szakasz9!D214,szakasz9!D221,szakasz9!D228,szakasz9!D235)","v":68.2},{"$f":"SUM(szakasz9!E11,szakasz9!E18,szakasz9!E25,szakasz9!E32,szakasz9!E39,szakasz9!E46,szakasz9!E53,szakasz9!E60,szakasz9!E67,szakasz9!E74,szakasz9!E81,szakasz9!E88,szakasz9!E95,szakasz9!E102,szakasz9!E109,szakasz9!E116,szakasz9!E123,szakasz9!E130,szakasz9!E137,szakasz9!E144,szakasz9!E151,szakasz9!E158,szakasz9!E165,szakasz9!E172,szakasz9!E179,szakasz9!E186,szakasz9!E193,szakasz9!E200,szakasz9!E207,szakasz9!E214,szakasz9!E221,szakasz9!E228,szakasz9!E235)","v":7},{"$f":"SUM(szakasz10!D11,szakasz10!D18,szakasz10!D25,szakasz10!D32,szakasz10!D39,szakasz10!D46,szakasz10!D53,szakasz10!D60,szakasz10!D67,szakasz10!D74,szakasz10!D81,szakasz10!D88,szakasz10!D95,szakasz10!D102,szakasz10!D109,szakasz10!D116,szakasz10!D123,szakasz10!D130,szakasz10!D137,szakasz10!D144,szakasz10!D151,szakasz10!D158,szakasz10!D165,szakasz10!D172,szakasz10!D179,szakasz10!D186,szakasz10!D193,szakasz10!D200,szakasz10!D207,szakasz10!D214,szakasz10!D221,szakasz10!D228,szakasz10!D235)","v":95.524999999999991},{"$f":"SUM(szakasz10!E11,szakasz10!E18,szakasz10!E25,szakasz10!E32,szakasz10!E39,szakasz10!E46,szakasz10!E53,szakasz10!E60,szakasz10!E67,szakasz10!E74,szakasz10!E81,szakasz10!E88,szakasz10!E95,szakasz10!E102,szakasz10!E109,szakasz10!E116,szakasz10!E123,szakasz10!E130,szakasz10!E137,szakasz10!E144,szakasz10!E151,szakasz10!E158,szakasz10!E165,szakasz10!E172,szakasz10!E179,szakasz10!E186,szakasz10!E193,szakasz10!E200,szakasz10!E207,szakasz10!E214,szakasz10!E221,szakasz10!E228,szakasz10!E235)","v":11},870.67500000000007,102]
["    - amur (grass carp)",{"$f":"SUM(szakasz1!D12,szakasz1!D19,szakasz1!D26,szakasz1!D33,szakasz1!D40,szakasz1!D47,szakasz1!D54,szakasz1!D61,szakasz1!D68,szakasz1!D75,szakasz1!D82,szakasz1!D89,szakasz1!D96,szakasz1!D103,szakasz1!D110,szakasz1!D117,szakasz1!D124,szakasz1!D131,szakasz1!D138,szakasz1!D145,szakasz1!D152,szakasz1!D159,szakasz1!D166,szakasz1!D173,szakasz1!D180,szakasz1!D187,szakasz1!D194,szakasz1!D201,szakasz1!D208,szakasz1!D215,szakasz1!D222,szakasz1!D229,szakasz1!D236)","v":24.2},{"$f":"SUM(szakasz1!E12,szakasz1!E19,szakasz1!E26,szakasz1!E33,szakasz1!E40,szakasz1!E47,szakasz1!E54,szakasz1!E61,szakasz1!E68,szakasz1!E75,szakasz1!E82,szakasz1!E89,szakasz1!E96,szakasz1!E103,szakasz1!E110,szakasz1!E117,szakasz1!E124,szakasz1!E131,szakasz1!E138,szakasz1!E145,szakasz1!E152,szakasz1!E159,szakasz1!E166,szakasz1!E173,szakasz1!E180,szakasz1!E187,szakasz1!E194,szakasz1!E201,szakasz1!E208,szakasz1!E215,szakasz1!E222,szakasz1!E229,szakasz1!E236)","v":4},{"$f":"SUM(szakasz2!D12,szakasz2!D19,szakasz2!D26,szakasz2!D33,szakasz2!D40,szakasz2!D47,szakasz2!D54,szakasz2!D61,szakasz2!D68,szakasz2!D75,szakasz2!D82,szakasz2!D89,szakasz2!D96,szakasz2!D103,szakasz2!D110,szakasz2!D117,szakasz2!D124,szakasz2!D131,szakasz2!D138,szakasz2!D145,szakasz2!D152,szakasz2!D159,szakasz2!D166,szakasz2!D173,szakasz2!D180,szakasz2!D187,szakasz2!D194,szakasz2!D201,szakasz2!D208,szakasz2!D215,szakasz2!D222,szakasz2!D229,szakasz2!D236)","v":53.875},{"$f":"SUM(szakasz2!E12,szakasz2!E19,szakasz2!E26,szakasz2!E33,szakasz2!E40,szakasz2!E47,szakasz2!E54,szakasz2!E61,szakasz2!E68,szakasz2!E75,szakasz2!E82,szakasz2!E89,szakasz2!E96,szakasz2!E103,szakasz2!E110,szakasz2!E117,szakasz2!E124,szakasz2!E131,szakasz2!E138,szakasz2!E145,szakasz2!E152,szakasz2!E159,szakasz2!E166,szakasz2!E173,szakasz2!E180,szakasz2!E187,szakasz2!E194,szakasz2!E201,szakasz2!E208,szakasz2!E215,szakasz2!E222,szakasz2!E229,szakasz2!E236)","v":8},{"$f":"SUM(szakasz3!D12,szakasz3!D19,szakasz3!D26,szakasz3!D33,szakasz3!D40,szakasz3!D47,szakasz3!D54,szakasz3!D61,szakasz3!D68,szakasz3!D75,szakasz3!D82,szakasz3!D89,szakasz3!D96,szakasz3!D103,szakasz3!D110,szakasz3!D117,szakasz3!D124,szakasz3!D131,szakasz3!D138,szakasz3!D145,szakasz3!D152,szakasz3!D159,szakasz3!D166,szakasz3!D173,szakasz3!D180,szakasz3!D187,szakasz3!D194,szakasz3!D201,szakasz3!D208,szakasz3!D215,szakasz3!D222,szakasz3!D229,szakasz3!D236)","v":65.594999999999999},{"$f":"SUM(szakasz3!E12,szakasz3!E19,szakasz3!E26,szakasz3!E33,szakasz3!E40,szakasz3!E47,szakasz3!E54,szakasz3!E61,szakasz3!E68,szakasz3!E75,szakasz3!E82,szakasz3!E89,szakasz3!E96,szakasz3!E103,szakasz3!E110,szakasz3!E117,szakasz3!E124,szakasz3!E131,szakasz3!E138,szakasz3!E145,szakasz3!E152,szakasz3!E159,szakasz3!E166,szakasz3!E173,szakasz3!E180,szakasz3!E187,szakasz3!E194,szakasz3!E201,szakasz3!E208,szakasz3!E215,szakasz3!E222,szakasz3!E229,szakasz3!E236)","v":7},{"$f":"SUM(szakasz4!D12,szakasz4!D19,szakasz4!D26,szakasz4!D33,szakasz4!D40,szakasz4!D47,szakasz4!D54,szakasz4!D61,szakasz4!D68,szakasz4!D75,szakasz4!D82,szakasz4!D89,szakasz4!D96,szakasz4!D103,szakasz4!D110,szakasz4!D117,szakasz4!D124,szakasz4!D131,szakasz4!D138,szakasz4!D145,szakasz4!D152,szakasz4!D159,szakasz4!D166,szakasz4!D173,szakasz4!D180,szakasz4!D187,szakasz4!D194,szakasz4!D201,szakasz4!D208,szakasz4!D215,szakasz4!D222,szakasz4!D229,szakasz4!D236)","v":97.424999999999997},{"$f":"SUM(szakasz4!E12,szakasz4!E19,szakasz4!E26,szakasz4!E33,szakasz4!E40,szakasz4!E47,szakasz4!E54,szakasz4!E61,szakasz4!E68,szakasz4!E75,szakasz4!E82,szakasz4!E89,szakasz4!E96,szakasz4!E103,szakasz4!E110,szakasz4!E117,szakasz4!E124,szakasz4!E131,szakasz4!E138,szakasz4!E145,szakasz4!E152,szakasz4!E159,szakasz4!E166,szakasz4!E173,szakasz4!E180,szakasz4!E187,szakasz4!E194,szakasz4!E201,szakasz4!E208,szakasz4!E215,szakasz4!E222,szakasz4!E229,szakasz4!E236)","v":11},{"$f":"SUM(szakasz5!D12,szakasz5!D19,szakasz5!D26,szakasz5!D33,szakasz5!D40,szakasz5!D47,szakasz5!D54,szakasz5!D61,szakasz5!D68,szakasz5!D75,szakasz5!D82,szakasz5!D89,szakasz5!D96,szakasz5!D103,szakasz5!D110,szakasz5!D117,szakasz5!D124,szakasz5!D131,szakasz5!D138,szakasz5!D145,szakasz5!D152,szakasz5!D159,szakasz5!D166,szakasz5!D173,szakasz5!D180,szakasz5!D187,szakasz5!D194,szakasz5!D201,szakasz5!D208,szakasz5!D215,szakasz5!D222,szakasz5!D229,szakasz5!D236)","v":59.95},{"$f":"SUM(szakasz5!E12,szakasz5!E19,szakasz5!E26,szakasz5!E33,szakasz5!E40,szakasz5!E47,szakasz5!E54,szakasz5!E61,szakasz5!E68,szakasz5!E75,szakasz5!E82,szakasz5!E89,szakasz5!E96,szakasz5!E103,szakasz5!E110,szakasz5!E117,szakasz5!E124,szakasz5!E131,szakasz5!E138,szakasz5!E145,szakasz5!E152,szakasz5!E159,szakasz5!E166,szakasz5!E173,szakasz5!E180,szakasz5!E187,szakasz5!E194,szakasz5!E201,szakasz5!E208,szakasz5!E215,szakasz5!E222,szakasz5!E229,szakasz5!E236)","v":6},{"$f":"SUM(szakasz6!D12,szakasz6!D19,szakasz6!D26,szakasz6!D33,szakasz6!D40,szakasz6!D47,szakasz6!D54,szakasz6!D61,szakasz6!D68,szakasz6!D75,szakasz6!D82,szakasz6!D89,szakasz6!D96,szakasz6!D103,szakasz6!D110,szakasz6!D117,szakasz6!D124,szakasz6!D131,szakasz6!D138,szakasz6!D145,szakasz6!D152,szakasz6!D159,szakasz6!D166,szakasz6!D173,szakasz6!D180,szakasz6!D187,szakasz6!D194,szakasz6!D201,szakasz6!D208,szakasz6!D215,szakasz6!D222,szakasz6!D229,szakasz6!D236)","v":107.02},{"$f":"SUM(szakasz6!E12,szakasz6!E19,szakasz6!E26,szakasz6!E33,szakasz6!E40,szakasz6!E47,szakasz6!E54,szakasz6!E61,szakasz6!E68,szakasz6!E75,szakasz6!E82,szakasz6!E89,szakasz6!E96,szakasz6!E103,szakasz6!E110,szakasz6!E117,szakasz6!E124,szakasz6!E131,szakasz6!E138,szakasz6!E145,szakasz6!E152,szakasz6!E159,szakasz6!E166,szakasz6!E173,szakasz6!E180,szakasz6!E187,szakasz6!E194,szakasz6!E201,szakasz6!E208,szakasz6!E215,szakasz6!E222,szakasz6!E229,szakasz6!E236)","v":11},{"$f":"SUM(szakasz7!D12,szakasz7!D19,szakasz7!D26,szakasz7!D33,szakasz7!D40,szakasz7!D47,szakasz7!D54,szakasz7!D61,szakasz7!D68,szakasz7!D75,szakasz7!D82,szakasz7!D89,szakasz7!D96,szakasz7!D103,szakasz7!D110,szakasz7!D117,szakasz7!D124,szakasz7!D131,szakasz7!D138,szakasz7!D145,szakasz7!D152,szakasz7!D159,szakasz7!D166,szakasz7!D173,szakasz7!D180,szakasz7!D187,szakasz7!D194,szakasz7!D201,szakasz7!D208,szakasz7!D215,szakasz7!D222,szakasz7!D229,szakasz7!D236)","v":159.625},{"$f":"SUM(szakasz7!E12,szakasz7!E19,szakasz7!E26,szakasz7!E33,szakasz7!E40,szakasz7!E47,szakasz7!E54,szakasz7!E61,szakasz7!E68,szakasz7!E75,szakasz7!E82,szakasz7!E89,szakasz7!E96,szakasz7!E103,szakasz7!E110,szakasz7!E117,szakasz7!E124,szakasz7!E131,szakasz7!E138,szakasz7!E145,szakasz7!E152,szakasz7!E159,szakasz7!E166,szakasz7!E173,szakasz7!E180,szakasz7!E187,szakasz7!E194,szakasz7!E201,szakasz7!E208,szakasz7!E215,szakasz7!E222,szakasz7!E229,szakasz7!E236)","v":14},{"$f":"SUM(szakasz8!D12,szakasz8!D19,szakasz8!D26,szakasz8!D33,szakasz8!D40,szakasz8!D47,szakasz8!D54,szakasz8!D61,szakasz8!D68,szakasz8!D75,szakasz8!D82,szakasz8!D89,szakasz8!D96,szakasz8!D103,szakasz8!D110,szakasz8!D117,szakasz8!D124,szakasz8!D131,szakasz8!D138,szakasz8!D145,szakasz8!D152,szakasz8!D159,szakasz8!D166,szakasz8!D173,szakasz8!D180,szakasz8!D187,szakasz8!D194,szakasz8!D201,szakasz8!D208,szakasz8!D215,szakasz8!D222,szakasz8!D229,szakasz8!D236)","v":176.72499999999997},{"$f":"SUM(szakasz8!E12,szakasz8!E19,szakasz8!E26,szakasz8!E33,szakasz8!E40,szakasz8!E47,szakasz8!E54,szakasz8!E61,szakasz8!E68,szakasz8!E75,szakasz8!E82,szakasz8!E89,szakasz8!E96,szakasz8!E103,szakasz8!E110,szakasz8!E117,szakasz8!E124,szakasz8!E131,szakasz8!E138,szakasz8!E145,szakasz8!E152,szakasz8!E159,szakasz8!E166,szakasz8!E173,szakasz8!E180,szakasz8!E187,szakasz8!E194,szakasz8!E201,szakasz8!E208,szakasz8!E215,szakasz8!E222,szakasz8!E229,szakasz8!E236)","v":20},{"$f":"SUM(szakasz9!D12,szakasz9!D19,szakasz9!D26,szakasz9!D33,szakasz9!D40,szakasz9!D47,szakasz9!D54,szakasz9!D61,szakasz9!D68,szakasz9!D75,szakasz9!D82,szakasz9!D89,szakasz9!D96,szakasz9!D103,szakasz9!D110,szakasz9!D117,szakasz9!D124,szakasz9!D131,szakasz9!D138,szakasz9!D145,szakasz9!D152,szakasz9!D159,szakasz9!D166,szakasz9!D173,szakasz9!D180,szakasz9!D187,szakasz9!D194,szakasz9!D201,szakasz9!D208,szakasz9!D215,szakasz9!D222,szakasz9!D229,szakasz9!D236)","v":40.049999999999997},{"$f":"SUM(szakasz9!E12,szakasz9!E19,szakasz9!E26,szakasz9!E33,szakasz9!E40,szakasz9!E47,szakasz9!E54,szakasz9!E61,szakasz9!E68,szakasz9!E75,szakasz9!E82,szakasz9!E89,szakasz9!E96,szakasz9!E103,szakasz9!E110,szakasz9!E117,szakasz9!E124,szakasz9!E131,szakasz9!E138,szakasz9!E145,szakasz9!E152,szakasz9!E159,szakasz9!E166,szakasz9!E173,szakasz9!E180,szakasz9!E187,szakasz9!E194,szakasz9!E201,szakasz9!E208,szakasz9!E215,szakasz9!E222,szakasz9!E229,szakasz9!E236)","v":5},{"$f":"SUM(szakasz10!D12,szakasz10!D19,szakasz10!D26,szakasz10!D33,szakasz10!D40,szakasz10!D47,szakasz10!D54,szakasz10!D61,szakasz10!D68,szakasz10!D75,szakasz10!D82,szakasz10!D89,szakasz10!D96,szakasz10!D103,szakasz10!D110,szakasz10!D117,szakasz10!D124,szakasz10!D131,szakasz10!D138,szakasz10!D145,szakasz10!D152,szakasz10!D159,szakasz10!D166,szakasz10!D173,szakasz10!D180,szakasz10!D187,szakasz10!D194,szakasz10!D201,szakasz10!D208,szakasz10!D215,szakasz10!D222,szakasz10!D229,szakasz10!D236)","v":71.75},{"$f":"SUM(szakasz10!E12,szakasz10!E19,szakasz10!E26,szakasz10!E33,szakasz10!E40,szakasz10!E47,szakasz10!E54,szakasz10!E61,szakasz10!E68,szakasz10!E75,szakasz10!E82,szakasz10!E89,szakasz10!E96,szakasz10!E103,szakasz10!E110,szakasz10!E117,szakasz10!E124,szakasz10!E131,szakasz10!E138,szakasz10!E145,szakasz10!E152,szakasz10!E159,szakasz10!E166,szakasz10!E173,szakasz10!E180,szakasz10!E187,szakasz10!E194,szakasz10!E201,szakasz10!E208,szakasz10!E215,szakasz10!E222,szakasz10!E229,szakasz10!E236)","v":7},856.21499999999992,93]
["    - fekete amur (black carp)",{"$f":"SUM(szakasz1!D13,szakasz1!D20,szakasz1!D27,szakasz1!D34,szakasz1!D41,szakasz1!D48,szakasz1!D55,szakasz1!D62,szakasz1!D69,szakasz1!D76,szakasz1!D83,szakasz1!D90,szakasz1!D97,szakasz1!D104,szakasz1!D111,szakasz1!D118,szakasz1!D125,szakasz1!D132,szakasz1!D139,szakasz1!D146,szakasz1!D153,szakasz1!D160,szakasz1!D167,szakasz1!D174,szakasz1!D181,szakasz1!D188,szakasz1!D195,szakasz1!D202,szakasz1!D209,szakasz1!D216,szakasz1!D223,szakasz1!D230,szakasz1!D237)","v":30.024999999999999},{"$f":"SUM(szakasz1!E13,szakasz1!E20,szakasz1!E27,szakasz1!E34,szakasz1!E41,szakasz1!E48,szakasz1!E55,szakasz1!E62,szakasz1!E69,szakasz1!E76,szakasz1!E83,szakasz1!E90,szakasz1!E97,szakasz1!E104,szakasz1!E111,szakasz1!E118,szakasz1!E125,szakasz1!E132,szakasz1!E139,szakasz1!E146,szakasz1!E153,szakasz1!E160,szakasz1!E167,szakasz1!E174,szakasz1!E181,szakasz1!E188,szakasz1!E195,szakasz1!E202,szakasz1!E209,szakasz1!E216,szakasz1!E223,szakasz1!E230,szakasz1!E237)","v":6},{"$f":"SUM(szakasz2!D13,szakasz2!D20,szakasz2!D27,szakasz2!D34,szakasz2!D41,szakasz2!D48,szakasz2!D55,szakasz2!D62,szakasz2!D69,szakasz2!D76,szakasz2!D83,szakasz2!D90,szakasz2!D97,szakasz2!D104,szakasz2!D111,szakasz2!D118,szakasz2!D125,szakasz2!D132,szakasz2!D139,szakasz2!D146,szakasz2!D153,szakasz2!D160,szakasz2!D167,szakasz2!D174,szakasz2!D181,szakasz2!D188,szakasz2!D195,szakasz2!D202,szakasz2!D209,szakasz2!D216,szakasz2!D223,szakasz2!D230,szakasz2!D237)","v":83.85},{"$f":"SUM(szakasz2!E13,szakasz2!E20,szakasz2!E27,szakasz2!E34,szakasz2!E41,szakasz2!E48,szakasz2!E55,szakasz2!E62,szakasz2!E69,szakasz2!E76,szakasz2!E83,szakasz2!E90,szakasz2!E97,szakasz2!E104,szakasz2!E111,szakasz2!E118,szakasz2!E125,szakasz2!E132,szakasz2!E139,szakasz2!E146,szakasz2!E153,szakasz2!E160,szakasz2!E167,szakasz2!E174,szakasz2!E181,szakasz2!E188,szakasz2!E195,szakasz2!E202,szakasz2!E209,szakasz2!E216,szakasz2!E223,szakasz2!E230,szakasz2!E237)","v":20},{"$f":"SUM(szakasz3!D13,szakasz3!D20,szakasz3!D27,szakasz3!D34,szakasz3!D41,szakasz3!D48,szakasz3!D55,szakasz3!D62,szakasz3!D69,szakasz3!D76,szakasz3!D83,szakasz3!D90,szakasz3!D97,szakasz3!D104,szakasz3!D111,szakasz3!D118,szakasz3!D125,szakasz3!D132,szakasz3!D139,szakasz3!D146,szakasz3!D153,szakasz3!D160,szakasz3!D167,szakasz3!D174,szakasz3!D181,szakasz3!D188,szakasz3!D195,szakasz3!D202,szakasz3!D209,szakasz3!D216,szakasz3!D223,szakasz3!D230,szakasz3!D237)","v":41.825000000000003},{"$f":"SUM(szakasz3!E13,szakasz3!E20,szakasz3!E27,szakasz3!E34,szakasz3!E41,szakasz3!E48,szakasz3!E55,szakasz3!E62,szakasz3!E69,szakasz3!E76,szakasz3!E83,szakasz3!E90,szakasz3!E97,szakasz3!E104,szakasz3!E111,szakasz3!E118,szakasz3!E125,szakasz3!E132,szakasz3!E139,szakasz3!E146,szakasz3!E153,szakasz3!E160,szakasz3!E167,szakasz3!E174,szakasz3!E181,szakasz3!E188,szakasz3!E195,szakasz3!E202,szakasz3!E209,szakasz3!E216,szakasz3!E223,szakasz3!E230,szakasz3!E237)","v":11},{"$f":"SUM(szakasz4!D13,szakasz4!D20,szakasz4!D27,szakasz4!D34,szakasz4!D41,szakasz4!D48,szakasz4!D55,szakasz4!D62,szakasz4!D69,szakasz4!D76,szakasz4!D83,szakasz4!D90,szakasz4!D97,szakasz4!D104,szakasz4!D111,szakasz4!D118,szakasz4!D125,szakasz4!D132,szakasz4!D139,szakasz4!D146,szakasz4!D153,szakasz4!D160,szakasz4!D167,szakasz4!D174,szakasz4!D181,szakasz4!D188,szakasz4!D195,szakasz4!D202,szakasz4!D209,szakasz4!D216,szakasz4!D223,szakasz4!D230,szakasz4!D237)","v":141.9},{"$f":"SUM(szakasz4!E13,szakasz4!E20,szakasz4!E27,szakasz4!E34,szakasz4!E41,szakasz4!E48,szakasz4!E55,szakasz4!E62,szakasz4!E69,szakasz4!E76,szakasz4!E83,szakasz4!E90,szakasz4!E97,szakasz4!E104,szakasz4!E111,szakasz4!E118,szakasz4!E125,szakasz4!E132,szakasz4!E139,szakasz4!E146,szakasz4!E153,szakasz4!E160,szakasz4!E167,szakasz4!E174,szakasz4!E181,szakasz4!E188,szakasz4!E195,szakasz4!E202,szakasz4!E209,szakasz4!E216,szakasz4!E223,szakasz4!E230,szakasz4!E237)","v":32},{"$f":"SUM(szakasz5!D13,szakasz5!D20,szakasz5!D27,szakasz5!D34,szakasz5!D41,szakasz5!D48,szakasz5!D55,szakasz5!D62,szakasz5!D69,szakasz5!D76,szakasz5!D83,szakasz5!D90,szakasz5!D97,szakasz5!D104,szakasz5!D111,szakasz5!D118,szakasz5!D125,szakasz5!D132,szakasz5!D139,szakasz5!D146,szakasz5!D153,szakasz5!D160,szakasz5!D167,szakasz5!D174,szakasz5!D181,szakasz5!D188,szakasz5!D195,szakasz5!D202,szakasz5!D209,szakasz5!D216,szakasz5!D223,szakasz5!D230,szakasz5!D237)","v":69.60499999999999},{"$f":"SUM(szakasz5!E13,szakasz5!E20,szakasz5!E27,szakasz5!E34,szakasz5!E41,szakasz5!E48,szakasz5!E55,szakasz5!E62,szakasz5!E69,szakasz5!E76,szakasz5!E83,szakasz5!E90,szakasz5!E97,szakasz5!E104,szakasz5!E111,szakasz5!E118,szakasz5!E125,szakasz5!E132,szakasz5!E139,szakasz5!E146,szakasz5!E153,szakasz5!E160,szakasz5!E167,szakasz5!E174,szakasz5!E181,szakasz5!E188,szakasz5!E195,szakasz5!E202,szakasz5!E209,szakasz5!E216,szakasz5!E223,szakasz5!E230,szakasz5!E237)","v":9},{"$f":"SUM(szakasz6!D13,szakasz6!D20,szakasz6!D27,szakasz6!D34,szakasz6!D41,szakasz6!D48,szakasz6!D55,szakasz6!D62,szakasz6!D69,szakasz6!D76,szakasz6!D83,szakasz6!D90,szakasz6!D97,szakasz6!D104,szakasz6!D111,szakasz6!D118,szakasz6!D125,szakasz6!D132,szakasz6!D139,szakasz6!D146,szakasz6!D153,szakasz6!D160,szakasz6!D167,szakasz6!D174,szakasz6!D181,szakasz6!D188,szakasz6!D195,szakasz6!D202,szakasz6!D209,szakasz6!D216,szakasz6!D223,szakasz6!D230,szakasz6!D237)","v":150.79999999999998},{"$f":"SUM(szakasz6!E13,szakasz6!E20,szakasz6!E27,szakasz6!E34,szakasz6!E41,szakasz6!E48,szakasz6!E55,szakasz6!E62,szakasz6!E69,szakasz6!E76,szakasz6!E83,szakasz6!E90,szakasz6!E97,szakasz6!E104,szakasz6!E111,szakasz6!E118,szakasz6!E125,szakasz6!E132,szakasz6!E139,szakasz6!E146,szakasz6!E153,szakasz6!E160,szakasz6!E167,szakasz6!E174,szakasz6!E181,szakasz6!E188,szakasz6!E195,szakasz6!E202,szakasz6!E209,szakasz6!E216,szakasz6!E223,szakasz6!E230,szakasz6!E237)","v":35},{"$f":"SUM(szakasz7!D13,szakasz7!D20,szakasz7!D27,szakasz7!D34,szakasz7!D41,szakasz7!D48,szakasz7!D55,szakasz7!D62,szakasz7!D69,szakasz7!D76,szakasz7!D83,szakasz7!D90,szakasz7!D97,szakasz7!D104,szakasz7!D111,szakasz7!D118,szakasz7!D125,szakasz7!D132,szakasz7!D139,szakasz7!D146,szakasz7!D153,szakasz7!D160,szakasz7!D167,szakasz7!D174,szakasz7!D181,szakasz7!D188,szakasz7!D195,szakasz7!D202,szakasz7!D209,szakasz7!D216,szakasz7!D223,szakasz7!D230,szakasz7!D237)","v":86.074999999999989},{"$f":"SUM(szakasz7!E13,szakasz7!E20,szakasz7!E27,szakasz7!E34,szakasz7!E41,szakasz7!E48,szakasz7!E55,szakasz7!E62,szakasz7!E69,szakasz7!E76,szakasz7!E83,szakasz7!E90,szakasz7!E97,szakasz7!E104,szakasz7!E111,szakasz7!E118,szakasz7!E125,szakasz7!E132,szakasz7!E139,szakasz7!E146,szakasz7!E153,szakasz7!E160,szakasz7!E167,szakasz7!E174,szakasz7!E181,szakasz7!E188,szakasz7!E195,szakasz7!E202,szakasz7!E209,szakasz7!E216,szakasz7!E223,szakasz7!E230,szakasz7!E237)","v":13},{"$f":"SUM(szakasz8!D13,szakasz8!D20,szakasz8!D27,szakasz8!D34,szakasz8!D41,szakasz8!D48,szakasz8!D55,szakasz8!D62,szakasz8!D69,szakasz8!D76,szakasz8!D83,szakasz8!D90,szakasz8!D97,szakasz8!D104,szakasz8!D111,szakasz8!D118,szakasz8!D125,szakasz8!D132,szakasz8!D139,szakasz8!D146,szakasz8!D153,szakasz8!D160,szakasz8!D167,szakasz8!D174,szakasz8!D181,szakasz8!D188,szakasz8!D195,szakasz8!D202,szakasz8!D209,szakasz8!D216,szakasz8!D223,szakasz8!D230,szakasz8!D237)","v":105.37500000000001},{"$f":"SUM(szakasz8!E13,szakasz8!E20,szakasz8!E27,szakasz8!E34,szakasz8!E41,szakasz8!E48,szakasz8!E55,szakasz8!E62,szakasz8!E69,szakasz8!E76,szakasz8!E83,szakasz8!E90,szakasz8!E97,szakasz8!E104,szakasz8!E111,szakasz8!E118,szakasz8!E125,szakasz8!E132,szakasz8!E139,szakasz8!E146,szakasz8!E153,szakasz8!E160,szakasz8!E167,szakasz8!E174,szakasz8!E181,szakasz8!E188,szakasz8!E195,szakasz8!E202,szakasz8!E209,szakasz8!E216,szakasz8!E223,szakasz8!E230,szakasz8!E237)","v":20},{"$f":"SUM(szakasz9!D13,szakasz9!D20,szakasz9!D27,szakasz9!D34,szakasz9!D41,szakasz9!D48,szakasz9!D55,szakasz9!D62,szakasz9!D69,szakasz9!D76,szakasz9!D83,szakasz9!D90,szakasz9!D97,szakasz9!D104,szakasz9!D111,szakasz9!D118,szakasz9!D125,szakasz9!D132,szakasz9!D139,szakasz9!D146,szakasz9!D153,szakasz9!D160,szakasz9!D167,szakasz9!D174,szakasz9!D181,szakasz9!D188,szakasz9!D195,szakasz9!D202,szakasz9!D209,szakasz9!D216,szakasz9!D223,szakasz9!D230,szakasz9!D237)","v":23.05},{"$f":"SUM(szakasz9!E13,szakasz9!E20,szakasz9!E27,szakasz9!E34,szakasz9!E41,szakasz9!E48,szakasz9!E55,szakasz9!E62,szakasz9!E69,szakasz9!E76,szakasz9!E83,szakasz9!E90,szakasz9!E97,szakasz9!E104,szakasz9!E111,szakasz9!E118,szakasz9!E125,szakasz9!E132,szakasz9!E139,szakasz9!E146,szakasz9!E153,szakasz9!E160,szakasz9!E167,szakasz9!E174,szakasz9!E181,szakasz9!E188,szakasz9!E195,szakasz9!E202,szakasz9!E209,szakasz9!E216,szakasz9!E223,szakasz9!E230,szakasz9!E237)","v":7},{"$f":"SUM(szakasz10!D13,szakasz10!D20,szakasz10!D27,szakasz10!D34,szakasz10!D41,szakasz10!D48,szakasz10!D55,szakasz10!D62,szakasz10!D69,szakasz10!D76,szakasz10!D83,szakasz10!D90,szakasz10!D97,szakasz10!D104,szakasz10!D111,szakasz10!D118,szakasz10!D125,szakasz10!D132,szakasz10!D139,szakasz10!D146,szakasz10!D153,szakasz10!D160,szakasz10!D167,szakasz10!D174,szakasz10!D181,szakasz10!D188,szakasz10!D195,szakasz10!D202,szakasz10!D209,szakasz10!D216,szakasz10!D223,szakasz10!D230,szakasz10!D237)","v":91.35},{"$f":"SUM(szakasz10!E13,szakasz10!E20,szakasz10!E27,szakasz10!E34,szakasz10!E41,szakasz10!E48,szakasz10!E55,szakasz10!E62,szakasz10!E69,szakasz10!E76,szakasz10!E83,szakasz10!E90,szakasz10!E97,szakasz10!E104,szakasz10!E111,szakasz10!E118,szakasz10!E125,szakasz10!E132,szakasz10!E139,szakasz10!E146,szakasz10!E153,szakasz10!E160,szakasz10!E167,szakasz10!E174,szakasz10!E181,szakasz10!E188,szakasz10!E195,szakasz10!E202,szakasz10!E209,szakasz10!E216,szakasz10!E223,szakasz10!E230,szakasz10!E237)","v":10},823.8549999999999,163]
["Átlag (average) (összes kg/db)",{"$f":"szakasz1!F238","v":7.953277777777779},null,{"$f":"szakasz2!F238","v":7.8308098591549307},null,{"$f":"szakasz3!F238","v":8.5198064516129008},null,{"$f":"szakasz4!F238","v":7.6140315315315314},null,{"$f":"szakasz5!F238","v":8.4001515151515136},null,{"$f":"szakasz6!F238","v":8.3755350553505554},null,{"$f":"szakasz7!F238","v":8.6951570680628265},null,{"$f":"szakasz8!F238","v":8.3961406249999992},null,{"$f":"szakasz9!F238","v":8.3513333333333346},null,{"$f":"szakasz10!F238","v":8.5708088235294131},null,{"$f":"IF(W15=0,0,V15/W15)","v":8.2497222222222231}]
["Összes 10+ kg-os hal (db)",{"$f":"szakasz1!J238+szakasz1!K238+szakasz1!M238","v":44},null,{"$f":"szakasz2!J238+szakasz2!K238+szakasz2!M238","v":79},null,{"$f":"szakasz3!J238+szakasz3!K238+szakasz3!M238","v":47},null,{"$f":"szakasz4!J238+szakasz4!K238+szakasz4!M238","v":53},null,{"$f":"szakasz5!J238+szakasz5!K238+szakasz5!M238","v":56},null,{"$f":"szakasz6!J238+szakasz6!K238+szakasz6!M238","v":91},null,{"$f":"szakasz7!J238+szakasz7!K238+szakasz7!M238","v":63},null,{"$f":"szakasz8!J238+szakasz8!K238+szakasz8!M238","v":97},null,{"$f":"szakasz9!J238+szakasz9!K238+szakasz9!M238","v":42},null,{"$f":"szakasz10!J238+szakasz10!K238+szakasz10!M238","v":67},null,{"$f":"SUM(B23:U23)","v":639}]
[" - ebből20+ kg-os hal (db)",{"$f":"szakasz1!K238","v":0},null,{"$f":"szakasz2!K238","v":1},null,{"$f":"szakasz3!K238","v":0},null,{"$f":"szakasz4!K238","v":1},null,{"$f":"szakasz5!K238","v":2},null,{"$f":"szakasz6!K238","v":3},null,{"$f":"szakasz7!K238","v":1},null,{"$f":"szakasz8!K238","v":2},null,{"$f":"szakasz9!K238","v":0},null,{"$f":"szakasz10!K238","v":3},null,{"$f":"SUM(B24:U24)","v":13}]
[" - ebből 10+ kg-os koi (db)",{"$f":"szakasz1!M238","v":1},null,{"$f":"szakasz2!M238","v":7},null,{"$f":"szakasz3!M238","v":2},null,{"$f":"szakasz4!M238","v":2},null,{"$f":"szakasz5!M238","v":5},null,{"$f":"szakasz6!M238","v":6},null,{"$f":"szakasz7!M238","v":4},null,{"$f":"szakasz8!M238","v":5},null,{"$f":"szakasz9!M238","v":4},null,{"$f":"szakasz10!M238","v":5},null,{"$f":"SUM(B25:U25)","v":41}]
["Összes 5-10 kg-os koi (db)",{"$f":"szakasz1!L238","v":3},null,{"$f":"szakasz2!L238","v":5},null,{"$f":"szakasz3!L238","v":0},null,{"$f":"szakasz4!L238","v":10},null,{"$f":"szakasz5!L238","v":1},null,{"$f":"szakasz6!L238","v":4},null,{"$f":"szakasz7!L238","v":4},null,{"$f":"szakasz8!L238","v":4},null,{"$f":"szakasz9!L238","v":2},null,{"$f":"szakasz10!L238","v":3},null,{"$f":"SUM(B26:U26)","v":36}]
["Szakaszgyőztes          (kg)\n(Period winner)      (rész)",{"$f":"MAX(szakasz1!D7:D231)","v":280.65000000000009},null,{"$f":"MAX(szakasz2!D7:D231)","v":188.42500000000001},null,{"$f":"MAX(szakasz3!D7:D231)","v":181.10000000000002},null,{"$f":"MAX(szakasz4!D7:D231)","v":165.15},null,{"$f":"MAX(szakasz5!D7:D231)","v":176.52500000000001},null,{"$f":"MAX(szakasz6!D7:D231)","v":214.57499999999999},null,{"$f":"MAX(szakasz7!D7:D231)","v":195.24999999999997},null,{"$f":"MAX(szakasz8!D7:D231)","v":333.815},null,{"$f":"MAX(szakasz9!D7:D231)","v":166.9},null,{"$f":"MAX(szakasz10!D7:D231)","v":217.44999999999996},null,{"$f":"MAX(Összesen!E7:E39)","v":1435.5750000000005}]
[null,{"$f":"IF(B15=0,0,B27/B15)","v":0.19604076586173419},null,{"$f":"IF(D15=0,0,D27/D15)","v":8.4725376020144336E-2},null,{"$f":"IF(F15=0,0,F27/F15)","v":0.13713775112262133},null,{"$f":"IF(H15=0,0,H27/H15)","v":9.7703682449720913E-2},null,{"$f":"IF(J15=0,0,J27/J15)","v":0.12736061759347778},null,{"$f":"IF(L15=0,0,L27/L15)","v":9.4536010256545788E-2},null,{"$f":"IF(N15=0,0,N27/N15)","v":0.11756559437611958},null,{"$f":"IF(P15=0,0,P27/P15)","v":0.12424421190539553},null,{"$f":"IF(R15=0,0,R27/R15)","v":0.13323221840823818},null,{"$f":"IF(T15=0,0,T27/T15)","v":0.1243676523997037},null,{"$f":"IF(V15=0,0,V27/V15)","v":8.1239472454862974E-2}]

{"sheet":"CsapatStat","index":16,"n_rows":34,"n_cols":10,"rows_kept":34,"cut":false,"hidden":false,"merged":[[4,0,4,9],[9,5,10,5]]}
[{"$f":"kod!E2","v":"XXI. PROFESSZIONÁLIS BOJLIS EURÓPA KUPA (EPBC)"}]
[{"$f":"kod!E3","v":"XXXVI. MACONKA NEMZETKÖZI BOJLIS KUPA"}]
[{"$f":"kod!E4","v":"Maconka, 2025.06.15. - 2025.06.20."}]
[]
["HIVATALOS EREDMÉNYTANÚSÍTVÁNY"]
[]
[]
["Csapat:  ",{"$f":"kod!C7","v":"Black Carp Team"},null,null,null,"  Aláírás, p.h.:"]
["Rajthely:  ","A6"]
["Elhelyezés:  ",{"$f":"kod!B7","v":"Nyári kikötő, belső"},null,null,null,"  Dátum:"]
[]
[]
[]
[null,"Súly\n(kg)","Menny.\n(db)","Átlag\n(kg)","Legn. hal\n(kg)","Legn. koi\n(kg)","10-20 kg\n(db)","20+ kg\n(db)","5-10 kg\nkoi (db)","10+ kg \nkoi (db)"]
["1. szakasz:  ",{"$f":"szakasz1!D42","v":24.925000000000001},{"$f":"szakasz1!E42","v":2},{"$f":"IF(C15=0,0,B15/C15)","v":12.4625},{"$f":"szakasz1!G42","v":14.05},{"$f":"szakasz1!H42","v":0},{"$f":"szakasz1!J42","v":2},{"$f":"szakasz1!K42","v":0},{"$f":"szakasz1!L42","v":0},{"$f":"szakasz1!M42","v":0}]
["2. szakasz:  ",{"$f":"szakasz2!D42","v":16.975000000000001},{"$f":"szakasz2!E42","v":2},{"$f":"IF(C16=0,0,B16/C16)","v":8.4875000000000007},{"$f":"szakasz2!G42","v":13.125},{"$f":"szakasz2!H42","v":0},{"$f":"szakasz2!J42","v":1},{"$f":"szakasz2!K42","v":0},{"$f":"szakasz2!L42","v":0},{"$f":"szakasz2!M42","v":0}]
["3. szakasz:  ",{"$f":"szakasz3!D42","v":32.125},{"$f":"szakasz3!E42","v":6},5.354166666666667,{"$f":"szakasz3!G42","v":8.8249999999999993},{"$f":"szakasz3!H42","v":0},{"$f":"szakasz3!J42","v":0},{"$f":"szakasz3!K42","v":0},{"$f":"szakasz3!L42","v":0},{"$f":"szakasz3!M42","v":0}]
["4. szakasz:  ",{"$f":"szakasz4!D42","v":136.75},{"$f":"szakasz4!E42","v":22},6.2159090909090908,{"$f":"szakasz4!G42","v":13.074999999999999},{"$f":"szakasz4!H42","v":0},{"$f":"szakasz4!J42","v":3},{"$f":"szakasz4!K42","v":0},{"$f":"szakasz4!L42","v":0},{"$f":"szakasz4!M42","v":0}]
["5. szakasz:  ",{"$f":"szakasz5!D42","v":56.85},{"$f":"szakasz5!E42","v":8},7.1062500000000002,{"$f":"szakasz5!G42","v":11.574999999999999},{"$f":"szakasz5!H42","v":0},{"$f":"szakasz5!J42","v":1},{"$f":"szakasz5!K42","v":0},{"$f":"szakasz5!L42","v":0},{"$f":"szakasz5!M42","v":0}]
["6. szakasz:  ",{"$f":"szakasz6!D42","v":73.400000000000006},{"$f":"szakasz6!E42","v":14},5.2428571428571429,{"$f":"szakasz6!G42","v":11.775},{"$f":"szakasz6!H42","v":0},{"$f":"szakasz6!J42","v":1},{"$f":"szakasz6!K42","v":0},{"$f":"szakasz6!L42","v":0},{"$f":"szakasz6!M42","v":0}]
["7. szakasz:  ",{"$f":"szakasz7!D42","v":71.650000000000006},{"$f":"szakasz7!E42","v":8},8.9562500000000007,{"$f":"szakasz7!G42","v":17.024999999999999},{"$f":"szakasz7!H42","v":7.75},{"$f":"szakasz7!J42","v":4},{"$f":"szakasz7!K42","v":0},{"$f":"szakasz7!L42","v":1},{"$f":"szakasz7!M42","v":0}]
["8. szakasz:  ",{"$f":"szakasz8!D42","v":42.125},{"$f":"szakasz8!E42","v":5},8.4250000000000007,{"$f":"szakasz8!G42","v":17.074999999999999},{"$f":"szakasz8!H42","v":0},{"$f":"szakasz8!J42","v":1},{"$f":"szakasz8!K42","v":0},{"$f":"szakasz8!L42","v":0},{"$f":"szakasz8!M42","v":0}]
["9. szakasz:  ",{"$f":"szakasz9!D42","v":33.900000000000006},{"$f":"szakasz9!E42","v":4},8.4750000000000014,{"$f":"szakasz9!G42","v":9.65},{"$f":"szakasz9!H42","v":0},{"$f":"szakasz9!J42","v":0},{"$f":"szakasz9!K42","v":0},{"$f":"szakasz9!L42","v":0},{"$f":"szakasz9!M42","v":0}]
["10. szakasz:  ",{"$f":"szakasz10!D42","v":46.325000000000003},{"$f":"szakasz10!E42","v":6},7.7208333333333341,{"$f":"szakasz10!G42","v":12.025},{"$f":"szakasz10!H42","v":0},{"$f":"szakasz10!J42","v":2},{"$f":"szakasz10!K42","v":0},{"$f":"szakasz10!L42","v":0},{"$f":"szakasz10!M42","v":0}]
[]
["ÖSSZESEN:  ",{"$f":"SUM(B15:B24)","v":535.02499999999998},{"$f":"SUM(C15:C24)","v":77},{"$f":"IF(C26=0,0,B26/C26)","v":6.9483766233766229},{"$f":"MAX(E15:E24)","v":17.074999999999999},{"$f":"MAX(F15:F24)","v":7.75},{"$f":"SUM(G15:G24)","v":15},{"$f":"SUM(H15:H24)","v":0},1,{"$f":"SUM(J15:J24)","v":0}]
[]
["tükörponty:",{"$f":"Össz_részletes!D43","v":14.05},{"$f":"Össz_részletes!E43","v":1},{"$f":"IF(C28=0,0,B28/C28)","v":14.05},null,null,null,null,"Versenyen elért helyezés:",{"$f":"RANK(B26,Összesen!E7:E39)","v":14}]
["tőponty:",{"$f":"Össz_részletes!D44","v":109.72499999999999},{"$f":"Össz_részletes!E44","v":14},{"$f":"IF(C29=0,0,B29/C29)","v":7.8374999999999995},null,null,null,null,"Szektorban elért helyezés:",{"$f":"RANK(B26,Sorrend_szektoronként!D9:D17)","v":3}]
["nyurgaponty:",{"$f":"Össz_részletes!D45","v":162.70000000000002},{"$f":"Össz_részletes!E45","v":18},9.0388888888888896]
["koi ponty:",{"$f":"Össz_részletes!D46","v":7.75},{"$f":"Össz_részletes!E46","v":1},7.75,null,null,null,null,"Összes 10+ kg-os hal:",{"$f":"G26+H26+J26","v":15}]
["amur:",{"$f":"Össz_részletes!D47","v":32.375},{"$f":"Össz_részletes!E47","v":3},10.791666666666666,null,null,null,null," - ebből: 20+ kg-os hal:",{"$f":"H26","v":0}]
["fekete amur:",{"$f":"Össz_részletes!D48","v":208.42500000000004},{"$f":"Össz_részletes!E48","v":40},5.2106250000000012]
[null,null,null,null,null,null,null,null,"Fogási arány:",{"$f":"IF(Összesen!E40=0,0,B26/Összesen!E40)","v":3.0277170297729517E-2}]

{"sheet":"Stat_06","index":17,"n_rows":43,"n_cols":14,"rows_kept":43,"cut":false,"hidden":true,"merged":[[4,0,5,1],[4,5,4,7],[4,8,4,10],[4,11,4,13],[4,2,4,4]]}
[]
[null,null,null,null,null,null,null,null,null,null,null,null,null,"PROFESSZIONÁLIS BOJLIS EURÓPA KUPA (EPBC)"]
[null,null,null,null,null,null,null,null,null,null,null,null,null,"Szektorok statisztikája a júniusi versenyek alapján"]
[]
["Szektor",null,2019,null,null,2018,null,null,2017,null,null,2016]
[null,null,"Kg","Db","Átlag","Kg","Db","Átlag","Kg","Db","Átlag","Kg","Db","Átlag"]
["A01","Gát, közepes víz",{"$f":"Össz_részletes!D7","v":690.5},{"$f":"Össz_részletes!E7","v":57},{"$f":"IF(D7=0,0,C7/D7)","v":12.114035087719298},291.28999999999996,64,4.5514062499999994,126.03999999999999,42,3.0009523809523806,225.8,61,3.7016393442622952]
["A02","Gát, közepes víz",{"$f":"Össz_részletes!D14","v":319.04999999999995},{"$f":"Össz_részletes!E14","v":35},{"$f":"IF(D8=0,0,C8/D8)","v":9.1157142857142848},145.59000000000003,53,2.7469811320754722,400.52,235,1.7043404255319148,410.81000000000006,116,3.54146551724138]
["A03","Gát, közepes víz",{"$f":"Össz_részletes!D21","v":278.745},{"$f":"Össz_részletes!E21","v":26},10.720961538461539,374.66700000000003,48,7.8055625000000006,1054.19,159,6.6301257861635223,280.38,75,3.7383999999999999]
["A04","Gát, közepes víz",{"$f":"Össz_részletes!D28","v":350.14000000000004},{"$f":"Össz_részletes!E28","v":29},12.073793103448278,579.29000000000008,63,9.1950793650793656,98.960000000000008,14,7.0685714285714294,271.34000000000003,46,5.898695652173914]
["A05","Gát, közepes víz",{"$f":"Össz_részletes!D35","v":53.55},{"$f":"Össz_részletes!E35","v":5},10.709999999999999,766.94,81,9.4683950617283958,326.82,42,7.7814285714285711,592.66000000000008,70,8.4665714285714291]
["A06","Gát, közepes víz",{"$f":"Össz_részletes!D42","v":535.02499999999998},{"$f":"Össz_részletes!E42","v":77},6.9483766233766229,251.43999999999997,28,8.9799999999999986,26.340000000000003,3,8.7800000000000011,105.91,11,9.6281818181818171]
["A07","Gát, közepes víz",{"$f":"Össz_részletes!D49","v":318.80500000000001},{"$f":"Össz_részletes!E49","v":41},7.7757317073170737,128.18,16,8.0112500000000004,128.55999999999997,16,8.0349999999999984,178.53,19,9.3963157894736842]
["A08","Gát, mélyvíz",{"$f":"Össz_részletes!D56","v":420.125},{"$f":"Össz_részletes!E56","v":48},8.7526041666666661,63.760000000000005,7,9.1085714285714285,324.41000000000003,34,9.5414705882352955,93.960000000000008,10,9.3960000000000008]
["A09","Gát, mélyvíz",{"$f":"Össz_részletes!D63","v":1163.675},{"$f":"Össz_részletes!E63","v":139},8.371762589928057,303.18999999999994,29,10.454827586206894,266.02999999999997,29,9.1734482758620679,74.61,10,7.4610000000000003]
["A10","Gát, mélyvíz",{"$f":"Össz_részletes!D70","v":146.17500000000001},{"$f":"Össz_részletes!E70","v":16},9.1359375000000007,20.869999999999997,3,6.9566666666666661,0,0,0,16.100000000000001,4,4.0250000000000004]
["A11","Gát, mélyvíz",{"$f":"Össz_részletes!D77","v":311.84000000000003},{"$f":"Össz_részletes!E77","v":42},7.4247619047619056,217.36999999999995,25,8.6947999999999972,228.23,28,8.151071428571429,269.28999999999996,34,7.9202941176470576]
[null,"\"A\" szektor összesen:",{"$f":"SUM(C7:C17)","v":4587.63},{"$f":"SUM(D7:D17)","v":515},{"$f":"IF(D18=0,0,C18/D18)","v":8.9080194174757281},{"$f":"SUM(F7:F17)","v":3142.587},{"$f":"SUM(G7:G17)","v":417},{"$f":"IF(G18=0,0,F18/G18)","v":7.5361798561151083},{"$f":"SUM(I7:I17)","v":2980.1},{"$f":"SUM(J7:J17)","v":602},{"$f":"IF(J18=0,0,I18/J18)","v":4.9503322259136215},{"$f":"SUM(L7:L17)","v":2519.3900000000003},{"$f":"SUM(M7:M17)","v":456},{"$f":"IF(M18=0,0,L18/M18)","v":5.5249780701754396}]
["B01","Nyári kikötő, belső",{"$f":"Össz_részletes!D84","v":338.64500000000004},{"$f":"Össz_részletes!E84","v":57},5.9411403508771938,269.08000000000004,44,6.1154545454545461,33.15,7,4.7357142857142858,147.13999999999999,26,5.6592307692307688]
["B02","Nyári kikötő, közép",{"$f":"Össz_részletes!D91","v":270.27500000000003},{"$f":"Össz_részletes!E91","v":31},8.7185483870967762,142.13,17,8.3605882352941165,303.78999999999996,41,7.40951219512195,60.39,14,4.3135714285714286]
["B03","Nyári kikötő, külső",{"$f":"Össz_részletes!D98","v":1171.875},{"$f":"Össz_részletes!E98","v":130},9.0144230769230766,118.22000000000001,24,4.9258333333333342,839.54000000000008,143,5.8709090909090911,566.36999999999989,97,5.8388659793814419]
["B04","I. sziget, bal",{"$f":"Össz_részletes!D105","v":555.65},{"$f":"Össz_részletes!E105","v":57},9.7482456140350866,682.13,156,4.3726282051282048,97.19,27,3.5996296296296295,744.87999999999988,194,3.8395876288659787]
["B05","I. sziget, bal közép",{"$f":"Össz_részletes!D112","v":140.95000000000002},{"$f":"Össz_részletes!E112","v":15},9.3966666666666683,748.2,98,7.6346938775510207,123.24,11,11.203636363636363,187.63000000000002,51,3.6790196078431379]
["B06","I. sziget, közép",{"$f":"Össz_részletes!D119","v":752.6},{"$f":"Össz_részletes!E119","v":66},11.403030303030304,654.75,68,9.6286764705882355,631.75,89,7.0983146067415728,601.78,88,6.8384090909090904]
["B07","I. sziget, közép",{"$f":"Össz_részletes!D126","v":896.10000000000014},{"$f":"Össz_részletes!E126","v":89},10.068539325842698,268.71999999999997,40,6.7179999999999991,1148.2800000000002,130,8.8329230769230787,290.01,69,4.2030434782608692]
["B08","I. sziget, jobb közép",{"$f":"Össz_részletes!D133","v":1178.2649999999999},{"$f":"Össz_részletes!E133","v":134},8.7930223880597005,201.09000000000003,27,7.4477777777777794,287.16000000000003,53,5.4181132075471705,555.45999999999992,113,4.915575221238937]
["B09","I. sziget, jobb",{"$f":"Össz_részletes!D140","v":926.05},{"$f":"Össz_részletes!E140","v":112},8.2683035714285715,386.86,82,4.7178048780487805,728.42000000000007,146,4.9891780821917813,281.39999999999998,82,3.4317073170731707]
["B10","Felező-spicc, bal",{"$f":"Össz_részletes!D147","v":274.875},{"$f":"Össz_részletes!E147","v":40},6.8718750000000002,552.68000000000006,94,5.8795744680851074,23.88,18,1.3266666666666667,408.85000000000008,63,6.4896825396825406]
["B11","Felező-spicc, bal",{"$f":"Össz_részletes!D154","v":163.30000000000001},{"$f":"Össz_részletes!E154","v":23},{"$f":"IF(D29=0,0,C29/D29)","v":7.1000000000000005},"-","-","-","-","-","-","-","-","-"]
[null,"\"B\" szektor összesen:",{"$f":"SUM(C19:C29)","v":6668.5850000000009},{"$f":"SUM(D19:D29)","v":754},8.8442771883289133,{"$f":"SUM(F19:F29)","v":4023.8600000000006},{"$f":"SUM(G19:G29)","v":650},6.190553846153847,{"$f":"SUM(I19:I29)","v":4216.4000000000005},{"$f":"SUM(J19:J29)","v":665},{"$f":"IF(J30=0,0,I30/J30)","v":6.3404511278195494},{"$f":"SUM(L19:L29)","v":3843.91},{"$f":"SUM(M19:M29)","v":797},{"$f":"IF(M30=0,0,L30/M30)","v":4.8229736511919699}]
["C01","Felező-spicc, jobb",{"$f":"Össz_részletes!D161","v":671.60000000000014},{"$f":"Össz_részletes!E161","v":108},6.2185185185185201,190.8,31,6.1548387096774198,158.22,45,3.516,1067.17,162,6.5874691358024693]
["C02","II. sziget, bal",{"$f":"Össz_részletes!D168","v":572.4},{"$f":"Össz_részletes!E168","v":72},7.9499999999999993,167.07,30,5.569,1043.3100000000002,241,4.329087136929461,250.01999999999998,82,3.0490243902439023]
["C03","II. sziget, bal közép",{"$f":"Össz_részletes!D175","v":307.125},{"$f":"Össz_részletes!E175","v":50},6.1425000000000001,250.89,36,6.9691666666666663,426.21,113,3.7717699115044248,653.12000000000012,107,6.1039252336448611]
["C04","II. sziget, közép",{"$f":"Össz_részletes!D182","v":237.85},{"$f":"Össz_részletes!E182","v":35},6.7957142857142854,364.39,67,5.4386567164179098,272.36,44,6.19,728,154,4.7272727272727275]
["C05","II. sziget, jobb közép",{"$f":"Össz_részletes!D189","v":289.92500000000007},{"$f":"Össz_részletes!E189","v":50},5.7985000000000015,341.85,62,5.5137096774193548,224.77000000000004,48,4.6827083333333341,634.47,150,4.2298]
["C06","II. sziget, jobb",{"$f":"Össz_részletes!D196","v":165.125},{"$f":"Össz_részletes!E196","v":25},6.6050000000000004,1161.3999999999999,227,5.1162995594713649,310.57,67,4.6353731343283577,853.74,176,4.8507954545454544]
["C07","Gát, sekély víz",{"$f":"Össz_részletes!D203","v":1030.165},{"$f":"Össz_részletes!E203","v":110},9.3651363636363634,499.68999999999994,138,3.6209420289855068,322.72000000000003,115,2.8062608695652176,693.63,228,3.0422368421052632]
["C08","Gát, sekély víz",{"$f":"Össz_részletes!D210","v":324.62499999999994},{"$f":"Össz_részletes!E210","v":41},7.9176829268292668,192.18000000000004,60,3.2030000000000007,571.03000000000009,210,2.7191904761904766,338.80999999999995,123,2.7545528455284547]
["C09","Gát, sekély víz",{"$f":"Össz_részletes!D217","v":925.87499999999989},{"$f":"Össz_részletes!E217","v":121},7.6518595041322301,240.47000000000003,70,3.4352857142857145,338.21000000000004,76,4.450131578947369,106.78999999999999,31,3.4448387096774189]
["C10","Gát, sekély víz",{"$f":"Össz_részletes!D224","v":454.42500000000001},{"$f":"Össz_részletes!E224","v":54},8.4152777777777779,133.54000000000002,36,3.7094444444444452,222.93999999999997,53,4.2064150943396221,439.71000000000004,164,2.6811585365853663]
["C11","Gát, sekély víz",{"$f":"Össz_részletes!D231","v":1435.5750000000005},{"$f":"Össz_részletes!E231","v":207},6.9351449275362347,85.91,26,3.3042307692307693,223.14000000000001,93,2.3993548387096775,"-","-","-"]
[null,"\"C\" szektor összesen:",{"$f":"SUM(C31:C41)","v":6414.6900000000005},{"$f":"SUM(D31:D41)","v":873},7.347869415807561,{"$f":"SUM(F31:F41)","v":3628.1899999999996},{"$f":"SUM(G31:G41)","v":783},4.633703703703703,{"$f":"SUM(I31:I41)","v":4113.4800000000014},{"$f":"SUM(J31:J41)","v":1105},{"$f":"IF(J42=0,0,I42/J42)","v":3.7226063348416303},{"$f":"SUM(L31:L41)","v":5765.4600000000009},{"$f":"SUM(M31:M41)","v":1377},{"$f":"IF(M42=0,0,L42/M42)","v":4.1869716775599137}]
[null,"ÖSSZESEN:",{"$f":"SUM(C42,C30,C18)","v":17670.905000000002},{"$f":"SUM(D42,D30,D18)","v":2142},8.2497222222222231,{"$f":"SUM(F42,F30,F18)","v":10794.637000000001},{"$f":"SUM(G42,G30,G18)","v":1850},5.8349389189189189,{"$f":"SUM(I18,I30,I42)","v":11309.980000000001},{"$f":"SUM(J18,J30,J42)","v":2372},4.7681197301854983,{"$f":"SUM(L18,L30,L42)","v":12128.760000000002},{"$f":"SUM(M18,M30,M42)","v":2630},4.611695817490495]

{"sheet":"Diagram_kg","index":18,"n_rows":0,"n_cols":0,"rows_kept":0,"cut":false,"hidden":false,"merged":[]}

{"sheet":"Diagram_db","index":19,"n_rows":0,"n_cols":0,"rows_kept":0,"cut":false,"hidden":false,"merged":[]}

{"sheet":"Össz_részletes","index":20,"n_rows":238,"n_cols":7,"rows_kept":238,"cut":false,"hidden":true,"merged":[[0,0,0,6],[1,0,1,6],[2,0,2,6],[3,0,3,6]]}
[{"$f":"IF(kod!E2>0,kod!E2,\"\")","v":"XXI. PROFESSZIONÁLIS BOJLIS EURÓPA KUPA (EPBC)"}]
[{"$f":"IF(kod!E3>0,kod!E3,\"\")","v":"XXXVI. MACONKA NEMZETKÖZI BOJLIS KUPA"}]
[{"$f":"IF(kod!E4>0,kod!E4,\"\")","v":"Maconka, 2025.06.15. - 2025.06.20."}]
[{"$f":"IF(kod!E5>0,kod!E5,\"\")","v":""}]
[]
["Rajthely","Elhelyezés","Csapatnév","Kg","Db","Átlag","Faj"]
["A01",{"$f":"kod!B2","v":"Gát, mélyvíz"},{"$f":"kod!C2","v":"SBS - Halcatraz - TiZo Team"},{"$f":"SUM(szakasz1:szakasz10!D7)","v":690.5},{"$f":"SUM(szakasz1:szakasz10!E7)","v":57},{"$f":"IF(E7=0,0,D7/E7)","v":12.114035087719298},"ÖSSZESEN"]
["A01",{"$f":"kod!B2","v":"Gát, mélyvíz"},{"$f":"kod!C2","v":"SBS - Halcatraz - TiZo Team"},{"$f":"SUM(szakasz1:szakasz10!D8)","v":164.32500000000002},{"$f":"SUM(szakasz1:szakasz10!E8)","v":13},{"$f":"IF(E8=0,0,D8/E8)","v":12.640384615384617},"tükörponty"]
["A01",{"$f":"kod!B2","v":"Gát, mélyvíz"},{"$f":"kod!C2","v":"SBS - Halcatraz - TiZo Team"},{"$f":"SUM(szakasz1:szakasz10!D9)","v":78.825000000000003},{"$f":"SUM(szakasz1:szakasz10!E9)","v":7},11.260714285714286,"tőponty"]
["A01",{"$f":"kod!B2","v":"Gát, mélyvíz"},{"$f":"kod!C2","v":"SBS - Halcatraz - TiZo Team"},{"$f":"SUM(szakasz1:szakasz10!D10)","v":372.32499999999999},{"$f":"SUM(szakasz1:szakasz10!E10)","v":29},12.838793103448275,"nyurgaponty"]
["A01",{"$f":"kod!B2","v":"Gát, mélyvíz"},{"$f":"kod!C2","v":"SBS - Halcatraz - TiZo Team"},{"$f":"SUM(szakasz1:szakasz10!D11)","v":23.4},{"$f":"SUM(szakasz1:szakasz10!E11)","v":2},11.7,"koi ponty"]
["A01",{"$f":"kod!B2","v":"Gát, mélyvíz"},{"$f":"kod!C2","v":"SBS - Halcatraz - TiZo Team"},{"$f":"SUM(szakasz1:szakasz10!D12)","v":13.5},{"$f":"SUM(szakasz1:szakasz10!E12)","v":1},13.5,"amur"]
["A01",{"$f":"kod!B2","v":"Gát, mélyvíz"},{"$f":"kod!C2","v":"SBS - Halcatraz - TiZo Team"},{"$f":"SUM(szakasz1:szakasz10!D13)","v":38.125},{"$f":"SUM(szakasz1:szakasz10!E13)","v":5},7.625,"fekete amur"]
["A02",{"$f":"kod!B3","v":"Gát, mélyvíz"},{"$f":"kod!C3","v":"Altstadt Carp Team"},{"$f":"SUM(szakasz1:szakasz10!D14)","v":319.04999999999995},{"$f":"SUM(szakasz1:szakasz10!E14)","v":35},9.1157142857142848,"ÖSSZESEN"]
["A02",{"$f":"kod!B3","v":"Gát, mélyvíz"},{"$f":"kod!C3","v":"Altstadt Carp Team"},{"$f":"SUM(szakasz1:szakasz10!D15)","v":47.224999999999994},{"$f":"SUM(szakasz1:szakasz10!E15)","v":4},11.806249999999999,"tükörponty"]
["A02",{"$f":"kod!B3","v":"Gát, mélyvíz"},{"$f":"kod!C3","v":"Altstadt Carp Team"},{"$f":"SUM(szakasz1:szakasz10!D16)","v":44.625},{"$f":"SUM(szakasz1:szakasz10!E16)","v":5},8.9250000000000007,"tőponty"]
["A02",{"$f":"kod!B3","v":"Gát, mélyvíz"},{"$f":"kod!C3","v":"Altstadt Carp Team"},{"$f":"SUM(szakasz1:szakasz10!D17)","v":139.5},{"$f":"SUM(szakasz1:szakasz10!E17)","v":14},9.9642857142857135,"nyurgaponty"]
["A02",{"$f":"kod!B3","v":"Gát, mélyvíz"},{"$f":"kod!C3","v":"Altstadt Carp Team"},{"$f":"SUM(szakasz1:szakasz10!D18)","v":44.95},{"$f":"SUM(szakasz1:szakasz10!E18)","v":4},11.237500000000001,"koi ponty"]
["A02",{"$f":"kod!B3","v":"Gát, mélyvíz"},{"$f":"kod!C3","v":"Altstadt Carp Team"},{"$f":"SUM(szakasz1:szakasz10!D19)","v":17.5},{"$f":"SUM(szakasz1:szakasz10!E19)","v":2},8.75,"amur"]
["A02",{"$f":"kod!B3","v":"Gát, mélyvíz"},{"$f":"kod!C3","v":"Altstadt Carp Team"},{"$f":"SUM(szakasz1:szakasz10!D20)","v":25.250000000000004},{"$f":"SUM(szakasz1:szakasz10!E20)","v":6},4.2083333333333339,"fekete amur"]
["A03",{"$f":"kod!B4","v":"Gát, mélyvíz"},{"$f":"kod!C4","v":"Ferma De Crap Diosig"},{"$f":"SUM(szakasz1:szakasz10!D21)","v":278.745},{"$f":"SUM(szakasz1:szakasz10!E21)","v":26},10.720961538461539,"ÖSSZESEN"]
["A03",{"$f":"kod!B4","v":"Gát, mélyvíz"},{"$f":"kod!C4","v":"Ferma De Crap Diosig"},{"$f":"SUM(szakasz1:szakasz10!D22)","v":49.575000000000003},{"$f":"SUM(szakasz1:szakasz10!E22)","v":5},9.9150000000000009,"tükörponty"]
["A03",{"$f":"kod!B4","v":"Gát, mélyvíz"},{"$f":"kod!C4","v":"Ferma De Crap Diosig"},{"$f":"SUM(szakasz1:szakasz10!D23)","v":71.975000000000009},{"$f":"SUM(szakasz1:szakasz10!E23)","v":7},10.282142857142858,"tőponty"]
["A03",{"$f":"kod!B4","v":"Gát, mélyvíz"},{"$f":"kod!C4","v":"Ferma De Crap Diosig"},{"$f":"SUM(szakasz1:szakasz10!D24)","v":107.65},{"$f":"SUM(szakasz1:szakasz10!E24)","v":8},13.456250000000001,"nyurgaponty"]
["A03",{"$f":"kod!B4","v":"Gát, mélyvíz"},{"$f":"kod!C4","v":"Ferma De Crap Diosig"},{"$f":"SUM(szakasz1:szakasz10!D25)","v":13.324999999999999},{"$f":"SUM(szakasz1:szakasz10!E25)","v":1},13.324999999999999,"koi ponty"]
["A03",{"$f":"kod!B4","v":"Gát, mélyvíz"},{"$f":"kod!C4","v":"Ferma De Crap Diosig"},{"$f":"SUM(szakasz1:szakasz10!D26)","v":32.295000000000002},{"$f":"SUM(szakasz1:szakasz10!E26)","v":4},8.0737500000000004,"amur"]
["A03",{"$f":"kod!B4","v":"Gát, mélyvíz"},{"$f":"kod!C4","v":"Ferma De Crap Diosig"},{"$f":"SUM(szakasz1:szakasz10!D27)","v":3.9249999999999998},{"$f":"SUM(szakasz1:szakasz10!E27)","v":1},3.9249999999999998,"fekete amur"]
["A04",{"$f":"kod!B5","v":"Gát, mélyvíz"},{"$f":"kod!C5","v":"Bull Tackle"},{"$f":"SUM(szakasz1:szakasz10!D28)","v":350.14000000000004},{"$f":"SUM(szakasz1:szakasz10!E28)","v":29},12.073793103448278,"ÖSSZESEN"]
["A04",{"$f":"kod!B5","v":"Gát, mélyvíz"},{"$f":"kod!C5","v":"Bull Tackle"},{"$f":"SUM(szakasz1:szakasz10!D29)","v":60.714999999999996},{"$f":"SUM(szakasz1:szakasz10!E29)","v":5},12.142999999999999,"tükörponty"]
["A04",{"$f":"kod!B5","v":"Gát, mélyvíz"},{"$f":"kod!C5","v":"Bull Tackle"},{"$f":"SUM(szakasz1:szakasz10!D30)","v":64.625},{"$f":"SUM(szakasz1:szakasz10!E30)","v":4},16.15625,"tőponty"]
["A04",{"$f":"kod!B5","v":"Gát, mélyvíz"},{"$f":"kod!C5","v":"Bull Tackle"},{"$f":"SUM(szakasz1:szakasz10!D31)","v":161.72499999999999},{"$f":"SUM(szakasz1:szakasz10!E31)","v":13},12.440384615384614,"nyurgaponty"]
["A04",{"$f":"kod!B5","v":"Gát, mélyvíz"},{"$f":"kod!C5","v":"Bull Tackle"},{"$f":"SUM(szakasz1:szakasz10!D32)","v":13.25},{"$f":"SUM(szakasz1:szakasz10!E32)","v":1},13.25,"koi ponty"]
["A04",{"$f":"kod!B5","v":"Gát, mélyvíz"},{"$f":"kod!C5","v":"Bull Tackle"},{"$f":"SUM(szakasz1:szakasz10!D33)","v":19.125},{"$f":"SUM(szakasz1:szakasz10!E33)","v":2},9.5625,"amur"]
["A04",{"$f":"kod!B5","v":"Gát, mélyvíz"},{"$f":"kod!C5","v":"Bull Tackle"},{"$f":"SUM(szakasz1:szakasz10!D34)","v":30.7},{"$f":"SUM(szakasz1:szakasz10!E34)","v":4},7.6749999999999998,"fekete amur"]
["A05",{"$f":"kod!B6","v":"Gát, mélyvíz"},{"$f":"kod!C6","v":"AHFSZ Fishing Team"},{"$f":"SUM(szakasz1:szakasz10!D35)","v":53.55},{"$f":"SUM(szakasz1:szakasz10!E35)","v":5},10.709999999999999,"ÖSSZESEN"]
["A05",{"$f":"kod!B6","v":"Gát, mélyvíz"},{"$f":"kod!C6","v":"AHFSZ Fishing Team"},{"$f":"SUM(szakasz1:szakasz10!D36)","v":0},{"$f":"SUM(szakasz1:szakasz10!E36)","v":0},0,"tükörponty"]
["A05",{"$f":"kod!B6","v":"Gát, mélyvíz"},{"$f":"kod!C6","v":"AHFSZ Fishing Team"},{"$f":"SUM(szakasz1:szakasz10!D37)","v":0},{"$f":"SUM(szakasz1:szakasz10!E37)","v":0},0,"tőponty"]
["A05",{"$f":"kod!B6","v":"Gát, mélyvíz"},{"$f":"kod!C6","v":"AHFSZ Fishing Team"},{"$f":"SUM(szakasz1:szakasz10!D38)","v":39.75},{"$f":"SUM(szakasz1:szakasz10!E38)","v":3},13.25,"nyurgaponty"]
["A05",{"$f":"kod!B6","v":"Gát, mélyvíz"},{"$f":"kod!C6","v":"AHFSZ Fishing Team"},{"$f":"SUM(szakasz1:szakasz10!D39)","v":0},{"$f":"SUM(szakasz1:szakasz10!E39)","v":0},0,"koi ponty"]
["A05",{"$f":"kod!B6","v":"Gát, mélyvíz"},{"$f":"kod!C6","v":"AHFSZ Fishing Team"},{"$f":"SUM(szakasz1:szakasz10!D40)","v":10.85},{"$f":"SUM(szakasz1:szakasz10!E40)","v":1},10.85,"amur"]
["A05",{"$f":"kod!B6","v":"Gát, mélyvíz"},{"$f":"kod!C6","v":"AHFSZ Fishing Team"},{"$f":"SUM(szakasz1:szakasz10!D41)","v":2.95},{"$f":"SUM(szakasz1:szakasz10!E41)","v":1},2.95,"fekete amur"]
["A06",{"$f":"kod!B7","v":"Nyári kikötő, belső"},{"$f":"kod!C7","v":"Black Carp Team"},{"$f":"SUM(szakasz1:szakasz10!D42)","v":535.02499999999998},{"$f":"SUM(szakasz1:szakasz10!E42)","v":77},6.9483766233766229,"ÖSSZESEN"]
["A06",{"$f":"kod!B7","v":"Nyári kikötő, belső"},{"$f":"kod!C7","v":"Black Carp Team"},{"$f":"SUM(szakasz1:szakasz10!D43)","v":14.05},{"$f":"SUM(szakasz1:szakasz10!E43)","v":1},14.05,"tükörponty"]
["A06",{"$f":"kod!B7","v":"Nyári kikötő, belső"},{"$f":"kod!C7","v":"Black Carp Team"},{"$f":"SUM(szakasz1:szakasz10!D44)","v":109.72499999999999},{"$f":"SUM(szakasz1:szakasz10!E44)","v":14},7.8374999999999995,"tőponty"]
["A06",{"$f":"kod!B7","v":"Nyári kikötő, belső"},{"$f":"kod!C7","v":"Black Carp Team"},{"$f":"SUM(szakasz1:szakasz10!D45)","v":162.70000000000002},{"$f":"SUM(szakasz1:szakasz10!E45)","v":18},9.0388888888888896,"nyurgaponty"]
["A06",{"$f":"kod!B7","v":"Nyári kikötő, belső"},{"$f":"kod!C7","v":"Black Carp Team"},{"$f":"SUM(szakasz1:szakasz10!D46)","v":7.75},{"$f":"SUM(szakasz1:szakasz10!E46)","v":1},7.75,"koi ponty"]
["A06",{"$f":"kod!B7","v":"Nyári kikötő, belső"},{"$f":"kod!C7","v":"Black Carp Team"},{"$f":"SUM(szakasz1:szakasz10!D47)","v":32.375},{"$f":"SUM(szakasz1:szakasz10!E47)","v":3},10.791666666666666,"amur"]
["A06",{"$f":"kod!B7","v":"Nyári kikötő, belső"},{"$f":"kod!C7","v":"Black Carp Team"},{"$f":"SUM(szakasz1:szakasz10!D48)","v":208.42500000000004},{"$f":"SUM(szakasz1:szakasz10!E48)","v":40},5.2106250000000012,"fekete amur"]
["A07",{"$f":"kod!B8","v":"Nyári kikötő, közép"},{"$f":"kod!C8","v":"USA & Mivado Carp Team"},{"$f":"SUM(szakasz1:szakasz10!D49)","v":318.80500000000001},{"$f":"SUM(szakasz1:szakasz10!E49)","v":41},{"$f":"IF(E49=0,0,D49/E49)","v":7.7757317073170737},"ÖSSZESEN"]
["A07",{"$f":"kod!B8","v":"Nyári kikötő, közép"},{"$f":"kod!C8","v":"USA & Mivado Carp Team"},{"$f":"SUM(szakasz1:szakasz10!D50)","v":38.65},{"$f":"SUM(szakasz1:szakasz10!E50)","v":4},9.6624999999999996,"tükörponty"]
["A07",{"$f":"kod!B8","v":"Nyári kikötő, közép"},{"$f":"kod!C8","v":"USA & Mivado Carp Team"},{"$f":"SUM(szakasz1:szakasz10!D51)","v":96.15},{"$f":"SUM(szakasz1:szakasz10!E51)","v":12},8.0125000000000011,"tőponty"]
["A07",{"$f":"kod!B8","v":"Nyári kikötő, közép"},{"$f":"kod!C8","v":"USA & Mivado Carp Team"},{"$f":"SUM(szakasz1:szakasz10!D52)","v":29.5},{"$f":"SUM(szakasz1:szakasz10!E52)","v":3},9.8333333333333339,"nyurgaponty"]
["A07",{"$f":"kod!B8","v":"Nyári kikötő, közép"},{"$f":"kod!C8","v":"USA & Mivado Carp Team"},{"$f":"SUM(szakasz1:szakasz10!D53)","v":18.099999999999998},{"$f":"SUM(szakasz1:szakasz10!E53)","v":2},9.0499999999999989,"koi ponty"]
["A07",{"$f":"kod!B8","v":"Nyári kikötő, közép"},{"$f":"kod!C8","v":"USA & Mivado Carp Team"},{"$f":"SUM(szakasz1:szakasz10!D54)","v":42.45},{"$f":"SUM(szakasz1:szakasz10!E54)","v":4},10.612500000000001,"amur"]
["A07",{"$f":"kod!B8","v":"Nyári kikötő, közép"},{"$f":"kod!C8","v":"USA & Mivado Carp Team"},{"$f":"SUM(szakasz1:szakasz10!D55)","v":93.954999999999998},{"$f":"SUM(szakasz1:szakasz10!E55)","v":16},5.8721874999999999,"fekete amur"]
["A08",{"$f":"kod!B9","v":"Nyári kikötő, külső"},{"$f":"kod!C9","v":"Ózdi Sporthorgász Egyesület"},{"$f":"SUM(szakasz1:szakasz10!D56)","v":420.125},{"$f":"SUM(szakasz1:szakasz10!E56)","v":48},8.7526041666666661,"ÖSSZESEN"]
["A08",{"$f":"kod!B9","v":"Nyári kikötő, külső"},{"$f":"kod!C9","v":"Ózdi Sporthorgász Egyesület"},{"$f":"SUM(szakasz1:szakasz10!D57)","v":57.575000000000003},{"$f":"SUM(szakasz1:szakasz10!E57)","v":6},9.5958333333333332,"tükörponty"]
["A08",{"$f":"kod!B9","v":"Nyári kikötő, külső"},{"$f":"kod!C9","v":"Ózdi Sporthorgász Egyesület"},{"$f":"SUM(szakasz1:szakasz10!D58)","v":133.77500000000001},{"$f":"SUM(szakasz1:szakasz10!E58)","v":17},7.8691176470588236,"tőponty"]
["A08",{"$f":"kod!B9","v":"Nyári kikötő, külső"},{"$f":"kod!C9","v":"Ózdi Sporthorgász Egyesület"},{"$f":"SUM(szakasz1:szakasz10!D59)","v":163},{"$f":"SUM(szakasz1:szakasz10!E59)","v":15},10.866666666666667,"nyurgaponty"]
["A08",{"$f":"kod!B9","v":"Nyári kikötő, külső"},{"$f":"kod!C9","v":"Ózdi Sporthorgász Egyesület"},{"$f":"SUM(szakasz1:szakasz10!D60)","v":26.524999999999999},{"$f":"SUM(szakasz1:szakasz10!E60)","v":2},13.262499999999999,"koi ponty"]
["A08",{"$f":"kod!B9","v":"Nyári kikötő, külső"},{"$f":"kod!C9","v":"Ózdi Sporthorgász Egyesület"},{"$f":"SUM(szakasz1:szakasz10!D61)","v":23.049999999999997},{"$f":"SUM(szakasz1:szakasz10!E61)","v":3},7.6833333333333327,"amur"]
["A08",{"$f":"kod!B9","v":"Nyári kikötő, külső"},{"$f":"kod!C9","v":"Ózdi Sporthorgász Egyesület"},{"$f":"SUM(szakasz1:szakasz10!D62)","v":16.2},{"$f":"SUM(szakasz1:szakasz10!E62)","v":5},3.2399999999999998,"fekete amur"]
["A09",{"$f":"kod!B10","v":"I. sziget, bal külső"},{"$f":"kod!C10","v":"Kártékony Carp Team"},{"$f":"SUM(szakasz1:szakasz10!D63)","v":1163.675},{"$f":"SUM(szakasz1:szakasz10!E63)","v":139},8.371762589928057,"ÖSSZESEN"]
["A09",{"$f":"kod!B10","v":"I. sziget, bal külső"},{"$f":"kod!C10","v":"Kártékony Carp Team"},{"$f":"SUM(szakasz1:szakasz10!D64)","v":265.79999999999995},{"$f":"SUM(szakasz1:szakasz10!E64)","v":30},8.8599999999999977,"tükörponty"]
["A09",{"$f":"kod!B10","v":"I. sziget, bal külső"},{"$f":"kod!C10","v":"Kártékony Carp Team"},{"$f":"SUM(szakasz1:szakasz10!D65)","v":541.22500000000002},{"$f":"SUM(szakasz1:szakasz10!E65)","v":73},7.4140410958904113,"tőponty"]
["A09",{"$f":"kod!B10","v":"I. sziget, bal külső"},{"$f":"kod!C10","v":"Kártékony Carp Team"},{"$f":"SUM(szakasz1:szakasz10!D66)","v":308.72500000000002},{"$f":"SUM(szakasz1:szakasz10!E66)","v":30},10.290833333333333,"nyurgaponty"]
["A09",{"$f":"kod!B10","v":"I. sziget, bal külső"},{"$f":"kod!C10","v":"Kártékony Carp Team"},{"$f":"SUM(szakasz1:szakasz10!D67)","v":47.924999999999997},{"$f":"SUM(szakasz1:szakasz10!E67)","v":6},7.9874999999999998,"koi ponty"]
["A09",{"$f":"kod!B10","v":"I. sziget, bal külső"},{"$f":"kod!C10","v":"Kártékony Carp Team"},{"$f":"SUM(szakasz1:szakasz10!D68)","v":0},{"$f":"SUM(szakasz1:szakasz10!E68)","v":0},0,"amur"]
["A09",{"$f":"kod!B10","v":"I. sziget, bal külső"},{"$f":"kod!C10","v":"Kártékony Carp Team"},{"$f":"SUM(szakasz1:szakasz10!D69)","v":0},{"$f":"SUM(szakasz1:szakasz10!E69)","v":0},0,"fekete amur"]
["A10",{"$f":"kod!B11","v":"I. sziget, bal"},{"$f":"kod!C11","v":"Team 5 Austria"},{"$f":"SUM(szakasz1:szakasz10!D70)","v":146.17500000000001},{"$f":"SUM(szakasz1:szakasz10!E70)","v":16},9.1359375000000007,"ÖSSZESEN"]
["A10",{"$f":"kod!B11","v":"I. sziget, bal"},{"$f":"kod!C11","v":"Team 5 Austria"},{"$f":"SUM(szakasz1:szakasz10!D71)","v":45.05},{"$f":"SUM(szakasz1:szakasz10!E71)","v":6},7.5083333333333329,"tükörponty"]
["A10",{"$f":"kod!B11","v":"I. sziget, bal"},{"$f":"kod!C11","v":"Team 5 Austria"},{"$f":"SUM(szakasz1:szakasz10!D72)","v":44.699999999999996},{"$f":"SUM(szakasz1:szakasz10!E72)","v":5},8.94,"tőponty"]
["A10",{"$f":"kod!B11","v":"I. sziget, bal"},{"$f":"kod!C11","v":"Team 5 Austria"},{"$f":"SUM(szakasz1:szakasz10!D73)","v":31.024999999999999},{"$f":"SUM(szakasz1:szakasz10!E73)","v":2},15.512499999999999,"nyurgaponty"]
["A10",{"$f":"kod!B11","v":"I. sziget, bal"},{"$f":"kod!C11","v":"Team 5 Austria"},{"$f":"SUM(szakasz1:szakasz10!D74)","v":0},{"$f":"SUM(szakasz1:szakasz10!E74)","v":0},0,"koi ponty"]
["A10",{"$f":"kod!B11","v":"I. sziget, bal"},{"$f":"kod!C11","v":"Team 5 Austria"},{"$f":"SUM(szakasz1:szakasz10!D75)","v":25.4},{"$f":"SUM(szakasz1:szakasz10!E75)","v":3},8.4666666666666668,"amur"]
["A10",{"$f":"kod!B11","v":"I. sziget, bal"},{"$f":"kod!C11","v":"Team 5 Austria"},{"$f":"SUM(szakasz1:szakasz10!D76)","v":0},{"$f":"SUM(szakasz1:szakasz10!E76)","v":0},0,"fekete amur"]
["A11",{"$f":"kod!B12","v":"I. sziget, bal közép"},{"$f":"kod!C12","v":"Invader's Team Poland"},{"$f":"SUM(szakasz1:szakasz10!D77)","v":311.84000000000003},{"$f":"SUM(szakasz1:szakasz10!E77)","v":42},7.4247619047619056,"ÖSSZESEN"]
["A11",{"$f":"kod!B12","v":"I. sziget, bal közép"},{"$f":"kod!C12","v":"Invader's Team Poland"},{"$f":"SUM(szakasz1:szakasz10!D78)","v":47.875},{"$f":"SUM(szakasz1:szakasz10!E78)","v":7},6.8392857142857144,"tükörponty"]
["A11",{"$f":"kod!B12","v":"I. sziget, bal közép"},{"$f":"kod!C12","v":"Invader's Team Poland"},{"$f":"SUM(szakasz1:szakasz10!D79)","v":64.795000000000002},{"$f":"SUM(szakasz1:szakasz10!E79)","v":12},5.3995833333333332,"tőponty"]
["A11",{"$f":"kod!B12","v":"I. sziget, bal közép"},{"$f":"kod!C12","v":"Invader's Team Poland"},{"$f":"SUM(szakasz1:szakasz10!D80)","v":76.474999999999994},{"$f":"SUM(szakasz1:szakasz10!E80)","v":7},10.924999999999999,"nyurgaponty"]
["A11",{"$f":"kod!B12","v":"I. sziget, bal közép"},{"$f":"kod!C12","v":"Invader's Team Poland"},{"$f":"SUM(szakasz1:szakasz10!D81)","v":13.625},{"$f":"SUM(szakasz1:szakasz10!E81)","v":2},6.8125,"koi ponty"]
["A11",{"$f":"kod!B12","v":"I. sziget, bal közép"},{"$f":"kod!C12","v":"Invader's Team Poland"},{"$f":"SUM(szakasz1:szakasz10!D82)","v":72.194999999999993},{"$f":"SUM(szakasz1:szakasz10!E82)","v":7},10.313571428571427,"amur"]
["A11",{"$f":"kod!B12","v":"I. sziget, bal közép"},{"$f":"kod!C12","v":"Invader's Team Poland"},{"$f":"SUM(szakasz1:szakasz10!D83)","v":36.875},{"$f":"SUM(szakasz1:szakasz10!E83)","v":7},5.2678571428571432,"fekete amur"]
["B01",{"$f":"kod!B13","v":"Gát, közepes víz"},{"$f":"kod!C13","v":"Tata Nitu Carp Team"},{"$f":"SUM(szakasz1:szakasz10!D84)","v":338.64500000000004},{"$f":"SUM(szakasz1:szakasz10!E84)","v":57},{"$f":"IF(E84=0,0,D84/E84)","v":5.9411403508771938},"ÖSSZESEN"]
["B01",{"$f":"kod!B13","v":"Gát, közepes víz"},{"$f":"kod!C13","v":"Tata Nitu Carp Team"},{"$f":"SUM(szakasz1:szakasz10!D85)","v":31.875},{"$f":"SUM(szakasz1:szakasz10!E85)","v":5},6.375,"tükörponty"]
["B01",{"$f":"kod!B13","v":"Gát, közepes víz"},{"$f":"kod!C13","v":"Tata Nitu Carp Team"},{"$f":"SUM(szakasz1:szakasz10!D86)","v":155.57},{"$f":"SUM(szakasz1:szakasz10!E86)","v":32},4.8615624999999998,"tőponty"]
["B01",{"$f":"kod!B13","v":"Gát, közepes víz"},{"$f":"kod!C13","v":"Tata Nitu Carp Team"},{"$f":"SUM(szakasz1:szakasz10!D87)","v":83.475000000000009},{"$f":"SUM(szakasz1:szakasz10!E87)","v":11},7.5886363636363647,"nyurgaponty"]
["B01",{"$f":"kod!B13","v":"Gát, közepes víz"},{"$f":"kod!C13","v":"Tata Nitu Carp Team"},{"$f":"SUM(szakasz1:szakasz10!D88)","v":9.25},{"$f":"SUM(szakasz1:szakasz10!E88)","v":1},9.25,"koi ponty"]
["B01",{"$f":"kod!B13","v":"Gát, közepes víz"},{"$f":"kod!C13","v":"Tata Nitu Carp Team"},{"$f":"SUM(szakasz1:szakasz10!D89)","v":46.174999999999997},{"$f":"SUM(szakasz1:szakasz10!E89)","v":5},9.2349999999999994,"amur"]
["B01",{"$f":"kod!B13","v":"Gát, közepes víz"},{"$f":"kod!C13","v":"Tata Nitu Carp Team"},{"$f":"SUM(szakasz1:szakasz10!D90)","v":12.3},{"$f":"SUM(szakasz1:szakasz10!E90)","v":3},4.1000000000000005,"fekete amur"]
["B02",{"$f":"kod!B14","v":"Gát, közepes víz"},{"$f":"kod!C14","v":"Slovakia Carp Team"},{"$f":"SUM(szakasz1:szakasz10!D91)","v":270.27500000000003},{"$f":"SUM(szakasz1:szakasz10!E91)","v":31},{"$f":"IF(E91=0,0,D91/E91)","v":8.7185483870967762},"ÖSSZESEN"]
["B02",{"$f":"kod!B14","v":"Gát, közepes víz"},{"$f":"kod!C14","v":"Slovakia Carp Team"},{"$f":"SUM(szakasz1:szakasz10!D92)","v":59.7},{"$f":"SUM(szakasz1:szakasz10!E92)","v":7},8.5285714285714285,"tükörponty"]
["B02",{"$f":"kod!B14","v":"Gát, közepes víz"},{"$f":"kod!C14","v":"Slovakia Carp Team"},{"$f":"SUM(szakasz1:szakasz10!D93)","v":100.55000000000001},{"$f":"SUM(szakasz1:szakasz10!E93)","v":11},9.1409090909090924,"tőponty"]
["B02",{"$f":"kod!B14","v":"Gát, közepes víz"},{"$f":"kod!C14","v":"Slovakia Carp Team"},{"$f":"SUM(szakasz1:szakasz10!D94)","v":59.9},{"$f":"SUM(szakasz1:szakasz10!E94)","v":6},9.9833333333333325,"nyurgaponty"]
["B02",{"$f":"kod!B14","v":"Gát, közepes víz"},{"$f":"kod!C14","v":"Slovakia Carp Team"},{"$f":"SUM(szakasz1:szakasz10!D95)","v":15.725},{"$f":"SUM(szakasz1:szakasz10!E95)","v":1},15.725,"koi ponty"]
["B02",{"$f":"kod!B14","v":"Gát, közepes víz"},{"$f":"kod!C14","v":"Slovakia Carp Team"},{"$f":"SUM(szakasz1:szakasz10!D96)","v":21.6},{"$f":"SUM(szakasz1:szakasz10!E96)","v":2},10.8,"amur"]
["B02",{"$f":"kod!B14","v":"Gát, közepes víz"},{"$f":"kod!C14","v":"Slovakia Carp Team"},{"$f":"SUM(szakasz1:szakasz10!D97)","v":12.8},{"$f":"SUM(szakasz1:szakasz10!E97)","v":4},3.2,"fekete amur"]
["B03",{"$f":"kod!B15","v":"Gát, közepes víz"},{"$f":"kod!C15","v":"WLC Hungary "},{"$f":"SUM(szakasz1:szakasz10!D98)","v":1171.875},{"$f":"SUM(szakasz1:szakasz10!E98)","v":130},9.0144230769230766,"ÖSSZESEN"]
["B03",{"$f":"kod!B15","v":"Gát, közepes víz"},{"$f":"kod!C15","v":"WLC Hungary "},{"$f":"SUM(szakasz1:szakasz10!D99)","v":203.37500000000003},{"$f":"SUM(szakasz1:szakasz10!E99)","v":21},9.6845238095238102,"tükörponty"]
["B03",{"$f":"kod!B15","v":"Gát, közepes víz"},{"$f":"kod!C15","v":"WLC Hungary "},{"$f":"SUM(szakasz1:szakasz10!D100)","v":220.4},{"$f":"SUM(szakasz1:szakasz10!E100)","v":27},8.162962962962963,"tőponty"]
["B03",{"$f":"kod!B15","v":"Gát, közepes víz"},{"$f":"kod!C15","v":"WLC Hungary "},{"$f":"SUM(szakasz1:szakasz10!D101)","v":562.125},{"$f":"SUM(szakasz1:szakasz10!E101)","v":55},10.220454545454546,"nyurgaponty"]
["B03",{"$f":"kod!B15","v":"Gát, közepes víz"},{"$f":"kod!C15","v":"WLC Hungary "},{"$f":"SUM(szakasz1:szakasz10!D102)","v":42.625},{"$f":"SUM(szakasz1:szakasz10!E102)","v":4},10.65625,"koi ponty"]
["B03",{"$f":"kod!B15","v":"Gát, közepes víz"},{"$f":"kod!C15","v":"WLC Hungary "},{"$f":"SUM(szakasz1:szakasz10!D103)","v":67.25},{"$f":"SUM(szakasz1:szakasz10!E103)","v":7},9.6071428571428577,"amur"]
["B03",{"$f":"kod!B15","v":"Gát, közepes víz"},{"$f":"kod!C15","v":"WLC Hungary "},{"$f":"SUM(szakasz1:szakasz10!D104)","v":76.099999999999994},{"$f":"SUM(szakasz1:szakasz10!E104)","v":16},4.7562499999999996,"fekete amur"]
["B04",{"$f":"kod!B16","v":"Gát, közepes víz"},{"$f":"kod!C16","v":"Barfin Line NSD Bulgaria"},{"$f":"SUM(szakasz1:szakasz10!D105)","v":555.65},{"$f":"SUM(szakasz1:szakasz10!E105)","v":57},9.7482456140350866,"ÖSSZESEN"]
["B04",{"$f":"kod!B16","v":"Gát, közepes víz"},{"$f":"kod!C16","v":"Barfin Line NSD Bulgaria"},{"$f":"SUM(szakasz1:szakasz10!D106)","v":125.75},{"$f":"SUM(szakasz1:szakasz10!E106)","v":10},12.574999999999999,"tükörponty"]
["B04",{"$f":"kod!B16","v":"Gát, közepes víz"},{"$f":"kod!C16","v":"Barfin Line NSD Bulgaria"},{"$f":"SUM(szakasz1:szakasz10!D107)","v":98.174999999999983},{"$f":"SUM(szakasz1:szakasz10!E107)","v":14},7.0124999999999984,"tőponty"]
["B04",{"$f":"kod!B16","v":"Gát, közepes víz"},{"$f":"kod!C16","v":"Barfin Line NSD Bulgaria"},{"$f":"SUM(szakasz1:szakasz10!D108)","v":205.92500000000001},{"$f":"SUM(szakasz1:szakasz10!E108)","v":19},10.838157894736844,"nyurgaponty"]
["B04",{"$f":"kod!B16","v":"Gát, közepes víz"},{"$f":"kod!C16","v":"Barfin Line NSD Bulgaria"},{"$f":"SUM(szakasz1:szakasz10!D109)","v":30.35},{"$f":"SUM(szakasz1:szakasz10!E109)","v":3},10.116666666666667,"koi ponty"]
["B04",{"$f":"kod!B16","v":"Gát, közepes víz"},{"$f":"kod!C16","v":"Barfin Line NSD Bulgaria"},{"$f":"SUM(szakasz1:szakasz10!D110)","v":33.9},{"$f":"SUM(szakasz1:szakasz10!E110)","v":4},8.4749999999999996,"amur"]
["B04",{"$f":"kod!B16","v":"Gát, közepes víz"},{"$f":"kod!C16","v":"Barfin Line NSD Bulgaria"},{"$f":"SUM(szakasz1:szakasz10!D111)","v":61.55},{"$f":"SUM(szakasz1:szakasz10!E111)","v":7},8.7928571428571427,"fekete amur"]
["B05",{"$f":"kod!B17","v":"Gát, közepes víz"},{"$f":"kod!C17","v":"Lutra Carp Hunters"},{"$f":"SUM(szakasz1:szakasz10!D112)","v":140.95000000000002},{"$f":"SUM(szakasz1:szakasz10!E112)","v":15},9.3966666666666683,"ÖSSZESEN"]
["B05",{"$f":"kod!B17","v":"Gát, közepes víz"},{"$f":"kod!C17","v":"Lutra Carp Hunters"},{"$f":"SUM(szakasz1:szakasz10!D113)","v":43.825000000000003},{"$f":"SUM(szakasz1:szakasz10!E113)","v":4},10.956250000000001,"tükörponty"]
["B05",{"$f":"kod!B17","v":"Gát, közepes víz"},{"$f":"kod!C17","v":"Lutra Carp Hunters"},{"$f":"SUM(szakasz1:szakasz10!D114)","v":17.125},{"$f":"SUM(szakasz1:szakasz10!E114)","v":2},8.5625,"tőponty"]
["B05",{"$f":"kod!B17","v":"Gát, közepes víz"},{"$f":"kod!C17","v":"Lutra Carp Hunters"},{"$f":"SUM(szakasz1:szakasz10!D115)","v":60.525000000000006},{"$f":"SUM(szakasz1:szakasz10!E115)","v":6},10.0875,"nyurgaponty"]
["B05",{"$f":"kod!B17","v":"Gát, közepes víz"},{"$f":"kod!C17","v":"Lutra Carp Hunters"},{"$f":"SUM(szakasz1:szakasz10!D116)","v":10.8},{"$f":"SUM(szakasz1:szakasz10!E116)","v":1},10.8,"koi ponty"]
["B05",{"$f":"kod!B17","v":"Gát, közepes víz"},{"$f":"kod!C17","v":"Lutra Carp Hunters"},{"$f":"SUM(szakasz1:szakasz10!D117)","v":0},{"$f":"SUM(szakasz1:szakasz10!E117)","v":0},0,"amur"]
["B05",{"$f":"kod!B17","v":"Gát, közepes víz"},{"$f":"kod!C17","v":"Lutra Carp Hunters"},{"$f":"SUM(szakasz1:szakasz10!D118)","v":8.6750000000000007},{"$f":"SUM(szakasz1:szakasz10!E118)","v":2},4.3375000000000004,"fekete amur"]
["B06",{"$f":"kod!B18","v":"Gát, közepes víz"},{"$f":"kod!C18","v":"Xtra Carp Team"},{"$f":"SUM(szakasz1:szakasz10!D119)","v":752.6},{"$f":"SUM(szakasz1:szakasz10!E119)","v":66},11.403030303030304,"ÖSSZESEN"]
["B06",{"$f":"kod!B18","v":"Gát, közepes víz"},{"$f":"kod!C18","v":"Xtra Carp Team"},{"$f":"SUM(szakasz1:szakasz10!D120)","v":137.19999999999999},{"$f":"SUM(szakasz1:szakasz10!E120)","v":11},12.472727272727271,"tükörponty"]
["B06",{"$f":"kod!B18","v":"Gát, közepes víz"},{"$f":"kod!C18","v":"Xtra Carp Team"},{"$f":"SUM(szakasz1:szakasz10!D121)","v":152},{"$f":"SUM(szakasz1:szakasz10!E121)","v":11},13.818181818181818,"tőponty"]
["B06",{"$f":"kod!B18","v":"Gát, közepes víz"},{"$f":"kod!C18","v":"Xtra Carp Team"},{"$f":"SUM(szakasz1:szakasz10!D122)","v":374.57500000000005},{"$f":"SUM(szakasz1:szakasz10!E122)","v":33},11.350757575757576,"nyurgaponty"]
["B06",{"$f":"kod!B18","v":"Gát, közepes víz"},{"$f":"kod!C18","v":"Xtra Carp Team"},{"$f":"SUM(szakasz1:szakasz10!D123)","v":26.35},{"$f":"SUM(szakasz1:szakasz10!E123)","v":2},13.175000000000001,"koi ponty"]
["B06",{"$f":"kod!B18","v":"Gát, közepes víz"},{"$f":"kod!C18","v":"Xtra Carp Team"},{"$f":"SUM(szakasz1:szakasz10!D124)","v":49.849999999999994},{"$f":"SUM(szakasz1:szakasz10!E124)","v":5},9.9699999999999989,"amur"]
["B06",{"$f":"kod!B18","v":"Gát, közepes víz"},{"$f":"kod!C18","v":"Xtra Carp Team"},{"$f":"SUM(szakasz1:szakasz10!D125)","v":12.625},{"$f":"SUM(szakasz1:szakasz10!E125)","v":4},3.15625,"fekete amur"]
["B07",{"$f":"kod!B19","v":"I. sziget, jobb közép"},{"$f":"kod!C19","v":"Elite Carp Team Brasov"},{"$f":"SUM(szakasz1:szakasz10!D126)","v":896.10000000000014},{"$f":"SUM(szakasz1:szakasz10!E126)","v":89},10.068539325842698,"ÖSSZESEN"]
["B07",{"$f":"kod!B19","v":"I. sziget, jobb közép"},{"$f":"kod!C19","v":"Elite Carp Team Brasov"},{"$f":"SUM(szakasz1:szakasz10!D127)","v":164.3},{"$f":"SUM(szakasz1:szakasz10!E127)","v":15},10.953333333333335,"tükörponty"]
["B07",{"$f":"kod!B19","v":"I. sziget, jobb közép"},{"$f":"kod!C19","v":"Elite Carp Team Brasov"},{"$f":"SUM(szakasz1:szakasz10!D128)","v":263.30000000000007},{"$f":"SUM(szakasz1:szakasz10!E128)","v":31},8.4935483870967765,"tőponty"]
["B07",{"$f":"kod!B19","v":"I. sziget, jobb közép"},{"$f":"kod!C19","v":"Elite Carp Team Brasov"},{"$f":"SUM(szakasz1:szakasz10!D129)","v":387.44999999999993},{"$f":"SUM(szakasz1:szakasz10!E129)","v":32},12.107812499999998,"nyurgaponty"]
["B07",{"$f":"kod!B19","v":"I. sziget, jobb közép"},{"$f":"kod!C19","v":"Elite Carp Team Brasov"},{"$f":"SUM(szakasz1:szakasz10!D130)","v":60.8},{"$f":"SUM(szakasz1:szakasz10!E130)","v":9},6.7555555555555555,"koi ponty"]
["B07",{"$f":"kod!B19","v":"I. sziget, jobb közép"},{"$f":"kod!C19","v":"Elite Carp Team Brasov"},{"$f":"SUM(szakasz1:szakasz10!D131)","v":0},{"$f":"SUM(szakasz1:szakasz10!E131)","v":0},0,"amur"]
["B07",{"$f":"kod!B19","v":"I. sziget, jobb közép"},{"$f":"kod!C19","v":"Elite Carp Team Brasov"},{"$f":"SUM(szakasz1:szakasz10!D132)","v":20.25},{"$f":"SUM(szakasz1:szakasz10!E132)","v":2},10.125,"fekete amur"]
["B08",{"$f":"kod!B20","v":"I. sziget, jobb "},{"$f":"kod!C20","v":"CT777 Varna Bulgaria"},{"$f":"SUM(szakasz1:szakasz10!D133)","v":1178.2649999999999},{"$f":"SUM(szakasz1:szakasz10!E133)","v":134},8.7930223880597005,"ÖSSZESEN"]
["B08",{"$f":"kod!B20","v":"I. sziget, jobb "},{"$f":"kod!C20","v":"CT777 Varna Bulgaria"},{"$f":"SUM(szakasz1:szakasz10!D134)","v":268.92500000000001},{"$f":"SUM(szakasz1:szakasz10!E134)","v":29},9.2732758620689655,"tükörponty"]
["B08",{"$f":"kod!B20","v":"I. sziget, jobb "},{"$f":"kod!C20","v":"CT777 Varna Bulgaria"},{"$f":"SUM(szakasz1:szakasz10!D135)","v":298.52499999999998},{"$f":"SUM(szakasz1:szakasz10!E135)","v":38},7.8559210526315786,"tőponty"]
["B08",{"$f":"kod!B20","v":"I. sziget, jobb "},{"$f":"kod!C20","v":"CT777 Varna Bulgaria"},{"$f":"SUM(szakasz1:szakasz10!D136)","v":336.51499999999999},{"$f":"SUM(szakasz1:szakasz10!E136)","v":33},10.197424242424242,"nyurgaponty"]
["B08",{"$f":"kod!B20","v":"I. sziget, jobb "},{"$f":"kod!C20","v":"CT777 Varna Bulgaria"},{"$f":"SUM(szakasz1:szakasz10!D137)","v":80.025000000000006},{"$f":"SUM(szakasz1:szakasz10!E137)","v":8},10.003125000000001,"koi ponty"]
["B08",{"$f":"kod!B20","v":"I. sziget, jobb "},{"$f":"kod!C20","v":"CT777 Varna Bulgaria"},{"$f":"SUM(szakasz1:szakasz10!D138)","v":123.27500000000001},{"$f":"SUM(szakasz1:szakasz10!E138)","v":11},11.206818181818182,"amur"]
["B08",{"$f":"kod!B20","v":"I. sziget, jobb "},{"$f":"kod!C20","v":"CT777 Varna Bulgaria"},{"$f":"SUM(szakasz1:szakasz10!D139)","v":71},{"$f":"SUM(szakasz1:szakasz10!E139)","v":15},4.7333333333333334,"fekete amur"]
["B09",{"$f":"kod!B21","v":"I. sziget, jobb külső"},{"$f":"kod!C21","v":"Bait Maker Team"},{"$f":"SUM(szakasz1:szakasz10!D140)","v":926.05},{"$f":"SUM(szakasz1:szakasz10!E140)","v":112},8.2683035714285715,"ÖSSZESEN"]
["B09",{"$f":"kod!B21","v":"I. sziget, jobb külső"},{"$f":"kod!C21","v":"Bait Maker Team"},{"$f":"SUM(szakasz1:szakasz10!D141)","v":185.67500000000001},{"$f":"SUM(szakasz1:szakasz10!E141)","v":21},8.8416666666666668,"tükörponty"]
["B09",{"$f":"kod!B21","v":"I. sziget, jobb külső"},{"$f":"kod!C21","v":"Bait Maker Team"},{"$f":"SUM(szakasz1:szakasz10!D142)","v":380.44999999999993},{"$f":"SUM(szakasz1:szakasz10!E142)","v":48},7.9260416666666655,"tőponty"]
["B09",{"$f":"kod!B21","v":"I. sziget, jobb külső"},{"$f":"kod!C21","v":"Bait Maker Team"},{"$f":"SUM(szakasz1:szakasz10!D143)","v":276.27499999999998},{"$f":"SUM(szakasz1:szakasz10!E143)","v":29},9.5267241379310335,"nyurgaponty"]
["B09",{"$f":"kod!B21","v":"I. sziget, jobb külső"},{"$f":"kod!C21","v":"Bait Maker Team"},{"$f":"SUM(szakasz1:szakasz10!D144)","v":13.05},{"$f":"SUM(szakasz1:szakasz10!E144)","v":2},6.5250000000000004,"koi ponty"]
["B09",{"$f":"kod!B21","v":"I. sziget, jobb külső"},{"$f":"kod!C21","v":"Bait Maker Team"},{"$f":"SUM(szakasz1:szakasz10!D145)","v":51.199999999999996},{"$f":"SUM(szakasz1:szakasz10!E145)","v":6},8.5333333333333332,"amur"]
["B09",{"$f":"kod!B21","v":"I. sziget, jobb külső"},{"$f":"kod!C21","v":"Bait Maker Team"},{"$f":"SUM(szakasz1:szakasz10!D146)","v":19.399999999999999},{"$f":"SUM(szakasz1:szakasz10!E146)","v":6},3.2333333333333329,"fekete amur"]
["B10",{"$f":"kod!B22","v":"Felező-spicc, bal"},{"$f":"kod!C22","v":"SBS - SziKo Team"},{"$f":"SUM(szakasz1:szakasz10!D147)","v":274.875},{"$f":"SUM(szakasz1:szakasz10!E147)","v":40},{"$f":"IF(E147=0,0,D147/E147)","v":6.8718750000000002},"ÖSSZESEN"]
["B10",{"$f":"kod!B22","v":"Felező-spicc, bal"},{"$f":"kod!C22","v":"SBS - SziKo Team"},{"$f":"SUM(szakasz1:szakasz10!D148)","v":82.325000000000003},{"$f":"SUM(szakasz1:szakasz10!E148)","v":11},7.4840909090909093,"tükörponty"]
["B10",{"$f":"kod!B22","v":"Felező-spicc, bal"},{"$f":"kod!C22","v":"SBS - SziKo Team"},{"$f":"SUM(szakasz1:szakasz10!D149)","v":119.65},{"$f":"SUM(szakasz1:szakasz10!E149)","v":20},5.9824999999999999,"tőponty"]
["B10",{"$f":"kod!B22","v":"Felező-spicc, bal"},{"$f":"kod!C22","v":"SBS - SziKo Team"},{"$f":"SUM(szakasz1:szakasz10!D150)","v":38.25},{"$f":"SUM(szakasz1:szakasz10!E150)","v":4},9.5625,"nyurgaponty"]
["B10",{"$f":"kod!B22","v":"Felező-spicc, bal"},{"$f":"kod!C22","v":"SBS - SziKo Team"},{"$f":"SUM(szakasz1:szakasz10!D151)","v":25.8},{"$f":"SUM(szakasz1:szakasz10!E151)","v":3},8.6,"koi ponty"]
["B10",{"$f":"kod!B22","v":"Felező-spicc, bal"},{"$f":"kod!C22","v":"SBS - SziKo Team"},{"$f":"SUM(szakasz1:szakasz10!D152)","v":8.85},{"$f":"SUM(szakasz1:szakasz10!E152)","v":2},4.4249999999999998,"amur"]
["B10",{"$f":"kod!B22","v":"Felező-spicc, bal"},{"$f":"kod!C22","v":"SBS - SziKo Team"},{"$f":"SUM(szakasz1:szakasz10!D153)","v":0},{"$f":"SUM(szakasz1:szakasz10!E153)","v":0},0,"fekete amur"]
["B11",{"$f":"kod!B23","v":"Felező-spicc, közép"},{"$f":"kod!C23","v":"Síp Carp Team"},{"$f":"SUM(szakasz1:szakasz10!D154)","v":163.30000000000001},{"$f":"SUM(szakasz1:szakasz10!E154)","v":23},7.1000000000000005,"ÖSSZESEN"]
["B11",{"$f":"kod!B23","v":"Felező-spicc, közép"},{"$f":"kod!C23","v":"Síp Carp Team"},{"$f":"SUM(szakasz1:szakasz10!D155)","v":50.774999999999999},{"$f":"SUM(szakasz1:szakasz10!E155)","v":6},8.4625000000000004,"tükörponty"]
["B11",{"$f":"kod!B23","v":"Felező-spicc, közép"},{"$f":"kod!C23","v":"Síp Carp Team"},{"$f":"SUM(szakasz1:szakasz10!D156)","v":82.550000000000011},{"$f":"SUM(szakasz1:szakasz10!E156)","v":13},6.3500000000000005,"tőponty"]
["B11",{"$f":"kod!B23","v":"Felező-spicc, közép"},{"$f":"kod!C23","v":"Síp Carp Team"},{"$f":"SUM(szakasz1:szakasz10!D157)","v":7.6},{"$f":"SUM(szakasz1:szakasz10!E157)","v":1},7.6,"nyurgaponty"]
["B11",{"$f":"kod!B23","v":"Felező-spicc, közép"},{"$f":"kod!C23","v":"Síp Carp Team"},{"$f":"SUM(szakasz1:szakasz10!D158)","v":0},{"$f":"SUM(szakasz1:szakasz10!E158)","v":0},0,"koi ponty"]
["B11",{"$f":"kod!B23","v":"Felező-spicc, közép"},{"$f":"kod!C23","v":"Síp Carp Team"},{"$f":"SUM(szakasz1:szakasz10!D159)","v":17.524999999999999},{"$f":"SUM(szakasz1:szakasz10!E159)","v":2},8.7624999999999993,"amur"]
["B11",{"$f":"kod!B23","v":"Felező-spicc, közép"},{"$f":"kod!C23","v":"Síp Carp Team"},{"$f":"SUM(szakasz1:szakasz10!D160)","v":4.8499999999999996},{"$f":"SUM(szakasz1:szakasz10!E160)","v":1},4.8499999999999996,"fekete amur"]
["C01",{"$f":"kod!B24","v":"Gát, sekély víz"},{"$f":"kod!C24","v":"Carp Fever Bulgaria"},{"$f":"SUM(szakasz1:szakasz10!D161)","v":671.60000000000014},{"$f":"SUM(szakasz1:szakasz10!E161)","v":108},6.2185185185185201,"ÖSSZESEN"]
["C01",{"$f":"kod!B24","v":"Gát, sekély víz"},{"$f":"kod!C24","v":"Carp Fever Bulgaria"},{"$f":"SUM(szakasz1:szakasz10!D162)","v":148.22499999999999},{"$f":"SUM(szakasz1:szakasz10!E162)","v":21},7.0583333333333327,"tükörponty"]
["C01",{"$f":"kod!B24","v":"Gát, sekély víz"},{"$f":"kod!C24","v":"Carp Fever Bulgaria"},{"$f":"SUM(szakasz1:szakasz10!D163)","v":177.47500000000002},{"$f":"SUM(szakasz1:szakasz10!E163)","v":37},4.7966216216216226,"tőponty"]
["C01",{"$f":"kod!B24","v":"Gát, sekély víz"},{"$f":"kod!C24","v":"Carp Fever Bulgaria"},{"$f":"SUM(szakasz1:szakasz10!D164)","v":290.35000000000002},{"$f":"SUM(szakasz1:szakasz10!E164)","v":42},6.9130952380952388,"nyurgaponty"]
["C01",{"$f":"kod!B24","v":"Gát, sekély víz"},{"$f":"kod!C24","v":"Carp Fever Bulgaria"},{"$f":"SUM(szakasz1:szakasz10!D165)","v":41.174999999999997},{"$f":"SUM(szakasz1:szakasz10!E165)","v":6},6.8624999999999998,"koi ponty"]
["C01",{"$f":"kod!B24","v":"Gát, sekély víz"},{"$f":"kod!C24","v":"Carp Fever Bulgaria"},{"$f":"SUM(szakasz1:szakasz10!D166)","v":14.375},{"$f":"SUM(szakasz1:szakasz10!E166)","v":2},7.1875,"amur"]
["C01",{"$f":"kod!B24","v":"Gát, sekély víz"},{"$f":"kod!C24","v":"Carp Fever Bulgaria"},{"$f":"SUM(szakasz1:szakasz10!D167)","v":0},{"$f":"SUM(szakasz1:szakasz10!E167)","v":0},0,"fekete amur"]
["C02",{"$f":"kod!B25","v":"Gát, sekély víz"},{"$f":"kod!C25","v":"Carpfriends Ennstal-Austria"},{"$f":"SUM(szakasz1:szakasz10!D168)","v":572.4},{"$f":"SUM(szakasz1:szakasz10!E168)","v":72},7.9499999999999993,"ÖSSZESEN"]
["C02",{"$f":"kod!B25","v":"Gát, sekély víz"},{"$f":"kod!C25","v":"Carpfriends Ennstal-Austria"},{"$f":"SUM(szakasz1:szakasz10!D169)","v":151.07500000000002},{"$f":"SUM(szakasz1:szakasz10!E169)","v":20},7.5537500000000009,"tükörponty"]
["C02",{"$f":"kod!B25","v":"Gát, sekély víz"},{"$f":"kod!C25","v":"Carpfriends Ennstal-Austria"},{"$f":"SUM(szakasz1:szakasz10!D170)","v":88},{"$f":"SUM(szakasz1:szakasz10!E170)","v":12},7.333333333333333,"tőponty"]
["C02",{"$f":"kod!B25","v":"Gát, sekély víz"},{"$f":"kod!C25","v":"Carpfriends Ennstal-Austria"},{"$f":"SUM(szakasz1:szakasz10!D171)","v":284.5},{"$f":"SUM(szakasz1:szakasz10!E171)","v":33},8.6212121212121211,"nyurgaponty"]
["C02",{"$f":"kod!B25","v":"Gát, sekély víz"},{"$f":"kod!C25","v":"Carpfriends Ennstal-Austria"},{"$f":"SUM(szakasz1:szakasz10!D172)","v":48.824999999999996},{"$f":"SUM(szakasz1:szakasz10!E172)","v":7},6.9749999999999996,"koi ponty"]
["C02",{"$f":"kod!B25","v":"Gát, sekély víz"},{"$f":"kod!C25","v":"Carpfriends Ennstal-Austria"},{"$f":"SUM(szakasz1:szakasz10!D173)","v":0},{"$f":"SUM(szakasz1:szakasz10!E173)","v":0},0,"amur"]
["C02",{"$f":"kod!B25","v":"Gát, sekély víz"},{"$f":"kod!C25","v":"Carpfriends Ennstal-Austria"},{"$f":"SUM(szakasz1:szakasz10!D174)","v":0},{"$f":"SUM(szakasz1:szakasz10!E174)","v":0},0,"fekete amur"]
["C03",{"$f":"kod!B26","v":"Gát, sekély víz"},{"$f":"kod!C26","v":"Carp Team Brasov"},{"$f":"SUM(szakasz1:szakasz10!D175)","v":307.125},{"$f":"SUM(szakasz1:szakasz10!E175)","v":50},6.1425000000000001,"ÖSSZESEN"]
["C03",{"$f":"kod!B26","v":"Gát, sekély víz"},{"$f":"kod!C26","v":"Carp Team Brasov"},{"$f":"SUM(szakasz1:szakasz10!D176)","v":25.075000000000003},{"$f":"SUM(szakasz1:szakasz10!E176)","v":4},6.2687500000000007,"tükörponty"]
["C03",{"$f":"kod!B26","v":"Gát, sekély víz"},{"$f":"kod!C26","v":"Carp Team Brasov"},{"$f":"SUM(szakasz1:szakasz10!D177)","v":157.54999999999998},{"$f":"SUM(szakasz1:szakasz10!E177)","v":30},5.251666666666666,"tőponty"]
["C03",{"$f":"kod!B26","v":"Gát, sekély víz"},{"$f":"kod!C26","v":"Carp Team Brasov"},{"$f":"SUM(szakasz1:szakasz10!D178)","v":98.224999999999994},{"$f":"SUM(szakasz1:szakasz10!E178)","v":13},7.5557692307692301,"nyurgaponty"]
["C03",{"$f":"kod!B26","v":"Gát, sekély víz"},{"$f":"kod!C26","v":"Carp Team Brasov"},{"$f":"SUM(szakasz1:szakasz10!D179)","v":26.274999999999999},{"$f":"SUM(szakasz1:szakasz10!E179)","v":3},8.7583333333333329,"koi ponty"]
["C03",{"$f":"kod!B26","v":"Gát, sekély víz"},{"$f":"kod!C26","v":"Carp Team Brasov"},{"$f":"SUM(szakasz1:szakasz10!D180)","v":0},{"$f":"SUM(szakasz1:szakasz10!E180)","v":0},0,"amur"]
["C03",{"$f":"kod!B26","v":"Gát, sekély víz"},{"$f":"kod!C26","v":"Carp Team Brasov"},{"$f":"SUM(szakasz1:szakasz10!D181)","v":0},{"$f":"SUM(szakasz1:szakasz10!E181)","v":0},0,"fekete amur"]
["C04",{"$f":"kod!B27","v":"Gát, sekély víz"},{"$f":"kod!C27","v":"As La Carp Team"},{"$f":"SUM(szakasz1:szakasz10!D182)","v":237.85},{"$f":"SUM(szakasz1:szakasz10!E182)","v":35},6.7957142857142854,"ÖSSZESEN"]
["C04",{"$f":"kod!B27","v":"Gát, sekély víz"},{"$f":"kod!C27","v":"As La Carp Team"},{"$f":"SUM(szakasz1:szakasz10!D183)","v":55.424999999999997},{"$f":"SUM(szakasz1:szakasz10!E183)","v":6},9.2374999999999989,"tükörponty"]
["C04",{"$f":"kod!B27","v":"Gát, sekély víz"},{"$f":"kod!C27","v":"As La Carp Team"},{"$f":"SUM(szakasz1:szakasz10!D184)","v":97.124999999999986},{"$f":"SUM(szakasz1:szakasz10!E184)","v":19},5.1118421052631575,"tőponty"]
["C04",{"$f":"kod!B27","v":"Gát, sekély víz"},{"$f":"kod!C27","v":"As La Carp Team"},{"$f":"SUM(szakasz1:szakasz10!D185)","v":42.7},{"$f":"SUM(szakasz1:szakasz10!E185)","v":6},7.1166666666666671,"nyurgaponty"]
["C04",{"$f":"kod!B27","v":"Gát, sekély víz"},{"$f":"kod!C27","v":"As La Carp Team"},{"$f":"SUM(szakasz1:szakasz10!D186)","v":42.6},{"$f":"SUM(szakasz1:szakasz10!E186)","v":4},10.65,"koi ponty"]
["C04",{"$f":"kod!B27","v":"Gát, sekély víz"},{"$f":"kod!C27","v":"As La Carp Team"},{"$f":"SUM(szakasz1:szakasz10!D187)","v":0},{"$f":"SUM(szakasz1:szakasz10!E187)","v":0},0,"amur"]
["C04",{"$f":"kod!B27","v":"Gát, sekély víz"},{"$f":"kod!C27","v":"As La Carp Team"},{"$f":"SUM(szakasz1:szakasz10!D188)","v":0},{"$f":"SUM(szakasz1:szakasz10!E188)","v":0},0,"fekete amur"]
["C05",{"$f":"kod!B28","v":"Gát, sekély víz"},{"$f":"kod!C28","v":"Bojlis Főnök - Bait Bait Carp Team"},{"$f":"SUM(szakasz1:szakasz10!D189)","v":289.92500000000007},{"$f":"SUM(szakasz1:szakasz10!E189)","v":50},5.7985000000000015,"ÖSSZESEN"]
["C05",{"$f":"kod!B28","v":"Gát, sekély víz"},{"$f":"kod!C28","v":"Bojlis Főnök - Bait Bait Carp Team"},{"$f":"SUM(szakasz1:szakasz10!D190)","v":53.349999999999994},{"$f":"SUM(szakasz1:szakasz10!E190)","v":9},5.9277777777777771,"tükörponty"]
["C05",{"$f":"kod!B28","v":"Gát, sekély víz"},{"$f":"kod!C28","v":"Bojlis Főnök - Bait Bait Carp Team"},{"$f":"SUM(szakasz1:szakasz10!D191)","v":120.17500000000001},{"$f":"SUM(szakasz1:szakasz10!E191)","v":26},4.6221153846153848,"tőponty"]
["C05",{"$f":"kod!B28","v":"Gát, sekély víz"},{"$f":"kod!C28","v":"Bojlis Főnök - Bait Bait Carp Team"},{"$f":"SUM(szakasz1:szakasz10!D192)","v":83.975000000000009},{"$f":"SUM(szakasz1:szakasz10!E192)","v":10},8.3975000000000009,"nyurgaponty"]
["C05",{"$f":"kod!B28","v":"Gát, sekély víz"},{"$f":"kod!C28","v":"Bojlis Főnök - Bait Bait Carp Team"},{"$f":"SUM(szakasz1:szakasz10!D193)","v":17.024999999999999},{"$f":"SUM(szakasz1:szakasz10!E193)","v":3},5.6749999999999998,"koi ponty"]
["C05",{"$f":"kod!B28","v":"Gát, sekély víz"},{"$f":"kod!C28","v":"Bojlis Főnök - Bait Bait Carp Team"},{"$f":"SUM(szakasz1:szakasz10!D194)","v":15.4},{"$f":"SUM(szakasz1:szakasz10!E194)","v":2},7.7,"amur"]
["C05",{"$f":"kod!B28","v":"Gát, sekély víz"},{"$f":"kod!C28","v":"Bojlis Főnök - Bait Bait Carp Team"},{"$f":"SUM(szakasz1:szakasz10!D195)","v":0},{"$f":"SUM(szakasz1:szakasz10!E195)","v":0},0,"fekete amur"]
["C06",{"$f":"kod!B29","v":"Felező-spicc, jobb"},{"$f":"kod!C29","v":"Secret Of The Carp"},{"$f":"SUM(szakasz1:szakasz10!D196)","v":165.125},{"$f":"SUM(szakasz1:szakasz10!E196)","v":25},6.6050000000000004,"ÖSSZESEN"]
["C06",{"$f":"kod!B29","v":"Felező-spicc, jobb"},{"$f":"kod!C29","v":"Secret Of The Carp"},{"$f":"SUM(szakasz1:szakasz10!D197)","v":29.125},{"$f":"SUM(szakasz1:szakasz10!E197)","v":3},9.7083333333333339,"tükörponty"]
["C06",{"$f":"kod!B29","v":"Felező-spicc, jobb"},{"$f":"kod!C29","v":"Secret Of The Carp"},{"$f":"SUM(szakasz1:szakasz10!D198)","v":78.525000000000006},{"$f":"SUM(szakasz1:szakasz10!E198)","v":15},5.2350000000000003,"tőponty"]
["C06",{"$f":"kod!B29","v":"Felező-spicc, jobb"},{"$f":"kod!C29","v":"Secret Of The Carp"},{"$f":"SUM(szakasz1:szakasz10!D199)","v":54.45},{"$f":"SUM(szakasz1:szakasz10!E199)","v":6},9.0750000000000011,"nyurgaponty"]
["C06",{"$f":"kod!B29","v":"Felező-spicc, jobb"},{"$f":"kod!C29","v":"Secret Of The Carp"},{"$f":"SUM(szakasz1:szakasz10!D200)","v":3.0249999999999999},{"$f":"SUM(szakasz1:szakasz10!E200)","v":1},3.0249999999999999,"koi ponty"]
["C06",{"$f":"kod!B29","v":"Felező-spicc, jobb"},{"$f":"kod!C29","v":"Secret Of The Carp"},{"$f":"SUM(szakasz1:szakasz10!D201)","v":0},{"$f":"SUM(szakasz1:szakasz10!E201)","v":0},0,"amur"]
["C06",{"$f":"kod!B29","v":"Felező-spicc, jobb"},{"$f":"kod!C29","v":"Secret Of The Carp"},{"$f":"SUM(szakasz1:szakasz10!D202)","v":0},{"$f":"SUM(szakasz1:szakasz10!E202)","v":0},0,"fekete amur"]
["C07",{"$f":"kod!B30","v":"II. sziget, bal"},{"$f":"kod!C30","v":"Quick Baits"},{"$f":"SUM(szakasz1:szakasz10!D203)","v":1030.165},{"$f":"SUM(szakasz1:szakasz10!E203)","v":110},9.3651363636363634,"ÖSSZESEN"]
["C07",{"$f":"kod!B30","v":"II. sziget, bal"},{"$f":"kod!C30","v":"Quick Baits"},{"$f":"SUM(szakasz1:szakasz10!D204)","v":240.64000000000004},{"$f":"SUM(szakasz1:szakasz10!E204)","v":23},10.462608695652175,"tükörponty"]
["C07",{"$f":"kod!B30","v":"II. sziget, bal"},{"$f":"kod!C30","v":"Quick Baits"},{"$f":"SUM(szakasz1:szakasz10!D205)","v":380.125},{"$f":"SUM(szakasz1:szakasz10!E205)","v":49},7.7576530612244898,"tőponty"]
["C07",{"$f":"kod!B30","v":"II. sziget, bal"},{"$f":"kod!C30","v":"Quick Baits"},{"$f":"SUM(szakasz1:szakasz10!D206)","v":373.80000000000007},{"$f":"SUM(szakasz1:szakasz10!E206)","v":33},11.32727272727273,"nyurgaponty"]
["C07",{"$f":"kod!B30","v":"II. sziget, bal"},{"$f":"kod!C30","v":"Quick Baits"},{"$f":"SUM(szakasz1:szakasz10!D207)","v":27.35},{"$f":"SUM(szakasz1:szakasz10!E207)","v":3},9.1166666666666671,"koi ponty"]
["C07",{"$f":"kod!B30","v":"II. sziget, bal"},{"$f":"kod!C30","v":"Quick Baits"},{"$f":"SUM(szakasz1:szakasz10!D208)","v":4.9249999999999998},{"$f":"SUM(szakasz1:szakasz10!E208)","v":1},4.9249999999999998,"amur"]
["C07",{"$f":"kod!B30","v":"II. sziget, bal"},{"$f":"kod!C30","v":"Quick Baits"},{"$f":"SUM(szakasz1:szakasz10!D209)","v":3.3250000000000002},{"$f":"SUM(szakasz1:szakasz10!E209)","v":1},3.3250000000000002,"fekete amur"]
["C08",{"$f":"kod!B31","v":"II. sziget, bal közép"},{"$f":"kod!C31","v":"Carp Team Blankbrothers"},{"$f":"SUM(szakasz1:szakasz10!D210)","v":324.62499999999994},{"$f":"SUM(szakasz1:szakasz10!E210)","v":41},{"$f":"IF(E210=0,0,D210/E210)","v":7.9176829268292668},"ÖSSZESEN"]
["C08",{"$f":"kod!B31","v":"II. sziget, bal közép"},{"$f":"kod!C31","v":"Carp Team Blankbrothers"},{"$f":"SUM(szakasz1:szakasz10!D211)","v":67.25},{"$f":"SUM(szakasz1:szakasz10!E211)","v":8},8.40625,"tükörponty"]
["C08",{"$f":"kod!B31","v":"II. sziget, bal közép"},{"$f":"kod!C31","v":"Carp Team Blankbrothers"},{"$f":"SUM(szakasz1:szakasz10!D212)","v":169.69999999999996},{"$f":"SUM(szakasz1:szakasz10!E212)","v":23},7.3782608695652154,"tőponty"]
["C08",{"$f":"kod!B31","v":"II. sziget, bal közép"},{"$f":"kod!C31","v":"Carp Team Blankbrothers"},{"$f":"SUM(szakasz1:szakasz10!D213)","v":73.524999999999991},{"$f":"SUM(szakasz1:szakasz10!E213)","v":8},9.1906249999999989,"nyurgaponty"]
["C08",{"$f":"kod!B31","v":"II. sziget, bal közép"},{"$f":"kod!C31","v":"Carp Team Blankbrothers"},{"$f":"SUM(szakasz1:szakasz10!D214)","v":4.7750000000000004},{"$f":"SUM(szakasz1:szakasz10!E214)","v":1},4.7750000000000004,"koi ponty"]
["C08",{"$f":"kod!B31","v":"II. sziget, bal közép"},{"$f":"kod!C31","v":"Carp Team Blankbrothers"},{"$f":"SUM(szakasz1:szakasz10!D215)","v":9.375},{"$f":"SUM(szakasz1:szakasz10!E215)","v":1},9.375,"amur"]
["C08",{"$f":"kod!B31","v":"II. sziget, bal közép"},{"$f":"kod!C31","v":"Carp Team Blankbrothers"},{"$f":"SUM(szakasz1:szakasz10!D216)","v":0},{"$f":"SUM(szakasz1:szakasz10!E216)","v":0},0,"fekete amur"]
["C09",{"$f":"kod!B32","v":"II. sziget, közép"},{"$f":"kod!C32","v":"Bait Bait Hungary"},{"$f":"SUM(szakasz1:szakasz10!D217)","v":925.87499999999989},{"$f":"SUM(szakasz1:szakasz10!E217)","v":121},7.6518595041322301,"ÖSSZESEN"]
["C09",{"$f":"kod!B32","v":"II. sziget, közép"},{"$f":"kod!C32","v":"Bait Bait Hungary"},{"$f":"SUM(szakasz1:szakasz10!D218)","v":229.52499999999998},{"$f":"SUM(szakasz1:szakasz10!E218)","v":25},9.1809999999999992,"tükörponty"]
["C09",{"$f":"kod!B32","v":"II. sziget, közép"},{"$f":"kod!C32","v":"Bait Bait Hungary"},{"$f":"SUM(szakasz1:szakasz10!D219)","v":468.47499999999997},{"$f":"SUM(szakasz1:szakasz10!E219)","v":67},6.9921641791044769,"tőponty"]
["C09",{"$f":"kod!B32","v":"II. sziget, közép"},{"$f":"kod!C32","v":"Bait Bait Hungary"},{"$f":"SUM(szakasz1:szakasz10!D220)","v":180.1},{"$f":"SUM(szakasz1:szakasz10!E220)","v":21},8.5761904761904759,"nyurgaponty"]
["C09",{"$f":"kod!B32","v":"II. sziget, közép"},{"$f":"kod!C32","v":"Bait Bait Hungary"},{"$f":"SUM(szakasz1:szakasz10!D221)","v":40.174999999999997},{"$f":"SUM(szakasz1:szakasz10!E221)","v":6},6.6958333333333329,"koi ponty"]
["C09",{"$f":"kod!B32","v":"II. sziget, közép"},{"$f":"kod!C32","v":"Bait Bait Hungary"},{"$f":"SUM(szakasz1:szakasz10!D222)","v":0},{"$f":"SUM(szakasz1:szakasz10!E222)","v":0},0,"amur"]
["C09",{"$f":"kod!B32","v":"II. sziget, közép"},{"$f":"kod!C32","v":"Bait Bait Hungary"},{"$f":"SUM(szakasz1:szakasz10!D223)","v":7.6},{"$f":"SUM(szakasz1:szakasz10!E223)","v":2},3.8,"fekete amur"]
["C10",{"$f":"kod!B33","v":"II. sziget, jobb közép"},{"$f":"kod!C33","v":"Acroft Illusive Bait Me"},{"$f":"SUM(szakasz1:szakasz10!D224)","v":454.42500000000001},{"$f":"SUM(szakasz1:szakasz10!E224)","v":54},8.4152777777777779,"ÖSSZESEN"]
["C10",{"$f":"kod!B33","v":"II. sziget, jobb közép"},{"$f":"kod!C33","v":"Acroft Illusive Bait Me"},{"$f":"SUM(szakasz1:szakasz10!D225)","v":128.02500000000001},{"$f":"SUM(szakasz1:szakasz10!E225)","v":14},9.1446428571428573,"tükörponty"]
["C10",{"$f":"kod!B33","v":"II. sziget, jobb közép"},{"$f":"kod!C33","v":"Acroft Illusive Bait Me"},{"$f":"SUM(szakasz1:szakasz10!D226)","v":166},{"$f":"SUM(szakasz1:szakasz10!E226)","v":20},8.3000000000000007,"tőponty"]
["C10",{"$f":"kod!B33","v":"II. sziget, jobb közép"},{"$f":"kod!C33","v":"Acroft Illusive Bait Me"},{"$f":"SUM(szakasz1:szakasz10!D227)","v":117.875},{"$f":"SUM(szakasz1:szakasz10!E227)","v":14},8.4196428571428577,"nyurgaponty"]
["C10",{"$f":"kod!B33","v":"II. sziget, jobb közép"},{"$f":"kod!C33","v":"Acroft Illusive Bait Me"},{"$f":"SUM(szakasz1:szakasz10!D228)","v":37.65},{"$f":"SUM(szakasz1:szakasz10!E228)","v":5},7.5299999999999994,"koi ponty"]
["C10",{"$f":"kod!B33","v":"II. sziget, jobb közép"},{"$f":"kod!C33","v":"Acroft Illusive Bait Me"},{"$f":"SUM(szakasz1:szakasz10!D229)","v":0},{"$f":"SUM(szakasz1:szakasz10!E229)","v":0},0,"amur"]
["C10",{"$f":"kod!B33","v":"II. sziget, jobb közép"},{"$f":"kod!C33","v":"Acroft Illusive Bait Me"},{"$f":"SUM(szakasz1:szakasz10!D230)","v":4.875},{"$f":"SUM(szakasz1:szakasz10!E230)","v":1},4.875,"fekete amur"]
["C11",{"$f":"kod!B34","v":"II. sziget, jobb"},{"$f":"kod!C34","v":"Vaslui Carp Team"},{"$f":"SUM(szakasz1:szakasz10!D231)","v":1435.5750000000005},{"$f":"SUM(szakasz1:szakasz10!E231)","v":207},{"$f":"IF(E231=0,0,D231/E231)","v":6.9351449275362347},"ÖSSZESEN"]
["C11",{"$f":"kod!B34","v":"II. sziget, jobb"},{"$f":"kod!C34","v":"Vaslui Carp Team"},{"$f":"SUM(szakasz1:szakasz10!D232)","v":240.79999999999995},{"$f":"SUM(szakasz1:szakasz10!E232)","v":32},7.5249999999999986,"tükörponty"]
["C11",{"$f":"kod!B34","v":"II. sziget, jobb"},{"$f":"kod!C34","v":"Vaslui Carp Team"},{"$f":"SUM(szakasz1:szakasz10!D233)","v":658.25000000000011},{"$f":"SUM(szakasz1:szakasz10!E233)","v":102},6.4534313725490211,"tőponty"]
["C11",{"$f":"kod!B34","v":"II. sziget, jobb"},{"$f":"kod!C34","v":"Vaslui Carp Team"},{"$f":"SUM(szakasz1:szakasz10!D234)","v":322.47500000000002},{"$f":"SUM(szakasz1:szakasz10!E234)","v":38},8.4861842105263161,"nyurgaponty"]
["C11",{"$f":"kod!B34","v":"II. sziget, jobb"},{"$f":"kod!C34","v":"Vaslui Carp Team"},{"$f":"SUM(szakasz1:szakasz10!D235)","v":58.174999999999997},{"$f":"SUM(szakasz1:szakasz10!E235)","v":8},7.2718749999999996,"koi ponty"]
["C11",{"$f":"kod!B34","v":"II. sziget, jobb"},{"$f":"kod!C34","v":"Vaslui Carp Team"},{"$f":"SUM(szakasz1:szakasz10!D236)","v":103.77500000000001},{"$f":"SUM(szakasz1:szakasz10!E236)","v":13},7.9826923076923082,"amur"]
["C11",{"$f":"kod!B34","v":"II. sziget, jobb"},{"$f":"kod!C34","v":"Vaslui Carp Team"},{"$f":"SUM(szakasz1:szakasz10!D237)","v":52.1},{"$f":"SUM(szakasz1:szakasz10!E237)","v":14},3.7214285714285715,"fekete amur"]
[null,null,null,{"$f":"SUM(D7,D14,D21,D28,D35,D42,D49,D56,D63,D70,D77,D84,D91,D98,D105,D112,D119,D126,D133,D140,D147,D154,D161,D168,D175,D182,D189,D196,D203,D210,D217,D224,D231)","v":17670.904999999999},{"$f":"SUM(E7,E14,E21,E28,E35,E42,E49,E56,E63,E70,E77,E84,E91,E98,E105,E112,E119,E126,E133,E140,E147,E154,E161,E168,E175,E182,E189,E196,E203,E210,E217,E224,E231)","v":2142},{"$f":"IF(E238=0,0,D238/E238)","v":8.2497222222222213}]